{"text_format":"1","workbook":"xlsx","n_sheets":31,"sheets":["TEAM CODES","CONSOLIDATED","MI vs CSK","MI vs DC","MI vs RR","MI vs SRH","MI vs RCB","MI VS KKR","MI vs PBKS","RCB vs CSK","RCB vs RR","RCB vs SRH","RCB vs PBKS","RCB vs KKR","RCB vs DC","RR VS SRH","RR vs PBKS","RR vs KKR","RR vs DC","RR vs CSK","SRH vs CSK","SRH vs DC","SRH vs KKR","SRH vs PBKS","KKR vs PBKS","KKR vs DC","KKR vs CSK","PBKS vs DC","PBKS vs CSK","DC vs CSK","Consolidated probability tables"],"not_rendered":{"charts":0,"images":0,"macros":1,"external_links":0,"defined_names":1,"comments":0,"pivot_tables":0},"unopened":[],"bounds":{"document_bytes":16777216,"sheet_cells":100000,"rows_first":2000,"rows_last":500,"rows_between":2000,"halvings":0,"cell_chars":16384,"cell_head_chars":4096},"cells_cut":0,"cells_raw":0,"read":"whole","date_system":"1900"}

{"sheet":"TEAM CODES","index":0,"n_rows":19,"n_cols":6,"rows_kept":19,"cut":false,"hidden":false,"merged":[]}
[]
[null,"TEAM","CODE","COLOR CODE","t1","Team 1"]
[null,"Delhi Capitals / Delhi Daredevils","DC",null,"t2","Team 2"]
[null,"Sunrisers Hydrebad/ Deccan Chargers","SRH",null,"Code","Description"]
[null,"Punjab Kings/ Kings XI Punjab","PBKS",null,"t1t1","No wins of team 1 given last one won by team 1"]
[null,"Mumbai Indians","MI",null,"t1t2","No wins of team 2 given last one won by team 1"]
[null,"Chennai Super Kings","CSK",null,"t2t1","No wins of team 1 given last one won by team 2"]
[null,"Rajasthan Royals","RR",null,"t2t2","No wins of team 2 given last one won by team 2"]
[null,"Kolkata Knight Riders","KKR",null,"dt1","No wins of team 1 given previous was a draw"]
[null,"Royal Challengers Bangalore ","RCB",null,"dt2","No wins of team 2 given previous was a draw"]
[null,null,null,null,"t1d","No of draw given previous won by team 1"]
[null,null,null,null,"t2d","No of draw given previous won by team 2"]
[null,null,null,null,"dd","No of draw given previous was a draw"]
[]
[]
[null,null,null,"Group:","Abhinav Iyer"]
[null,null,null,null,"Juilee Jayade"]
[null,null,null,null,"Sahil Minocha"]
[null,null,null,null,"Sannidhya Upadhayay"]

{"sheet":"CONSOLIDATED","index":1,"n_rows":770,"n_cols":9,"rows_kept":770,"cut":false,"hidden":false,"merged":[]}
["Team 1","Team 2","Winner","Margin","Ground","Match Date","Scorecard","Super over winner"]
["RCB","KKR","KKR","140 runs","Bengaluru","2008-04-18","T20"]
["PBKS","CSK","CSK","33 runs","Mohali","2008-04-19","T20"]
["DC","RR","DC","9 wickets","Delhi","2008-04-19","T20"]
["KKR","SRH","KKR","5 wickets","Kolkata","2008-04-20","T20"]
["MI","RCB","RCB","5 wickets","Wankhede","2008-04-20","T20"]
["RR","PBKS","RR","6 wickets","Jaipur","2008-04-21","T20"]
["SRH","DC","DC","9 wickets","Hyderabad (Deccan)","2008-04-22","T20"]
["CSK","MI","CSK","6 runs","Chennai","2008-04-23","T20"]
["SRH","RR","RR","3 wickets","Hyderabad (Deccan)","2008-04-24","T20"]
["PBKS","MI","PBKS","66 runs","Mohali","2008-04-25","T20"]
["CSK","KKR","CSK","9 wickets","Chennai","2008-04-26","T20"]
["RCB","RR","RR","7 wickets","Bengaluru","2008-04-26","T20"]
["PBKS","DC","PBKS","4 wickets","Mohali","2008-04-27","T20"]
["MI","SRH","SRH","10 wickets","DY Patil","2008-04-27","T20"]
["RCB","CSK","CSK","13 runs","Bengaluru","2008-04-28","T20"]
["KKR","MI","MI","7 wickets","Kolkata","2008-04-29","T20"]
["DC","RCB","DC","10 runs","Delhi","2008-04-30","T20"]
["RR","KKR","RR","45 runs","Jaipur","2008-05-01","T20"]
["SRH","PBKS","PBKS","7 wickets","Hyderabad (Deccan)","2008-05-01","T20"]
["CSK","DC","DC","8 wickets","Chennai","2008-05-02","T20"]
["RCB","SRH","RCB","3 runs","Bengaluru","2008-05-03","T20"]
["PBKS","KKR","PBKS","9 runs","Mohali","2008-05-03","T20"]
["MI","DC","MI","29 runs","DY Patil","2008-05-04","T20"]
["RR","CSK","RR","8 wickets","Jaipur","2008-05-04","T20"]
["RCB","PBKS","PBKS","6 wickets","Bengaluru","2008-05-05","T20"]
["CSK","SRH","SRH","7 wickets","Chennai","2008-05-06","T20"]
["MI","RR","MI","7 wickets","DY Patil","2008-05-07","T20"]
["DC","CSK","CSK","4 wickets","Delhi","2008-05-08","T20"]
["KKR","RCB","KKR","5 runs","Kolkata","2008-05-08","T20"]
["RR","SRH","RR","8 wickets","Jaipur","2008-05-09","T20"]
["CSK","PBKS","CSK","18 runs","Chennai","2008-05-10","T20"]
["SRH","KKR","KKR","23 runs","Hyderabad (Deccan)","2008-05-11","T20"]
["RR","DC","RR","3 wickets","Jaipur","2008-05-11","T20"]
["PBKS","RCB","PBKS","9 wickets","Mohali","2008-05-12","T20"]
["KKR","DC","KKR","23 runs","Kolkata","2008-05-13","T20"]
["MI","CSK","MI","9 wickets","Wankhede","2008-05-14","T20"]
["DC","SRH","DC","12 runs","Delhi","2008-05-15","T20"]
["MI","KKR","MI","8 wickets","Wankhede","2008-05-16","T20"]
["RR","RCB","RR","65 runs","Jaipur","2008-05-17","T20"]
["DC","PBKS","PBKS","6 runs","Delhi","2008-05-17","T20"]
["KKR","CSK","CSK","3 runs","Kolkata","2008-05-18","T20"]
["SRH","MI","MI","25 runs","Hyderabad (Deccan)","2008-05-18","T20"]
["RCB","DC","DC","5 wickets","Bengaluru","2008-05-19","T20"]
["KKR","RR","RR","6 wickets","Kolkata","2008-05-20","T20"]
["MI","PBKS","PBKS","1 run","Wankhede","2008-05-21","T20"]
["CSK","RCB","RCB","14 runs","Chennai","2008-05-21","T20"]
["DC","KKR","D",null,"Delhi","2008-05-22","T20"]
["PBKS","SRH","PBKS","6 wickets","Mohali","2008-05-23","T20"]
["CSK","RR","RR","10 runs","Chennai","2008-05-24","T20"]
["DC","MI","DC","5 wickets","Delhi","2008-05-24","T20"]
["SRH","RCB","RCB","5 wickets","Hyderabad (Deccan)","2008-05-25","T20"]
["KKR","PBKS","KKR","3 wickets","Kolkata","2008-05-25","T20"]
["RR","MI","RR","5 wickets","Jaipur","2008-05-26","T20"]
["SRH","CSK","CSK","7 wickets","Hyderabad (Deccan)","2008-05-27","T20"]
["RCB","MI","MI","9 wickets","Bengaluru","2008-05-28","T20"]
["PBKS","RR","PBKS","41 runs","Mohali","2008-05-28","T20"]
["DC","RR","RR","105 runs","Wankhede","2008-05-30","T20"]
["CSK","PBKS","CSK","9 wickets","Wankhede","2008-05-31","T20"]
["CSK","RR","RR","3 wickets","DY Patil","2008-06-01","T20"]
["CSK","MI","MI","19 runs","Cape Town","2009-04-18","T20"]
["RCB","RR","RCB","75 runs","Cape Town","2009-04-18","T20"]
["DC","PBKS","DC","10 wickets","Cape Town","2009-04-19","T20"]
["SRH","KKR","SRH","8 wickets","Cape Town","2009-04-19","T20"]
["RCB","CSK","CSK","92 runs","Port Elizabeth","2009-04-20","T20"]
["PBKS","KKR","KKR","11 runs","Durban","2009-04-21","T20"]
["MI","RR","D",null,"Durban","2009-04-21","T20"]
["RCB","SRH","SRH","24 runs","Cape Town","2009-04-22","T20"]
["CSK","DC","DC","9 runs","Durban","2009-04-23","T20"]
["KKR","RR","tied",null,"Cape Town","2009-04-23","T20","RR"]
["RCB","PBKS","PBKS","7 wickets","Durban","2009-04-24","T20"]
["SRH","MI","SRH","12 runs","Durban","2009-04-25","T20"]
["CSK","KKR","D",null,"Cape Town","2009-04-25","T20"]
["RCB","DC","DC","6 wickets","Port Elizabeth","2009-04-26","T20"]
["PBKS","RR","PBKS","27 runs","Cape Town","2009-04-26","T20"]
["CSK","SRH","SRH","6 wickets","Durban","2009-04-27","T20"]
["KKR","MI","MI","92 runs","Port Elizabeth","2009-04-27","T20"]
["DC","RR","RR","5 wickets","Centurion","2009-04-28","T20"]
["RCB","KKR","RCB","5 wickets","Durban","2009-04-29","T20"]
["PBKS","MI","PBKS","3 runs","Durban","2009-04-29","T20"]
["SRH","DC","DC","6 wickets","Centurion","2009-04-30","T20"]
["CSK","RR","CSK","38 runs","Centurion","2009-04-30","T20"]
["KKR","MI","MI","9 runs","East London","2009-05-01","T20"]
["RCB","PBKS","RCB","8 runs","Durban","2009-05-01","T20"]
["SRH","RR","RR","3 wickets","Port Elizabeth","2009-05-02","T20"]
["CSK","DC","CSK","18 runs","Johannesburg","2009-05-02","T20"]
["PBKS","KKR","PBKS","6 wickets","Port Elizabeth","2009-05-03","T20"]
["RCB","MI","RCB","9 wickets","Johannesburg","2009-05-03","T20"]
["CSK","SRH","CSK","78 runs","East London","2009-05-04","T20"]
["PBKS","RR","RR","78 runs","Durban","2009-05-05","T20"]
["DC","KKR","DC","9 wickets","Durban","2009-05-05","T20"]
["SRH","MI","SRH","19 runs","Centurion","2009-05-06","T20"]
["RCB","RR","RR","7 wickets","Centurion","2009-05-07","T20"]
["CSK","PBKS","CSK","12 runs","Centurion","2009-05-07","T20"]
["DC","MI","DC","7 wickets","East London","2009-05-08","T20"]
["SRH","PBKS","PBKS","3 wickets","Kimberley","2009-05-09","T20"]
["CSK","RR","CSK","7 wickets","Kimberley","2009-05-09","T20"]
["RCB","MI","MI","16 runs","Port Elizabeth","2009-05-10","T20"]
["DC","KKR","DC","7 wickets","Johannesburg","2009-05-10","T20"]
["SRH","RR","SRH","53 runs","Kimberley","2009-05-11","T20"]
["RCB","KKR","RCB","6 wickets","Centurion","2009-05-12","T20"]
["PBKS","MI","MI","8 wickets","Centurion","2009-05-12","T20"]
["SRH","DC","DC","12 runs","Durban","2009-05-13","T20"]
["RCB","CSK","RCB","2 wickets","Durban","2009-05-14","T20"]
["MI","RR","RR","2 runs","Durban","2009-05-14","T20"]
["DC","PBKS","PBKS","6 wickets","Bloemfontein","2009-05-15","T20"]
["CSK","MI","CSK","7 wickets","Port Elizabeth","2009-05-16","T20"]
["SRH","KKR","SRH","6 wickets","Johannesburg","2009-05-16","T20"]
["SRH","PBKS","PBKS","1 run","Johannesburg","2009-05-17","T20"]
["DC","RR","DC","14 runs","Bloemfontein","2009-05-17","T20"]
["CSK","KKR","KKR","7 wickets","Centurion","2009-05-18","T20"]
["RCB","DC","RCB","7 wickets","Johannesburg","2009-05-19","T20"]
["KKR","RR","KKR","4 wickets","Durban","2009-05-20","T20"]
["CSK","PBKS","CSK","24 runs","Durban","2009-05-20","T20"]
["DC","MI","DC","4 wickets","Centurion","2009-05-21","T20"]
["RCB","SRH","RCB","12 runs","Centurion","2009-05-21","T20"]
["SRH","DC","SRH","6 wickets","Centurion","2009-05-22","T20"]
["CSK","RCB","RCB","6 wickets","Johannesburg","2009-05-23","T20"]
["SRH","RCB","SRH","6 runs","Johannesburg","2009-05-24","T20"]
["SRH","KKR","KKR","11 runs","DY Patil","2010-03-12","T20"]
["MI","RR","MI","4 runs","Brabourne","2010-03-13","T20"]
["PBKS","DC","DC","5 wickets","Mohali","2010-03-13","T20"]
["KKR","RCB","KKR","7 wickets","Kolkata","2010-03-14","T20"]
["CSK","SRH","SRH","31 runs","Chennai","2010-03-14","T20"]
["RR","DC","DC","6 wickets","Ahmedabad","2010-03-15","T20"]
["RCB","PBKS","RCB","8 wickets","Bengaluru","2010-03-16","T20"]
["KKR","CSK","CSK","55 runs","Kolkata","2010-03-16","T20"]
["DC","MI","MI","98 runs","Delhi","2010-03-17","T20"]
["RCB","RR","RCB","10 wickets","Bengaluru","2010-03-18","T20"]
["DC","CSK","CSK","5 wickets","Delhi","2010-03-19","T20"]
["SRH","PBKS","SRH","6 runs","Cuttack","2010-03-19","T20"]
["RR","KKR","RR","34 runs","Ahmedabad","2010-03-20","T20"]
["MI","RCB","RCB","7 wickets","Brabourne","2010-03-20","T20"]
["SRH","DC","SRH","10 runs","Cuttack","2010-03-21","T20"]
["CSK","PBKS","tied",null,"Chennai","2010-03-21","T20","PBKS"]
["MI","KKR","MI","7 wickets","Brabourne","2010-03-22","T20"]
["RCB","CSK","RCB","36 runs","Bengaluru","2010-03-23","T20"]
["PBKS","RR","RR","31 runs","Mohali","2010-03-24","T20"]
["RCB","DC","DC","17 runs","Bengaluru","2010-03-25","T20"]
["MI","CSK","MI","5 wickets","Brabourne","2010-03-25","T20"]
["RR","SRH","RR","8 wickets","Ahmedabad","2010-03-26","T20"]
["PBKS","KKR","KKR","39 runs","Mohali","2010-03-27","T20"]
["RR","CSK","RR","17 runs","Ahmedabad","2010-03-28","T20"]
["SRH","MI","MI","41 runs","DY Patil","2010-03-28","T20"]
["DC","KKR","DC","40 runs","Delhi","2010-03-29","T20"]
["MI","PBKS","MI","4 wickets","Brabourne","2010-03-30","T20"]
["CSK","RCB","CSK","5 wickets","Chennai","2010-03-31","T20"]
["DC","RR","DC","67 runs","Delhi","2010-03-31","T20"]
["KKR","SRH","KKR","24 runs","Kolkata","2010-04-01","T20"]
["PBKS","RCB","RCB","6 wickets","Mohali","2010-04-02","T20"]
["CSK","RR","CSK","23 runs","Chennai","2010-04-03","T20"]
["MI","SRH","MI","63 runs","Brabourne","2010-04-03","T20"]
["KKR","PBKS","PBKS","8 wickets","Kolkata","2010-04-04","T20"]
["DC","RCB","DC","37 runs","Delhi","2010-04-04","T20"]
["SRH","RR","RR","2 runs","Nagpur","2010-04-05","T20"]
["CSK","MI","CSK","24 runs","Chennai","2010-04-06","T20"]
["RR","PBKS","RR","9 wickets","Jaipur","2010-04-07","T20"]
["KKR","DC","KKR","14 runs","Kolkata","2010-04-07","T20"]
["RCB","SRH","SRH","7 wickets","Bengaluru","2010-04-08","T20"]
["PBKS","MI","PBKS","6 wickets","Mohali","2010-04-09","T20"]
["SRH","CSK","SRH","6 wickets","Nagpur","2010-04-10","T20"]
["RCB","KKR","RCB","7 wickets","Bengaluru","2010-04-10","T20"]
["DC","PBKS","PBKS","7 wickets","Delhi","2010-04-11","T20"]
["RR","MI","MI","37 runs","Jaipur","2010-04-11","T20"]
["SRH","RCB","SRH","13 runs","Nagpur","2010-04-12","T20"]
["MI","DC","MI","39 runs","Brabourne","2010-04-13","T20"]
["CSK","KKR","CSK","9 wickets","Chennai","2010-04-13","T20"]
["RR","RCB","RCB","5 wickets","Jaipur","2010-04-14","T20"]
["CSK","DC","DC","6 wickets","Chennai","2010-04-15","T20"]
["PBKS","SRH","SRH","5 wickets","Dharamsala","2010-04-16","T20"]
["RCB","MI","MI","57 runs","Bengaluru","2010-04-17","T20"]
["KKR","RR","KKR","8 wickets","Kolkata","2010-04-17","T20"]
["PBKS","CSK","CSK","6 wickets","Dharamsala","2010-04-18","T20"]
["DC","SRH","SRH","11 runs","Delhi","2010-04-18","T20"]
["KKR","MI","KKR","9 wickets","Kolkata","2010-04-19","T20"]
["MI","RCB","MI","35 runs","DY Patil","2010-04-21","T20"]
["CSK","SRH","CSK","38 runs","DY Patil","2010-04-22","T20"]
["SRH","RCB","RCB","9 wickets","DY Patil","2010-04-24","T20"]
["MI","CSK","CSK","22 runs","DY Patil","2010-04-25","T20"]
["CSK","KKR","CSK","2 runs","Chennai","2011-04-08","T20"]
["SRH","RR","RR","8 wickets","Hyderabad (Deccan)","2011-04-09","T20"]
["DC","MI","MI","8 wickets","Delhi","2011-04-10","T20"]
["KKR","SRH","KKR","9 runs","Kolkata","2011-04-11","T20"]
["RR","DC","RR","6 wickets","Jaipur","2011-04-12","T20"]
["RCB","MI","MI","9 wickets","Bengaluru","2011-04-12","T20"]
["PBKS","CSK","PBKS","6 wickets","Mohali","2011-04-13","T20"]
["SRH","RCB","SRH","33 runs","Hyderabad (Deccan)","2011-04-14","T20"]
["RR","KKR","KKR","9 wickets","Jaipur","2011-04-15","T20"]
["CSK","RCB","CSK","21 runs","Chennai","2011-04-16","T20"]
["SRH","PBKS","PBKS","8 wickets","Hyderabad (Deccan)","2011-04-16","T20"]
["KKR","RR","KKR","8 wickets","Kolkata","2011-04-17","T20"]
["DC","SRH","SRH","16 runs","Delhi","2011-04-19","T20"]
["RCB","RR","D",null,"Bengaluru","2011-04-19","T20"]
["PBKS","RR","PBKS","48 runs","Mohali","2011-04-21","T20"]
["KKR","RCB","RCB","9 wickets","Kolkata","2011-04-22","T20"]
["MI","CSK","MI","8 runs","Wankhede","2011-04-22","T20"]
["DC","PBKS","DC","29 runs","Delhi","2011-04-23","T20"]
["SRH","MI","MI","37 runs","Hyderabad (Deccan)","2011-04-24","T20"]
["DC","RCB","RCB","3 wickets","Delhi","2011-04-26","T20"]
["DC","KKR","KKR","17 runs","Delhi","2011-04-28","T20"]
["RR","MI","RR","7 wickets","Jaipur","2011-04-29","T20"]
["KKR","PBKS","KKR","8 wickets","Kolkata","2011-04-30","T20"]
["CSK","SRH","CSK","19 runs","Chennai","2011-05-01","T20"]
["MI","PBKS","MI","23 runs","Wankhede","2011-05-02","T20"]
["SRH","KKR","KKR","20 runs","Hyderabad (Deccan)","2011-05-03","T20"]
["CSK","RR","CSK","8 wickets","Chennai","2011-05-04","T20"]
["SRH","DC","DC","4 wickets","Hyderabad (Deccan)","2011-05-05","T20"]
["RCB","PBKS","RCB","85 runs","Bengaluru","2011-05-06","T20"]
["KKR","CSK","KKR","10 runs","Kolkata","2011-05-07","T20"]
["MI","DC","MI","32 runs","Wankhede","2011-05-07","T20"]
["RR","CSK","CSK","63 runs","Jaipur","2011-05-09","T20"]
["PBKS","MI","PBKS","76 runs","Mohali","2011-05-10","T20"]
["RR","RCB","RCB","9 wickets","Jaipur","2011-05-11","T20"]
["CSK","DC","CSK","18 runs","Chennai","2011-05-12","T20"]
["RCB","KKR","RCB","4 wickets","Bengaluru","2011-05-14","T20"]
["MI","SRH","SRH","10 runs","Wankhede","2011-05-14","T20"]
["PBKS","DC","PBKS","29 runs","Dharamsala","2011-05-15","T20"]
["PBKS","RCB","PBKS","111 runs","Dharamsala","2011-05-17","T20"]
["MI","RR","RR","10 wickets","Wankhede","2011-05-20","T20"]
["PBKS","SRH","SRH","82 runs","Dharamsala","2011-05-21","T20"]
["RCB","CSK","RCB","8 wickets","Bengaluru","2011-05-22","T20"]
["KKR","MI","MI","5 wickets","Kolkata","2011-05-22","T20"]
["CSK","RCB","CSK","6 wickets","Wankhede","2011-05-24","T20"]
["MI","KKR","MI","4 wickets","Wankhede","2011-05-25","T20"]
["MI","RCB","RCB","43 runs","Chennai","2011-05-27","T20"]
["CSK","RCB","CSK","58 runs","Chennai","2011-05-28","T20"]
["CSK","MI","MI","8 wickets","Chennai","2012-04-04","T20"]
["KKR","DC","DC","8 wickets","Kolkata","2012-04-05","T20"]
["RR","PBKS","RR","31 runs","Jaipur","2012-04-06","T20"]
["RCB","DC","RCB","20 runs","Bengaluru","2012-04-07","T20"]
["SRH","CSK","CSK","74 runs","Visakhapatnam","2012-04-07","T20"]
["RR","KKR","RR","22 runs","Jaipur","2012-04-08","T20"]
["SRH","MI","MI","5 wickets","Visakhapatnam","2012-04-09","T20"]
["RCB","KKR","KKR","42 runs","Bengaluru","2012-04-10","T20"]
["DC","CSK","DC","8 wickets","Delhi","2012-04-10","T20"]
["MI","RR","MI","27 runs","Wankhede","2012-04-11","T20"]
["CSK","RCB","CSK","5 wickets","Chennai","2012-04-12","T20"]
["KKR","RR","KKR","5 wickets","Kolkata","2012-04-13","T20"]
["KKR","PBKS","PBKS","2 runs","Kolkata","2012-04-15","T20"]
["RCB","RR","RR","59 runs","Bengaluru","2012-04-15","T20"]
["MI","DC","DC","7 wickets","Wankhede","2012-04-16","T20"]
["RR","SRH","RR","5 wickets","Jaipur","2012-04-17","T20"]
["PBKS","KKR","KKR","8 wickets","Mohali","2012-04-18","T20"]
["DC","SRH","DC","5 wickets","Delhi","2012-04-19","T20"]
["PBKS","RCB","RCB","5 wickets","Mohali","2012-04-20","T20"]
["CSK","RR","CSK","7 wickets","Chennai","2012-04-21","T20"]
["MI","PBKS","PBKS","6 wickets","Wankhede","2012-04-22","T20"]
["SRH","KKR","KKR","5 wickets","Cuttack","2012-04-22","T20"]
["RR","RCB","RCB","46 runs","Jaipur","2012-04-23","T20"]
["KKR","SRH","D",null,"Kolkata","2012-04-24","T20"]
["PBKS","MI","MI","4 wickets","Mohali","2012-04-25","T20"]
["RCB","CSK","D",null,"Bengaluru","2012-04-25","T20"]
["DC","MI","DC","37 runs","Delhi","2012-04-27","T20"]
["CSK","PBKS","PBKS","7 runs","Chennai","2012-04-28","T20"]
["KKR","RCB","KKR","47 runs","Kolkata","2012-04-28","T20"]
["DC","RR","DC","1 run","Delhi","2012-04-29","T20"]
["MI","SRH","MI","5 wickets","Wankhede","2012-04-29","T20"]
["CSK","KKR","KKR","5 wickets","Chennai","2012-04-30","T20"]
["RR","DC","DC","6 wickets","Jaipur","2012-05-01","T20"]
["RCB","PBKS","PBKS","4 wickets","Bengaluru","2012-05-02","T20"]
["CSK","SRH","CSK","10 runs","Chennai","2012-05-04","T20"]
["PBKS","RR","RR","43 runs","Mohali","2012-05-05","T20"]
["MI","CSK","MI","2 wickets","Wankhede","2012-05-06","T20"]
["RCB","SRH","RCB","5 wickets","Bengaluru","2012-05-06","T20"]
["DC","KKR","KKR","6 wickets","Delhi","2012-05-07","T20"]
["SRH","PBKS","PBKS","25 runs","Hyderabad (Deccan)","2012-05-08","T20"]
["MI","RCB","RCB","9 wickets","Wankhede","2012-05-09","T20"]
["SRH","DC","DC","9 wickets","Hyderabad (Deccan)","2012-05-10","T20"]
["RR","CSK","CSK","4 wickets","Jaipur","2012-05-10","T20"]
["KKR","MI","MI","27 runs","Kolkata","2012-05-12","T20"]
["CSK","DC","CSK","9 wickets","Chennai","2012-05-12","T20"]
["PBKS","SRH","PBKS","4 wickets","Mohali","2012-05-13","T20"]
["RCB","MI","MI","5 wickets","Bengaluru","2012-05-14","T20"]
["KKR","CSK","CSK","5 wickets","Kolkata","2012-05-14","T20"]
["DC","PBKS","DC","5 wickets","Delhi","2012-05-15","T20"]
["MI","KKR","KKR","32 runs","Wankhede","2012-05-16","T20"]
["PBKS","CSK","PBKS","6 wickets","Dharamsala","2012-05-17","T20"]
["DC","RCB","RCB","21 runs","Delhi","2012-05-17","T20"]
["SRH","RR","SRH","5 wickets","Hyderabad (Deccan)","2012-05-18","T20"]
["PBKS","DC","DC","6 wickets","Dharamsala","2012-05-19","T20"]
["SRH","RCB","SRH","9 runs","Hyderabad (Deccan)","2012-05-20","T20"]
["RR","MI","MI","10 wickets","Jaipur","2012-05-20","T20"]
["DC","KKR","KKR","18 runs","Pune","2012-05-22","T20"]
["CSK","MI","CSK","38 runs","Bengaluru","2012-05-23","T20"]
["CSK","DC","CSK","86 runs","Chennai","2012-05-25","T20"]
["CSK","KKR","KKR","5 wickets","Chennai","2012-05-27","T20"]
["KKR","DC","KKR","6 wickets","Kolkata","2013-04-03","T20"]
["RCB","MI","RCB","2 runs","Bengaluru","2013-04-04","T20"]
["DC","RR","RR","5 runs","Delhi","2013-04-06","T20"]
["CSK","MI","MI","9 runs","Chennai","2013-04-06","T20"]
["SRH","RCB","tied",null,"Hyderabad (Deccan)","2013-04-07","T20","SRH"]
["RR","KKR","RR","19 runs","Jaipur","2013-04-08","T20"]
["RCB","SRH","RCB","7 wickets","Bengaluru","2013-04-09","T20"]
["MI","DC","MI","44 runs","Wankhede","2013-04-09","T20"]
["PBKS","CSK","CSK","10 wickets","Mohali","2013-04-10","T20"]
["RCB","KKR","RCB","8 wickets","Bengaluru","2013-04-11","T20"]
["DC","SRH","SRH","3 wickets","Delhi","2013-04-12","T20"]
["CSK","RCB","CSK","4 wickets","Chennai","2013-04-13","T20"]
["KKR","SRH","KKR","48 runs","Kolkata","2013-04-14","T20"]
["RR","PBKS","RR","6 wickets","Jaipur","2013-04-14","T20"]
["PBKS","KKR","PBKS","4 runs","Mohali","2013-04-16","T20"]
["RCB","DC","tied",null,"Bengaluru","2013-04-16","T20","RCB"]
["RR","MI","RR","87 runs","Jaipur","2013-04-17","T20"]
["DC","CSK","CSK","86 runs","Delhi","2013-04-18","T20"]
["SRH","PBKS","SRH","5 wickets","Hyderabad (Deccan)","2013-04-19","T20"]
["KKR","CSK","CSK","4 wickets","Kolkata","2013-04-20","T20"]
["RCB","RR","RCB","7 wickets","Bengaluru","2013-04-20","T20"]
["DC","MI","DC","9 wickets","Delhi","2013-04-21","T20"]
["CSK","RR","CSK","5 wickets","Chennai","2013-04-22","T20"]
["DC","PBKS","PBKS","5 wickets","Delhi","2013-04-23","T20"]
["KKR","MI","MI","5 wickets","Kolkata","2013-04-24","T20"]
["CSK","SRH","CSK","5 wickets","Chennai","2013-04-25","T20"]
["KKR","PBKS","KKR","6 wickets","Kolkata","2013-04-26","T20"]
["RR","SRH","RR","8 wickets","Jaipur","2013-04-27","T20"]
["MI","RCB","MI","58 runs","Wankhede","2013-04-27","T20"]
["CSK","KKR","CSK","14 runs","Chennai","2013-04-28","T20"]
["RR","RCB","RR","4 wickets","Jaipur","2013-04-29","T20"]
["MI","PBKS","MI","4 runs","Wankhede","2013-04-29","T20"]
["SRH","MI","SRH","7 wickets","Hyderabad (Deccan)","2013-05-01","T20"]
["DC","KKR","DC","7 wickets","Raipur","2013-05-01","T20"]
["CSK","PBKS","CSK","15 runs","Chennai","2013-05-02","T20"]
["KKR","RR","KKR","8 wickets","Kolkata","2013-05-03","T20"]
["SRH","DC","SRH","6 wickets","Hyderabad (Deccan)","2013-05-04","T20"]
["MI","CSK","MI","60 runs","Wankhede","2013-05-05","T20"]
["PBKS","RCB","PBKS","6 wickets","Mohali","2013-05-06","T20"]
["RR","DC","RR","9 wickets","Jaipur","2013-05-07","T20"]
["MI","KKR","MI","65 runs","Wankhede","2013-05-07","T20"]
["SRH","CSK","CSK","77 runs","Hyderabad (Deccan)","2013-05-08","T20"]
["PBKS","RR","RR","8 wickets","Mohali","2013-05-09","T20"]
["DC","RCB","RCB","4 runs","Delhi","2013-05-10","T20"]
["PBKS","SRH","SRH","30 runs","Mohali","2013-05-11","T20"]
["KKR","RCB","KKR","5 wickets","Ranchi","2013-05-12","T20"]
["RR","CSK","RR","5 wickets","Jaipur","2013-05-12","T20"]
["MI","SRH","MI","7 wickets","Wankhede","2013-05-13","T20"]
["RCB","PBKS","PBKS","7 wickets","Bengaluru","2013-05-14","T20"]
["CSK","DC","CSK","33 runs","Chennai","2013-05-14","T20"]
["MI","RR","MI","14 runs","Wankhede","2013-05-15","T20"]
["PBKS","DC","PBKS","7 runs","Dharamsala","2013-05-16","T20"]
["SRH","RR","SRH","23 runs","Hyderabad (Deccan)","2013-05-17","T20"]
["PBKS","MI","PBKS","50 runs","Dharamsala","2013-05-18","T20"]
["RCB","CSK","RCB","24 runs","Bengaluru","2013-05-18","T20"]
["SRH","KKR","SRH","5 wickets","Hyderabad (Deccan)","2013-05-19","T20"]
["CSK","MI","CSK","48 runs","Delhi","2013-05-21","T20"]
["RR","SRH","RR","4 wickets","Delhi","2013-05-22","T20"]
["MI","RR","MI","4 wickets","Kolkata","2013-05-24","T20"]
["CSK","MI","MI","23 runs","Kolkata","2013-05-26","T20"]
["MI","KKR","KKR","41 runs","Abu Dhabi","2014-04-16","T20"]
["DC","RCB","RCB","8 wickets","Sharjah","2014-04-17","T20"]
["CSK","PBKS","PBKS","6 wickets","Abu Dhabi","2014-04-18","T20"]
["SRH","RR","RR","4 wickets","Abu Dhabi","2014-04-18","T20"]
["RCB","MI","RCB","7 wickets","Dubai (DSC)","2014-04-19","T20"]
["KKR","DC","DC","4 wickets","Dubai (DSC)","2014-04-19","T20"]
["RR","PBKS","PBKS","7 wickets","Sharjah","2014-04-20","T20"]
["CSK","DC","CSK","93 runs","Abu Dhabi","2014-04-21","T20"]
["PBKS","SRH","PBKS","72 runs","Sharjah","2014-04-22","T20"]
["RR","CSK","CSK","7 runs","Dubai (DSC)","2014-04-23","T20"]
["RCB","KKR","KKR","2 runs","Sharjah","2014-04-24","T20"]
["SRH","DC","SRH","4 runs","Dubai (DSC)","2014-04-25","T20"]
["CSK","MI","CSK","7 wickets","Dubai (DSC)","2014-04-25","T20"]
["RR","RCB","RR","6 wickets","Abu Dhabi","2014-04-26","T20"]
["KKR","PBKS","PBKS","23 runs","Abu Dhabi","2014-04-26","T20"]
["DC","MI","DC","6 wickets","Sharjah","2014-04-27","T20"]
["SRH","CSK","CSK","5 wickets","Sharjah","2014-04-27","T20"]
["PBKS","RCB","PBKS","5 wickets","Dubai (DSC)","2014-04-28","T20"]
["KKR","RR","tied",null,"Abu Dhabi","2014-04-29","T20","RR","p.s. won by boundary count"]
["MI","SRH","SRH","15 runs","Dubai (DSC)","2014-04-30","T20"]
["CSK","KKR","CSK","34 runs","Ranchi","2014-05-02","T20"]
["MI","PBKS","MI","5 wickets","Wankhede","2014-05-03","T20"]
["DC","RR","RR","7 wickets","Delhi","2014-05-03","T20"]
["RCB","SRH","RCB","4 wickets","Bengaluru","2014-05-04","T20"]
["RR","KKR","RR","10 runs","Ahmedabad","2014-05-05","T20"]
["DC","CSK","CSK","8 wickets","Delhi","2014-05-05","T20"]
["MI","RCB","MI","19 runs","Wankhede","2014-05-06","T20"]
["DC","KKR","KKR","8 wickets","Delhi","2014-05-07","T20"]
["PBKS","CSK","PBKS","44 runs","Cuttack","2014-05-07","T20"]
["RR","SRH","SRH","32 runs","Ahmedabad","2014-05-08","T20"]
["RCB","PBKS","PBKS","32 runs","Bengaluru","2014-05-09","T20"]
["DC","SRH","SRH","8 wickets","Delhi","2014-05-10","T20"]
["MI","CSK","CSK","4 wickets","Wankhede","2014-05-10","T20"]
["PBKS","KKR","KKR","9 wickets","Cuttack","2014-05-11","T20"]
["RCB","RR","RR","5 wickets","Bengaluru","2014-05-11","T20"]
["SRH","MI","MI","7 wickets","Hyderabad (Deccan)","2014-05-12","T20"]
["CSK","RR","CSK","5 wickets","Ranchi","2014-05-13","T20"]
["RCB","DC","RCB","16 runs","Bengaluru","2014-05-13","T20"]
["SRH","PBKS","PBKS","6 wickets","Hyderabad (Deccan)","2014-05-14","T20"]
["KKR","MI","KKR","6 wickets","Cuttack","2014-05-14","T20"]
["RR","DC","RR","62 runs","Ahmedabad","2014-05-15","T20"]
["CSK","RCB","RCB","5 wickets","Ranchi","2014-05-18","T20"]
["SRH","KKR","KKR","7 wickets","Hyderabad (Deccan)","2014-05-18","T20"]
["RR","MI","MI","25 runs","Ahmedabad","2014-05-19","T20"]
["DC","PBKS","PBKS","4 wickets","Delhi","2014-05-19","T20"]
["SRH","RCB","SRH","7 wickets","Hyderabad (Deccan)","2014-05-20","T20"]
["KKR","CSK","KKR","8 wickets","Kolkata","2014-05-20","T20"]
["PBKS","MI","MI","7 wickets","Mohali","2014-05-21","T20"]
["KKR","RCB","KKR","30 runs","Kolkata","2014-05-22","T20"]
["CSK","SRH","SRH","6 wickets","Ranchi","2014-05-22","T20"]
["MI","DC","MI","15 runs","Wankhede","2014-05-23","T20"]
["PBKS","RR","PBKS","16 runs","Mohali","2014-05-23","T20"]
["RCB","CSK","CSK","8 wickets","Bengaluru","2014-05-24","T20"]
["KKR","SRH","KKR","4 wickets","Kolkata","2014-05-24","T20"]
["PBKS","DC","PBKS","7 wickets","Mohali","2014-05-25","T20"]
["MI","RR","MI","5 wickets","Wankhede","2014-05-25","T20"]
["KKR","PBKS","KKR","28 runs","Kolkata","2014-05-27","T20"]
["MI","CSK","CSK","7 wickets","Brabourne","2014-05-28","T20"]
["CSK","PBKS","PBKS","24 runs","Wankhede","2014-05-30","T20"]
["PBKS","KKR","KKR","3 wickets","Bengaluru","2014-06-01","T20"]
["KKR","MI","KKR","7 wickets","Kolkata","2015-04-08","T20"]
["CSK","DC","CSK","1 run","Chennai","2015-04-09","T20"]
["PBKS","RR","RR","26 runs","Pune","2015-04-10","T20"]
["CSK","SRH","CSK","45 runs","Chennai","2015-04-11","T20"]
["KKR","RCB","RCB","3 wickets","Kolkata","2015-04-11","T20"]
["DC","RR","RR","3 wickets","Delhi","2015-04-12","T20"]
["MI","PBKS","PBKS","18 runs","Wankhede","2015-04-12","T20"]
["RCB","SRH","SRH","8 wickets","Bengaluru","2015-04-13","T20"]
["RR","MI","RR","7 wickets","Ahmedabad","2015-04-14","T20"]
["PBKS","DC","DC","5 wickets","Pune","2015-04-15","T20"]
["SRH","RR","RR","6 wickets","Visakhapatnam","2015-04-16","T20"]
["MI","CSK","CSK","6 wickets","Wankhede","2015-04-17","T20"]
["SRH","DC","DC","4 runs","Visakhapatnam","2015-04-18","T20"]
["PBKS","KKR","KKR","4 wickets","Pune","2015-04-18","T20"]
["RR","CSK","RR","8 wickets","Ahmedabad","2015-04-19","T20"]
["RCB","MI","MI","18 runs","Bengaluru","2015-04-19","T20"]
["DC","KKR","KKR","6 wickets","Delhi","2015-04-20","T20"]
["RR","PBKS","tied",null,"Ahmedabad","2015-04-21","T20","PBKS"]
["SRH","KKR","SRH","16 runs","Visakhapatnam","2015-04-22","T20"]
["RCB","CSK","CSK","27 runs","Bengaluru","2015-04-22","T20"]
["DC","MI","DC","37 runs","Delhi","2015-04-23","T20"]
["RR","RCB","RCB","9 wickets","Ahmedabad","2015-04-24","T20"]
["MI","SRH","MI","20 runs","Wankhede","2015-04-25","T20"]
["CSK","PBKS","CSK","97 runs","Chennai","2015-04-25","T20"]
["KKR","RR","D",null,"Kolkata","2015-04-26","T20"]
["DC","RCB","RCB","10 wickets","Delhi","2015-04-26","T20"]
["PBKS","SRH","SRH","20 runs","Mohali","2015-04-27","T20"]
["CSK","KKR","CSK","2 runs","Chennai","2015-04-28","T20"]
["RCB","RR","D",null,"Bengaluru","2015-04-29","T20"]
["KKR","CSK","KKR","7 wickets","Kolkata","2015-04-30","T20"]
["DC","PBKS","DC","9 wickets","Delhi","2015-05-01","T20"]
["MI","RR","MI","8 runs","Wankhede","2015-05-01","T20"]
["RCB","KKR","RCB","7 wickets","Bengaluru","2015-05-02","T20"]
["SRH","CSK","SRH","22 runs","Hyderabad (Deccan)","2015-05-02","T20"]
["PBKS","MI","MI","23 runs","Mohali","2015-05-03","T20"]
["RR","DC","RR","14 runs","Brabourne","2015-05-03","T20"]
["CSK","RCB","CSK","24 runs","Chennai","2015-05-04","T20"]
["KKR","SRH","KKR","35 runs","Kolkata","2015-05-04","T20"]
["MI","DC","MI","5 wickets","Wankhede","2015-05-05","T20"]
["RCB","PBKS","RCB","138 runs","Bengaluru","2015-05-06","T20"]
["RR","SRH","SRH","7 runs","Brabourne","2015-05-07","T20"]
["KKR","DC","KKR","13 runs","Kolkata","2015-05-07","T20"]
["CSK","MI","MI","6 wickets","Chennai","2015-05-08","T20"]
["KKR","PBKS","KKR","1 wicket","Kolkata","2015-05-09","T20"]
["DC","SRH","SRH","6 runs","Raipur","2015-05-09","T20"]
["MI","RCB","RCB","39 runs","Wankhede","2015-05-10","T20"]
["CSK","RR","CSK","12 runs","Chennai","2015-05-10","T20"]
["SRH","PBKS","SRH","5 runs","Hyderabad (Deccan)","2015-05-11","T20"]
["DC","CSK","DC","6 wickets","Raipur","2015-05-12","T20"]
["PBKS","RCB","PBKS","22 runs","Mohali","2015-05-13","T20"]
["MI","KKR","MI","5 runs","Wankhede","2015-05-14","T20"]
["SRH","RCB","RCB","6 wickets","Hyderabad (Deccan)","2015-05-15","T20"]
["PBKS","CSK","CSK","7 wickets","Mohali","2015-05-16","T20"]
["RR","KKR","RR","9 runs","Brabourne","2015-05-16","T20"]
["RCB","DC","D",null,"Bengaluru","2015-05-17","T20"]
["SRH","MI","MI","9 wickets","Hyderabad (Deccan)","2015-05-17","T20"]
["CSK","MI","MI","25 runs","Wankhede","2015-05-19","T20"]
["RR","RCB","RCB","71 runs","Pune","2015-05-20","T20"]
["CSK","RCB","CSK","3 wickets","Ranchi","2015-05-22","T20"]
["CSK","MI","MI","41 runs","Kolkata","2015-05-24","T20"]
["KKR","DC","KKR","9 wickets","Kolkata","2016-04-10","T20"]
["RCB","SRH","RCB","45 runs","Bengaluru","2016-04-12","T20"]
["KKR","MI","MI","6 wickets","Kolkata","2016-04-13","T20"]
["DC","PBKS","DC","8 wickets","Delhi","2016-04-15","T20"]
["SRH","KKR","KKR","8 wickets","Hyderabad (Deccan)","2016-04-16","T20"]
["RCB","DC","DC","7 wickets","Bengaluru","2016-04-17","T20"]
["SRH","MI","SRH","7 wickets","Hyderabad (Deccan)","2016-04-18","T20"]
["PBKS","KKR","KKR","6 wickets","Mohali","2016-04-19","T20"]
["MI","RCB","MI","6 wickets","Wankhede","2016-04-20","T20"]
["DC","MI","DC","10 runs","Delhi","2016-04-23","T20"]
["SRH","PBKS","SRH","5 wickets","Hyderabad (Deccan)","2016-04-23","T20"]
["PBKS","MI","MI","25 runs","Mohali","2016-04-25","T20"]
["MI","KKR","MI","6 wickets","Wankhede","2016-04-28","T20"]
["DC","KKR","DC","27 runs","Delhi","2016-04-30","T20"]
["SRH","RCB","SRH","15 runs","Hyderabad (Deccan)","2016-04-30","T20"]
["RCB","KKR","KKR","5 wickets","Bengaluru","2016-05-02","T20"]
["KKR","PBKS","KKR","7 runs","Kolkata","2016-05-04","T20"]
["PBKS","DC","PBKS","9 runs","Mohali","2016-05-07","T20"]
["MI","SRH","SRH","85 runs","Visakhapatnam","2016-05-08","T20"]
["PBKS","RCB","RCB","1 run","Mohali","2016-05-09","T20"]
["RCB","MI","MI","6 wickets","Bengaluru","2016-05-11","T20"]
["SRH","DC","DC","7 wickets","Hyderabad (Deccan)","2016-05-12","T20"]
["MI","PBKS","PBKS","7 wickets","Visakhapatnam","2016-05-13","T20"]
["PBKS","SRH","SRH","7 wickets","Mohali","2016-05-15","T20"]
["MI","DC","MI","80 runs","Visakhapatnam","2016-05-15","T20"]
["KKR","RCB","RCB","9 wickets","Kolkata","2016-05-16","T20"]
["RCB","PBKS","RCB","82 runs","Bengaluru","2016-05-18","T20"]
["DC","SRH","DC","6 wickets","Raipur","2016-05-20","T20"]
["KKR","SRH","KKR","22 runs","Kolkata","2016-05-22","T20"]
["DC","RCB","RCB","6 wickets","Raipur","2016-05-22","T20"]
["KKR","SRH","SRH","22 runs","Delhi","2016-05-25","T20"]
["RCB","SRH","SRH","8 runs","Bengaluru","2016-05-29","T20"]
["SRH","RCB","SRH","35 runs","Hyderabad (Deccan)","2017-04-05","T20"]
["RCB","DC","RCB","15 runs","Bengaluru","2017-04-08","T20"]
["MI","KKR","MI","4 wickets","Wankhede","2017-04-09","T20"]
["PBKS","RCB","PBKS","8 wickets","Indore","2017-04-10","T20"]
["MI","SRH","MI","4 wickets","Wankhede","2017-04-12","T20"]
["KKR","PBKS","KKR","8 wickets","Kolkata","2017-04-13","T20"]
["RCB","MI","MI","4 wickets","Bengaluru","2017-04-14","T20"]
["KKR","SRH","KKR","17 runs","Kolkata","2017-04-15","T20"]
["DC","PBKS","DC","51 runs","Delhi","2017-04-15","T20"]
["DC","KKR","KKR","4 wickets","Delhi","2017-04-17","T20"]
["SRH","PBKS","SRH","5 runs","Hyderabad (Deccan)","2017-04-17","T20"]
["SRH","DC","SRH","15 runs","Hyderabad (Deccan)","2017-04-19","T20"]
["PBKS","MI","MI","8 wickets","Indore","2017-04-20","T20"]
["MI","DC","MI","14 runs","Wankhede","2017-04-22","T20"]
["KKR","RCB","KKR","82 runs","Kolkata","2017-04-23","T20"]
["RCB","SRH","D",null,"Bengaluru","2017-04-25","T20"]
["KKR","DC","KKR","7 wickets","Kolkata","2017-04-28","T20"]
["PBKS","SRH","SRH","26 runs","Mohali","2017-04-28","T20"]
["PBKS","DC","PBKS","10 wickets","Mohali","2017-04-30","T20"]
["SRH","KKR","SRH","48 runs","Hyderabad (Deccan)","2017-04-30","T20"]
["MI","RCB","MI","5 wickets","Wankhede","2017-05-01","T20"]
["DC","SRH","DC","6 wickets","Delhi","2017-05-02","T20"]
["RCB","PBKS","PBKS","19 runs","Bengaluru","2017-05-05","T20"]
["DC","MI","MI","146 runs","Delhi","2017-05-06","T20"]
["RCB","KKR","KKR","6 wickets","Bengaluru","2017-05-07","T20"]
["SRH","MI","SRH","7 wickets","Hyderabad (Deccan)","2017-05-08","T20"]
["PBKS","KKR","PBKS","14 runs","Mohali","2017-05-09","T20"]
["MI","PBKS","PBKS","7 runs","Wankhede","2017-05-11","T20"]
["KKR","MI","MI","9 runs","Kolkata","2017-05-13","T20"]
["DC","RCB","RCB","10 runs","Delhi","2017-05-14","T20"]
["KKR","SRH","KKR","7 wickets","Bengaluru","2017-05-17","T20"]
["KKR","MI","MI","6 wickets","Bengaluru","2017-05-19","T20"]
["MI","CSK","CSK","1 wicket","Wankhede","2018-04-07","T20"]
["PBKS","DC","PBKS","6 wickets","Mohali","2018-04-08","T20"]
["KKR","RCB","KKR","4 wickets","Kolkata","2018-04-08","T20"]
["SRH","RR","SRH","9 wickets","Hyderabad (Deccan)","2018-04-09","T20"]
["CSK","KKR","CSK","5 wickets","Chennai","2018-04-10","T20"]
["RR","DC","RR","10 runs","Jaipur","2018-04-11","T20"]
["SRH","MI","SRH","1 wicket","Hyderabad (Deccan)","2018-04-12","T20"]
["RCB","PBKS","RCB","4 wickets","Bengaluru","2018-04-13","T20"]
["MI","DC","DC","7 wickets","Wankhede","2018-04-14","T20"]
["KKR","SRH","SRH","5 wickets","Kolkata","2018-04-14","T20"]
["RCB","RR","RR","19 runs","Bengaluru","2018-04-15","T20"]
["PBKS","CSK","PBKS","4 runs","Mohali","2018-04-15","T20"]
["KKR","DC","KKR","71 runs","Kolkata","2018-04-16","T20"]
["MI","RCB","MI","46 runs","Wankhede","2018-04-17","T20"]
["RR","KKR","KKR","7 wickets","Jaipur","2018-04-18","T20"]
["PBKS","SRH","PBKS","15 runs","Mohali","2018-04-19","T20"]
["CSK","RR","CSK","64 runs","Pune","2018-04-20","T20"]
["KKR","PBKS","PBKS","9 wickets","Kolkata","2018-04-21","T20"]
["RCB","DC","RCB","6 wickets","Bengaluru","2018-04-21","T20"]
["SRH","CSK","CSK","4 runs","Hyderabad (Deccan)","2018-04-22","T20"]
["RR","MI","RR","3 wickets","Jaipur","2018-04-22","T20"]
["DC","PBKS","PBKS","4 runs","Delhi","2018-04-23","T20"]
["MI","SRH","SRH","31 runs","Wankhede","2018-04-24","T20"]
["RCB","CSK","CSK","5 wickets","Bengaluru","2018-04-25","T20"]
["SRH","PBKS","SRH","13 runs","Hyderabad (Deccan)","2018-04-26","T20"]
["DC","KKR","DC","55 runs","Delhi","2018-04-27","T20"]
["CSK","MI","MI","8 wickets","Pune","2018-04-28","T20"]
["RR","SRH","SRH","11 runs","Jaipur","2018-04-29","T20"]
["RCB","KKR","KKR","6 wickets","Bengaluru","2018-04-29","T20"]
["CSK","DC","CSK","13 runs","Pune","2018-04-30","T20"]
["RCB","MI","RCB","14 runs","Bengaluru","2018-05-01","T20"]
["DC","RR","DC","4 runs","Delhi","2018-05-02","T20"]
["KKR","CSK","KKR","6 wickets","Kolkata","2018-05-03","T20"]
["PBKS","MI","MI","6 wickets","Indore","2018-05-04","T20"]
["CSK","RCB","CSK","6 wickets","Pune","2018-05-05","T20"]
["SRH","DC","SRH","7 wickets","Hyderabad (Deccan)","2018-05-05","T20"]
["MI","KKR","MI","13 runs","Wankhede","2018-05-06","T20"]
["PBKS","RR","PBKS","6 wickets","Indore","2018-05-06","T20"]
["SRH","RCB","SRH","5 runs","Hyderabad (Deccan)","2018-05-07","T20"]
["RR","PBKS","RR","15 runs","Jaipur","2018-05-08","T20"]
["KKR","MI","MI","102 runs","Kolkata","2018-05-09","T20"]
["DC","SRH","SRH","9 wickets","Delhi","2018-05-10","T20"]
["RR","CSK","RR","4 wickets","Jaipur","2018-05-11","T20"]
["PBKS","KKR","KKR","31 runs","Indore","2018-05-12","T20"]
["DC","RCB","RCB","5 wickets","Delhi","2018-05-12","T20"]
["CSK","SRH","CSK","8 wickets","Pune","2018-05-13","T20"]
["MI","RR","RR","7 wickets","Wankhede","2018-05-13","T20"]
["PBKS","RCB","RCB","10 wickets","Indore","2018-05-14","T20"]
["KKR","RR","KKR","6 wickets","Kolkata","2018-05-15","T20"]
["MI","PBKS","MI","3 runs","Wankhede","2018-05-16","T20"]
["RCB","SRH","RCB","14 runs","Bengaluru","2018-05-17","T20"]
["DC","CSK","DC","34 runs","Delhi","2018-05-18","T20"]
["RR","RCB","RR","30 runs","Jaipur","2018-05-19","T20"]
["SRH","KKR","KKR","5 wickets","Hyderabad (Deccan)","2018-05-19","T20"]
["DC","MI","DC","11 runs","Delhi","2018-05-20","T20"]
["CSK","PBKS","CSK","5 wickets","Pune","2018-05-20","T20"]
["CSK","SRH","CSK","2 wickets","Wankhede","2018-05-22","T20"]
["KKR","RR","KKR","25 runs","Kolkata","2018-05-23","T20"]
["KKR","SRH","SRH","14 runs","Kolkata","2018-05-25","T20"]
["CSK","SRH","CSK","8 wickets","Wankhede","2018-05-27","T20"]
["CSK","RCB","CSK","7 wickets","Chennai","2019-03-23","T20"]
["KKR","SRH","KKR","6 wickets","Kolkata","2019-03-24","T20"]
["MI","DC","DC","37 runs","Wankhede","2019-03-24","T20"]
["RR","PBKS","PBKS","14 runs","Jaipur","2019-03-25","T20"]
["DC","CSK","CSK","6 wickets","Delhi","2019-03-26","T20"]
["KKR","PBKS","KKR","28 runs","Kolkata","2019-03-27","T20"]
["RCB","MI","MI","6 runs","Bengaluru","2019-03-28","T20"]
["SRH","RR","SRH","5 wickets","Hyderabad (Deccan)","2019-03-29","T20"]
["PBKS","MI","PBKS","8 wickets","Mohali","2019-03-30","T20"]
["DC","KKR","tied",null,"Delhi","2019-03-30","T20","DC"]
["SRH","RCB","SRH","118 runs","Hyderabad (Deccan)","2019-03-31","T20"]
["CSK","RR","CSK","8 runs","Chennai","2019-03-31","T20"]
["PBKS","DC","PBKS","14 runs","Mohali","2019-04-01","T20"]
["RR","RCB","RR","7 wickets","Jaipur","2019-04-02","T20"]
["MI","CSK","MI","37 runs","Wankhede","2019-04-03","T20"]
["DC","SRH","SRH","5 wickets","Delhi","2019-04-04","T20"]
["RCB","KKR","KKR","5 wickets","Bengaluru","2019-04-05","T20"]
["CSK","PBKS","CSK","22 runs","Chennai","2019-04-06","T20"]
["SRH","MI","MI","40 runs","Hyderabad (Deccan)","2019-04-06","T20"]
["RCB","DC","DC","4 wickets","Bengaluru","2019-04-07","T20"]
["RR","KKR","KKR","8 wickets","Jaipur","2019-04-07","T20"]
["PBKS","SRH","PBKS","6 wickets","Mohali","2019-04-08","T20"]
["CSK","KKR","CSK","7 wickets","Chennai","2019-04-09","T20"]
["MI","PBKS","MI","3 wickets","Wankhede","2019-04-10","T20"]
["RR","CSK","CSK","4 wickets","Jaipur","2019-04-11","T20"]
["KKR","DC","DC","7 wickets","Kolkata","2019-04-12","T20"]
["MI","RR","RR","4 wickets","Wankhede","2019-04-13","T20"]
["PBKS","RCB","RCB","8 wickets","Mohali","2019-04-13","T20"]
["KKR","CSK","CSK","5 wickets","Kolkata","2019-04-14","T20"]
["SRH","DC","DC","39 runs","Hyderabad (Deccan)","2019-04-14","T20"]
["MI","RCB","MI","5 wickets","Wankhede","2019-04-15","T20"]
["PBKS","RR","PBKS","12 runs","Mohali","2019-04-16","T20"]
["SRH","CSK","SRH","6 wickets","Hyderabad (Deccan)","2019-04-17","T20"]
["DC","MI","MI","40 runs","Delhi","2019-04-18","T20"]
["KKR","RCB","RCB","10 runs","Kolkata","2019-04-19","T20"]
["RR","MI","RR","5 wickets","Jaipur","2019-04-20","T20"]
["DC","PBKS","DC","5 wickets","Delhi","2019-04-20","T20"]
["SRH","KKR","SRH","9 wickets","Hyderabad (Deccan)","2019-04-21","T20"]
["RCB","CSK","RCB","1 run","Bengaluru","2019-04-21","T20"]
["RR","DC","DC","6 wickets","Jaipur","2019-04-22","T20"]
["CSK","SRH","CSK","6 wickets","Chennai","2019-04-23","T20"]
["RCB","PBKS","RCB","17 runs","Bengaluru","2019-04-24","T20"]
["KKR","RR","RR","3 wickets","Kolkata","2019-04-25","T20"]
["CSK","MI","MI","46 runs","Chennai","2019-04-26","T20"]
["RR","SRH","RR","7 wickets","Jaipur","2019-04-27","T20"]
["DC","RCB","DC","16 runs","Delhi","2019-04-28","T20"]
["KKR","MI","KKR","34 runs","Kolkata","2019-04-28","T20"]
["SRH","PBKS","SRH","45 runs","Hyderabad (Deccan)","2019-04-29","T20"]
["RCB","RR","D",null,"Bengaluru","2019-04-30","T20"]
["CSK","DC","CSK","80 runs","Chennai","2019-05-01","T20"]
["MI","SRH","MI",null,"Wankhede","2019-05-02","T20","MI"]
["PBKS","KKR","KKR","7 wickets","Mohali","2019-05-03","T20"]
["DC","RR","DC","5 wickets","Delhi","2019-05-04","T20"]
["RCB","SRH","RCB","4 wickets","Bengaluru","2019-05-04","T20"]
["PBKS","CSK","PBKS","6 wickets","Mohali","2019-05-05","T20"]
["MI","KKR","MI","9 wickets","Wankhede","2019-05-05","T20"]
["CSK","MI","MI","6 wickets","Chennai","2019-05-07","T20"]
["SRH","DC","DC","2 wickets","Visakhapatnam","2019-05-08","T20"]
["CSK","DC","CSK","6 wickets","Visakhapatnam","2019-05-10","T20"]
["CSK","MI","MI","1 run","Hyderabad (Deccan)","2019-05-12","T20"]
["MI","CSK","CSK","5 wickets","Abu Dhabi","2020-09-19","T20"]
["DC","PBKS","tied",null,"Dubai (DSC)","2020-09-20","T20","DC"]
["SRH","RCB","RCB","10 runs","Dubai (DSC)","2020-09-21","T20"]
["RR","CSK","RR","16 runs","Sharjah","2020-09-22","T20"]
["KKR","MI","MI","49 runs","Abu Dhabi","2020-09-23","T20"]
["PBKS","RCB","PBKS","97 runs","Dubai (DSC)","2020-09-24","T20"]
["CSK","DC","DC","44 runs","Dubai (DSC)","2020-09-25","T20"]
["KKR","SRH","KKR","7 wickets","Abu Dhabi","2020-09-26","T20"]
["RR","PBKS","RR","4 wickets","Sharjah","2020-09-27","T20"]
["RCB","MI","tied",null,"Dubai (DSC)","2020-09-28","T20","RCB"]
["DC","SRH","SRH","15 runs","Abu Dhabi","2020-09-29","T20"]
["RR","KKR","KKR","37 runs","Dubai (DSC)","2020-09-30","T20"]
["PBKS","MI","MI","48 runs","Abu Dhabi","2020-10-01","T20"]
["CSK","SRH","SRH","7 runs","Dubai (DSC)","2020-10-02","T20"]
["RCB","RR","RCB","8 wickets","Abu Dhabi","2020-10-03","T20"]
["DC","KKR","DC","18 runs","Sharjah","2020-10-03","T20"]
["MI","SRH","MI","34 runs","Sharjah","2020-10-04","T20"]
["PBKS","CSK","CSK","10 wickets","Dubai (DSC)","2020-10-04","T20"]
["RCB","DC","DC","59 runs","Dubai (DSC)","2020-10-05","T20"]
["MI","RR","MI","57 runs","Abu Dhabi","2020-10-06","T20"]
["KKR","CSK","KKR","10 runs","Abu Dhabi","2020-10-07","T20"]
["SRH","PBKS","SRH","69 runs","Dubai (DSC)","2020-10-08","T20"]
["RR","DC","DC","46 runs","Sharjah","2020-10-09","T20"]
["PBKS","KKR","KKR","2 runs","Abu Dhabi","2020-10-10","T20"]
["CSK","RCB","RCB","37 runs","Dubai (DSC)","2020-10-10","T20"]
["SRH","RR","RR","5 wickets","Dubai (DSC)","2020-10-11","T20"]
["MI","DC","MI","5 wickets","Abu Dhabi","2020-10-11","T20"]
["RCB","KKR","RCB","82 runs","Sharjah","2020-10-12","T20"]
["SRH","CSK","CSK","20 runs","Dubai (DSC)","2020-10-13","T20"]
["DC","RR","DC","13 runs","Dubai (DSC)","2020-10-14","T20"]
["RCB","PBKS","PBKS","8 wickets","Sharjah","2020-10-15","T20"]
["MI","KKR","MI","8 wickets","Abu Dhabi","2020-10-16","T20"]
["RR","RCB","RCB","7 wickets","Dubai (DSC)","2020-10-17","T20"]
["DC","CSK","DC","5 wickets","Sharjah","2020-10-17","T20"]
["SRH","KKR","tied",null,"Abu Dhabi","2020-10-18","T20","KKR"]
["MI","PBKS","tied",null,"Dubai (DSC)","2020-10-18","T20","PBKS","p.s. double super over"]
["CSK","RR","RR","7 wickets","Abu Dhabi","2020-10-19","T20"]
["PBKS","DC","PBKS","5 wickets","Dubai (DSC)","2020-10-20","T20"]
["KKR","RCB","RCB","8 wickets","Abu Dhabi","2020-10-21","T20"]
["RR","SRH","SRH","8 wickets","Dubai (DSC)","2020-10-22","T20"]
["CSK","MI","MI","10 wickets","Sharjah","2020-10-23","T20"]
["KKR","DC","KKR","59 runs","Abu Dhabi","2020-10-24","T20"]
["PBKS","SRH","PBKS","12 runs","Dubai (DSC)","2020-10-24","T20"]
["RCB","CSK","CSK","8 wickets","Dubai (DSC)","2020-10-25","T20"]
["RR","MI","RR","8 wickets","Abu Dhabi","2020-10-25","T20"]
["KKR","PBKS","PBKS","8 wickets","Sharjah","2020-10-26","T20"]
["SRH","DC","SRH","88 runs","Dubai (DSC)","2020-10-27","T20"]
["MI","RCB","MI","5 wickets","Abu Dhabi","2020-10-28","T20"]
["CSK","KKR","CSK","6 wickets","Dubai (DSC)","2020-10-29","T20"]
["PBKS","RR","RR","7 wickets","Abu Dhabi","2020-10-30","T20"]
["DC","MI","MI","9 wickets","Dubai (DSC)","2020-10-31","T20"]
["RCB","SRH","SRH","5 wickets","Sharjah","2020-10-31","T20"]
["CSK","PBKS","CSK","9 wickets","Abu Dhabi","2020-11-01","T20"]
["KKR","RR","KKR","60 runs","Dubai (DSC)","2020-11-01","T20"]
["DC","RCB","DC","6 wickets","Abu Dhabi","2020-11-02","T20"]
["SRH","MI","SRH","10 wickets","Sharjah","2020-11-03","T20"]
["DC","MI","MI","57 runs","Dubai (DSC)","2020-11-05","T20"]
["RCB","SRH","SRH","6 wickets","Abu Dhabi","2020-11-06","T20"]
["DC","SRH","DC","17 runs","Abu Dhabi","2020-11-08","T20"]
["DC","MI","MI","5 wickets","Dubai (DSC)","2020-11-10","T20"]
["MI","RCB","RCB","2 wickets","Chennai","2021-04-09","T20"]
["CSK","DC","DC","7 wickets","Wankhede","2021-04-10","T20"]
["SRH","KKR","KKR","10 runs","Chennai","2021-04-11","T20"]
["RR","PBKS","PBKS","4 runs","Wankhede","2021-04-12","T20"]
["KKR","MI","MI","10 runs","Chennai","2021-04-13","T20"]
["SRH","RCB","RCB","6 runs","Chennai","2021-04-14","T20"]
["RR","DC","RR","3 wickets","Wankhede","2021-04-15","T20"]
["PBKS","CSK","CSK","6 wickets","Wankhede","2021-04-16","T20"]
["MI","SRH","MI","13 runs","Chennai","2021-04-17","T20"]
["RCB","KKR","RCB","38 runs","Chennai","2021-04-18","T20"]
["DC","PBKS","DC","6 wickets","Wankhede","2021-04-18","T20"]
["CSK","RR","CSK","45 runs","Wankhede","2021-04-19","T20"]
["DC","MI","DC","6 wickets","Chennai","2021-04-20","T20"]
["PBKS","SRH","SRH","9 wickets","Chennai","2021-04-21","T20"]
["KKR","CSK","CSK","18 runs","Wankhede","2021-04-21","T20"]
["RCB","RR","RCB","10 wickets","Wankhede","2021-04-22","T20"]
["PBKS","MI","PBKS","9 wickets","Chennai","2021-04-23","T20"]
["RR","KKR","RR","6 wickets","Wankhede","2021-04-24","T20"]
["CSK","RCB","CSK","69 runs","Wankhede","2021-04-25","T20"]
["SRH","DC","tied",null,"Chennai","2021-04-25","T20","DC"]
["PBKS","KKR","KKR","5 wickets","Ahmedabad","2021-04-26","T20"]
["DC","RCB","RCB","1 run","Ahmedabad","2021-04-27","T20"]
["CSK","SRH","CSK","7 wickets","Delhi","2021-04-28","T20"]
["MI","RR","MI","7 wickets","Delhi","2021-04-29","T20"]
["DC","KKR","DC","7 wickets","Ahmedabad","2021-04-29","T20"]
["PBKS","RCB","PBKS","34 runs","Ahmedabad","2021-04-30","T20"]
["MI","CSK","MI","4 wickets","Delhi","2021-05-01","T20"]
["RR","SRH","RR","55 runs","Delhi","2021-05-02","T20"]
["PBKS","DC","DC","7 wickets","Ahmedabad","2021-05-02","T20"]
["CSK","MI","CSK","20 runs","Dubai (DSC)","2021-09-19","T20"]
["KKR","RCB","KKR","9 wickets","Abu Dhabi","2021-09-20","T20"]
["PBKS","RR","RR","2 runs","Dubai (DSC)","2021-09-21","T20"]
["DC","SRH","DC","8 wickets","Dubai (DSC)","2021-09-22","T20"]
["MI","KKR","KKR","7 wickets","Abu Dhabi","2021-09-23","T20"]
["RCB","CSK","CSK","6 wickets","Sharjah","2021-09-24","T20"]
["DC","RR","DC","33 runs","Abu Dhabi","2021-09-25","T20"]
["SRH","PBKS","PBKS","5 runs","Sharjah","2021-09-25","T20"]
["CSK","KKR","CSK","2 wickets","Abu Dhabi","2021-09-26","T20"]
["RCB","MI","RCB","54 runs","Dubai (DSC)","2021-09-26","T20"]
["SRH","RR","SRH","7 wickets","Dubai (DSC)","2021-09-27","T20"]
["KKR","DC","KKR","3 wickets","Sharjah","2021-09-28","T20"]
["MI","PBKS","MI","6 wickets","Abu Dhabi","2021-09-28","T20"]
["RR","RCB","RCB","7 wickets","Dubai (DSC)","2021-09-29","T20"]
["SRH","CSK","CSK","6 wickets","Sharjah","2021-09-30","T20"]
["KKR","PBKS","PBKS","5 wickets","Dubai (DSC)","2021-10-01","T20"]
["MI","DC","DC","4 wickets","Sharjah","2021-10-02","T20"]
["RR","CSK","RR","7 wickets","Abu Dhabi","2021-10-02","T20"]
["RCB","PBKS","RCB","6 runs","Sharjah","2021-10-03","T20"]
["KKR","SRH","KKR","6 wickets","Dubai (DSC)","2021-10-03","T20"]
["DC","CSK","DC","3 wickets","Dubai (DSC)","2021-10-04","T20"]
["RR","MI","MI","8 wickets","Sharjah","2021-10-05","T20"]
["RCB","SRH","SRH","4 runs","Abu Dhabi","2021-10-06","T20"]
["CSK","PBKS","PBKS","6 wickets","Dubai (DSC)","2021-10-07","T20"]
["KKR","RR","KKR","86 runs","Sharjah","2021-10-07","T20"]
["RCB","DC","RCB","7 wickets","Dubai (DSC)","2021-10-08","T20"]
["SRH","MI","MI","42 runs","Abu Dhabi","2021-10-08","T20"]
["DC","CSK","CSK","4 wickets","Dubai (DSC)","2021-10-10","T20"]
["RCB","KKR","KKR","4 wickets","Sharjah","2021-10-11","T20"]
["DC","KKR","KKR","3 wickets","Sharjah","2021-10-13","T20"]
["CSK","KKR","CSK","27 runs","Dubai (DSC)","2021-10-15","T20"]

{"sheet":"MI vs CSK","index":2,"n_rows":33,"n_cols":15,"rows_kept":33,"cut":false,"hidden":false,"merged":[[16,8,16,13],[15,8,15,13],[14,9,14,10],[21,8,21,13],[17,8,17,13],[19,8,19,13],[20,8,20,13]]}
["Team 1","Team 2","Winner","Margin","Ground","Scorecard","Super over winner",null,"T1","MI"]
["CSK","MI","CSK","6 runs","Chennai","T20",null,null,"T2","CSK"]
["MI","CSK","MI","9 wickets","Wankhede","T20"]
["CSK","MI","MI","19 runs","Cape Town","T20"]
["CSK","MI","CSK","7 wickets","Port Elizabeth","T20",null,null,"Codes","Values",null,"MATRIX","MI","CSK"]
["MI","CSK","MI","5 wickets","Brabourne","T20",null,null,"t1t1",11,null,"MI",{"$f":"J6/(J6+J7+J12)","v":0.57894736842105265},{"$f":"J7/(J6+J7+J12)","v":0.42105263157894735}]
["CSK","MI","CSK","24 runs","Chennai","T20",null,null,"t1t2",8,null,"CSK",{"$f":"J8/(J8+J9+J13)","v":0.66666666666666663},{"$f":"J9/(J8+J9+J13)","v":0.33333333333333331}]
["MI","CSK","CSK","22 runs","DY Patil","T20",null,null,"t2t1",8]
["MI","CSK","MI","8 runs","Wankhede","T20",null,null,"t2t2",4]
["CSK","MI","MI","8 wickets","Chennai","T20",null,null,"dt1",0]
["MI","CSK","MI","2 wickets","Wankhede","T20",null,null,"dt2",0]
["CSK","MI","CSK","38 runs","Bengaluru","T20",null,null,"t1d",0]
["CSK","MI","MI","9 runs","Chennai","T20",null,null,"t2d",0]
["MI","CSK","MI","60 runs","Wankhede","T20",null,null,"dd",0]
["CSK","MI","CSK","48 runs","Delhi","T20",null,null,null,"Latest match winner: CSK"]
["CSK","MI","MI","23 runs","Kolkata","T20",null,null,{"$f":"CONCATENATE(\"probability of\",\" \",J1,\" \",\"winning next 2 matches against\",\" \",J2,\":\")","v":"probability of MI winning next 2 matches against CSK:"},null,null,null,null,null,{"$f":"IF(K15=J1,M6*M6,M7*M6)","v":0.38596491228070173}]
["CSK","MI","CSK","7 wickets","Dubai (DSC)","T20",null,null,{"$f":"CONCATENATE(\"probability of\",\" \",J1,\" \",\"losing next 2 matches against\",\" \",J2,\":\")","v":"probability of MI losing next 2 matches against CSK:"},null,null,null,null,null,{"$f":"IF(K15=J1,N6*N7,N7*N7)","v":0.1111111111111111}]
["MI","CSK","CSK","4 wickets","Wankhede","T20",null,null,{"$f":"CONCATENATE(\"probability of\",\" \",J1,\" \",\"winning 1 and losing 1 from the next two matches against\",\" \",J2,\":\")","v":"probability of MI winning 1 and losing 1 from the next two matches against CSK:"},null,null,null,null,null,{"$f":"IF(K15=J1,(N6*M7)+(M6*N6),(M7*N6)+(N7*M7))","v":0.50292397660818711}]
["MI","CSK","CSK","7 wickets","Brabourne","T20"]
["MI","CSK","CSK","6 wickets","Wankhede","T20",null,null,{"$f":"CONCATENATE(\"probability of\",\" \",J2,\" \",\"winning next 2 matches against\",\" \",J1,\":\")","v":"probability of CSK winning next 2 matches against MI:"},null,null,null,null,null,{"$f":"IF(K15=J1,N6*N7,N7*N7)","v":0.1111111111111111}]
["CSK","MI","MI","6 wickets","Chennai","T20",null,null,{"$f":"CONCATENATE(\"probability of\",\" \",J2,\" \",\"losing next 2 matches against\",\" \",J1,\":\")","v":"probability of CSK losing next 2 matches against MI:"},null,null,null,null,null,{"$f":"IF(K15=J1,M6*M6,M7*M6)","v":0.38596491228070173}]
["CSK","MI","MI","25 runs","Wankhede","T20",null,null,{"$f":"CONCATENATE(\"probability of\",\" \",J2,\" \",\"winning 1 and losing 1 from the next two matches against\",\" \",J1,\":\")","v":"probability of CSK winning 1 and losing 1 from the next two matches against MI:"},null,null,null,null,null,{"$f":"O18","v":0.50292397660818711}]
["CSK","MI","MI","41 runs","Kolkata","T20"]
["MI","CSK","CSK","1 wicket","Wankhede","T20"]
["CSK","MI","MI","8 wickets","Pune","T20"]
["MI","CSK","MI","37 runs","Wankhede","T20"]
["CSK","MI","MI","46 runs","Chennai","T20"]
["CSK","MI","MI","6 wickets","Chennai","T20"]
["CSK","MI","MI","1 run","Hyderabad (Deccan)","T20"]
["MI","CSK","CSK","5 wickets","Abu Dhabi","T20"]
["CSK","MI","MI","10 wickets","Sharjah","T20"]
["MI","CSK","MI","4 wickets","Delhi","T20"]
["CSK","MI","CSK","20 runs","Dubai (DSC)","T20"]

{"sheet":"MI vs DC","index":3,"n_rows":31,"n_cols":16,"rows_kept":31,"cut":false,"hidden":false,"merged":[[21,8,21,13],[15,8,15,13],[16,8,16,13],[17,8,17,13],[19,8,19,13],[20,8,20,13]]}
["Team 1","Team 2","Winner","Margin","Ground","Scorecard","Super over winner",null,"T1","MI"]
["MI","DC","MI","29 runs","DY Patil","T20",null,null,"T2","DC"]
["DC","MI","DC","5 wickets","Delhi","T20"]
["DC","MI","DC","7 wickets","East London","T20",null,null,"Codes","Values"]
["DC","MI","DC","4 wickets","Centurion","T20",null,null,"t1t1",9,null,"MATRIX","MI","DC"]
["DC","MI","MI","98 runs","Delhi","T20",null,null,"t1t2",7,null,"MI",{"$f":"J5/(J5+J6+J11)","v":0.5625},{"$f":"J6/(J5+J6+J11)","v":0.4375}]
["MI","DC","MI","39 runs","Brabourne","T20",null,null,"t2t1",6,null,"DC",{"$f":"J7/(J7+J8+J12)","v":0.46153846153846156},{"$f":"J8/(J7+J8+J12)","v":0.53846153846153844}]
["DC","MI","MI","8 wickets","Delhi","T20",null,null,"t2t2",7]
["MI","DC","MI","32 runs","Wankhede","T20",null,null,"dt1",0]
["MI","DC","DC","7 wickets","Wankhede","T20",null,null,"dt2",0]
["DC","MI","DC","37 runs","Delhi","T20",null,null,"t1d",0]
["MI","DC","MI","44 runs","Wankhede","T20",null,null,"t2d",0]
["DC","MI","DC","9 wickets","Delhi","T20",null,null,"dd",0]
["DC","MI","DC","6 wickets","Sharjah","T20",null,null,"Total",{"$f":"SUM(J5:J13)","v":29}]
["MI","DC","MI","15 runs","Wankhede","T20",null,null,null,null,null,null,null,null,"Latest match winner:","DC"]
["DC","MI","DC","37 runs","Delhi","T20",null,null,{"$f":"CONCATENATE(\"probability of\",\" \",J1,\" \",\"winning next 2 matches against\",\" \",J2,\":\")","v":"probability of MI winning next 2 matches against DC:"},null,null,null,null,null,{"$f":"IF(P15=J1,M6*M6,M7*M6)","v":0.25961538461538464}]
["MI","DC","MI","5 wickets","Wankhede","T20",null,null,{"$f":"CONCATENATE(\"probability of\",\" \",J1,\" \",\"losing next 2 matches against\",\" \",J2,\":\")","v":"probability of MI losing next 2 matches against DC:"},null,null,null,null,null,{"$f":"IF(P15=J1,N6*N7,N7*N7)","v":0.28994082840236685}]
["DC","MI","DC","10 runs","Delhi","T20",null,null,{"$f":"CONCATENATE(\"probability of\",\" \",J1,\" \",\"winning 1 and losing 1 from the next two matches against\",\" \",J2,\":\")","v":"probability of MI winning 1 and losing 1 from the next two matches against DC:"},null,null,null,null,null,{"$f":"IF(P15=J1,(N6*M7)+(M6*N6),(M7*N6)+(N7*M7))","v":0.45044378698224852}]
["MI","DC","MI","80 runs","Visakhapatnam","T20"]
["MI","DC","MI","14 runs","Wankhede","T20",null,null,{"$f":"CONCATENATE(\"probability of\",\" \",J2,\" \",\"winning next 2 matches against\",\" \",J1,\":\")","v":"probability of DC winning next 2 matches against MI:"},null,null,null,null,null,{"$f":"IF(P15=J1,N6*N7,N7*N7)","v":0.28994082840236685}]
["DC","MI","MI","146 runs","Delhi","T20",null,null,{"$f":"CONCATENATE(\"probability of\",\" \",J2,\" \",\"losing next 2 matches against\",\" \",J1,\":\")","v":"probability of DC losing next 2 matches against MI:"},null,null,null,null,null,{"$f":"IF(P15=J1,M6*M6,M7*M6)","v":0.25961538461538464}]
["MI","DC","DC","7 wickets","Wankhede","T20",null,null,{"$f":"CONCATENATE(\"probability of\",\" \",J2,\" \",\"winning 1 and losing 1 from the next two matches against\",\" \",J1,\":\")","v":"probability of DC winning 1 and losing 1 from the next two matches against MI:"},null,null,null,null,null,{"$f":"O18","v":0.45044378698224852}]
["DC","MI","DC","11 runs","Delhi","T20"]
["MI","DC","DC","37 runs","Wankhede","T20"]
["DC","MI","MI","40 runs","Delhi","T20"]
["MI","DC","MI","5 wickets","Abu Dhabi","T20"]
["DC","MI","MI","9 wickets","Dubai (DSC)","T20"]
["DC","MI","MI","57 runs","Dubai (DSC)","T20"]
["DC","MI","MI","5 wickets","Dubai (DSC)","T20"]
["DC","MI","DC","6 wickets","Chennai","T20"]
["MI","DC","DC","4 wickets","Sharjah","T20"]

{"sheet":"MI vs RR","index":4,"n_rows":26,"n_cols":16,"rows_kept":26,"cut":false,"hidden":false,"merged":[[21,8,21,13],[15,8,15,13],[16,8,16,13],[17,8,17,13],[19,8,19,13],[20,8,20,13]]}
["Team 1","Team 2","Winner","Margin","Ground","Scorecard","Super over winner",null,"T1","MI"]
["MI","RR","MI","7 wickets","DY Patil","T20",null,null,"T2","RR"]
["RR","MI","RR","5 wickets","Jaipur","T20"]
["MI","RR","D",null,"Durban","T20",null,null,"Codes","Values"]
["MI","RR","RR","2 runs","Durban","T20",null,null,"t1t1",6,null,"MATRIX","MI","RR","D"]
["MI","RR","MI","4 runs","Brabourne","T20",null,null,"t1t2",6,null,"MI",{"$f":"J5/(J5+J6+J11)","v":0.5},{"$f":"J6/(J5+J6+J11)","v":0.5},{"$f":"J11/(J11+J5+J6)","v":0}]
["RR","MI","MI","37 runs","Jaipur","T20",null,null,"t2t1",6,null,"RR",{"$f":"J7/(J7+J8+J12)","v":0.54545454545454541},{"$f":"J8/(J7+J8+J12)","v":0.36363636363636365},{"$f":"J12/(J12+J7+J8)","v":9.0909090909090912E-2}]
["RR","MI","RR","7 wickets","Jaipur","T20",null,null,"t2t2",4,null,"D",{"$f":"J9/(J9+J10+J13)","v":0},{"$f":"J10/(J9+J10+J13)","v":1},{"$f":"J13/(J13+J9+J10)","v":0}]
["MI","RR","RR","10 wickets","Wankhede","T20",null,null,"dt1",0]
["MI","RR","MI","27 runs","Wankhede","T20",null,null,"dt2",1]
["RR","MI","MI","10 wickets","Jaipur","T20",null,null,"t1d",0]
["RR","MI","RR","87 runs","Jaipur","T20",null,null,"t2d",1]
["MI","RR","MI","14 runs","Wankhede","T20",null,null,"dd",0]
["MI","RR","MI","4 wickets","Kolkata","T20",null,null,"Total",{"$f":"SUM(J5:J13)","v":24}]
["RR","MI","MI","25 runs","Ahmedabad","T20",null,null,null,null,null,null,null,null,"Latest match winner:","MI"]
["MI","RR","MI","5 wickets","Wankhede","T20",null,null,{"$f":"CONCATENATE(\"probability of\",\" \",J1,\" \",\"winning next 2 matches against\",\" \",J2,\":\")","v":"probability of MI winning next 2 matches against RR:"},null,null,null,null,null,{"$f":"IF(P15=J1,M6*M6,M7*M6)","v":0.25}]
["RR","MI","RR","7 wickets","Ahmedabad","T20",null,null,{"$f":"CONCATENATE(\"probability of\",\" \",J1,\" \",\"losing next 2 matches against\",\" \",J2,\":\")","v":"probability of MI losing next 2 matches against RR:"},null,null,null,null,null,{"$f":"IF(P15=J1,N6*N7,N7*N7)","v":0.18181818181818182}]
["MI","RR","MI","8 runs","Wankhede","T20",null,null,{"$f":"CONCATENATE(\"probability of\",\" \",J1,\" \",\"winning 1 and losing 1 from the next two matches against\",\" \",J2,\":\")","v":"probability of MI winning 1 and losing 1 from the next two matches against RR:"},null,null,null,null,null,{"$f":"IF(P15=J1,(N6*M7)+(M6*N6),(M7*N6)+(N7*M7))","v":0.52272727272727271}]
["RR","MI","RR","3 wickets","Jaipur","T20"]
["MI","RR","RR","7 wickets","Wankhede","T20",null,null,{"$f":"CONCATENATE(\"probability of\",\" \",J2,\" \",\"winning next 2 matches against\",\" \",J1,\":\")","v":"probability of RR winning next 2 matches against MI:"},null,null,null,null,null,{"$f":"IF(P15=J1,N6*N7,N7*N7)","v":0.18181818181818182}]
["MI","RR","RR","4 wickets","Wankhede","T20",null,null,{"$f":"CONCATENATE(\"probability of\",\" \",J2,\" \",\"losing next 2 matches against\",\" \",J1,\":\")","v":"probability of RR losing next 2 matches against MI:"},null,null,null,null,null,{"$f":"IF(P15=J1,M6*M6,M7*M6)","v":0.25}]
["RR","MI","RR","5 wickets","Jaipur","T20",null,null,{"$f":"CONCATENATE(\"probability of\",\" \",J2,\" \",\"winning 1 and losing 1 from the next two matches against\",\" \",J1,\":\")","v":"probability of RR winning 1 and losing 1 from the next two matches against MI:"},null,null,null,null,null,{"$f":"O18","v":0.52272727272727271}]
["MI","RR","MI","57 runs","Abu Dhabi","T20"]
["RR","MI","RR","8 wickets","Abu Dhabi","T20"]
["MI","RR","MI","7 wickets","Delhi","T20"]
["RR","MI","MI","8 wickets","Sharjah","T20"]

{"sheet":"MI vs SRH","index":5,"n_rows":29,"n_cols":16,"rows_kept":29,"cut":false,"hidden":false,"merged":[[21,8,21,13],[15,8,15,13],[16,8,16,13],[17,8,17,13],[19,8,19,13],[20,8,20,13]]}
["Team 1","Team 2","Winner","Margin","Ground","Scorecard","Super over winner",null,"T1","MI"]
["MI","SRH","SRH","10 wickets","DY Patil","T20",null,null,"T2","SRH"]
["SRH","MI","MI","25 runs","Hyderabad (Deccan)","T20"]
["SRH","MI","SRH","12 runs","Durban","T20",null,null,"Codes","Values"]
["SRH","MI","SRH","19 runs","Centurion","T20",null,null,"t1t1",8,null,"MATRIX","MI","SRH"]
["SRH","MI","MI","41 runs","DY Patil","T20",null,null,"t1t2",7,null,"MI",{"$f":"J5/(J5+J6+J11)","v":0.53333333333333333},{"$f":"J6/(J5+J6+J11)","v":0.46666666666666667}]
["MI","SRH","MI","63 runs","Brabourne","T20",null,null,"t2t1",8,null,"SRH",{"$f":"J7/(J7+J8+J12)","v":0.66666666666666663},{"$f":"J8/(J7+J8+J12)","v":0.33333333333333331}]
["SRH","MI","MI","37 runs","Hyderabad (Deccan)","T20",null,null,"t2t2",4]
["MI","SRH","SRH","10 runs","Wankhede","T20",null,null,"dt1",0]
["SRH","MI","MI","5 wickets","Visakhapatnam","T20",null,null,"dt2",0]
["MI","SRH","MI","5 wickets","Wankhede","T20",null,null,"t1d",0]
["SRH","MI","SRH","7 wickets","Hyderabad (Deccan)","T20",null,null,"t2d",0]
["MI","SRH","MI","7 wickets","Wankhede","T20",null,null,"dd",0]
["MI","SRH","SRH","15 runs","Dubai (DSC)","T20",null,null,"Total",{"$f":"SUM(J5:J13)","v":27}]
["SRH","MI","MI","7 wickets","Hyderabad (Deccan)","T20",null,null,null,null,null,null,null,null,"Latest match winner:","MI"]
["MI","SRH","MI","20 runs","Wankhede","T20",null,null,{"$f":"CONCATENATE(\"probability of\",\" \",J1,\" \",\"winning next 2 matches against\",\" \",J2,\":\")","v":"probability of MI winning next 2 matches against SRH:"},null,null,null,null,null,{"$f":"IF(P15=J1,M6*M6,M7*M6)","v":0.28444444444444444}]
["SRH","MI","MI","9 wickets","Hyderabad (Deccan)","T20",null,null,{"$f":"CONCATENATE(\"probability of\",\" \",J1,\" \",\"losing next 2 matches against\",\" \",J2,\":\")","v":"probability of MI losing next 2 matches against SRH:"},null,null,null,null,null,{"$f":"IF(P15=J1,N6*N7,N7*N7)","v":0.15555555555555556}]
["SRH","MI","SRH","7 wickets","Hyderabad (Deccan)","T20",null,null,{"$f":"CONCATENATE(\"probability of\",\" \",J1,\" \",\"winning 1 and losing 1 from the next two matches against\",\" \",J2,\":\")","v":"probability of MI winning 1 and losing 1 from the next two matches against SRH:"},null,null,null,null,null,{"$f":"IF(P15=J1,(N6*M7)+(M6*N6),(M7*N6)+(N7*M7))","v":0.56000000000000005}]
["MI","SRH","SRH","85 runs","Visakhapatnam","T20"]
["MI","SRH","MI","4 wickets","Wankhede","T20",null,null,{"$f":"CONCATENATE(\"probability of\",\" \",J2,\" \",\"winning next 2 matches against\",\" \",J1,\":\")","v":"probability of SRH winning next 2 matches against MI:"},null,null,null,null,null,{"$f":"IF(P15=J1,N6*N7,N7*N7)","v":0.15555555555555556}]
["SRH","MI","SRH","7 wickets","Hyderabad (Deccan)","T20",null,null,{"$f":"CONCATENATE(\"probability of\",\" \",J2,\" \",\"losing next 2 matches against\",\" \",J1,\":\")","v":"probability of SRH losing next 2 matches against MI:"},null,null,null,null,null,{"$f":"IF(P15=J1,M6*M6,M7*M6)","v":0.28444444444444444}]
["SRH","MI","SRH","1 wicket","Hyderabad (Deccan)","T20",null,null,{"$f":"CONCATENATE(\"probability of\",\" \",J2,\" \",\"winning 1 and losing 1 from the next two matches against\",\" \",J1,\":\")","v":"probability of SRH winning 1 and losing 1 from the next two matches against MI:"},null,null,null,null,null,{"$f":"O18","v":0.56000000000000005}]
["MI","SRH","SRH","31 runs","Wankhede","T20"]
["SRH","MI","MI","40 runs","Hyderabad (Deccan)","T20"]
["MI","SRH","MI",null,"Wankhede","T20","MI"]
["MI","SRH","MI","34 runs","Sharjah","T20"]
["SRH","MI","SRH","10 wickets","Sharjah","T20"]
["MI","SRH","MI","13 runs","Chennai","T20"]
["SRH","MI","MI","42 runs","Abu Dhabi","T20"]

{"sheet":"MI vs RCB","index":6,"n_rows":30,"n_cols":16,"rows_kept":30,"cut":false,"hidden":false,"merged":[[20,8,20,13],[21,8,21,13],[15,8,15,13],[19,8,19,13],[16,8,16,13],[17,8,17,13]]}
["Team 1","Team 2","Winner","Margin","Ground","Scorecard","Super over winner",null,"T1","MI"]
["MI","RCB","RCB","5 wickets","Wankhede","T20",null,null,"T2","RCB"]
["RCB","MI","MI","9 wickets","Bengaluru","T20"]
["RCB","MI","RCB","9 wickets","Johannesburg","T20",null,null,"Codes","Values"]
["RCB","MI","MI","16 runs","Port Elizabeth","T20",null,null,"t1t1",8,null,"MATRIX","MI","RCB"]
["MI","RCB","RCB","7 wickets","Brabourne","T20",null,null,"t1t2",9,null,"MI",{"$f":"J5/(J5+J6+J11)","v":0.47058823529411764},{"$f":"J6/(J5+J6+J11)","v":0.52941176470588236}]
["RCB","MI","MI","57 runs","Bengaluru","T20",null,null,"t2t1",9,null,"RCB",{"$f":"J7/(J7+J8+J12)","v":0.81818181818181823},{"$f":"J8/(J7+J8+J12)","v":0.18181818181818182}]
["MI","RCB","MI","35 runs","DY Patil","T20",null,null,"t2t2",2]
["RCB","MI","MI","9 wickets","Bengaluru","T20",null,null,"dt1",0]
["MI","RCB","RCB","43 runs","Chennai","T20",null,null,"dt2",0]
["MI","RCB","RCB","9 wickets","Wankhede","T20",null,null,"t1d",0]
["RCB","MI","MI","5 wickets","Bengaluru","T20",null,null,"t2d",0]
["RCB","MI","RCB","2 runs","Bengaluru","T20",null,null,"dd",0]
["MI","RCB","MI","58 runs","Wankhede","T20",null,null,"Total",{"$f":"SUM(J5:J13)","v":28}]
["RCB","MI","RCB","7 wickets","Dubai (DSC)","T20",null,null,null,null,null,null,null,null,"Latest match winner:","RCB"]
["MI","RCB","MI","19 runs","Wankhede","T20",null,null,{"$f":"CONCATENATE(\"probability of\",\" \",J1,\" \",\"winning next 2 matches against\",\" \",J2,\":\")","v":"probability of MI winning next 2 matches against RCB:"},null,null,null,null,null,{"$f":"IF(P15=J1,M6*M6,M7*M6)","v":0.38502673796791448}]
["RCB","MI","MI","18 runs","Bengaluru","T20",null,null,{"$f":"CONCATENATE(\"probability of\",\" \",J1,\" \",\"losing next 2 matches against\",\" \",J2,\":\")","v":"probability of MI losing next 2 matches against RCB:"},null,null,null,null,null,{"$f":"IF(P15=J1,N6*N7,N7*N7)","v":3.3057851239669422E-2}]
["MI","RCB","RCB","39 runs","Wankhede","T20",null,null,{"$f":"CONCATENATE(\"probability of\",\" \",J1,\" \",\"winning 1 and losing 1 from the next two matches against\",\" \",J2,\":\")","v":"probability of MI winning 1 and losing 1 from the next two matches against RCB:"},null,null,null,null,null,{"$f":"IF(P15=J1,(N6*M7)+(M6*N6),(M7*N6)+(N7*M7))","v":0.58191541079241615}]
["MI","RCB","MI","6 wickets","Wankhede","T20"]
["RCB","MI","MI","6 wickets","Bengaluru","T20",null,null,{"$f":"CONCATENATE(\"probability of\",\" \",J2,\" \",\"winning next 2 matches against\",\" \",J1,\":\")","v":"probability of RCB winning next 2 matches against MI:"},null,null,null,null,null,{"$f":"IF(P15=J1,N6*N7,N7*N7)","v":3.3057851239669422E-2}]
["RCB","MI","MI","4 wickets","Bengaluru","T20",null,null,{"$f":"CONCATENATE(\"probability of\",\" \",J2,\" \",\"losing next 2 matches against\",\" \",J1,\":\")","v":"probability of RCB losing next 2 matches against MI:"},null,null,null,null,null,{"$f":"IF(P15=J1,M6*M6,M7*M6)","v":0.38502673796791448}]
["MI","RCB","MI","5 wickets","Wankhede","T20",null,null,{"$f":"CONCATENATE(\"probability of\",\" \",J2,\" \",\"winning 1 and losing 1 from the next two matches against\",\" \",J1,\":\")","v":"probability of RCB winning 1 and losing 1 from the next two matches against MI:"},null,null,null,null,null,{"$f":"O18","v":0.58191541079241615}]
["MI","RCB","MI","46 runs","Wankhede","T20"]
["RCB","MI","RCB","14 runs","Bengaluru","T20"]
["RCB","MI","MI","6 runs","Bengaluru","T20"]
["MI","RCB","MI","5 wickets","Wankhede","T20"]
["RCB","MI","RCB",null,"Dubai (DSC)","T20","RCB"]
["MI","RCB","MI","5 wickets","Abu Dhabi","T20"]
["MI","RCB","RCB","2 wickets","Chennai","T20"]
["RCB","MI","RCB","54 runs","Dubai (DSC)","T20"]

{"sheet":"MI VS KKR","index":7,"n_rows":30,"n_cols":16,"rows_kept":30,"cut":false,"hidden":false,"merged":[[21,8,21,13],[15,8,15,13],[16,8,16,13],[17,8,17,13],[19,8,19,13],[20,8,20,13]]}
["Team 1","Team 2","Winner","Margin","Ground","Scorecard","Super over winner",null,"T1","MI"]
["KKR","MI","MI","7 wickets","Kolkata","T20",null,null,"T2","KKR"]
["MI","KKR","MI","8 wickets","Wankhede","T20"]
["KKR","MI","MI","92 runs","Port Elizabeth","T20",null,null,"Column1","Column2"]
["KKR","MI","MI","9 runs","East London","T20",null,null,"t1t1",17,null,null,"MI","KKR"]
["MI","KKR","MI","7 wickets","Brabourne","T20",null,null,"t1t2",5,null,"MI",{"$f":"J5/(J5+J6+J11)","v":0.77272727272727271},{"$f":"J6/(J5+J6+J11)","v":0.22727272727272727}]
["KKR","MI","KKR","9 wickets","Kolkata","T20",null,null,"t2t1",4,null,"KKR",{"$f":"J7/(J7+J8+J12)","v":0.66666666666666663},{"$f":"J8/(J7+J8+J12)","v":0.33333333333333331}]
["KKR","MI","MI","5 wickets","Kolkata","T20",null,null,"t2t2",2]
["MI","KKR","MI","4 wickets","Wankhede","T20",null,null,"dt1",0]
["KKR","MI","MI","27 runs","Kolkata","T20",null,null,"dt2",0]
["MI","KKR","KKR","32 runs","Wankhede","T20",null,null,"t1d",0]
["KKR","MI","MI","5 wickets","Kolkata","T20",null,null,"t2d",0]
["MI","KKR","MI","65 runs","Wankhede","T20",null,null,"dd",0]
["MI","KKR","KKR","41 runs","Abu Dhabi","T20",null,null,"Total",{"$f":"SUM(J5:J13)","v":28}]
["KKR","MI","KKR","6 wickets","Cuttack","T20",null,null,null,null,null,null,null,null,"Latest match winner:","KKR"]
["KKR","MI","KKR","7 wickets","Kolkata","T20",null,null,{"$f":"CONCATENATE(\"probability of\",\" \",J1,\" \",\"winning next 2 matches against\",\" \",J2,\":\")","v":"probability of MI winning next 2 matches against KKR:"},null,null,null,null,null,{"$f":"IF(P15=J1,M6*M6,M7*M6)","v":0.51515151515151514}]
["MI","KKR","MI","5 runs","Wankhede","T20",null,null,{"$f":"CONCATENATE(\"probability of\",\" \",J1,\" \",\"losing next 2 matches against\",\" \",J2,\":\")","v":"probability of MI losing next 2 matches against KKR:"},null,null,null,null,null,{"$f":"IF(P15=J1,N6*N7,N7*N7)","v":0.1111111111111111}]
["KKR","MI","MI","6 wickets","Kolkata","T20",null,null,{"$f":"CONCATENATE(\"probability of\",\" \",J1,\" \",\"winning 1 and losing 1 from the next two matches against\",\" \",J2,\":\")","v":"probability of MI winning 1 and losing 1 from the next two matches against KKR:"},null,null,null,null,null,{"$f":"IF(P15=J1,(N6*M7)+(M6*N6),(M7*N6)+(N7*M7))","v":0.3737373737373737}]
["MI","KKR","MI","6 wickets","Wankhede","T20"]
["MI","KKR","MI","4 wickets","Wankhede","T20",null,null,{"$f":"CONCATENATE(\"probability of\",\" \",J2,\" \",\"winning next 2 matches against\",\" \",J1,\":\")","v":"probability of KKR winning next 2 matches against MI:"},null,null,null,null,null,{"$f":"IF(P15=J1,N6*N7,N7*N7)","v":0.1111111111111111}]
["KKR","MI","MI","9 runs","Kolkata","T20",null,null,{"$f":"CONCATENATE(\"probability of\",\" \",J2,\" \",\"losing next 2 matches against\",\" \",J1,\":\")","v":"probability of KKR losing next 2 matches against MI:"},null,null,null,null,null,{"$f":"IF(P15=J1,M6*M6,M7*M6)","v":0.51515151515151514}]
["KKR","MI","MI","6 wickets","Bengaluru","T20",null,null,{"$f":"CONCATENATE(\"probability of\",\" \",J2,\" \",\"winning 1 and losing 1 from the next two matches against\",\" \",J1,\":\")","v":"probability of KKR winning 1 and losing 1 from the next two matches against MI:"},null,null,null,null,null,{"$f":"O18","v":0.3737373737373737}]
["MI","KKR","MI","13 runs","Wankhede","T20"]
["KKR","MI","MI","102 runs","Kolkata","T20"]
["KKR","MI","KKR","34 runs","Kolkata","T20"]
["MI","KKR","MI","9 wickets","Wankhede","T20"]
["KKR","MI","MI","49 runs","Abu Dhabi","T20"]
["MI","KKR","MI","8 wickets","Abu Dhabi","T20"]
["KKR","MI","MI","10 runs","Chennai","T20"]
["MI","KKR","KKR","7 wickets","Abu Dhabi","T20"]

{"sheet":"MI vs PBKS","index":8,"n_rows":29,"n_cols":16,"rows_kept":29,"cut":false,"hidden":false,"merged":[[21,8,21,13],[15,8,15,13],[16,8,16,13],[17,8,17,13],[19,8,19,13],[20,8,20,13]]}
["Team 1","Team 2","Winner","Margin","Ground","Scorecard","Super over winner",null,"T1","MI"]
["PBKS","MI","PBKS","66 runs","Mohali","T20",null,null,"T2","PBKS"]
["MI","PBKS","PBKS","1 run","Wankhede","T20"]
["PBKS","MI","PBKS","3 runs","Durban","T20",null,null,"Codes","Values"]
["PBKS","MI","MI","8 wickets","Centurion","T20",null,null,"t1t1",6,null,"MATRIX","MI","PBKS"]
["MI","PBKS","MI","4 wickets","Brabourne","T20",null,null,"t1t2",8,null,"MI",{"$f":"J5/(J5+J6+J11)","v":0.42857142857142855},{"$f":"J6/(J5+J6+J11)","v":0.5714285714285714}]
["PBKS","MI","PBKS","6 wickets","Mohali","T20",null,null,"t2t1",9,null,"PBKS",{"$f":"J7/(J7+J8+J12)","v":0.69230769230769229},{"$f":"J8/(J7+J8+J12)","v":0.30769230769230771}]
["MI","PBKS","MI","23 runs","Wankhede","T20",null,null,"t2t2",4]
["PBKS","MI","PBKS","76 runs","Mohali","T20",null,null,"dt1",0]
["MI","PBKS","PBKS","6 wickets","Wankhede","T20",null,null,"dt2",0]
["PBKS","MI","MI","4 wickets","Mohali","T20",null,null,"t1d",0]
["MI","PBKS","MI","4 runs","Wankhede","T20",null,null,"t2d",0]
["PBKS","MI","PBKS","50 runs","Dharamsala","T20",null,null,"dd",0]
["MI","PBKS","MI","5 wickets","Wankhede","T20",null,null,"Total",{"$f":"SUM(J5:J13)","v":27}]
["PBKS","MI","MI","7 wickets","Mohali","T20",null,null,null,null,null,null,null,null,"Latest match winner:","MI"]
["MI","PBKS","PBKS","18 runs","Wankhede","T20",null,null,{"$f":"CONCATENATE(\"probability of\",\" \",J1,\" \",\"winning next 2 matches against\",\" \",J2,\":\")","v":"probability of MI winning next 2 matches against PBKS:"},null,null,null,null,null,{"$f":"IF(P15=J1,M6*M6,M7*M6)","v":0.18367346938775508}]
["PBKS","MI","MI","23 runs","Mohali","T20",null,null,{"$f":"CONCATENATE(\"probability of\",\" \",J1,\" \",\"losing next 2 matches against\",\" \",J2,\":\")","v":"probability of MI losing next 2 matches against PBKS:"},null,null,null,null,null,{"$f":"IF(P15=J1,N6*N7,N7*N7)","v":0.17582417582417584}]
["PBKS","MI","MI","25 runs","Mohali","T20",null,null,{"$f":"CONCATENATE(\"probability of\",\" \",J1,\" \",\"winning 1 and losing 1 from the next two matches against\",\" \",J2,\":\")","v":"probability of MI winning 1 and losing 1 from the next two matches against PBKS:"},null,null,null,null,null,{"$f":"IF(P15=J1,(N6*M7)+(M6*N6),(M7*N6)+(N7*M7))","v":0.64050235478806905}]
["MI","PBKS","PBKS","7 wickets","Visakhapatnam","T20"]
["PBKS","MI","MI","8 wickets","Indore","T20",null,null,{"$f":"CONCATENATE(\"probability of\",\" \",J2,\" \",\"winning next 2 matches against\",\" \",J1,\":\")","v":"probability of PBKS winning next 2 matches against MI:"},null,null,null,null,null,{"$f":"IF(P15=J1,N6*N7,N7*N7)","v":0.17582417582417584}]
["MI","PBKS","PBKS","7 runs","Wankhede","T20",null,null,{"$f":"CONCATENATE(\"probability of\",\" \",J2,\" \",\"losing next 2 matches against\",\" \",J1,\":\")","v":"probability of PBKS losing next 2 matches against MI:"},null,null,null,null,null,{"$f":"IF(P15=J1,M6*M6,M7*M6)","v":0.18367346938775508}]
["PBKS","MI","MI","6 wickets","Indore","T20",null,null,{"$f":"CONCATENATE(\"probability of\",\" \",J2,\" \",\"winning 1 and losing 1 from the next two matches against\",\" \",J1,\":\")","v":"probability of PBKS winning 1 and losing 1 from the next two matches against MI:"},null,null,null,null,null,{"$f":"O18","v":0.64050235478806905}]
["MI","PBKS","MI","3 runs","Wankhede","T20"]
["PBKS","MI","PBKS","8 wickets","Mohali","T20"]
["MI","PBKS","MI","3 wickets","Wankhede","T20"]
["PBKS","MI","MI","48 runs","Abu Dhabi","T20"]
["MI","PBKS","PBKS",null,"Dubai (DSC)","T20","PBKS"]
["PBKS","MI","PBKS","9 wickets","Chennai","T20"]
["MI","PBKS","MI","6 wickets","Abu Dhabi","T20"]

{"sheet":"RCB vs CSK","index":9,"n_rows":29,"n_cols":16,"rows_kept":29,"cut":false,"hidden":false,"merged":[[21,8,21,13],[15,8,15,13],[16,8,16,13],[17,8,17,13],[19,8,19,13],[20,8,20,13]]}
["Team 1","Team 2","Winner","Margin","Ground","Scorecard",null,null,"T1","RCB"]
["RCB","CSK","CSK","13 runs","Bengaluru","T20",null,null,"T2","CSK"]
["CSK","RCB","RCB","14 runs","Chennai","T20"]
["RCB","CSK","CSK","92 runs","Port Elizabeth","T20",null,null,"Codes","Values"]
["RCB","CSK","RCB","2 wickets","Durban","T20",null,null,"t1t1",4,null,"MATRIX","RCB","CSK","D"]
["CSK","RCB","RCB","6 wickets","Johannesburg","T20",null,null,"t1t2",5,null,"RCB",{"$f":"J5/(J5+J6+J11)","v":0.44444444444444442},{"$f":"J6/(J5+J6+J11)","v":0.55555555555555558},{"$f":"J11/(J11+J5+J6)","v":0}]
["RCB","CSK","RCB","36 runs","Bengaluru","T20",null,null,"t2t1",5,null,"CSK",{"$f":"J7/(J7+J8+J12)","v":0.29411764705882354},{"$f":"J8/(J7+J8+J12)","v":0.6470588235294118},{"$f":"J12/(J12+J7+J8)","v":5.8823529411764705E-2}]
["CSK","RCB","CSK","5 wickets","Chennai","T20",null,null,"t2t2",11,null,"D",{"$f":"J9/(J9+J10+J13)","v":0},{"$f":"J10/(J9+J10+J13)","v":1},{"$f":"J13/(J13+J9+J10)","v":0}]
["CSK","RCB","CSK","21 runs","Chennai","T20",null,null,"dt1",0]
["RCB","CSK","RCB","8 wickets","Bengaluru","T20",null,null,"dt2",1]
["CSK","RCB","CSK","6 wickets","Wankhede","T20",null,null,"t1d",0]
["CSK","RCB","CSK","58 runs","Chennai","T20",null,null,"t2d",1]
["CSK","RCB","CSK","5 wickets","Chennai","T20",null,null,"dd",0]
["RCB","CSK","D",null,"Bengaluru","T20",null,null,"Total",{"$f":"SUM(J5:J13)","v":27}]
["CSK","RCB","CSK","4 wickets","Chennai","T20",null,null,null,null,null,null,null,null,"Latest match winner:","CSK"]
["RCB","CSK","RCB","24 runs","Bengaluru","T20",null,null,{"$f":"CONCATENATE(\"probability of\",\" \",J1,\" \",\"winning next 2 matches against\",\" \",J2,\":\")","v":"probability of RCB winning next 2 matches against CSK:"},null,null,null,null,null,{"$f":"IF(P15=J1,M6*M6,M7*M6)","v":0.13071895424836602}]
["CSK","RCB","RCB","5 wickets","Ranchi","T20",null,null,{"$f":"CONCATENATE(\"probability of\",\" \",J1,\" \",\"losing next 2 matches against\",\" \",J2,\":\")","v":"probability of RCB losing next 2 matches against CSK:"},null,null,null,null,null,{"$f":"IF(P15=J1,N6*N7,N7*N7)","v":0.41868512110726647}]
["RCB","CSK","CSK","8 wickets","Bengaluru","T20",null,null,{"$f":"CONCATENATE(\"probability of\",\" \",J1,\" \",\"winning 1 and losing 1 from the next two matches against\",\" \",J2,\":\")","v":"probability of RCB winning 1 and losing 1 from the next two matches against CSK:"},null,null,null,null,null,{"$f":"IF(P15=J1,(N6*M7)+(M6*N6),(M7*N6)+(N7*M7))","v":0.35371011149557863}]
["RCB","CSK","CSK","27 runs","Bengaluru","T20"]
["CSK","RCB","CSK","24 runs","Chennai","T20",null,null,{"$f":"CONCATENATE(\"probability of\",\" \",J2,\" \",\"winning next 2 matches against\",\" \",J1,\":\")","v":"probability of CSK winning next 2 matches against RCB:"},null,null,null,null,null,{"$f":"IF(P15=J1,N6*N7,N7*N7)","v":0.41868512110726647}]
["CSK","RCB","CSK","3 wickets","Ranchi","T20",null,null,{"$f":"CONCATENATE(\"probability of\",\" \",J2,\" \",\"losing next 2 matches against\",\" \",J1,\":\")","v":"probability of CSK losing next 2 matches against RCB:"},null,null,null,null,null,{"$f":"IF(P15=J1,M6*M6,M7*M6)","v":0.13071895424836602}]
["RCB","CSK","CSK","5 wickets","Bengaluru","T20",null,null,{"$f":"CONCATENATE(\"probability of\",\" \",J2,\" \",\"winning 1 and losing 1 from the next two matches against\",\" \",J1,\":\")","v":"probability of CSK winning 1 and losing 1 from the next two matches against RCB:"},null,null,null,null,null,{"$f":"O18","v":0.35371011149557863}]
["CSK","RCB","CSK","6 wickets","Pune","T20"]
["CSK","RCB","CSK","7 wickets","Chennai","T20"]
["RCB","CSK","RCB","1 run","Bengaluru","T20"]
["CSK","RCB","RCB","37 runs","Dubai (DSC)","T20"]
["RCB","CSK","CSK","8 wickets","Dubai (DSC)","T20"]
["CSK","RCB","CSK","69 runs","Wankhede","T20"]
["RCB","CSK","CSK","6 wickets","Sharjah","T20"]

{"sheet":"RCB vs RR","index":10,"n_rows":26,"n_cols":16,"rows_kept":26,"cut":false,"hidden":false,"merged":[[21,8,21,13],[15,8,15,13],[16,8,16,13],[17,8,17,13],[19,8,19,13],[20,8,20,13]]}
["Team 1","Team 2","Winner","Margin","Ground","Scorecard","Super over winner",null,"T1","RCB"]
["RCB","RR","RR","7 wickets","Bengaluru","T20",null,null,"T2","RR"]
["RR","RCB","RR","65 runs","Jaipur","T20"]
["RCB","RR","RCB","75 runs","Cape Town","T20",null,null,"Column1","Column2"]
["RCB","RR","RR","7 wickets","Centurion","T20",null,null,"t1t1",5,null,"MATRIX","RCB","RR","D"]
["RCB","RR","RCB","10 wickets","Bengaluru","T20",null,null,"t1t2",4,null,"RCB",{"$f":"J5/(J5+J6+J11)","v":0.45454545454545453},{"$f":"J6/(J5+J6+J11)","v":0.36363636363636365},{"$f":"J11/(J11+J5+J6)","v":0.18181818181818182}]
["RR","RCB","RCB","5 wickets","Jaipur","T20",null,null,"t2t1",4,null,"RR",{"$f":"J7/(J7+J8+J12)","v":0.4},{"$f":"J8/(J7+J8+J12)","v":0.5},{"$f":"J12/(J12+J7+J8)","v":0.1}]
["RCB","RR","D",null,"Bengaluru","T20",null,null,"t2t2",5,null,"D",{"$f":"J9/(J9+J10+J13)","v":1},{"$f":"J10/(J9+J10+J13)","v":0},{"$f":"J13/(J13+J9+J10)","v":0}]
["RR","RCB","RCB","9 wickets","Jaipur","T20",null,null,"dt1",3]
["RCB","RR","RR","59 runs","Bengaluru","T20",null,null,"dt2",0]
["RR","RCB","RCB","46 runs","Jaipur","T20",null,null,"t1d",2]
["RCB","RR","RCB","7 wickets","Bengaluru","T20",null,null,"t2d",1]
["RR","RCB","RR","4 wickets","Jaipur","T20",null,null,"dd",0]
["RR","RCB","RR","6 wickets","Abu Dhabi","T20",null,null,"Total",{"$f":"SUM(J5:J13)","v":24}]
["RCB","RR","RR","5 wickets","Bengaluru","T20",null,null,null,null,null,null,null,null,"Latest match winner:","RCB"]
["RR","RCB","RCB","9 wickets","Ahmedabad","T20",null,null,{"$f":"CONCATENATE(\"probability of\",\" \",J1,\" \",\"winning next 2 matches against\",\" \",J2,\":\")","v":"probability of RCB winning next 2 matches against RR:"},null,null,null,null,null,{"$f":"IF(P15=J1,M6*M6,M7*M6)","v":0.20661157024793386}]
["RCB","RR","D",null,"Bengaluru","T20",null,null,{"$f":"CONCATENATE(\"probability of\",\" \",J1,\" \",\"losing next 2 matches against\",\" \",J2,\":\")","v":"probability of RCB losing next 2 matches against RR:"},null,null,null,null,null,{"$f":"IF(P15=J1,N6*N7,N7*N7)","v":0.18181818181818182}]
["RR","RCB","RCB","71 runs","Pune","T20",null,null,{"$f":"CONCATENATE(\"probability of\",\" \",J1,\" \",\"winning 1 and losing 1 from the next two matches against\",\" \",J2,\":\")","v":"probability of RCB winning 1 and losing 1 from the next two matches against RR:"},null,null,null,null,null,{"$f":"IF(P15=J1,(N6*M7)+(M6*N6),(M7*N6)+(N7*M7))","v":0.31074380165289262}]
["RCB","RR","RR","19 runs","Bengaluru","T20"]
["RR","RCB","RR","30 runs","Jaipur","T20",null,null,{"$f":"CONCATENATE(\"probability of\",\" \",J2,\" \",\"winning next 2 matches against\",\" \",J1,\":\")","v":"probability of RR winning next 2 matches against RCB:"},null,null,null,null,null,{"$f":"IF(P15=J1,N6*N7,N7*N7)","v":0.18181818181818182}]
["RR","RCB","RR","7 wickets","Jaipur","T20",null,null,{"$f":"CONCATENATE(\"probability of\",\" \",J2,\" \",\"losing next 2 matches against\",\" \",J1,\":\")","v":"probability of RR losing next 2 matches against RCB:"},null,null,null,null,null,{"$f":"IF(P15=J1,M6*M6,M7*M6)","v":0.20661157024793386}]
["RCB","RR","D",null,"Bengaluru","T20",null,null,{"$f":"CONCATENATE(\"probability of\",\" \",J2,\" \",\"winning 1 and losing 1 from the next two matches against\",\" \",J1,\":\")","v":"probability of RR winning 1 and losing 1 from the next two matches against RCB:"},null,null,null,null,null,{"$f":"O18","v":0.31074380165289262}]
["RCB","RR","RCB","8 wickets","Abu Dhabi","T20"]
["RR","RCB","RCB","7 wickets","Dubai (DSC)","T20"]
["RCB","RR","RCB","10 wickets","Wankhede","T20"]
["RR","RCB","RCB","7 wickets","Dubai (DSC)","T20"]

{"sheet":"RCB vs SRH","index":11,"n_rows":32,"n_cols":16,"rows_kept":32,"cut":false,"hidden":false,"merged":[[21,8,21,13],[15,8,15,13],[16,8,16,13],[17,8,17,13],[19,8,19,13],[20,8,20,13]]}
["Team 1","Team 2","Winner","Margin","Ground","Scorecard","Super over winner",null,"T1","RCB"]
["RCB","SRH","RCB","3 runs","Bengaluru","T20",null,null,"T2","SRH"]
["SRH","RCB","RCB","5 wickets","Hyderabad (Deccan)","T20"]
["RCB","SRH","SRH","24 runs","Cape Town","T20",null,null,"Codes","Values"]
["RCB","SRH","RCB","12 runs","Centurion","T20",null,null,"t1t1",4,null,"MATRIX","RCB","SRH","D"]
["SRH","RCB","SRH","6 runs","Johannesburg","T20",null,null,"t1t2",9,null,"RCB",{"$f":"J5/(J5+J6+J11)","v":0.30769230769230771},{"$f":"J6/(J5+J6+J11)","v":0.69230769230769229},{"$f":"J11/(J11+J5+J6)","v":0}]
["RCB","SRH","SRH","7 wickets","Bengaluru","T20",null,null,"t2t1",8,null,"SRH",{"$f":"J7/(J7+J8+J12)","v":0.5},{"$f":"J8/(J7+J8+J12)","v":0.4375},{"$f":"J12/(J12+J7+J8)","v":6.25E-2}]
["SRH","RCB","SRH","13 runs","Nagpur","T20",null,null,"t2t2",7,null,"D",{"$f":"J9/(J9+J10+J13)","v":0},{"$f":"J10/(J9+J10+J13)","v":1},{"$f":"J13/(J13+J9+J10)","v":0}]
["SRH","RCB","RCB","9 wickets","DY Patil","T20",null,null,"dt1",0]
["SRH","RCB","SRH","33 runs","Hyderabad (Deccan)","T20",null,null,"dt2",1]
["RCB","SRH","RCB","5 wickets","Bengaluru","T20",null,null,"t1d",0]
["SRH","RCB","SRH","9 runs","Hyderabad (Deccan)","T20",null,null,"t2d",1]
["SRH","RCB","SRH",null,"Hyderabad (Deccan)","T20","SRH",null,"dd",0]
["RCB","SRH","RCB","7 wickets","Bengaluru","T20",null,null,"Total",{"$f":"SUM(J5:J13)","v":30}]
["RCB","SRH","RCB","4 wickets","Bengaluru","T20",null,null,null,null,null,null,null,null,"Latest match winner:","SRH"]
["SRH","RCB","SRH","7 wickets","Hyderabad (Deccan)","T20",null,null,{"$f":"CONCATENATE(\"probability of\",\" \",J1,\" \",\"winning next 2 matches against\",\" \",J2,\":\")","v":"probability of RCB winning next 2 matches against SRH:"},null,null,null,null,null,{"$f":"IF(P15=J1,M6*M6,M7*M6)","v":0.15384615384615385}]
["RCB","SRH","SRH","8 wickets","Bengaluru","T20",null,null,{"$f":"CONCATENATE(\"probability of\",\" \",J1,\" \",\"losing next 2 matches against\",\" \",J2,\":\")","v":"probability of RCB losing next 2 matches against SRH:"},null,null,null,null,null,{"$f":"IF(P15=J1,N6*N7,N7*N7)","v":0.19140625}]
["SRH","RCB","RCB","6 wickets","Hyderabad (Deccan)","T20",null,null,{"$f":"CONCATENATE(\"probability of\",\" \",J1,\" \",\"winning 1 and losing 1 from the next two matches against\",\" \",J2,\":\")","v":"probability of RCB winning 1 and losing 1 from the next two matches against SRH:"},null,null,null,null,null,{"$f":"IF(P15=J1,(N6*M7)+(M6*N6),(M7*N6)+(N7*M7))","v":0.56490384615384615}]
["RCB","SRH","RCB","45 runs","Bengaluru","T20"]
["SRH","RCB","SRH","15 runs","Hyderabad (Deccan)","T20",null,null,{"$f":"CONCATENATE(\"probability of\",\" \",J2,\" \",\"winning next 2 matches against\",\" \",J1,\":\")","v":"probability of SRH winning next 2 matches against RCB:"},null,null,null,null,null,{"$f":"IF(P15=J1,N6*N7,N7*N7)","v":0.19140625}]
["RCB","SRH","SRH","8 runs","Bengaluru","T20",null,null,{"$f":"CONCATENATE(\"probability of\",\" \",J2,\" \",\"losing next 2 matches against\",\" \",J1,\":\")","v":"probability of SRH losing next 2 matches against RCB:"},null,null,null,null,null,{"$f":"IF(P15=J1,M6*M6,M7*M6)","v":0.15384615384615385}]
["SRH","RCB","SRH","35 runs","Hyderabad (Deccan)","T20",null,null,{"$f":"CONCATENATE(\"probability of\",\" \",J2,\" \",\"winning 1 and losing 1 from the next two matches against\",\" \",J1,\":\")","v":"probability of SRH winning 1 and losing 1 from the next two matches against RCB:"},null,null,null,null,null,{"$f":"O18","v":0.56490384615384615}]
["RCB","SRH","D",null,"Bengaluru","T20"]
["SRH","RCB","SRH","5 runs","Hyderabad (Deccan)","T20"]
["RCB","SRH","RCB","14 runs","Bengaluru","T20"]
["SRH","RCB","SRH","118 runs","Hyderabad (Deccan)","T20"]
["RCB","SRH","RCB","4 wickets","Bengaluru","T20"]
["SRH","RCB","RCB","10 runs","Dubai (DSC)","T20"]
["RCB","SRH","SRH","5 wickets","Sharjah","T20"]
["RCB","SRH","SRH","6 wickets","Abu Dhabi","T20"]
["SRH","RCB","RCB","6 runs","Chennai","T20"]
["RCB","SRH","SRH","4 runs","Abu Dhabi","T20"]

{"sheet":"RCB vs PBKS","index":12,"n_rows":29,"n_cols":16,"rows_kept":29,"cut":false,"hidden":false,"merged":[[21,8,21,13],[15,8,15,13],[16,8,16,13],[17,8,17,13],[19,8,19,13],[20,8,20,13]]}
["Team 1","Team 2","Winner","Margin","Ground","Scorecard","Super over winner",null,"T1","RCB"]
["RCB","PBKS","PBKS","6 wickets","Bengaluru","T20",null,null,"T2","PBKS"]
["PBKS","RCB","PBKS","9 wickets","Mohali","T20"]
["RCB","PBKS","PBKS","7 wickets","Durban","T20",null,null,"Codes","Values"]
["RCB","PBKS","RCB","8 runs","Durban","T20",null,null,"t1t1",7,null,"MATRIX","RCB","PBKS"]
["RCB","PBKS","RCB","8 wickets","Bengaluru","T20",null,null,"t1t2",5,null,"RCB",{"$f":"J5/(J5+J6+J11)","v":0.58333333333333337},{"$f":"J6/(J5+J6+J11)","v":0.41666666666666669}]
["PBKS","RCB","RCB","6 wickets","Mohali","T20",null,null,"t2t1",6,null,"PBKS",{"$f":"J7/(J7+J8+J12)","v":0.4},{"$f":"J8/(J7+J8+J12)","v":0.6}]
["RCB","PBKS","RCB","85 runs","Bengaluru","T20",null,null,"t2t2",9]
["PBKS","RCB","PBKS","111 runs","Dharamsala","T20",null,null,"dt1",0]
["PBKS","RCB","RCB","5 wickets","Mohali","T20",null,null,"dt2",0]
["RCB","PBKS","PBKS","4 wickets","Bengaluru","T20",null,null,"t1d",0]
["PBKS","RCB","PBKS","6 wickets","Mohali","T20",null,null,"t2d",0]
["RCB","PBKS","PBKS","7 wickets","Bengaluru","T20",null,null,"dd",0]
["PBKS","RCB","PBKS","5 wickets","Dubai (DSC)","T20",null,null,"Total",{"$f":"SUM(J5:J13)","v":27}]
["RCB","PBKS","PBKS","32 runs","Bengaluru","T20",null,null,null,null,null,null,null,null,"Latest match winner:","RCB"]
["RCB","PBKS","RCB","138 runs","Bengaluru","T20",null,null,{"$f":"CONCATENATE(\"probability of\",\" \",J1,\" \",\"winning next 2 matches against\",\" \",J2,\":\")","v":"probability of RCB winning next 2 matches against PBKS:"},null,null,null,null,null,{"$f":"IF(P15=J1,M6*M6,M7*M6)","v":0.34027777777777785}]
["PBKS","RCB","PBKS","22 runs","Mohali","T20",null,null,{"$f":"CONCATENATE(\"probability of\",\" \",J1,\" \",\"losing next 2 matches against\",\" \",J2,\":\")","v":"probability of RCB losing next 2 matches against PBKS:"},null,null,null,null,null,{"$f":"IF(P15=J1,N6*N7,N7*N7)","v":0.25}]
["PBKS","RCB","RCB","1 run","Mohali","T20",null,null,{"$f":"CONCATENATE(\"probability of\",\" \",J1,\" \",\"winning 1 and losing 1 from the next two matches against\",\" \",J2,\":\")","v":"probability of RCB winning 1 and losing 1 from the next two matches against PBKS:"},null,null,null,null,null,{"$f":"IF(P15=J1,(N6*M7)+(M6*N6),(M7*N6)+(N7*M7))","v":0.40972222222222227}]
["RCB","PBKS","RCB","82 runs","Bengaluru","T20"]
["PBKS","RCB","PBKS","8 wickets","Indore","T20",null,null,{"$f":"CONCATENATE(\"probability of\",\" \",J2,\" \",\"winning next 2 matches against\",\" \",J1,\":\")","v":"probability of PBKS winning next 2 matches against RCB:"},null,null,null,null,null,{"$f":"IF(P15=J1,N6*N7,N7*N7)","v":0.25}]
["RCB","PBKS","PBKS","19 runs","Bengaluru","T20",null,null,{"$f":"CONCATENATE(\"probability of\",\" \",J2,\" \",\"losing next 2 matches against\",\" \",J1,\":\")","v":"probability of PBKS losing next 2 matches against RCB:"},null,null,null,null,null,{"$f":"IF(P15=J1,M6*M6,M7*M6)","v":0.34027777777777785}]
["RCB","PBKS","RCB","4 wickets","Bengaluru","T20",null,null,{"$f":"CONCATENATE(\"probability of\",\" \",J2,\" \",\"winning 1 and losing 1 from the next two matches against\",\" \",J1,\":\")","v":"probability of PBKS winning 1 and losing 1 from the next two matches against RCB:"},null,null,null,null,null,{"$f":"O18","v":0.40972222222222227}]
["PBKS","RCB","RCB","10 wickets","Indore","T20"]
["PBKS","RCB","RCB","8 wickets","Mohali","T20"]
["RCB","PBKS","RCB","17 runs","Bengaluru","T20"]
["PBKS","RCB","PBKS","97 runs","Dubai (DSC)","T20"]
["RCB","PBKS","PBKS","8 wickets","Sharjah","T20"]
["PBKS","RCB","PBKS","34 runs","Ahmedabad","T20"]
["RCB","PBKS","RCB","6 runs","Sharjah","T20"]

{"sheet":"RCB vs KKR","index":13,"n_rows":30,"n_cols":16,"rows_kept":30,"cut":false,"hidden":false,"merged":[[21,8,21,13],[15,8,15,13],[16,8,16,13],[17,8,17,13],[19,8,19,13],[20,8,20,13]]}
["Team 1","Team 2","Winner","Margin","Ground","Scorecard","Super over winner",null,"T1","RCB"]
["RCB","KKR","KKR","140 runs","Bengaluru","T20",null,null,"T2","KKR"]
["KKR","RCB","KKR","5 runs","Kolkata","T20"]
["RCB","KKR","RCB","5 wickets","Durban","T20",null,null,"Codes","Values"]
["RCB","KKR","RCB","6 wickets","Centurion","T20",null,null,"t1t1",7,null,"MATRIX","RCB","KKR"]
["KKR","RCB","KKR","7 wickets","Kolkata","T20",null,null,"t1t2",6,null,"RCB",{"$f":"J5/(J5+J6+J11)","v":0.53846153846153844},{"$f":"J6/(J5+J6+J11)","v":0.46153846153846156}]
["RCB","KKR","RCB","7 wickets","Bengaluru","T20",null,null,"t2t1",6,null,"KKR",{"$f":"J7/(J7+J8+J12)","v":0.4},{"$f":"J8/(J7+J8+J12)","v":0.6}]
["KKR","RCB","RCB","9 wickets","Kolkata","T20",null,null,"t2t2",9]
["RCB","KKR","RCB","4 wickets","Bengaluru","T20",null,null,"dt1",0]
["RCB","KKR","KKR","42 runs","Bengaluru","T20",null,null,"dt2",0]
["KKR","RCB","KKR","47 runs","Kolkata","T20",null,null,"t1d",0]
["RCB","KKR","RCB","8 wickets","Bengaluru","T20",null,null,"t2d",0]
["KKR","RCB","KKR","5 wickets","Ranchi","T20",null,null,"dd",0]
["RCB","KKR","KKR","2 runs","Sharjah","T20",null,null,"Total",{"$f":"SUM(J5:J13)","v":28}]
["KKR","RCB","KKR","30 runs","Kolkata","T20",null,null,null,null,null,null,null,null,"Latest match winner:","KKR"]
["KKR","RCB","RCB","3 wickets","Kolkata","T20",null,null,{"$f":"CONCATENATE(\"probability of\",\" \",J1,\" \",\"winning next 2 matches against\",\" \",J2,\":\")","v":"probability of RCB winning next 2 matches against KKR:"},null,null,null,null,null,{"$f":"IF(P15=J1,M6*M6,M7*M6)","v":0.2153846153846154}]
["RCB","KKR","RCB","7 wickets","Bengaluru","T20",null,null,{"$f":"CONCATENATE(\"probability of\",\" \",J1,\" \",\"losing next 2 matches against\",\" \",J2,\":\")","v":"probability of RCB losing next 2 matches against KKR:"},null,null,null,null,null,{"$f":"IF(P15=J1,N6*N7,N7*N7)","v":0.36}]
["RCB","KKR","KKR","5 wickets","Bengaluru","T20",null,null,{"$f":"CONCATENATE(\"probability of\",\" \",J1,\" \",\"winning 1 and losing 1 from the next two matches against\",\" \",J2,\":\")","v":"probability of RCB winning 1 and losing 1 from the next two matches against KKR:"},null,null,null,null,null,{"$f":"IF(P15=J1,(N6*M7)+(M6*N6),(M7*N6)+(N7*M7))","v":0.42461538461538462}]
["KKR","RCB","RCB","9 wickets","Kolkata","T20"]
["KKR","RCB","KKR","82 runs","Kolkata","T20",null,null,{"$f":"CONCATENATE(\"probability of\",\" \",J2,\" \",\"winning next 2 matches against\",\" \",J1,\":\")","v":"probability of KKR winning next 2 matches against RCB:"},null,null,null,null,null,{"$f":"IF(P15=J1,N6*N7,N7*N7)","v":0.36}]
["RCB","KKR","KKR","6 wickets","Bengaluru","T20",null,null,{"$f":"CONCATENATE(\"probability of\",\" \",J2,\" \",\"losing next 2 matches against\",\" \",J1,\":\")","v":"probability of KKR losing next 2 matches against RCB:"},null,null,null,null,null,{"$f":"IF(P15=J1,M6*M6,M7*M6)","v":0.2153846153846154}]
["KKR","RCB","KKR","4 wickets","Kolkata","T20",null,null,{"$f":"CONCATENATE(\"probability of\",\" \",J2,\" \",\"winning 1 and losing 1 from the next two matches against\",\" \",J1,\":\")","v":"probability of KKR winning 1 and losing 1 from the next two matches against RCB:"},null,null,null,null,null,{"$f":"O18","v":0.42461538461538462}]
["RCB","KKR","KKR","6 wickets","Bengaluru","T20"]
["RCB","KKR","KKR","5 wickets","Bengaluru","T20"]
["KKR","RCB","RCB","10 runs","Kolkata","T20"]
["RCB","KKR","RCB","82 runs","Sharjah","T20"]
["KKR","RCB","RCB","8 wickets","Abu Dhabi","T20"]
["RCB","KKR","RCB","38 runs","Chennai","T20"]
["KKR","RCB","KKR","9 wickets","Abu Dhabi","T20"]
["RCB","KKR","KKR","4 wickets","Sharjah","T20"]

{"sheet":"RCB vs DC","index":14,"n_rows":28,"n_cols":16,"rows_kept":28,"cut":false,"hidden":false,"merged":[[21,8,21,13],[15,8,15,13],[16,8,16,13],[17,8,17,13],[19,8,19,13],[20,8,20,13]]}
["Team 1","Team 2","Winner","Margin","Ground","Scorecard","Super over winner",null,"T1","RCB"]
["DC","RCB","DC","10 runs","Delhi","T20",null,null,"T2","DC"]
["RCB","DC","DC","5 wickets","Bengaluru","T20"]
["RCB","DC","DC","6 wickets","Port Elizabeth","T20",null,null,"Codes","Values"]
["RCB","DC","RCB","7 wickets","Johannesburg","T20",null,null,"t1t1",12,null,"MATRIX","RCB","DC","D"]
["RCB","DC","DC","17 runs","Bengaluru","T20",null,null,"t1t2",2,null,"RCB",{"$f":"J5/(J5+J6+J11)","v":0.8},{"$f":"J6/(J5+J6+J11)","v":0.13333333333333333},{"$f":"J11/(J11+J5+J6)","v":6.6666666666666666E-2}]
["DC","RCB","DC","37 runs","Delhi","T20",null,null,"t2t1",4,null,"DC",{"$f":"J7/(J7+J8+J12)","v":0.4},{"$f":"J8/(J7+J8+J12)","v":0.6},{"$f":"J12/(J12+J7+J8)","v":0}]
["DC","RCB","RCB","3 wickets","Delhi","T20",null,null,"t2t2",6,null,"D",{"$f":"J9/(J9+J10+J13)","v":0},{"$f":"J10/(J9+J10+J13)","v":1},{"$f":"J13/(J13+J9+J10)","v":0}]
["RCB","DC","RCB","20 runs","Bengaluru","T20",null,null,"dt1",0]
["DC","RCB","RCB","21 runs","Delhi","T20",null,null,"dt2",1]
["RCB","DC","RCB",null,"Bengaluru","T20","RCB",null,"t1d",1]
["DC","RCB","RCB","4 runs","Delhi","T20",null,null,"t2d",0]
["DC","RCB","RCB","8 wickets","Sharjah","T20",null,null,"dd",0]
["RCB","DC","RCB","16 runs","Bengaluru","T20",null,null,"Total",{"$f":"SUM(J5:J13)","v":26}]
["DC","RCB","RCB","10 wickets","Delhi","T20",null,null,null,null,null,null,null,null,"Latest match winner:","RCB"]
["RCB","DC","D",null,"Bengaluru","T20",null,null,{"$f":"CONCATENATE(\"probability of\",\" \",J1,\" \",\"winning next 2 matches against\",\" \",J2,\":\")","v":"probability of RCB winning next 2 matches against DC:"},null,null,null,null,null,{"$f":"IF(P15=J1,M6*M6,M7*M6)","v":0.64000000000000012}]
["RCB","DC","DC","7 wickets","Bengaluru","T20",null,null,{"$f":"CONCATENATE(\"probability of\",\" \",J1,\" \",\"losing next 2 matches against\",\" \",J2,\":\")","v":"probability of RCB losing next 2 matches against DC:"},null,null,null,null,null,{"$f":"IF(P15=J1,N6*N7,N7*N7)","v":0.08}]
["DC","RCB","RCB","6 wickets","Raipur","T20",null,null,{"$f":"CONCATENATE(\"probability of\",\" \",J1,\" \",\"winning 1 and losing 1 from the next two matches against\",\" \",J2,\":\")","v":"probability of RCB winning 1 and losing 1 from the next two matches against DC:"},null,null,null,null,null,{"$f":"IF(P15=J1,(N6*M7)+(M6*N6),(M7*N6)+(N7*M7))","v":0.16}]
["RCB","DC","RCB","15 runs","Bengaluru","T20"]
["DC","RCB","RCB","10 runs","Delhi","T20",null,null,{"$f":"CONCATENATE(\"probability of\",\" \",J2,\" \",\"winning next 2 matches against\",\" \",J1,\":\")","v":"probability of DC winning next 2 matches against RCB:"},null,null,null,null,null,{"$f":"IF(P15=J1,N6*N7,N7*N7)","v":0.08}]
["RCB","DC","RCB","6 wickets","Bengaluru","T20",null,null,{"$f":"CONCATENATE(\"probability of\",\" \",J2,\" \",\"losing next 2 matches against\",\" \",J1,\":\")","v":"probability of DC losing next 2 matches against RCB:"},null,null,null,null,null,{"$f":"IF(P15=J1,M6*M6,M7*M6)","v":0.64000000000000012}]
["DC","RCB","RCB","5 wickets","Delhi","T20",null,null,{"$f":"CONCATENATE(\"probability of\",\" \",J2,\" \",\"winning 1 and losing 1 from the next two matches against\",\" \",J1,\":\")","v":"probability of DC winning 1 and losing 1 from the next two matches against RCB:"},null,null,null,null,null,{"$f":"O18","v":0.16}]
["RCB","DC","DC","4 wickets","Bengaluru","T20"]
["DC","RCB","DC","16 runs","Delhi","T20"]
["RCB","DC","DC","59 runs","Dubai (DSC)","T20"]
["DC","RCB","DC","6 wickets","Abu Dhabi","T20"]
["DC","RCB","RCB","1 run","Ahmedabad","T20"]
["RCB","DC","RCB","7 wickets","Dubai (DSC)","T20"]

{"sheet":"RR VS SRH","index":15,"n_rows":25,"n_cols":16,"rows_kept":25,"cut":false,"hidden":false,"merged":[[21,8,21,13],[15,8,15,13],[16,8,16,13],[17,8,17,13],[19,8,19,13],[20,8,20,13]]}
["Team 1","Team 2","Winner","Margin","Ground","Scorecard","Super over winner",null,"T1","RR"]
["SRH","RR","RR","3 wickets","Hyderabad (Deccan)","T20",null,null,"T2","SRH"]
["RR","SRH","RR","8 wickets","Jaipur","T20"]
["SRH","RR","RR","3 wickets","Port Elizabeth","T20",null,null,"Codes","Values"]
["SRH","RR","SRH","53 runs","Kimberley","T20",null,null,"t1t1",7,null,"MATRIX","RR","SRH"]
["RR","SRH","RR","8 wickets","Ahmedabad","T20",null,null,"t1t2",7,null,"RR",{"$f":"J5/(J5+J6+J11)","v":0.5},{"$f":"J6/(J5+J6+J11)","v":0.5}]
["SRH","RR","RR","2 runs","Nagpur","T20",null,null,"t2t1",6,null,"SRH",{"$f":"J7/(J7+J8+J12)","v":0.66666666666666663},{"$f":"J8/(J7+J8+J12)","v":0.33333333333333331}]
["SRH","RR","RR","8 wickets","Hyderabad (Deccan)","T20",null,null,"t2t2",3]
["RR","SRH","RR","5 wickets","Jaipur","T20",null,null,"dt1",0]
["SRH","RR","SRH","5 wickets","Hyderabad (Deccan)","T20",null,null,"dt2",0]
["RR","SRH","RR","8 wickets","Jaipur","T20",null,null,"t1d",0]
["SRH","RR","SRH","23 runs","Hyderabad (Deccan)","T20",null,null,"t2d",0]
["RR","SRH","RR","4 wickets","Delhi","T20",null,null,"dd",0]
["SRH","RR","RR","4 wickets","Abu Dhabi","T20",null,null,"Total",{"$f":"SUM(J5:J13)","v":23}]
["RR","SRH","SRH","32 runs","Ahmedabad","T20",null,null,null,null,null,null,null,null,"Latest match winner:","SRH"]
["SRH","RR","RR","6 wickets","Visakhapatnam","T20",null,null,{"$f":"CONCATENATE(\"probability of\",\" \",J1,\" \",\"winning next 2 matches against\",\" \",J2,\":\")","v":"probability of RR winning next 2 matches against SRH:"},null,null,null,null,null,{"$f":"IF(P15=J1,M6*M6,M7*M6)","v":0.33333333333333331}]
["RR","SRH","SRH","7 runs","Brabourne","T20",null,null,{"$f":"CONCATENATE(\"probability of\",\" \",J1,\" \",\"losing next 2 matches against\",\" \",J2,\":\")","v":"probability of RR losing next 2 matches against SRH:"},null,null,null,null,null,{"$f":"IF(P15=J1,N6*N7,N7*N7)","v":0.1111111111111111}]
["SRH","RR","SRH","9 wickets","Hyderabad (Deccan)","T20",null,null,{"$f":"CONCATENATE(\"probability of\",\" \",J1,\" \",\"winning 1 and losing 1 from the next two matches against\",\" \",J2,\":\")","v":"probability of RR winning 1 and losing 1 from the next two matches against SRH:"},null,null,null,null,null,{"$f":"IF(P15=J1,(N6*M7)+(M6*N6),(M7*N6)+(N7*M7))","v":0.55555555555555558}]
["RR","SRH","SRH","11 runs","Jaipur","T20"]
["SRH","RR","SRH","5 wickets","Hyderabad (Deccan)","T20",null,null,{"$f":"CONCATENATE(\"probability of\",\" \",J2,\" \",\"winning next 2 matches against\",\" \",J1,\":\")","v":"probability of SRH winning next 2 matches against RR:"},null,null,null,null,null,{"$f":"IF(P15=J1,N6*N7,N7*N7)","v":0.1111111111111111}]
["RR","SRH","RR","7 wickets","Jaipur","T20",null,null,{"$f":"CONCATENATE(\"probability of\",\" \",J2,\" \",\"losing next 2 matches against\",\" \",J1,\":\")","v":"probability of SRH losing next 2 matches against RR:"},null,null,null,null,null,{"$f":"IF(P15=J1,M6*M6,M7*M6)","v":0.33333333333333331}]
["SRH","RR","RR","5 wickets","Dubai (DSC)","T20",null,null,{"$f":"CONCATENATE(\"probability of\",\" \",J2,\" \",\"winning 1 and losing 1 from the next two matches against\",\" \",J1,\":\")","v":"probability of SRH winning 1 and losing 1 from the next two matches against RR:"},null,null,null,null,null,{"$f":"O18","v":0.55555555555555558}]
["RR","SRH","SRH","8 wickets","Dubai (DSC)","T20"]
["RR","SRH","RR","55 runs","Delhi","T20"]
["SRH","RR","SRH","7 wickets","Dubai (DSC)","T20"]

{"sheet":"RR vs PBKS","index":16,"n_rows":24,"n_cols":16,"rows_kept":24,"cut":false,"hidden":false,"merged":[[21,8,21,13],[15,8,15,13],[16,8,16,13],[17,8,17,13],[19,8,19,13],[20,8,20,13]]}
["Team 1","Team 2","Winner","Margin","Ground","Scorecard","Super over winner",null,"T1","RR"]
["RR","PBKS","RR","6 wickets","Jaipur","T20",null,null,"T2","PBKS"]
["PBKS","RR","PBKS","41 runs","Mohali","T20"]
["PBKS","RR","PBKS","27 runs","Cape Town","T20",null,null,"Codes","Values"]
["PBKS","RR","RR","78 runs","Durban","T20",null,null,"t1t1",6,null,"MATRIX","RR","PBKS"]
["PBKS","RR","RR","31 runs","Mohali","T20",null,null,"t1t2",6,null,"RR",{"$f":"J5/(J5+J6+J11)","v":0.5},{"$f":"J6/(J5+J6+J11)","v":0.5}]
["RR","PBKS","RR","9 wickets","Jaipur","T20",null,null,"t2t1",6,null,"PBKS",{"$f":"J7/(J7+J8+J12)","v":0.6},{"$f":"J8/(J7+J8+J12)","v":0.4}]
["PBKS","RR","PBKS","48 runs","Mohali","T20",null,null,"t2t2",4]
["RR","PBKS","RR","31 runs","Jaipur","T20",null,null,"dt1",0]
["PBKS","RR","RR","43 runs","Mohali","T20",null,null,"dt2",0]
["RR","PBKS","RR","6 wickets","Jaipur","T20",null,null,"t1d",0]
["PBKS","RR","RR","8 wickets","Mohali","T20",null,null,"t2d",0]
["RR","PBKS","PBKS","7 wickets","Sharjah","T20",null,null,"dd",0]
["PBKS","RR","PBKS","16 runs","Mohali","T20",null,null,"Total",{"$f":"SUM(J5:J13)","v":22}]
["PBKS","RR","RR","26 runs","Pune","T20",null,null,null,null,null,null,null,null,"Latest match winner:","RR"]
["RR","PBKS","PBKS",null,"Ahmedabad","T20","PBKS",null,{"$f":"CONCATENATE(\"probability of\",\" \",J1,\" \",\"winning next 2 matches against\",\" \",J2,\":\")","v":"probability of RR winning next 2 matches against PBKS:"},null,null,null,null,null,{"$f":"IF(P15=J1,M6*M6,M7*M6)","v":0.25}]
["PBKS","RR","PBKS","6 wickets","Indore","T20",null,null,{"$f":"CONCATENATE(\"probability of\",\" \",J1,\" \",\"losing next 2 matches against\",\" \",J2,\":\")","v":"probability of RR losing next 2 matches against PBKS:"},null,null,null,null,null,{"$f":"IF(P15=J1,N6*N7,N7*N7)","v":0.2}]
["RR","PBKS","RR","15 runs","Jaipur","T20",null,null,{"$f":"CONCATENATE(\"probability of\",\" \",J1,\" \",\"winning 1 and losing 1 from the next two matches against\",\" \",J2,\":\")","v":"probability of RR winning 1 and losing 1 from the next two matches against PBKS:"},null,null,null,null,null,{"$f":"IF(P15=J1,(N6*M7)+(M6*N6),(M7*N6)+(N7*M7))","v":0.55000000000000004}]
["RR","PBKS","PBKS","14 runs","Jaipur","T20"]
["PBKS","RR","PBKS","12 runs","Mohali","T20",null,null,{"$f":"CONCATENATE(\"probability of\",\" \",J2,\" \",\"winning next 2 matches against\",\" \",J1,\":\")","v":"probability of PBKS winning next 2 matches against RR:"},null,null,null,null,null,{"$f":"IF(P15=J1,N6*N7,N7*N7)","v":0.2}]
["RR","PBKS","RR","4 wickets","Sharjah","T20",null,null,{"$f":"CONCATENATE(\"probability of\",\" \",J2,\" \",\"losing next 2 matches against\",\" \",J1,\":\")","v":"probability of PBKS losing next 2 matches against RR:"},null,null,null,null,null,{"$f":"IF(P15=J1,M6*M6,M7*M6)","v":0.25}]
["PBKS","RR","RR","7 wickets","Abu Dhabi","T20",null,null,{"$f":"CONCATENATE(\"probability of\",\" \",J2,\" \",\"winning 1 and losing 1 from the next two matches against\",\" \",J1,\":\")","v":"probability of PBKS winning 1 and losing 1 from the next two matches against RR:"},null,null,null,null,null,{"$f":"O18","v":0.55000000000000004}]
["RR","PBKS","PBKS","4 runs","Wankhede","T20"]
["PBKS","RR","RR","2 runs","Dubai (DSC)","T20"]

{"sheet":"RR vs KKR","index":17,"n_rows":26,"n_cols":16,"rows_kept":26,"cut":false,"hidden":false,"merged":[[21,8,21,13],[15,8,15,13],[16,8,16,13],[17,8,17,13],[19,8,19,13],[20,8,20,13]]}
["Team 1","Team 2","Winner","Margin","Ground","Scorecard","Super over winner",null,"T1","RR"]
["RR","KKR","RR","45 runs","Jaipur","T20",null,null,"T2","KKR"]
["KKR","RR","RR","6 wickets","Kolkata","T20"]
["KKR","RR","RR",null,"Cape Town","T20","RR",null,"Codes","Value"]
["KKR","RR","KKR","4 wickets","Durban","T20",null,null,"t1t1",3,null,"MATRIX","RR","KKR","D"]
["RR","KKR","RR","34 runs","Ahmedabad","T20",null,null,"t1t2",7,null,"RR",{"$f":"J5/(J5+J6+J11)","v":0.27272727272727271},{"$f":"J6/(J5+J6+J11)","v":0.63636363636363635},{"$f":"J11/(J11+J5+J6)","v":9.0909090909090912E-2}]
["KKR","RR","KKR","8 wickets","Kolkata","T20",null,null,"t2t1",6,null,"KKR",{"$f":"J7/(J7+J8+J12)","v":0.5},{"$f":"J8/(J7+J8+J12)","v":0.5},{"$f":"J12/(J12+J7+J8)","v":0}]
["RR","KKR","KKR","9 wickets","Jaipur","T20",null,null,"t2t2",6,null,"D",{"$f":"J9/(J9+J10+J13)","v":1},{"$f":"J10/(J9+J10+J13)","v":0},{"$f":"J13/(J13+J9+J10)","v":0}]
["KKR","RR","KKR","8 wickets","Kolkata","T20",null,null,"dt1",1]
["RR","KKR","RR","22 runs","Jaipur","T20",null,null,"dt2",0]
["KKR","RR","KKR","5 wickets","Kolkata","T20",null,null,"t1d",1]
["RR","KKR","RR","19 runs","Jaipur","T20",null,null,"t2d",0]
["KKR","RR","KKR","8 wickets","Kolkata","T20",null,null,"dd",0]
["KKR","RR","RR",null,"Abu Dhabi","T20","RR",null,"Total",{"$f":"SUM(J5:J13)","v":24}]
["RR","KKR","RR","10 runs","Ahmedabad","T20",null,null,null,null,null,null,null,null,"Latest match winner:","KKR"]
["KKR","RR","D",null,"Kolkata","T20",null,null,{"$f":"CONCATENATE(\"probability of\",\" \",J1,\" \",\"winning next 2 matches against\",\" \",J2,\":\")","v":"probability of RR winning next 2 matches against KKR:"},null,null,null,null,null,{"$f":"IF(P15=J1,M6*M6,M7*M6)","v":0.13636363636363635}]
["RR","KKR","RR","9 runs","Brabourne","T20",null,null,{"$f":"CONCATENATE(\"probability of\",\" \",J1,\" \",\"losing next 2 matches against\",\" \",J2,\":\")","v":"probability of RR losing next 2 matches against KKR:"},null,null,null,null,null,{"$f":"IF(P15=J1,N6*N7,N7*N7)","v":0.25}]
["RR","KKR","KKR","7 wickets","Jaipur","T20",null,null,{"$f":"CONCATENATE(\"probability of\",\" \",J1,\" \",\"winning 1 and losing 1 from the next two matches against\",\" \",J2,\":\")","v":"probability of RR winning 1 and losing 1 from the next two matches against KKR:"},null,null,null,null,null,{"$f":"IF(P15=J1,(N6*M7)+(M6*N6),(M7*N6)+(N7*M7))","v":0.56818181818181812}]
["KKR","RR","KKR","6 wickets","Kolkata","T20"]
["KKR","RR","KKR","25 runs","Kolkata","T20",null,null,{"$f":"CONCATENATE(\"probability of\",\" \",J2,\" \",\"winning next 2 matches against\",\" \",J1,\":\")","v":"probability of KKR winning next 2 matches against RR:"},null,null,null,null,null,{"$f":"IF(P15=J1,N6*N7,N7*N7)","v":0.25}]
["RR","KKR","KKR","8 wickets","Jaipur","T20",null,null,{"$f":"CONCATENATE(\"probability of\",\" \",J2,\" \",\"losing next 2 matches against\",\" \",J1,\":\")","v":"probability of KKR losing next 2 matches against RR:"},null,null,null,null,null,{"$f":"IF(P15=J1,M6*M6,M7*M6)","v":0.13636363636363635}]
["KKR","RR","RR","3 wickets","Kolkata","T20",null,null,{"$f":"CONCATENATE(\"probability of\",\" \",J2,\" \",\"winning 1 and losing 1 from the next two matches against\",\" \",J1,\":\")","v":"probability of KKR winning 1 and losing 1 from the next two matches against RR:"},null,null,null,null,null,{"$f":"O18","v":0.56818181818181812}]
["RR","KKR","KKR","37 runs","Dubai (DSC)","T20"]
["KKR","RR","KKR","60 runs","Dubai (DSC)","T20"]
["RR","KKR","RR","6 wickets","Wankhede","T20"]
["KKR","RR","KKR","86 runs","Sharjah","T20"]

{"sheet":"RR vs DC","index":18,"n_rows":25,"n_cols":16,"rows_kept":25,"cut":false,"hidden":false,"merged":[[21,8,21,13],[15,8,15,13],[16,8,16,13],[17,8,17,13],[19,8,19,13],[20,8,20,13]]}
["Team 1","Team 2","Winner","Margin","Ground","Scorecard","Super over winner",null,"T1","RR"]
["DC","RR","DC","9 wickets","Delhi","T20",null,null,"T2","DC"]
["RR","DC","RR","3 wickets","Jaipur","T20"]
["DC","RR","RR","105 runs","Wankhede","T20",null,null,"Codes","Values"]
["DC","RR","RR","5 wickets","Centurion","T20",null,null,"t1t1",8,null,"MATRIX","RR","DC"]
["DC","RR","DC","14 runs","Bloemfontein","T20",null,null,"t1t2",4,null,"RR",{"$f":"J5/(J5+J6+J11)","v":0.66666666666666663},{"$f":"J6/(J5+J6+J11)","v":0.33333333333333331}]
["RR","DC","DC","6 wickets","Ahmedabad","T20",null,null,"t2t1",4,null,"DC",{"$f":"J7/(J7+J8+J12)","v":0.36363636363636365},{"$f":"J8/(J7+J8+J12)","v":0.63636363636363635}]
["DC","RR","DC","67 runs","Delhi","T20",null,null,"t2t2",7]
["RR","DC","RR","6 wickets","Jaipur","T20",null,null,"dt1",0]
["DC","RR","DC","1 run","Delhi","T20",null,null,"dt2",0]
["RR","DC","DC","6 wickets","Jaipur","T20",null,null,"t1d",0]
["DC","RR","RR","5 runs","Delhi","T20",null,null,"t2d",0]
["RR","DC","RR","9 wickets","Jaipur","T20",null,null,"dd",0]
["DC","RR","RR","7 wickets","Delhi","T20",null,null,"Total",{"$f":"SUM(J5:J13)","v":23}]
["RR","DC","RR","62 runs","Ahmedabad","T20",null,null,null,null,null,null,null,null,"Latest match winner:","DC"]
["DC","RR","RR","3 wickets","Delhi","T20",null,null,{"$f":"CONCATENATE(\"probability of\",\" \",J1,\" \",\"winning next 2 matches against\",\" \",J2,\":\")","v":"probability of RR winning next 2 matches against DC:"},null,null,null,null,null,{"$f":"IF(P15=J1,M6*M6,M7*M6)","v":0.24242424242424243}]
["RR","DC","RR","14 runs","Brabourne","T20",null,null,{"$f":"CONCATENATE(\"probability of\",\" \",J1,\" \",\"losing next 2 matches against\",\" \",J2,\":\")","v":"probability of RR losing next 2 matches against DC:"},null,null,null,null,null,{"$f":"IF(P15=J1,N6*N7,N7*N7)","v":0.4049586776859504}]
["RR","DC","RR","10 runs","Jaipur","T20",null,null,{"$f":"CONCATENATE(\"probability of\",\" \",J1,\" \",\"winning 1 and losing 1 from the next two matches against\",\" \",J2,\":\")","v":"probability of RR winning 1 and losing 1 from the next two matches against DC:"},null,null,null,null,null,{"$f":"IF(P15=J1,(N6*M7)+(M6*N6),(M7*N6)+(N7*M7))","v":0.35261707988980717}]
["DC","RR","DC","4 runs","Delhi","T20"]
["RR","DC","DC","6 wickets","Jaipur","T20",null,null,{"$f":"CONCATENATE(\"probability of\",\" \",J2,\" \",\"winning next 2 matches against\",\" \",J1,\":\")","v":"probability of DC winning next 2 matches against RR:"},null,null,null,null,null,{"$f":"IF(P15=J1,N6*N7,N7*N7)","v":0.4049586776859504}]
["DC","RR","DC","5 wickets","Delhi","T20",null,null,{"$f":"CONCATENATE(\"probability of\",\" \",J2,\" \",\"losing next 2 matches against\",\" \",J1,\":\")","v":"probability of DC losing next 2 matches against RR:"},null,null,null,null,null,{"$f":"IF(P15=J1,M6*M6,M7*M6)","v":0.24242424242424243}]
["RR","DC","DC","46 runs","Sharjah","T20",null,null,{"$f":"CONCATENATE(\"probability of\",\" \",J2,\" \",\"winning 1 and losing 1 from the next two matches against\",\" \",J1,\":\")","v":"probability of DC winning 1 and losing 1 from the next two matches against RR:"},null,null,null,null,null,{"$f":"O18","v":0.35261707988980717}]
["DC","RR","DC","13 runs","Dubai (DSC)","T20"]
["RR","DC","RR","3 wickets","Wankhede","T20"]
["DC","RR","DC","33 runs","Abu Dhabi","T20"]

{"sheet":"RR vs CSK","index":19,"n_rows":26,"n_cols":16,"rows_kept":26,"cut":false,"hidden":false,"merged":[[21,8,21,13],[15,8,15,13],[16,8,16,13],[17,8,17,13],[19,8,19,13],[20,8,20,13]]}
["Team 1","Team 2","Winner","Margin","Ground","Scorecard","Super over winner",null,"T1","RR"]
["RR","CSK","RR","8 wickets","Jaipur","T20",null,null,"T2","CSK"]
["CSK","RR","RR","10 runs","Chennai","T20"]
["CSK","RR","RR","3 wickets","DY Patil","T20",null,null,"Codes","Values"]
["CSK","RR","CSK","38 runs","Centurion","T20",null,null,"t1t1",3,null,"MATRIX","RR","CSK"]
["CSK","RR","CSK","7 wickets","Kimberley","T20",null,null,"t1t2",6,null,"RR",{"$f":"J5/(J5+J6+J11)","v":0.33333333333333331},{"$f":"J6/(J5+J6+J11)","v":0.66666666666666663}]
["RR","CSK","RR","17 runs","Ahmedabad","T20",null,null,"t2t1",6,null,"CSK",{"$f":"J7/(J7+J8+J12)","v":0.4},{"$f":"J8/(J7+J8+J12)","v":0.6}]
["CSK","RR","CSK","23 runs","Chennai","T20",null,null,"t2t2",9]
["CSK","RR","CSK","8 wickets","Chennai","T20",null,null,"dt1",0]
["RR","CSK","CSK","63 runs","Jaipur","T20",null,null,"dt2",0]
["CSK","RR","CSK","7 wickets","Chennai","T20",null,null,"t1d",0]
["RR","CSK","CSK","4 wickets","Jaipur","T20",null,null,"t2d",0]
["CSK","RR","CSK","5 wickets","Chennai","T20",null,null,"dd",0]
["RR","CSK","RR","5 wickets","Jaipur","T20",null,null,"Total",{"$f":"SUM(J5:J13)","v":24}]
["RR","CSK","CSK","7 runs","Dubai (DSC)","T20",null,null,null,null,null,null,null,null,"Latest match winner:","RR"]
["CSK","RR","CSK","5 wickets","Ranchi","T20",null,null,{"$f":"CONCATENATE(\"probability of\",\" \",J1,\" \",\"winning next 2 matches against\",\" \",J2,\":\")","v":"probability of RR winning next 2 matches against CSK:"},null,null,null,null,null,{"$f":"IF(P15=J1,M6*M6,M7*M6)","v":0.1111111111111111}]
["RR","CSK","RR","8 wickets","Ahmedabad","T20",null,null,{"$f":"CONCATENATE(\"probability of\",\" \",J1,\" \",\"losing next 2 matches against\",\" \",J2,\":\")","v":"probability of RR losing next 2 matches against CSK:"},null,null,null,null,null,{"$f":"IF(P15=J1,N6*N7,N7*N7)","v":0.39999999999999997}]
["CSK","RR","CSK","12 runs","Chennai","T20",null,null,{"$f":"CONCATENATE(\"probability of\",\" \",J1,\" \",\"winning 1 and losing 1 from the next two matches against\",\" \",J2,\":\")","v":"probability of RR winning 1 and losing 1 from the next two matches against CSK:"},null,null,null,null,null,{"$f":"IF(P15=J1,(N6*M7)+(M6*N6),(M7*N6)+(N7*M7))","v":0.48888888888888887}]
["CSK","RR","CSK","64 runs","Pune","T20"]
["RR","CSK","RR","4 wickets","Jaipur","T20",null,null,{"$f":"CONCATENATE(\"probability of\",\" \",J2,\" \",\"winning next 2 matches against\",\" \",J1,\":\")","v":"probability of CSK winning next 2 matches against RR:"},null,null,null,null,null,{"$f":"IF(P15=J1,N6*N7,N7*N7)","v":0.39999999999999997}]
["CSK","RR","CSK","8 runs","Chennai","T20",null,null,{"$f":"CONCATENATE(\"probability of\",\" \",J2,\" \",\"losing next 2 matches against\",\" \",J1,\":\")","v":"probability of CSK losing next 2 matches against RR:"},null,null,null,null,null,{"$f":"IF(P15=J1,M6*M6,M7*M6)","v":0.1111111111111111}]
["RR","CSK","CSK","4 wickets","Jaipur","T20",null,null,{"$f":"CONCATENATE(\"probability of\",\" \",J2,\" \",\"winning 1 and losing 1 from the next two matches against\",\" \",J1,\":\")","v":"probability of CSK winning 1 and losing 1 from the next two matches against RR:"},null,null,null,null,null,{"$f":"O18","v":0.48888888888888887}]
["RR","CSK","RR","16 runs","Sharjah","T20"]
["CSK","RR","RR","7 wickets","Abu Dhabi","T20"]
["CSK","RR","CSK","45 runs","Wankhede","T20"]
["RR","CSK","RR","7 wickets","Abu Dhabi","T20"]

{"sheet":"SRH vs CSK","index":20,"n_rows":27,"n_cols":16,"rows_kept":27,"cut":false,"hidden":false,"merged":[[21,8,21,13],[15,8,15,13],[16,8,16,13],[17,8,17,13],[19,8,19,13],[20,8,20,13]]}
["Team 1","Team 2","Winner","Margin","Ground","Scorecard","Super over winner",null,"T1","SRH"]
["CSK","SRH","SRH","7 wickets","Chennai","T20",null,null,"T2","CSK"]
["SRH","CSK","CSK","7 wickets","Hyderabad (Deccan)","T20"]
["CSK","SRH","SRH","6 wickets","Durban","T20",null,null,"Codes","Values"]
["CSK","SRH","CSK","78 runs","East London","T20",null,null,"t1t1",1,null,"MATRIX","SRH","CSK"]
["CSK","SRH","SRH","31 runs","Chennai","T20",null,null,"t1t2",7,null,"SRH",{"$f":"J5/(J5+J6+J11)","v":0.125},{"$f":"J6/(J5+J6+J11)","v":0.875}]
["SRH","CSK","SRH","6 wickets","Nagpur","T20",null,null,"t2t1",6,null,"CSK",{"$f":"J7/(J7+J8+J12)","v":0.35294117647058826},{"$f":"J8/(J7+J8+J12)","v":0.6470588235294118}]
["CSK","SRH","CSK","38 runs","DY Patil","T20",null,null,"t2t2",11]
["CSK","SRH","CSK","19 runs","Chennai","T20",null,null,"dt1",0]
["SRH","CSK","CSK","74 runs","Visakhapatnam","T20",null,null,"dt2",0]
["CSK","SRH","CSK","10 runs","Chennai","T20",null,null,"t1d",0]
["CSK","SRH","CSK","5 wickets","Chennai","T20",null,null,"t2d",0]
["SRH","CSK","CSK","77 runs","Hyderabad (Deccan)","T20",null,null,"dd",0]
["SRH","CSK","CSK","5 wickets","Sharjah","T20",null,null,"Total",{"$f":"SUM(J5:J13)","v":25}]
["CSK","SRH","SRH","6 wickets","Ranchi","T20",null,null,null,null,null,null,null,null,"Latest match winner:","CSK"]
["CSK","SRH","CSK","45 runs","Chennai","T20",null,null,{"$f":"CONCATENATE(\"probability of\",\" \",J1,\" \",\"winning next 2 matches against\",\" \",J2,\":\")","v":"probability of SRH winning next 2 matches against CSK:"},null,null,null,null,null,{"$f":"IF(P15=J1,M6*M6,M7*M6)","v":4.4117647058823532E-2}]
["SRH","CSK","SRH","22 runs","Hyderabad (Deccan)","T20",null,null,{"$f":"CONCATENATE(\"probability of\",\" \",J1,\" \",\"losing next 2 matches against\",\" \",J2,\":\")","v":"probability of SRH losing next 2 matches against CSK:"},null,null,null,null,null,{"$f":"IF(P15=J1,N6*N7,N7*N7)","v":0.41868512110726647}]
["SRH","CSK","CSK","4 runs","Hyderabad (Deccan)","T20",null,null,{"$f":"CONCATENATE(\"probability of\",\" \",J1,\" \",\"winning 1 and losing 1 from the next two matches against\",\" \",J2,\":\")","v":"probability of SRH winning 1 and losing 1 from the next two matches against CSK:"},null,null,null,null,null,{"$f":"IF(P15=J1,(N6*M7)+(M6*N6),(M7*N6)+(N7*M7))","v":0.5371972318339101}]
["CSK","SRH","CSK","8 wickets","Pune","T20"]
["CSK","SRH","CSK","2 wickets","Wankhede","T20",null,null,{"$f":"CONCATENATE(\"probability of\",\" \",J2,\" \",\"winning next 2 matches against\",\" \",J1,\":\")","v":"probability of CSK winning next 2 matches against SRH:"},null,null,null,null,null,{"$f":"IF(P15=J1,N6*N7,N7*N7)","v":0.41868512110726647}]
["CSK","SRH","CSK","8 wickets","Wankhede","T20",null,null,{"$f":"CONCATENATE(\"probability of\",\" \",J2,\" \",\"losing next 2 matches against\",\" \",J1,\":\")","v":"probability of CSK losing next 2 matches against SRH:"},null,null,null,null,null,{"$f":"IF(P15=J1,M6*M6,M7*M6)","v":4.4117647058823532E-2}]
["SRH","CSK","SRH","6 wickets","Hyderabad (Deccan)","T20",null,null,{"$f":"CONCATENATE(\"probability of\",\" \",J2,\" \",\"winning 1 and losing 1 from the next two matches against\",\" \",J1,\":\")","v":"probability of CSK winning 1 and losing 1 from the next two matches against SRH:"},null,null,null,null,null,{"$f":"O18","v":0.5371972318339101}]
["CSK","SRH","CSK","6 wickets","Chennai","T20"]
["CSK","SRH","SRH","7 runs","Dubai (DSC)","T20"]
["SRH","CSK","CSK","20 runs","Dubai (DSC)","T20"]
["CSK","SRH","CSK","7 wickets","Delhi","T20"]
["SRH","CSK","CSK","6 wickets","Sharjah","T20"]

{"sheet":"SRH vs DC","index":21,"n_rows":32,"n_cols":16,"rows_kept":32,"cut":false,"hidden":false,"merged":[[21,8,21,13],[15,8,15,13],[16,8,16,13],[17,8,17,13],[19,8,19,13],[20,8,20,13]]}
["Team 1","Team 2","Winner","Margin","Ground","Scorecard","Super over winner",null,"T1","SRH"]
["SRH","DC","DC","9 wickets","Hyderabad (Deccan)","T20",null,null,"T2","DC"]
["DC","SRH","DC","12 runs","Delhi","T20"]
["SRH","DC","DC","6 wickets","Centurion","T20",null,null,"Codes","Values"]
["SRH","DC","DC","12 runs","Durban","T20",null,null,"t1t1",9,null,"MATRIX","SRH","DC"]
["SRH","DC","SRH","6 wickets","Centurion","T20",null,null,"t1t2",6,null,"SRH",{"$f":"J5/(J5+J6+J11)","v":0.6},{"$f":"J6/(J5+J6+J11)","v":0.4}]
["SRH","DC","SRH","10 runs","Cuttack","T20",null,null,"t2t1",6,null,"DC",{"$f":"J7/(J7+J8+J12)","v":0.4},{"$f":"J8/(J7+J8+J12)","v":0.6}]
["DC","SRH","SRH","11 runs","Delhi","T20",null,null,"t2t2",9]
["DC","SRH","SRH","16 runs","Delhi","T20",null,null,"dt1",0]
["SRH","DC","DC","4 wickets","Hyderabad (Deccan)","T20",null,null,"dt2",0]
["DC","SRH","DC","5 wickets","Delhi","T20",null,null,"t1d",0]
["SRH","DC","DC","9 wickets","Hyderabad (Deccan)","T20",null,null,"t2d",0]
["DC","SRH","SRH","3 wickets","Delhi","T20",null,null,"dd",0]
["SRH","DC","SRH","6 wickets","Hyderabad (Deccan)","T20",null,null,"Total",{"$f":"SUM(J5:J13)","v":30}]
["SRH","DC","SRH","4 runs","Dubai (DSC)","T20",null,null,null,null,null,null,null,null,"Latest match winner:","DC"]
["DC","SRH","SRH","8 wickets","Delhi","T20",null,null,{"$f":"CONCATENATE(\"probability of\",\" \",J1,\" \",\"winning next 2 matches against\",\" \",J2,\":\")","v":"probability of SRH winning next 2 matches against DC:"},null,null,null,null,null,{"$f":"IF(P15=J1,M6*M6,M7*M6)","v":0.24}]
["SRH","DC","DC","4 runs","Visakhapatnam","T20",null,null,{"$f":"CONCATENATE(\"probability of\",\" \",J1,\" \",\"losing next 2 matches against\",\" \",J2,\":\")","v":"probability of SRH losing next 2 matches against DC:"},null,null,null,null,null,{"$f":"IF(P15=J1,N6*N7,N7*N7)","v":0.36}]
["DC","SRH","SRH","6 runs","Raipur","T20",null,null,{"$f":"CONCATENATE(\"probability of\",\" \",J1,\" \",\"winning 1 and losing 1 from the next two matches against\",\" \",J2,\":\")","v":"probability of SRH winning 1 and losing 1 from the next two matches against DC:"},null,null,null,null,null,{"$f":"IF(P15=J1,(N6*M7)+(M6*N6),(M7*N6)+(N7*M7))","v":0.4}]
["SRH","DC","DC","7 wickets","Hyderabad (Deccan)","T20"]
["DC","SRH","DC","6 wickets","Raipur","T20",null,null,{"$f":"CONCATENATE(\"probability of\",\" \",J2,\" \",\"winning next 2 matches against\",\" \",J1,\":\")","v":"probability of DC winning next 2 matches against SRH:"},null,null,null,null,null,{"$f":"IF(P15=J1,N6*N7,N7*N7)","v":0.36}]
["SRH","DC","SRH","15 runs","Hyderabad (Deccan)","T20",null,null,{"$f":"CONCATENATE(\"probability of\",\" \",J2,\" \",\"losing next 2 matches against\",\" \",J1,\":\")","v":"probability of DC losing next 2 matches against SRH:"},null,null,null,null,null,{"$f":"IF(P15=J1,M6*M6,M7*M6)","v":0.24}]
["DC","SRH","DC","6 wickets","Delhi","T20",null,null,{"$f":"CONCATENATE(\"probability of\",\" \",J2,\" \",\"winning 1 and losing 1 from the next two matches against\",\" \",J1,\":\")","v":"probability of DC winning 1 and losing 1 from the next two matches against SRH:"},null,null,null,null,null,{"$f":"O18","v":0.4}]
["SRH","DC","SRH","7 wickets","Hyderabad (Deccan)","T20"]
["DC","SRH","SRH","9 wickets","Delhi","T20"]
["DC","SRH","SRH","5 wickets","Delhi","T20"]
["SRH","DC","DC","39 runs","Hyderabad (Deccan)","T20"]
["SRH","DC","DC","2 wickets","Visakhapatnam","T20"]
["DC","SRH","SRH","15 runs","Abu Dhabi","T20"]
["SRH","DC","SRH","88 runs","Dubai (DSC)","T20"]
["DC","SRH","DC","17 runs","Abu Dhabi","T20"]
["SRH","DC","DC",null,"Chennai","T20","DC"]
["DC","SRH","DC","8 wickets","Dubai (DSC)","T20"]

{"sheet":"SRH vs KKR","index":22,"n_rows":32,"n_cols":16,"rows_kept":32,"cut":false,"hidden":false,"merged":[[21,8,21,13],[15,8,15,13],[16,8,16,13],[17,8,17,13],[19,8,19,13],[20,8,20,13]]}
["Team 1","Team 2","Winner","Margin","Ground","Scorecard","Super over winner",null,"T1","SRH"]
["KKR","SRH","KKR","5 wickets","Kolkata","T20",null,null,"T2","KKR"]
["SRH","KKR","KKR","23 runs","Hyderabad (Deccan)","T20"]
["SRH","KKR","SRH","8 wickets","Cape Town","T20",null,null,"Codes","Values"]
["SRH","KKR","SRH","6 wickets","Johannesburg","T20",null,null,"t1t1",1,null,"MATRIX","SRH","KKR","D"]
["SRH","KKR","KKR","11 runs","DY Patil","T20",null,null,"t1t2",8,null,"SRH",{"$f":"J5/(J5+J6+J11)","v":0.1111111111111111},{"$f":"J6/(J5+J6+J11)","v":0.88888888888888884},{"$f":"J11/(J11+J5+J6)","v":0}]
["KKR","SRH","KKR","24 runs","Kolkata","T20",null,null,"t2t1",8,null,"KKR",{"$f":"J7/(J7+J8+J12)","v":0.4},{"$f":"J8/(J7+J8+J12)","v":0.55000000000000004},{"$f":"J12/(J12+J7+J8)","v":0.05}]
["KKR","SRH","KKR","9 runs","Kolkata","T20",null,null,"t2t2",11,null,"D",{"$f":"J9/(J9+J10+J13)","v":0},{"$f":"J10/(J9+J10+J13)","v":1},{"$f":"J13/(J13+J9+J10)","v":0}]
["SRH","KKR","KKR","20 runs","Hyderabad (Deccan)","T20",null,null,"dt1",0]
["SRH","KKR","KKR","5 wickets","Cuttack","T20",null,null,"dt2",1]
["KKR","SRH","D",null,"Kolkata","T20",null,null,"t1d",0]
["KKR","SRH","KKR","48 runs","Kolkata","T20",null,null,"t2d",1]
["SRH","KKR","SRH","5 wickets","Hyderabad (Deccan)","T20",null,null,"dd",0]
["SRH","KKR","KKR","7 wickets","Hyderabad (Deccan)","T20",null,null,"Total",{"$f":"SUM(J5:J13)","v":30}]
["KKR","SRH","KKR","4 wickets","Kolkata","T20",null,null,null,null,null,null,null,null,"Latest match winner:","KKR"]
["SRH","KKR","SRH","16 runs","Visakhapatnam","T20",null,null,{"$f":"CONCATENATE(\"probability of\",\" \",J1,\" \",\"winning next 2 matches against\",\" \",J2,\":\")","v":"probability of SRH winning next 2 matches against KKR:"},null,null,null,null,null,{"$f":"IF(P15=J1,M6*M6,M7*M6)","v":4.4444444444444446E-2}]
["KKR","SRH","KKR","35 runs","Kolkata","T20",null,null,{"$f":"CONCATENATE(\"probability of\",\" \",J1,\" \",\"losing next 2 matches against\",\" \",J2,\":\")","v":"probability of SRH losing next 2 matches against KKR:"},null,null,null,null,null,{"$f":"IF(P15=J1,N6*N7,N7*N7)","v":0.30250000000000005}]
["SRH","KKR","KKR","8 wickets","Hyderabad (Deccan)","T20",null,null,{"$f":"CONCATENATE(\"probability of\",\" \",J1,\" \",\"winning 1 and losing 1 from the next two matches against\",\" \",J2,\":\")","v":"probability of SRH winning 1 and losing 1 from the next two matches against KKR:"},null,null,null,null,null,{"$f":"IF(P15=J1,(N6*M7)+(M6*N6),(M7*N6)+(N7*M7))","v":0.5755555555555556}]
["KKR","SRH","KKR","22 runs","Kolkata","T20"]
["KKR","SRH","SRH","22 runs","Delhi","T20",null,null,{"$f":"CONCATENATE(\"probability of\",\" \",J2,\" \",\"winning next 2 matches against\",\" \",J1,\":\")","v":"probability of KKR winning next 2 matches against SRH:"},null,null,null,null,null,{"$f":"IF(P15=J1,N6*N7,N7*N7)","v":0.30250000000000005}]
["KKR","SRH","KKR","17 runs","Kolkata","T20",null,null,{"$f":"CONCATENATE(\"probability of\",\" \",J2,\" \",\"losing next 2 matches against\",\" \",J1,\":\")","v":"probability of KKR losing next 2 matches against SRH:"},null,null,null,null,null,{"$f":"IF(P15=J1,M6*M6,M7*M6)","v":4.4444444444444446E-2}]
["SRH","KKR","SRH","48 runs","Hyderabad (Deccan)","T20",null,null,{"$f":"CONCATENATE(\"probability of\",\" \",J2,\" \",\"winning 1 and losing 1 from the next two matches against\",\" \",J1,\":\")","v":"probability of KKR winning 1 and losing 1 from the next two matches against SRH:"},null,null,null,null,null,{"$f":"O18","v":0.5755555555555556}]
["KKR","SRH","KKR","7 wickets","Bengaluru","T20"]
["KKR","SRH","SRH","5 wickets","Kolkata","T20"]
["SRH","KKR","KKR","5 wickets","Hyderabad (Deccan)","T20"]
["KKR","SRH","SRH","14 runs","Kolkata","T20"]
["KKR","SRH","KKR","6 wickets","Kolkata","T20"]
["SRH","KKR","SRH","9 wickets","Hyderabad (Deccan)","T20"]
["KKR","SRH","KKR","7 wickets","Abu Dhabi","T20"]
["SRH","KKR","KKR",null,"Abu Dhabi","T20","KKR"]
["SRH","KKR","KKR","10 runs","Chennai","T20"]
["KKR","SRH","KKR","6 wickets","Dubai (DSC)","T20"]

{"sheet":"SRH vs PBKS","index":23,"n_rows":29,"n_cols":16,"rows_kept":29,"cut":false,"hidden":false,"merged":[[21,8,21,13],[15,8,15,13],[16,8,16,13],[17,8,17,13],[19,8,19,13],[20,8,20,13]]}
["Team 1","Team 2","Winner","Margin","Ground","Scorecard","Super over winner",null,"T1","SRH"]
["SRH","PBKS","PBKS","7 wickets","Hyderabad (Deccan)","T20",null,null,"T2","PBKS"]
["PBKS","SRH","PBKS","6 wickets","Mohali","T20"]
["SRH","PBKS","PBKS","3 wickets","Kimberley","T20",null,null,"Codes","Values"]
["SRH","PBKS","PBKS","1 run","Johannesburg","T20",null,null,"t1t1",8,null,"MATRIX","SRH","PBKS"]
["SRH","PBKS","SRH","6 runs","Cuttack","T20",null,null,"t1t2",7,null,"SRH",{"$f":"J5/(J5+J6+J11)","v":0.53333333333333333},{"$f":"J6/(J5+J6+J11)","v":0.46666666666666667}]
["PBKS","SRH","SRH","5 wickets","Dharamsala","T20",null,null,"t2t1",7,null,"PBKS",{"$f":"J7/(J7+J8+J12)","v":0.58333333333333337},{"$f":"J8/(J7+J8+J12)","v":0.41666666666666669}]
["SRH","PBKS","PBKS","8 wickets","Hyderabad (Deccan)","T20",null,null,"t2t2",5]
["PBKS","SRH","SRH","82 runs","Dharamsala","T20",null,null,"dt1",0]
["SRH","PBKS","PBKS","25 runs","Hyderabad (Deccan)","T20",null,null,"dt2",0]
["PBKS","SRH","PBKS","4 wickets","Mohali","T20",null,null,"t1d",0]
["SRH","PBKS","SRH","5 wickets","Hyderabad (Deccan)","T20",null,null,"t2d",0]
["PBKS","SRH","SRH","30 runs","Mohali","T20",null,null,"dd",0]
["PBKS","SRH","PBKS","72 runs","Sharjah","T20",null,null,"Total",{"$f":"SUM(J5:J13)","v":27}]
["SRH","PBKS","PBKS","6 wickets","Hyderabad (Deccan)","T20",null,null,null,null,null,null,null,null,"Latest match winner:","PBKS"]
["PBKS","SRH","SRH","20 runs","Mohali","T20",null,null,{"$f":"CONCATENATE(\"probability of\",\" \",J1,\" \",\"winning next 2 matches against\",\" \",J2,\":\")","v":"probability of SRH winning next 2 matches against PBKS:"},null,null,null,null,null,{"$f":"IF(P15=J1,M6*M6,M7*M6)","v":0.31111111111111112}]
["SRH","PBKS","SRH","5 runs","Hyderabad (Deccan)","T20",null,null,{"$f":"CONCATENATE(\"probability of\",\" \",J1,\" \",\"losing next 2 matches against\",\" \",J2,\":\")","v":"probability of SRH losing next 2 matches against PBKS:"},null,null,null,null,null,{"$f":"IF(P15=J1,N6*N7,N7*N7)","v":0.17361111111111113}]
["SRH","PBKS","SRH","5 wickets","Hyderabad (Deccan)","T20",null,null,{"$f":"CONCATENATE(\"probability of\",\" \",J1,\" \",\"winning 1 and losing 1 from the next two matches against\",\" \",J2,\":\")","v":"probability of SRH winning 1 and losing 1 from the next two matches against PBKS:"},null,null,null,null,null,{"$f":"IF(P15=J1,(N6*M7)+(M6*N6),(M7*N6)+(N7*M7))","v":0.51527777777777783}]
["PBKS","SRH","SRH","7 wickets","Mohali","T20"]
["SRH","PBKS","SRH","5 runs","Hyderabad (Deccan)","T20",null,null,{"$f":"CONCATENATE(\"probability of\",\" \",J2,\" \",\"winning next 2 matches against\",\" \",J1,\":\")","v":"probability of PBKS winning next 2 matches against SRH:"},null,null,null,null,null,{"$f":"IF(P15=J1,N6*N7,N7*N7)","v":0.17361111111111113}]
["PBKS","SRH","SRH","26 runs","Mohali","T20",null,null,{"$f":"CONCATENATE(\"probability of\",\" \",J2,\" \",\"losing next 2 matches against\",\" \",J1,\":\")","v":"probability of PBKS losing next 2 matches against SRH:"},null,null,null,null,null,{"$f":"IF(P15=J1,M6*M6,M7*M6)","v":0.31111111111111112}]
["PBKS","SRH","PBKS","15 runs","Mohali","T20",null,null,{"$f":"CONCATENATE(\"probability of\",\" \",J2,\" \",\"winning 1 and losing 1 from the next two matches against\",\" \",J1,\":\")","v":"probability of PBKS winning 1 and losing 1 from the next two matches against SRH:"},null,null,null,null,null,{"$f":"O18","v":0.51527777777777783}]
["SRH","PBKS","SRH","13 runs","Hyderabad (Deccan)","T20"]
["PBKS","SRH","PBKS","6 wickets","Mohali","T20"]
["SRH","PBKS","SRH","45 runs","Hyderabad (Deccan)","T20"]
["SRH","PBKS","SRH","69 runs","Dubai (DSC)","T20"]
["PBKS","SRH","PBKS","12 runs","Dubai (DSC)","T20"]
["PBKS","SRH","SRH","9 wickets","Chennai","T20"]
["SRH","PBKS","PBKS","5 runs","Sharjah","T20"]

{"sheet":"KKR vs PBKS","index":24,"n_rows":30,"n_cols":16,"rows_kept":30,"cut":false,"hidden":false,"merged":[[21,8,21,13],[15,8,15,13],[16,8,16,13],[17,8,17,13],[19,8,19,13],[20,8,20,13]]}
["Team 1","Team 2","Winner","Margin","Ground","Scorecard","Super over winner",null,"T1","KKR"]
["PBKS","KKR","PBKS","9 runs","Mohali","T20",null,null,"T2","PBKS"]
["KKR","PBKS","KKR","3 wickets","Kolkata","T20"]
["PBKS","KKR","KKR","11 runs","Durban","T20",null,null,"Codes","Values"]
["PBKS","KKR","PBKS","6 wickets","Port Elizabeth","T20",null,null,"t1t1",11,null,"MATRIX","KKR","PBKS"]
["PBKS","KKR","KKR","39 runs","Mohali","T20",null,null,"t1t2",8,null,"KKR",{"$f":"J5/(J5+J6+J11)","v":0.57894736842105265},{"$f":"J6/(J5+J6+J11)","v":0.42105263157894735}]
["KKR","PBKS","PBKS","8 wickets","Kolkata","T20",null,null,"t2t1",8,null,"PBKS",{"$f":"J7/(J7+J8+J12)","v":0.88888888888888884},{"$f":"J8/(J7+J8+J12)","v":0.1111111111111111}]
["KKR","PBKS","KKR","8 wickets","Kolkata","T20",null,null,"t2t2",1]
["KKR","PBKS","PBKS","2 runs","Kolkata","T20",null,null,"dt1",0]
["PBKS","KKR","KKR","8 wickets","Mohali","T20",null,null,"dt2",0]
["PBKS","KKR","PBKS","4 runs","Mohali","T20",null,null,"t1d",0]
["KKR","PBKS","KKR","6 wickets","Kolkata","T20",null,null,"t2d",0]
["KKR","PBKS","PBKS","23 runs","Abu Dhabi","T20",null,null,"dd",0]
["PBKS","KKR","KKR","9 wickets","Cuttack","T20",null,null,"Total",{"$f":"SUM(J5:J13)","v":28}]
["KKR","PBKS","KKR","28 runs","Kolkata","T20",null,null,null,null,null,null,null,null,"Latest match winner:","PBKS"]
["PBKS","KKR","KKR","3 wickets","Bengaluru","T20",null,null,{"$f":"CONCATENATE(\"probability of\",\" \",J1,\" \",\"winning next 2 matches against\",\" \",J2,\":\")","v":"probability of KKR winning next 2 matches against PBKS:"},null,null,null,null,null,{"$f":"IF(P15=J1,M6*M6,M7*M6)","v":0.51461988304093564}]
["PBKS","KKR","KKR","4 wickets","Pune","T20",null,null,{"$f":"CONCATENATE(\"probability of\",\" \",J1,\" \",\"losing next 2 matches against\",\" \",J2,\":\")","v":"probability of KKR losing next 2 matches against PBKS:"},null,null,null,null,null,{"$f":"IF(P15=J1,N6*N7,N7*N7)","v":1.2345679012345678E-2}]
["KKR","PBKS","KKR","1 wicket","Kolkata","T20",null,null,{"$f":"CONCATENATE(\"probability of\",\" \",J1,\" \",\"winning 1 and losing 1 from the next two matches against\",\" \",J2,\":\")","v":"probability of KKR winning 1 and losing 1 from the next two matches against PBKS:"},null,null,null,null,null,{"$f":"IF(P15=J1,(N6*M7)+(M6*N6),(M7*N6)+(N7*M7))","v":0.47303443794671862}]
["PBKS","KKR","KKR","6 wickets","Mohali","T20"]
["KKR","PBKS","KKR","7 runs","Kolkata","T20",null,null,{"$f":"CONCATENATE(\"probability of\",\" \",J2,\" \",\"winning next 2 matches against\",\" \",J1,\":\")","v":"probability of PBKS winning next 2 matches against KKR:"},null,null,null,null,null,{"$f":"IF(P15=J1,N6*N7,N7*N7)","v":1.2345679012345678E-2}]
["KKR","PBKS","KKR","8 wickets","Kolkata","T20",null,null,{"$f":"CONCATENATE(\"probability of\",\" \",J2,\" \",\"losing next 2 matches against\",\" \",J1,\":\")","v":"probability of PBKS losing next 2 matches against KKR:"},null,null,null,null,null,{"$f":"IF(P15=J1,M6*M6,M7*M6)","v":0.51461988304093564}]
["PBKS","KKR","PBKS","14 runs","Mohali","T20",null,null,{"$f":"CONCATENATE(\"probability of\",\" \",J2,\" \",\"winning 1 and losing 1 from the next two matches against\",\" \",J1,\":\")","v":"probability of PBKS winning 1 and losing 1 from the next two matches against KKR:"},null,null,null,null,null,{"$f":"O18","v":0.47303443794671862}]
["KKR","PBKS","PBKS","9 wickets","Kolkata","T20"]
["PBKS","KKR","KKR","31 runs","Indore","T20"]
["KKR","PBKS","KKR","28 runs","Kolkata","T20"]
["PBKS","KKR","KKR","7 wickets","Mohali","T20"]
["PBKS","KKR","KKR","2 runs","Abu Dhabi","T20"]
["KKR","PBKS","PBKS","8 wickets","Sharjah","T20"]
["PBKS","KKR","KKR","5 wickets","Ahmedabad","T20"]
["KKR","PBKS","PBKS","5 wickets","Dubai (DSC)","T20"]

{"sheet":"KKR vs DC","index":25,"n_rows":30,"n_cols":17,"rows_kept":30,"cut":false,"hidden":false,"merged":[[21,9,21,14],[15,9,15,14],[16,9,16,14],[17,9,17,14],[19,9,19,14],[20,9,20,14]]}
["Team 1","Team 2","Winner","Margin","Ground","Match Date","Scorecard","Super over winner",null,"T1","KKR"]
["KKR","DC","KKR","23 runs","Kolkata",39581,"T20",null,null,"T2","DC"]
["DC","KKR","D",null,"Delhi",39590,"T20"]
["DC","KKR","DC","9 wickets","Durban",39938,"T20",null,null,"Codes","Values"]
["DC","KKR","DC","7 wickets","Johannesburg",39943,"T20",null,null,"t1t1",9,null,"MATRIX","KKR","DC","D"]
["DC","KKR","DC","40 runs","Delhi",40266,"T20",null,null,"t1t2",5,null,"KKR",{"$f":"K5/(K5+K6+K11)","v":0.6},{"$f":"K6/(K5+K6+K11)","v":0.33333333333333331},{"$f":"K11/(K11+K5+K6)","v":6.6666666666666666E-2}]
["KKR","DC","KKR","14 runs","Kolkata",40275,"T20",null,null,"t2t1",6,null,"DC",{"$f":"K7/(K7+K8+K12)","v":0.5},{"$f":"K8/(K7+K8+K12)","v":0.5},{"$f":"K12/(K12+K7+K8)","v":0}]
["DC","KKR","KKR","17 runs","Delhi",40661,"T20",null,null,"t2t2",6,null,"D",{"$f":"K9/(K9+K10+K13)","v":0},{"$f":"K10/(K9+K10+K13)","v":1},{"$f":"K13/(K13+K9+K10)","v":0}]
["KKR","DC","DC","8 wickets","Kolkata",41004,"T20",null,null,"dt1",0]
["DC","KKR","KKR","6 wickets","Delhi",41036,"T20",null,null,"dt2",1]
["DC","KKR","KKR","18 runs","Pune",41051,"T20",null,null,"t1d",1]
["KKR","DC","KKR","6 wickets","Kolkata",41367,"T20",null,null,"t2d",0]
["DC","KKR","DC","7 wickets","Raipur",41395,"T20",null,null,"dd",0]
["KKR","DC","DC","4 wickets","Dubai (DSC)",41748,"T20",null,null,"Total",{"$f":"SUM(K5:K13)","v":28}]
["DC","KKR","KKR","8 wickets","Delhi",41766,"T20",null,null,null,null,null,null,null,null,"Latest match winner:","KKR"]
["DC","KKR","KKR","6 wickets","Delhi",42114,"T20",null,null,{"$f":"CONCATENATE(\"probability of\",\" \",K1,\" \",\"winning next 2 matches against\",\" \",K2,\":\")","v":"probability of KKR winning next 2 matches against DC:"},null,null,null,null,null,{"$f":"IF(Q15=K1,N6*N6,N7*N6)","v":0.36}]
["KKR","DC","KKR","13 runs","Kolkata",42131,"T20",null,null,{"$f":"CONCATENATE(\"probability of\",\" \",K1,\" \",\"losing next 2 matches against\",\" \",K2,\":\")","v":"probability of KKR losing next 2 matches against DC:"},null,null,null,null,null,{"$f":"IF(Q15=K1,O6*O7,O7*O7)","v":0.16666666666666666}]
["KKR","DC","KKR","9 wickets","Kolkata",42470,"T20",null,null,{"$f":"CONCATENATE(\"probability of\",\" \",K1,\" \",\"winning 1 and losing 1 from the next two matches against\",\" \",K2,\":\")","v":"probability of KKR winning 1 and losing 1 from the next two matches against DC:"},null,null,null,null,null,{"$f":"IF(Q15=K1,(O6*N7)+(N6*O6),(N7*O6)+(O7*N7))","v":0.36666666666666664}]
["DC","KKR","DC","27 runs","Delhi",42490,"T20"]
["DC","KKR","KKR","4 wickets","Delhi",42842,"T20",null,null,{"$f":"CONCATENATE(\"probability of\",\" \",K2,\" \",\"winning next 2 matches against\",\" \",K1,\":\")","v":"probability of DC winning next 2 matches against KKR:"},null,null,null,null,null,{"$f":"IF(Q15=K1,O6*O7,O7*O7)","v":0.16666666666666666}]
["KKR","DC","KKR","7 wickets","Kolkata",42853,"T20",null,null,{"$f":"CONCATENATE(\"probability of\",\" \",K2,\" \",\"losing next 2 matches against\",\" \",K1,\":\")","v":"probability of DC losing next 2 matches against KKR:"},null,null,null,null,null,{"$f":"IF(Q15=K1,N6*N6,N7*N6)","v":0.36}]
["KKR","DC","KKR","71 runs","Kolkata",43206,"T20",null,null,{"$f":"CONCATENATE(\"probability of\",\" \",K2,\" \",\"winning 1 and losing 1 from the next two matches against\",\" \",K1,\":\")","v":"probability of DC winning 1 and losing 1 from the next two matches against KKR:"},null,null,null,null,null,{"$f":"P18","v":0.36666666666666664}]
["DC","KKR","DC","55 runs","Delhi",43217,"T20"]
["DC","KKR","DC",null,"Delhi",43554,"T20","DC"]
["KKR","DC","DC","7 wickets","Kolkata",43567,"T20"]
["DC","KKR","DC","18 runs","Sharjah",44107,"T20"]
["KKR","DC","KKR","59 runs","Abu Dhabi",44128,"T20"]
["DC","KKR","DC","7 wickets","Ahmedabad",44315,"T20"]
["KKR","DC","KKR","3 wickets","Sharjah",44467,"T20"]
["DC","KKR","KKR","3 wickets","Sharjah",44482,"T20"]

{"sheet":"KKR vs CSK","index":26,"n_rows":27,"n_cols":17,"rows_kept":27,"cut":false,"hidden":false,"merged":[[21,9,21,14],[15,9,15,14],[16,9,16,14],[17,9,17,14],[19,9,19,14],[20,9,20,14]]}
["Team 1","Team 2","Winner","Margin","Ground","Match Date","Scorecard","Super over winner",null,"T1","KKR"]
["CSK","KKR","CSK","9 wickets","Chennai","2008-04-26","T20",null,null,"T2","CSK"]
["KKR","CSK","CSK","3 runs","Kolkata","2008-05-18","T20"]
["CSK","KKR","D",null,"Cape Town","2009-04-25","T20",null,null,"Codes","Vaues"]
["CSK","KKR","KKR","7 wickets","Centurion","2009-05-18","T20",null,null,"t1t1",1,null,"MATRIX","KKR","CSK","D"]
["KKR","CSK","CSK","55 runs","Kolkata","2010-03-16","T20",null,null,"t1t2",7,null,"KKR",{"$f":"K5/(K5+K6+K11)","v":0.125},{"$f":"K6/(K5+K6+K11)","v":0.875},{"$f":"K11/(K11+K5+K6)","v":0}]
["CSK","KKR","CSK","9 wickets","Chennai","2010-04-13","T20",null,null,"t2t1",6,null,"CSK",{"$f":"K7/(K7+K8+K12)","v":0.375},{"$f":"K8/(K7+K8+K12)","v":0.5625},{"$f":"K12/(K12+K7+K8)","v":6.25E-2}]
["CSK","KKR","CSK","2 runs","Chennai","2011-04-08","T20",null,null,"t2t2",9,null,"D",{"$f":"K9/(K9+K10+K13)","v":1},{"$f":"K10/(K9+K10+K13)","v":0},{"$f":"K13/(K13+K9+K10)","v":0}]
["KKR","CSK","KKR","10 runs","Kolkata","2011-05-07","T20",null,null,"dt1",1]
["CSK","KKR","KKR","5 wickets","Chennai","2012-04-30","T20",null,null,"dt2",0]
["KKR","CSK","CSK","5 wickets","Kolkata","2012-05-14","T20",null,null,"t1d",0]
["CSK","KKR","KKR","5 wickets","Chennai","2012-05-27","T20",null,null,"t2d",1]
["KKR","CSK","CSK","4 wickets","Kolkata","2013-04-20","T20",null,null,"dd",0]
["CSK","KKR","CSK","14 runs","Chennai","2013-04-28","T20",null,null,"Total",{"$f":"SUM(K5:K13)","v":25}]
["CSK","KKR","CSK","34 runs","Ranchi","2014-05-02","T20",null,null,null,null,null,null,null,null,"Latest match winner:","CSK"]
["KKR","CSK","KKR","8 wickets","Kolkata","2014-05-20","T20",null,null,{"$f":"CONCATENATE(\"probability of\",\" \",K1,\" \",\"winning next 2 matches against\",\" \",K2,\":\")","v":"probability of KKR winning next 2 matches against CSK:"},null,null,null,null,null,{"$f":"IF(Q15=K1,N6*N6,N7*N6)","v":4.6875E-2}]
["CSK","KKR","CSK","2 runs","Chennai","2015-04-28","T20",null,null,{"$f":"CONCATENATE(\"probability of\",\" \",K1,\" \",\"losing next 2 matches against\",\" \",K2,\":\")","v":"probability of KKR losing next 2 matches against CSK:"},null,null,null,null,null,{"$f":"IF(Q15=K1,O6*O7,O7*O7)","v":0.31640625}]
["KKR","CSK","KKR","7 wickets","Kolkata","2015-04-30","T20",null,null,{"$f":"CONCATENATE(\"probability of\",\" \",K1,\" \",\"winning 1 and losing 1 from the next two matches against\",\" \",K2,\":\")","v":"probability of KKR winning 1 and losing 1 from the next two matches against CSK:"},null,null,null,null,null,{"$f":"IF(Q15=K1,(O6*N7)+(N6*O6),(N7*O6)+(O7*N7))","v":0.5390625}]
["CSK","KKR","CSK","5 wickets","Chennai","2018-04-10","T20"]
["KKR","CSK","KKR","6 wickets","Kolkata","2018-05-03","T20",null,null,{"$f":"CONCATENATE(\"probability of\",\" \",K2,\" \",\"winning next 2 matches against\",\" \",K1,\":\")","v":"probability of CSK winning next 2 matches against KKR:"},null,null,null,null,null,{"$f":"IF(Q15=K1,O6*O7,O7*O7)","v":0.31640625}]
["CSK","KKR","CSK","7 wickets","Chennai","2019-04-09","T20",null,null,{"$f":"CONCATENATE(\"probability of\",\" \",K2,\" \",\"losing next 2 matches against\",\" \",K1,\":\")","v":"probability of CSK losing next 2 matches against KKR:"},null,null,null,null,null,{"$f":"IF(Q15=K1,N6*N6,N7*N6)","v":4.6875E-2}]
["KKR","CSK","CSK","5 wickets","Kolkata","2019-04-14","T20",null,null,{"$f":"CONCATENATE(\"probability of\",\" \",K2,\" \",\"winning 1 and losing 1 from the next two matches against\",\" \",K1,\":\")","v":"probability of CSK winning 1 and losing 1 from the next two matches against KKR:"},null,null,null,null,null,{"$f":"P18","v":0.5390625}]
["KKR","CSK","KKR","10 runs","Abu Dhabi","2020-10-07","T20"]
["CSK","KKR","CSK","6 wickets","Dubai (DSC)","2020-10-29","T20"]
["KKR","CSK","CSK","18 runs","Wankhede","2021-04-21","T20"]
["CSK","KKR","CSK","2 wickets","Abu Dhabi","2021-09-26","T20"]
["CSK","KKR","CSK","27 runs","Dubai (DSC)","2021-10-15","T20"]

{"sheet":"PBKS vs DC","index":27,"n_rows":29,"n_cols":17,"rows_kept":29,"cut":false,"hidden":false,"merged":[[21,9,21,14],[15,9,15,14],[16,9,16,14],[17,9,17,14],[19,9,19,14],[20,9,20,14]]}
["Team 1","Team 2","Winner","Margin","Ground","Match Date","Scorecard","Super over winner",null,"T1","PBKS"]
["PBKS","DC","PBKS","4 wickets","Mohali",39565,"T20",null,null,"T2","DC"]
["DC","PBKS","PBKS","6 runs","Delhi",39585,"T20"]
["DC","PBKS","DC","10 wickets","Cape Town",39922,"T20",null,null,"Codes","Values"]
["DC","PBKS","PBKS","6 wickets","Bloemfontein",39948,"T20",null,null,"t1t1",7,null,"MATRIX","PBKS","DC"]
["PBKS","DC","DC","5 wickets","Mohali",40250,"T20",null,null,"t1t2",8,null,"PBKS",{"$f":"K5/(K5+K6+K11)","v":0.46666666666666667},{"$f":"K6/(K5+K6+K11)","v":0.53333333333333333}]
["DC","PBKS","PBKS","7 wickets","Delhi",40279,"T20",null,null,"t2t1",7,null,"DC",{"$f":"K7/(K7+K8+K12)","v":0.58333333333333337},{"$f":"K8/(K7+K8+K12)","v":0.41666666666666669}]
["DC","PBKS","DC","29 runs","Delhi",40656,"T20",null,null,"t2t2",5]
["PBKS","DC","PBKS","29 runs","Dharamsala",40678,"T20",null,null,"dt1",0]
["DC","PBKS","DC","5 wickets","Delhi",41044,"T20",null,null,"dt2",0]
["PBKS","DC","DC","6 wickets","Dharamsala",41048,"T20",null,null,"t1d",0]
["DC","PBKS","PBKS","5 wickets","Delhi",41387,"T20",null,null,"t2d",0]
["PBKS","DC","PBKS","7 runs","Dharamsala",41410,"T20",null,null,"dd",0]
["DC","PBKS","PBKS","4 wickets","Delhi",41778,"T20",null,null,"Total",{"$f":"SUM(K5:K13)","v":27}]
["PBKS","DC","PBKS","7 wickets","Mohali",41784,"T20",null,null,null,null,null,null,null,null,"Latest match winner:","DC"]
["PBKS","DC","DC","5 wickets","Pune",42109,"T20",null,null,{"$f":"CONCATENATE(\"probability of\",\" \",K1,\" \",\"winning next 2 matches against\",\" \",K2,\":\")","v":"probability of PBKS winning next 2 matches against DC:"},null,null,null,null,null,{"$f":"IF(Q15=K1,N6*N6,N7*N6)","v":0.27222222222222225}]
["DC","PBKS","DC","9 wickets","Delhi",42125,"T20",null,null,{"$f":"CONCATENATE(\"probability of\",\" \",K1,\" \",\"losing next 2 matches against\",\" \",K2,\":\")","v":"probability of PBKS losing next 2 matches against DC:"},null,null,null,null,null,{"$f":"IF(Q15=K1,O6*O7,O7*O7)","v":0.17361111111111113}]
["DC","PBKS","DC","8 wickets","Delhi",42475,"T20",null,null,{"$f":"CONCATENATE(\"probability of\",\" \",K1,\" \",\"winning 1 and losing 1 from the next two matches against\",\" \",K2,\":\")","v":"probability of PBKS winning 1 and losing 1 from the next two matches against DC:"},null,null,null,null,null,{"$f":"IF(Q15=K1,(O6*N7)+(N6*O6),(N7*O6)+(O7*N7))","v":0.5541666666666667}]
["PBKS","DC","PBKS","9 runs","Mohali",42497,"T20"]
["DC","PBKS","DC","51 runs","Delhi",42840,"T20",null,null,{"$f":"CONCATENATE(\"probability of\",\" \",K2,\" \",\"winning next 2 matches against\",\" \",K1,\":\")","v":"probability of DC winning next 2 matches against PBKS:"},null,null,null,null,null,{"$f":"IF(Q15=K1,O6*O7,O7*O7)","v":0.17361111111111113}]
["PBKS","DC","PBKS","10 wickets","Mohali",42855,"T20",null,null,{"$f":"CONCATENATE(\"probability of\",\" \",K2,\" \",\"losing next 2 matches against\",\" \",K1,\":\")","v":"probability of DC losing next 2 matches against PBKS:"},null,null,null,null,null,{"$f":"IF(Q15=K1,N6*N6,N7*N6)","v":0.27222222222222225}]
["PBKS","DC","PBKS","6 wickets","Mohali",43198,"T20",null,null,{"$f":"CONCATENATE(\"probability of\",\" \",K2,\" \",\"winning 1 and losing 1 from the next two matches against\",\" \",K1,\":\")","v":"probability of DC winning 1 and losing 1 from the next two matches against PBKS:"},null,null,null,null,null,{"$f":"P18","v":0.5541666666666667}]
["DC","PBKS","PBKS","4 runs","Delhi",43213,"T20"]
["PBKS","DC","PBKS","14 runs","Mohali",43556,"T20"]
["DC","PBKS","DC","5 wickets","Delhi",43575,"T20"]
["DC","PBKS","DC",null,"Dubai (DSC)",44094,"T20","DC"]
["PBKS","DC","PBKS","5 wickets","Dubai (DSC)",44124,"T20"]
["DC","PBKS","DC","6 wickets","Wankhede",44304,"T20"]
["PBKS","DC","DC","7 wickets","Ahmedabad",44318,"T20"]

{"sheet":"PBKS vs CSK","index":28,"n_rows":26,"n_cols":16,"rows_kept":26,"cut":false,"hidden":false,"merged":[[21,8,21,13],[15,8,15,13],[16,8,16,13],[17,8,17,13],[19,8,19,13],[20,8,20,13]]}
["Team 1","Team 2","Winner","Margin","Ground","Scorecard","Super over winner",null,"T1","PBKS"]
["PBKS","CSK","CSK","33 runs","Mohali","T20",null,null,"T2","CSK"]
["CSK","PBKS","CSK","18 runs","Chennai","T20"]
["CSK","PBKS","CSK","9 wickets","Wankhede","T20",null,null,"Codes","Values"]
["CSK","PBKS","CSK","12 runs","Centurion","T20",null,null,"t1t1",4,null,"MATRIX","PBKS","CSK"]
["CSK","PBKS","CSK","24 runs","Durban","T20",null,null,"t1t2",5,null,"PBKS",{"$f":"J5/(J5+J6+J11)","v":0.44444444444444442},{"$f":"J6/(J5+J6+J11)","v":0.55555555555555558}]
["CSK","PBKS","PBKS",null,"Chennai","T20","PBKS",null,"t2t1",6,null,"CSK",{"$f":"J7/(J7+J8+J12)","v":0.4},{"$f":"J8/(J7+J8+J12)","v":0.6}]
["PBKS","CSK","CSK","6 wickets","Dharamsala","T20",null,null,"t2t2",9]
["PBKS","CSK","PBKS","6 wickets","Mohali","T20",null,null,"dt1",0]
["CSK","PBKS","PBKS","7 runs","Chennai","T20",null,null,"dt2",0]
["PBKS","CSK","PBKS","6 wickets","Dharamsala","T20",null,null,"t1d",0]
["PBKS","CSK","CSK","10 wickets","Mohali","T20",null,null,"t2d",0]
["CSK","PBKS","CSK","15 runs","Chennai","T20",null,null,"dd",0]
["CSK","PBKS","PBKS","6 wickets","Abu Dhabi","T20",null,null,"Total",{"$f":"SUM(J5:J13)","v":24}]
["PBKS","CSK","PBKS","44 runs","Cuttack","T20",null,null,null,null,null,null,null,null,"Latest match winner:","PBKS"]
["CSK","PBKS","PBKS","24 runs","Wankhede","T20",null,null,{"$f":"CONCATENATE(\"probability of\",\" \",J1,\" \",\"winning next 2 matches against\",\" \",J2,\":\")","v":"probability of PBKS winning next 2 matches against CSK:"},null,null,null,null,null,{"$f":"IF(P15=J1,M6*M6,M7*M6)","v":0.19753086419753085}]
["CSK","PBKS","CSK","97 runs","Chennai","T20",null,null,{"$f":"CONCATENATE(\"probability of\",\" \",J1,\" \",\"losing next 2 matches against\",\" \",J2,\":\")","v":"probability of PBKS losing next 2 matches against CSK:"},null,null,null,null,null,{"$f":"IF(P15=J1,N6*N7,N7*N7)","v":0.33333333333333331}]
["PBKS","CSK","CSK","7 wickets","Mohali","T20",null,null,{"$f":"CONCATENATE(\"probability of\",\" \",J1,\" \",\"winning 1 and losing 1 from the next two matches against\",\" \",J2,\":\")","v":"probability of PBKS winning 1 and losing 1 from the next two matches against CSK:"},null,null,null,null,null,{"$f":"IF(P15=J1,(N6*M7)+(M6*N6),(M7*N6)+(N7*M7))","v":0.46913580246913578}]
["PBKS","CSK","PBKS","4 runs","Mohali","T20"]
["CSK","PBKS","CSK","5 wickets","Pune","T20",null,null,{"$f":"CONCATENATE(\"probability of\",\" \",J2,\" \",\"winning next 2 matches against\",\" \",J1,\":\")","v":"probability of CSK winning next 2 matches against PBKS:"},null,null,null,null,null,{"$f":"IF(P15=J1,N6*N7,N7*N7)","v":0.33333333333333331}]
["CSK","PBKS","CSK","22 runs","Chennai","T20",null,null,{"$f":"CONCATENATE(\"probability of\",\" \",J2,\" \",\"losing next 2 matches against\",\" \",J1,\":\")","v":"probability of CSK losing next 2 matches against PBKS:"},null,null,null,null,null,{"$f":"IF(P15=J1,M6*M6,M7*M6)","v":0.19753086419753085}]
["PBKS","CSK","PBKS","6 wickets","Mohali","T20",null,null,{"$f":"CONCATENATE(\"probability of\",\" \",J2,\" \",\"winning 1 and losing 1 from the next two matches against\",\" \",J1,\":\")","v":"probability of CSK winning 1 and losing 1 from the next two matches against PBKS:"},null,null,null,null,null,{"$f":"O18","v":0.46913580246913578}]
["PBKS","CSK","CSK","10 wickets","Dubai (DSC)","T20"]
["CSK","PBKS","CSK","9 wickets","Abu Dhabi","T20"]
["PBKS","CSK","CSK","6 wickets","Wankhede","T20"]
["CSK","PBKS","PBKS","6 wickets","Dubai (DSC)","T20"]

{"sheet":"DC vs CSK","index":29,"n_rows":27,"n_cols":16,"rows_kept":27,"cut":false,"hidden":false,"merged":[[21,8,21,13],[15,8,15,13],[16,8,16,13],[17,8,17,13],[19,8,19,13],[20,8,20,13]]}
["Team 1","Team 2","Winner","Margin","Ground","Scorecard","Super over winner",null,"T1","DC"]
["CSK","DC","DC","8 wickets","Chennai","T20",null,null,"T2","CSK"]
["DC","CSK","CSK","4 wickets","Delhi","T20"]
["CSK","DC","DC","9 runs","Durban","T20",null,null,"Codes","Values"]
["CSK","DC","CSK","18 runs","Johannesburg","T20",null,null,"t1t1",3,null,"MATRIX","DC","CSK"]
["DC","CSK","CSK","5 wickets","Delhi","T20",null,null,"t1t2",7,null,"DC",{"$f":"J5/(J5+J6+J11)","v":0.3},{"$f":"J6/(J5+J6+J11)","v":0.7}]
["CSK","DC","DC","6 wickets","Chennai","T20",null,null,"t2t1",6,null,"CSK",{"$f":"J7/(J7+J8+J12)","v":0.4},{"$f":"J8/(J7+J8+J12)","v":0.6}]
["CSK","DC","CSK","18 runs","Chennai","T20",null,null,"t2t2",9]
["DC","CSK","DC","8 wickets","Delhi","T20",null,null,"dt1",0]
["CSK","DC","CSK","9 wickets","Chennai","T20",null,null,"dt2",0]
["CSK","DC","CSK","86 runs","Chennai","T20",null,null,"t1d",0]
["DC","CSK","CSK","86 runs","Delhi","T20",null,null,"t2d",0]
["CSK","DC","CSK","33 runs","Chennai","T20",null,null,"dd",0]
["CSK","DC","CSK","93 runs","Abu Dhabi","T20",null,null,"Total",{"$f":"SUM(J5:J13)","v":25}]
["DC","CSK","CSK","8 wickets","Delhi","T20",null,null,null,null,null,null,null,null,"Latest match winner:","CSK"]
["CSK","DC","CSK","1 run","Chennai","T20",null,null,{"$f":"CONCATENATE(\"probability of\",\" \",J1,\" \",\"winning next 2 matches against\",\" \",J2,\":\")","v":"probability of DC winning next 2 matches against CSK:"},null,null,null,null,null,{"$f":"IF(P15=J1,M6*M6,M7*M6)","v":0.12}]
["DC","CSK","DC","6 wickets","Raipur","T20",null,null,{"$f":"CONCATENATE(\"probability of\",\" \",J1,\" \",\"losing next 2 matches against\",\" \",J2,\":\")","v":"probability of DC losing next 2 matches against CSK:"},null,null,null,null,null,{"$f":"IF(P15=J1,N6*N7,N7*N7)","v":0.36}]
["CSK","DC","CSK","13 runs","Pune","T20",null,null,{"$f":"CONCATENATE(\"probability of\",\" \",J1,\" \",\"winning 1 and losing 1 from the next two matches against\",\" \",J2,\":\")","v":"probability of DC winning 1 and losing 1 from the next two matches against CSK:"},null,null,null,null,null,{"$f":"IF(P15=J1,(N6*M7)+(M6*N6),(M7*N6)+(N7*M7))","v":0.52}]
["DC","CSK","DC","34 runs","Delhi","T20"]
["DC","CSK","CSK","6 wickets","Delhi","T20",null,null,{"$f":"CONCATENATE(\"probability of\",\" \",J2,\" \",\"winning next 2 matches against\",\" \",J1,\":\")","v":"probability of CSK winning next 2 matches against DC:"},null,null,null,null,null,{"$f":"IF(P15=J1,N6*N7,N7*N7)","v":0.36}]
["CSK","DC","CSK","80 runs","Chennai","T20",null,null,{"$f":"CONCATENATE(\"probability of\",\" \",J2,\" \",\"losing next 2 matches against\",\" \",J1,\":\")","v":"probability of CSK losing next 2 matches against DC:"},null,null,null,null,null,{"$f":"IF(P15=J1,M6*M6,M7*M6)","v":0.12}]
["CSK","DC","CSK","6 wickets","Visakhapatnam","T20",null,null,{"$f":"CONCATENATE(\"probability of\",\" \",J2,\" \",\"winning 1 and losing 1 from the next two matches against\",\" \",J1,\":\")","v":"probability of CSK winning 1 and losing 1 from the next two matches against DC:"},null,null,null,null,null,{"$f":"O18","v":0.52}]
["CSK","DC","DC","44 runs","Dubai (DSC)","T20"]
["DC","CSK","DC","5 wickets","Sharjah","T20"]
["CSK","DC","DC","7 wickets","Wankhede","T20"]
["DC","CSK","DC","3 wickets","Dubai (DSC)","T20"]
["DC","CSK","CSK","4 wickets","Dubai (DSC)","T20"]

{"sheet":"Consolidated probability tables","index":30,"n_rows":21,"n_cols":20,"rows_kept":21,"cut":false,"hidden":false,"merged":[[12,6,13,6],[12,7,12,9],[12,11,13,11],[12,12,12,14],[1,1,2,1],[1,2,1,4],[12,1,13,1],[12,2,12,4],[1,6,2,6],[1,16,2,16],[1,17,1,19],[12,16,13,16],[12,17,12,19],[1,7,1,9],[1,11,2,11],[1,12,1,14]]}
[]
[null,"AGAINST","CSK",null,null,null,"AGAINST","RCB",null,null,null,"AGAINST","SRH",null,null,null,"AGAINST","PBKS"]
[null,null,"2 wins","2 losses","1 win, 1 loss",null,null,"2 wins","2 losses","1 win, 1 loss",null,null,"2 wins","2 losses","1 win, 1 loss",null,null,"2 wins","2 losses","1 win, 1 loss"]
[null,"MI",{"$f":"'MI vs CSK'!O20","v":0.1111111111111111},{"$f":"'MI vs CSK'!O21","v":0.38596491228070173},{"$f":"'MI vs CSK'!O22","v":0.50292397660818711},null,"MI",{"$f":"'MI vs RCB'!O20","v":3.3057851239669422E-2},{"$f":"'MI vs RCB'!O21","v":0.38502673796791448},{"$f":"'MI vs RCB'!O22","v":0.58191541079241615},null,"MI",{"$f":"'MI vs SRH'!O20","v":0.15555555555555556},{"$f":"'MI vs SRH'!O21","v":0.28444444444444444},{"$f":"'MI vs SRH'!O22","v":0.56000000000000005},null,"MI",{"$f":"'MI vs PBKS'!O20","v":0.17582417582417584},{"$f":"'MI vs PBKS'!O21","v":0.18367346938775508},{"$f":"'MI vs PBKS'!O22","v":0.64050235478806905}]
[null,"RCB",{"$f":"'RCB vs CSK'!O20","v":0.41868512110726647},{"$f":"'RCB vs CSK'!O21","v":0.13071895424836602},{"$f":"'RCB vs CSK'!O22","v":0.35371011149557863},null,"CSK",{"$f":"'RCB vs CSK'!O16","v":0.13071895424836602},{"$f":"'RCB vs CSK'!O17","v":0.41868512110726647},{"$f":"'RCB vs CSK'!O18","v":0.35371011149557863},null,"RCB",{"$f":"'RCB vs SRH'!O20","v":0.19140625},{"$f":"'RCB vs SRH'!O21","v":0.15384615384615385},{"$f":"'RCB vs SRH'!O22","v":0.56490384615384615},null,"RCB",{"$f":"'RCB vs PBKS'!O20","v":0.25},{"$f":"'RCB vs PBKS'!O21","v":0.34027777777777785},{"$f":"'RCB vs PBKS'!O22","v":0.40972222222222227}]
[null,"RR",{"$f":"'RR vs CSK'!O20","v":0.39999999999999997},{"$f":"'RR vs CSK'!O21","v":0.1111111111111111},{"$f":"'RR vs CSK'!O22","v":0.48888888888888887},null,"RR",{"$f":"'RCB vs RR'!O16","v":0.20661157024793386},{"$f":"'RCB vs RR'!O17","v":0.18181818181818182},{"$f":"'RCB vs RR'!O18","v":0.31074380165289262},null,"RR",{"$f":"'RR VS SRH'!O20","v":0.1111111111111111},{"$f":"'RR VS SRH'!O21","v":0.33333333333333331},{"$f":"'RR VS SRH'!O22","v":0.55555555555555558},null,"RR",{"$f":"'RR vs PBKS'!O20","v":0.2},{"$f":"'RR vs PBKS'!O21","v":0.25},{"$f":"'RR vs PBKS'!O22","v":0.55000000000000004}]
[null,"SRH",{"$f":"'SRH vs CSK'!O20","v":0.41868512110726647},{"$f":"'SRH vs CSK'!O21","v":4.4117647058823532E-2},{"$f":"'SRH vs CSK'!O22","v":0.5371972318339101},null,"SRH",{"$f":"'RCB vs SRH'!O16","v":0.15384615384615385},{"$f":"'RCB vs SRH'!O17","v":0.19140625},{"$f":"'RCB vs SRH'!O18","v":0.56490384615384615},null,"CSK",{"$f":"'SRH vs CSK'!O16","v":4.4117647058823532E-2},{"$f":"'SRH vs CSK'!O17","v":0.41868512110726647},{"$f":"'SRH vs CSK'!O18","v":0.5371972318339101},null,"SRH",{"$f":"'SRH vs PBKS'!O20","v":0.17361111111111113},{"$f":"'SRH vs PBKS'!O21","v":0.31111111111111112},{"$f":"'SRH vs PBKS'!O22","v":0.51527777777777783}]
[null,"KKR",{"$f":"'KKR vs CSK'!P20","v":0.31640625},{"$f":"'KKR vs CSK'!P21","v":4.6875E-2},{"$f":"'KKR vs CSK'!P22","v":0.5390625},null,"KKR",{"$f":"'RCB vs KKR'!O16","v":0.2153846153846154},{"$f":"'RCB vs KKR'!O17","v":0.36},{"$f":"'RCB vs KKR'!O18","v":0.42461538461538462},null,"KKR",{"$f":"'SRH vs KKR'!O16","v":4.4444444444444446E-2},{"$f":"'SRH vs KKR'!O17","v":0.30250000000000005},{"$f":"'SRH vs KKR'!O18","v":0.5755555555555556},null,"KKR",{"$f":"'KKR vs PBKS'!O20","v":1.2345679012345678E-2},{"$f":"'KKR vs PBKS'!O21","v":0.51461988304093564},{"$f":"'KKR vs PBKS'!O22","v":0.47303443794671862}]
[null,"PBKS",{"$f":"'PBKS vs CSK'!O20","v":0.33333333333333331},{"$f":"'PBKS vs CSK'!O21","v":0.19753086419753085},{"$f":"'PBKS vs CSK'!O22","v":0.46913580246913578},null,"PBKS",{"$f":"'RCB vs PBKS'!O16","v":0.34027777777777785},{"$f":"'RCB vs PBKS'!O17","v":0.25},{"$f":"'RCB vs PBKS'!O18","v":0.40972222222222227},null,"PBKS",{"$f":"'SRH vs PBKS'!O16","v":0.31111111111111112},{"$f":"'SRH vs PBKS'!O17","v":0.17361111111111113},{"$f":"'SRH vs PBKS'!O18","v":0.51527777777777783},null,"CSK",{"$f":"'PBKS vs CSK'!O16","v":0.19753086419753085},{"$f":"'PBKS vs CSK'!O17","v":0.33333333333333331},{"$f":"'PBKS vs CSK'!O18","v":0.46913580246913578}]
[null,"DC",{"$f":"'DC vs CSK'!O20","v":0.36},{"$f":"'DC vs CSK'!O21","v":0.12},{"$f":"'DC vs CSK'!O22","v":0.52},null,"DC",{"$f":"'RCB vs DC'!O16","v":0.64000000000000012},{"$f":"'RCB vs DC'!O17","v":0.08},{"$f":"'RCB vs DC'!O18","v":0.16},null,"DC",{"$f":"'SRH vs DC'!O16","v":0.24},{"$f":"'SRH vs DC'!O17","v":0.36},{"$f":"'SRH vs DC'!O18","v":0.4},null,"DC",{"$f":"'PBKS vs DC'!P16","v":0.27222222222222225},{"$f":"'PBKS vs DC'!P17","v":0.17361111111111113},{"$f":"'PBKS vs DC'!P18","v":0.5541666666666667}]
[]
[]
[null,"AGAINST","MI",null,null,null,"AGAINST","RR",null,null,null,"AGAINST","KKR",null,null,null,"AGAINST","DC"]
[null,null,"2 wins","2 losses","1 win, 1 loss",null,null,"2 wins","2 losses","1 win, 1 loss",null,null,"2 wins","2 losses","1 win, 1 loss",null,null,"2 wins","2 losses","1 win, 1 loss"]
[null,"CSK",{"$f":"'MI vs CSK'!O16","v":0.38596491228070173},{"$f":"'MI vs CSK'!O17","v":0.1111111111111111},{"$f":"'MI vs CSK'!O18","v":0.50292397660818711},null,"MI",{"$f":"'MI vs RR'!O20","v":0.18181818181818182},{"$f":"'MI vs RR'!O21","v":0.25},{"$f":"'MI vs RR'!O22","v":0.52272727272727271},null,"MI",{"$f":"'MI VS KKR'!O20","v":0.1111111111111111},{"$f":"'MI VS KKR'!O21","v":0.51515151515151514},{"$f":"'MI VS KKR'!O22","v":0.3737373737373737},null,"MI",{"$f":"'MI vs DC'!O20","v":0.28994082840236685},{"$f":"'MI vs DC'!O21","v":0.25961538461538464},{"$f":"'MI vs DC'!O22","v":0.45044378698224852}]
[null,"RCB",{"$f":"'MI vs RCB'!O16","v":0.38502673796791448},{"$f":"'MI vs RCB'!O17","v":3.3057851239669422E-2},{"$f":"'MI vs RCB'!O18","v":0.58191541079241615},null,"RCB",{"$f":"'RCB vs RR'!O20","v":0.18181818181818182},{"$f":"'RCB vs RR'!O21","v":0.20661157024793386},{"$f":"'RCB vs RR'!O22","v":0.31074380165289262},null,"RCB",{"$f":"'RCB vs KKR'!O20","v":0.36},{"$f":"'RCB vs KKR'!O21","v":0.2153846153846154},{"$f":"'RCB vs KKR'!O22","v":0.42461538461538462},null,"RCB",{"$f":"'RCB vs DC'!O20","v":0.08},{"$f":"'RCB vs DC'!O21","v":0.64000000000000012},{"$f":"'RCB vs DC'!O22","v":0.16}]
[null,"RR",{"$f":"'MI vs RR'!O16","v":0.25},{"$f":"'MI vs RR'!O17","v":0.18181818181818182},{"$f":"'MI vs RR'!O18","v":0.52272727272727271},null,"CSK",{"$f":"'RR vs CSK'!O16","v":0.1111111111111111},{"$f":"'RR vs CSK'!O17","v":0.39999999999999997},{"$f":"'RR vs CSK'!O18","v":0.48888888888888887},null,"RR",{"$f":"'RR vs KKR'!O20","v":0.25},{"$f":"'RR vs KKR'!O21","v":0.13636363636363635},{"$f":"'RR vs KKR'!O22","v":0.56818181818181812},null,"RR",{"$f":"'RR vs DC'!O20","v":0.4049586776859504},{"$f":"'RR vs DC'!O21","v":0.24242424242424243},{"$f":"'RR vs DC'!O22","v":0.35261707988980717}]
[null,"SRH",{"$f":"'MI vs SRH'!O16","v":0.28444444444444444},{"$f":"'MI vs SRH'!O17","v":0.15555555555555556},{"$f":"'MI vs SRH'!O18","v":0.56000000000000005},null,"SRH",{"$f":"'RR VS SRH'!O16","v":0.33333333333333331},{"$f":"'RR VS SRH'!O17","v":0.1111111111111111},{"$f":"'RR VS SRH'!O18","v":0.55555555555555558},null,"SRH",{"$f":"'SRH vs KKR'!O20","v":0.30250000000000005},{"$f":"'SRH vs KKR'!O21","v":4.4444444444444446E-2},{"$f":"'SRH vs KKR'!O22","v":0.5755555555555556},null,"SRH",{"$f":"'SRH vs DC'!O20","v":0.36},{"$f":"'SRH vs DC'!O21","v":0.24},{"$f":"'SRH vs DC'!O22","v":0.4}]
[null,"KKR",{"$f":"'MI VS KKR'!O16","v":0.51515151515151514},{"$f":"'MI VS KKR'!O17","v":0.1111111111111111},{"$f":"'MI VS KKR'!O18","v":0.3737373737373737},null,"KKR",{"$f":"'RR vs KKR'!O16","v":0.13636363636363635},{"$f":"'RR vs KKR'!O17","v":0.25},{"$f":"'RR vs KKR'!O18","v":0.56818181818181812},null,"CSK",{"$f":"'KKR vs CSK'!P16","v":4.6875E-2},{"$f":"'KKR vs CSK'!P17","v":0.31640625},{"$f":"'KKR vs CSK'!P18","v":0.5390625},null,"KKR",{"$f":"'KKR vs DC'!P20","v":0.16666666666666666},{"$f":"'KKR vs DC'!P21","v":0.36},{"$f":"'KKR vs DC'!P22","v":0.36666666666666664}]
[null,"PBKS",{"$f":"'MI vs PBKS'!O16","v":0.18367346938775508},{"$f":"'MI vs PBKS'!O17","v":0.17582417582417584},{"$f":"'MI vs PBKS'!O18","v":0.64050235478806905},null,"PBKS",{"$f":"'RR vs PBKS'!O16","v":0.25},{"$f":"'RR vs PBKS'!O17","v":0.2},{"$f":"'RR vs PBKS'!O18","v":0.55000000000000004},null,"PBKS",{"$f":"'KKR vs PBKS'!O16","v":0.51461988304093564},{"$f":"'KKR vs PBKS'!O17","v":1.2345679012345678E-2},{"$f":"'KKR vs PBKS'!O18","v":0.47303443794671862},null,"PBKS",{"$f":"'PBKS vs DC'!P20","v":0.17361111111111113},{"$f":"'PBKS vs DC'!P21","v":0.27222222222222225},{"$f":"'PBKS vs DC'!P22","v":0.5541666666666667}]
[null,"DC",{"$f":"'MI vs DC'!O16","v":0.25961538461538464},{"$f":"'MI vs DC'!O17","v":0.28994082840236685},{"$f":"'MI vs DC'!O18","v":0.45044378698224852},null,"DC",{"$f":"'RR vs DC'!O16","v":0.24242424242424243},{"$f":"'RR vs DC'!O17","v":0.4049586776859504},{"$f":"'RR vs DC'!O18","v":0.35261707988980717},null,"DC",{"$f":"'KKR vs DC'!P16","v":0.36},{"$f":"'KKR vs DC'!P17","v":0.16666666666666666},{"$f":"'KKR vs DC'!P18","v":0.36666666666666664},null,"CSK",{"$f":"'DC vs CSK'!O16","v":0.12},{"$f":"'DC vs CSK'!O17","v":0.36},{"$f":"'DC vs CSK'!O18","v":0.52}]