{"text_format":"1","workbook":"xlsx","n_sheets":10,"sheets":["Portfolio","Assumptions","Portfolio Analysis","Monte Carlo Simulation VBA","Monte Carlo Simulation","RELIANCE","IDEA","SUNPHARMA","TATAELXSI","COALINDIA"],"not_rendered":{"charts":8,"images":0,"macros":1,"external_links":0,"defined_names":12,"comments":0,"pivot_tables":0},"unopened":[],"bounds":{"document_bytes":16777216,"sheet_cells":100000,"rows_first":2000,"rows_last":500,"rows_between":2000,"halvings":0,"cell_chars":16384,"cell_head_chars":4096},"cells_cut":0,"cells_raw":0,"read":"whole","date_system":"1900"}

{"sheet":"Portfolio","index":0,"n_rows":19,"n_cols":6,"rows_kept":19,"cut":false,"hidden":true,"merged":[[12,0,12,5]]}
[]
[null,null,"Daily Variance",null,"Annual Return"]
[null,null,{"$f":"RELIANCE!K3","v":4.8505771312416009E-4},null,{"$f":"RELIANCE!K8","v":0.2574198554127487}]
[null,null,{"$f":"IDEA!K3","v":4.0245570757088192E-3},null,{"$f":"IDEA!K8","v":-0.17742682023368361}]
[null,null,{"$f":"SUNPHARMA!K3","v":4.0428106744720541E-4},null,{"$f":"SUNPHARMA!K8","v":0.27207102017858498}]
[null,null,{"$f":"TATAELXSI!K3","v":7.9023327952906959E-4},null,{"$f":"TATAELXSI!K8","v":1.1241264873384296}]
[null,null,{"$f":"COALINDIA!K3","v":5.0236815954798637E-4},null,{"$f":"COALINDIA!K8","v":-1.8912690330075144E-4}]
[]
["Portfolio Annualised Return",{"$f":"Portfolio_Return(E3,E4,E5,E6,E7,'Monte Carlo Simulation'!B3,'Monte Carlo Simulation'!B4,'Monte Carlo Simulation'!B5,'Monte Carlo Simulation'!B6,'Monte Carlo Simulation'!B7)","v":0.29520028315855579}]
["Portfolio Annualised Daily Variance",{"$f":"(MMULT(MMULT(TRANSPOSE('Monte Carlo Simulation'!B3:B7),B15:F19),'Monte Carlo Simulation'!B3:B7)+1)^252-1","v":0.10275378118320688}]
[]
[]
["Variance-Covariance Matrix"]
[null,"RELIANCE","IDEA","SUNPHARMA","TATAELXSI","COALINDIA"]
["RELIANCE",{"$f":"VARP('Portfolio Analysis'!$B$3:$B$744)","v":4.8505771312416009E-4},1.8240127976157648E-4,1.508638365216997E-4,1.7537373677007693E-4,1.5863855597831632E-4]
["IDEA",1.8240127976157648E-4,{"$f":"VARP('Portfolio Analysis'!$C$3:$C$744)","v":4.0245570757088192E-3},2.0778782026213582E-4,1.9477500066705978E-4,2.8738844371176874E-4]
["SUNPHARMA",1.508638365216997E-4,2.0778782026213582E-4,{"$f":"VARP('Portfolio Analysis'!$D$3:$D$744)","v":4.0428106744720541E-4},1.1525173751884183E-4,1.2566821402466727E-4]
["TATAELXSI",1.7537373677007693E-4,1.9477500066705978E-4,1.1525173751884183E-4,{"$f":"VARP('Portfolio Analysis'!$E$3:$E$744)","v":7.9023327952906959E-4},1.5125516997678787E-4]
["COALINDIA",1.5863855597831632E-4,2.8738844371176874E-4,1.2566821402466727E-4,1.5125516997678787E-4,{"$f":"VARP('Portfolio Analysis'!$F$3:$F$744)","v":5.0236815954798637E-4}]

{"sheet":"Assumptions","index":1,"n_rows":8,"n_cols":1,"rows_kept":8,"cut":false,"hidden":false,"merged":[]}
["1) The 5 stocks we have selected are RELIANCE, IDEA, SUNPHARMA, TATAELXSI, and COALINDIA. These stocks are assumed to have equal weight in our hypothetical portfolio"]
["2) It is assumed that there are 252 trading days in a year"]
["3) 3-year CAGR has been used as a measure of returns"]
["4) Risk free rate has been taken as the 10 year Indian Government Bond rate as on 5/5/2022 which is 7.40%"]
["5) It has been assumed that the portfolio is worth INR 100,000"]
["6) All prices are in INR"]
["7) 10,000 iterations have been taken to generate the Monte Carlo Simulation."]
["8) We have taken 3 year daily stock data for our calculations ranging from 6/5/2019 to 4/5/2022"]

{"sheet":"Portfolio Analysis","index":2,"n_rows":744,"n_cols":14,"rows_kept":744,"cut":false,"hidden":false,"merged":[[0,0,0,6]]}
["Daily Returns",null,null,null,null,null,null,null,"Stock","Weight","CMP (as of 4/5/22)"]
["Date","RELIANCE","IDEA","SUNPHARMA","TATAELXSI","COALINDIA","Portfolio Returns",null,"RELIANCE",0.2,{"$f":"RELIANCE!F744","v":2693.6499020000001},null,"Average Daily Portfolio Returns",{"$f":"AVERAGE(G3:G744)","v":1.4443449476719164E-3}]
["2019-05-07",{"$f":"RELIANCE!H3","v":-2.9893791504122743E-2},{"$f":"IDEA!H3","v":-4.5871559633027581E-2},{"$f":"SUNPHARMA!H3","v":-1.0923316336571065E-2},{"$f":"TATAELXSI!H3","v":2.2734690772721056E-3},{"$f":"COALINDIA!H3","v":-1.0145188737143096E-2},{"$f":"Portfolio_Return(B3,C3,D3,E3,F3,$J$2,$J$3,$J$4,$J$5,$J$6)","v":-1.8912077426718476E-2},null,"IDEA",0.2,{"$f":"IDEA!F744","v":9.1},null,"Variance of Daily Portfolio Returns",{"$f":"_xlfn.VAR.P(G3:G744)","v":3.8821219542972392E-4}]
["2019-05-08",{"$f":"RELIANCE!H4","v":-3.2787501283594284E-2},{"$f":"IDEA!H4","v":-8.3333333333333259E-2},{"$f":"SUNPHARMA!H4","v":-2.0192074176272556E-2},{"$f":"TATAELXSI!H4","v":9.3054523491575836E-4},{"$f":"COALINDIA!H4","v":1.2057100292843792E-3},{"$f":"Portfolio_Return(B4,C4,D4,E4,F4,$J$2,$J$3,$J$4,$J$5,$J$6)","v":-2.6835330705799996E-2},null,"SUNPHARMA",0.2,{"$f":"SUNPHARMA!F744","v":900.90002400000003},null,"Standard Deviation of Daily Portfolio Returns",{"$f":"SQRT(N3)","v":1.9703101162754151E-2}]
["2019-05-09",{"$f":"RELIANCE!H5","v":-3.3090943662207585E-2},{"$f":"IDEA!H5","v":0},{"$f":"SUNPHARMA!H5","v":4.555220694519857E-4},{"$f":"TATAELXSI!H5","v":3.3704364245836782E-3},{"$f":"COALINDIA!H5","v":-2.7298275810375916E-2},-1.131265219570957E-2,null,"TATAELXSI",0.2,{"$f":"TATAELXSI!F744","v":7776.5}]
["2019-05-10",{"$f":"RELIANCE!H6","v":-4.2182937320675322E-3},{"$f":"IDEA!H6","v":-1.7482517482517501E-2},{"$f":"SUNPHARMA!H6","v":-3.6417938275523642E-3},{"$f":"TATAELXSI!H6","v":-1.1582898857752655E-3},{"$f":"COALINDIA!H6","v":-4.3333439970124621E-3},-6.1668477849850245E-3,null,"COALINDIA",0.2,{"$f":"COALINDIA!F744","v":187.35000600000001}]
["2019-05-13",{"$f":"RELIANCE!H7","v":-1.5265826559483518E-2},{"$f":"IDEA!H7","v":2.8469750889679624E-2},{"$f":"SUNPHARMA!H7","v":-9.0576783481990608E-2},{"$f":"TATAELXSI!H7","v":-1.9597647619438496E-2},{"$f":"COALINDIA!H7","v":3.5232193131005118E-3},-1.86894574916265E-2]
["2019-05-14",{"$f":"RELIANCE!H8","v":2.3050975981561434E-2},{"$f":"IDEA!H8","v":-3.1141868512110649E-2},{"$f":"SUNPHARMA!H8","v":5.3629867935502729E-2},{"$f":"TATAELXSI!H8","v":-7.9247731428602197E-3},{"$f":"COALINDIA!H8","v":-1.2390775295005874E-3},7.275024946518543E-3]
["2019-05-15",{"$f":"RELIANCE!H9","v":-2.8164381132001828E-3},{"$f":"IDEA!H9","v":-7.8571428571428514E-2},{"$f":"SUNPHARMA!H9","v":-2.3125623307064691E-2},{"$f":"TATAELXSI!H9","v":1.2458980928511165E-2},{"$f":"COALINDIA!H9","v":-2.7708814995181297E-2},-2.3952664811672707E-2]
["2019-05-16",{"$f":"RELIANCE!H10","v":6.7228106703674604E-3},{"$f":"IDEA!H10","v":-5.4263565891472965E-2},{"$f":"SUNPHARMA!H10","v":6.4673558829115851E-3},{"$f":"TATAELXSI!H10","v":2.5906985894610379E-3},{"$f":"COALINDIA!H10","v":-1.2547934581094489E-2},-1.0206127065965475E-2]
["2019-05-17",{"$f":"RELIANCE!H11","v":1.6201495425295553E-3},{"$f":"IDEA!H11","v":-2.8688524590163911E-2},{"$f":"SUNPHARMA!H11","v":-8.0018313055204571E-3},{"$f":"TATAELXSI!H11","v":1.5797509103662399E-2},{"$f":"COALINDIA!H11","v":1.7230104405629554E-2},-4.0851856877257122E-4]
["2019-05-20",{"$f":"RELIANCE!H12","v":4.6157566365572889E-2},{"$f":"IDEA!H12","v":5.9071729957806074E-2},{"$f":"SUNPHARMA!H12","v":1.0755117998004993E-2},{"$f":"TATAELXSI!H12","v":-3.9890946229430568E-3},{"$f":"COALINDIA!H12","v":6.5637334385613144E-3},2.3711810627400444E-2]
["2019-05-21",{"$f":"RELIANCE!H13","v":1.0483316684323599E-2},{"$f":"IDEA!H13","v":-5.9760956175298752E-2},{"$f":"SUNPHARMA!H13","v":-1.1245340245710223E-2},{"$f":"TATAELXSI!H13","v":-2.3740423029757096E-2},{"$f":"COALINDIA!H13","v":-2.1034634209412539E-3},-1.7273373237476745E-2]
["2019-05-22",{"$f":"RELIANCE!H14","v":4.4786071380752276E-4},{"$f":"IDEA!H14","v":2.9661016949152463E-2},{"$f":"SUNPHARMA!H14","v":3.020670479598464E-2},{"$f":"TATAELXSI!H14","v":1.1296777561728533E-2},{"$f":"COALINDIA!H14","v":1.7074259861906027E-2},1.773732397651584E-2]
["2019-05-23",{"$f":"RELIANCE!H15","v":-4.8493270645416902E-3},{"$f":"IDEA!H15","v":4.9382716049382713E-2},{"$f":"SUNPHARMA!H15","v":-1.9586852481190298E-2},{"$f":"TATAELXSI!H15","v":-3.2336122208899143E-3},{"$f":"COALINDIA!H15","v":1.2020533270423739E-2},6.7466915106369095E-3]
["2019-05-24",{"$f":"RELIANCE!H16","v":2.2116982197301523E-3},{"$f":"IDEA!H16","v":7.8431372549019329E-3},{"$f":"SUNPHARMA!H16","v":6.7803849903542712E-3},{"$f":"TATAELXSI!H16","v":1.7459020884212029E-2},{"$f":"COALINDIA!H16","v":3.0720111616353574E-3},7.473250502166749E-3]
["2019-05-27",{"$f":"RELIANCE!H17","v":-1.9598341187571713E-2},{"$f":"IDEA!H17","v":1.5564202334630517E-2},{"$f":"SUNPHARMA!H17","v":-2.1647256095133072E-3},{"$f":"TATAELXSI!H17","v":1.3507224753593672E-2},{"$f":"COALINDIA!H17","v":-3.2666150002230721E-3},8.0834905818321962E-4]
["2019-05-28",{"$f":"RELIANCE!H18","v":9.9948668413644953E-3},{"$f":"IDEA!H18","v":4.5977011494252817E-2},{"$f":"SUNPHARMA!H18","v":-5.0621140102503626E-3},{"$f":"TATAELXSI!H18","v":1.2755222016101353E-2},{"$f":"COALINDIA!H18","v":2.7038041713927763E-2},1.8140605611079212E-2]
["2019-05-29",{"$f":"RELIANCE!H19","v":-8.0829828888263171E-3},{"$f":"IDEA!H19","v":-3.2967032967033072E-2},{"$f":"SUNPHARMA!H19","v":2.6771668534989912E-2},{"$f":"TATAELXSI!H19","v":3.7275852784883767E-3},{"$f":"COALINDIA!H19","v":0},-2.1101524084762209E-3]
["2019-05-30",{"$f":"RELIANCE!H20","v":1.2718507678413048E-2},{"$f":"IDEA!H20","v":7.5757575757577911E-3},{"$f":"SUNPHARMA!H20","v":-2.6073633852001454E-2},{"$f":"TATAELXSI!H20","v":-4.6139706577282835E-3},{"$f":"COALINDIA!H20","v":8.9748349071223643E-3},-2.8370086968730721E-4]
["2019-05-31",{"$f":"RELIANCE!H21","v":3.007363138942227E-4},{"$f":"IDEA!H21","v":4.8872180451127623E-2},{"$f":"SUNPHARMA!H21","v":-7.0259611629598373E-3},{"$f":"TATAELXSI!H21","v":-1.4584577023646794E-2},{"$f":"COALINDIA!H21","v":2.1744121053373089E-3},5.9473581367505048E-3]
["2019-06-03",{"$f":"RELIANCE!H22","v":2.2591425852229462E-2},{"$f":"IDEA!H22","v":3.5842293906811484E-3},{"$f":"SUNPHARMA!H22","v":1.6957288273630411E-2},{"$f":"TATAELXSI!H22","v":9.8094912798130096E-3},{"$f":"COALINDIA!H22","v":2.9191243148054768E-2},1.6426735588881761E-2]
["2019-06-04",{"$f":"RELIANCE!H23","v":-6.2858188435859635E-3},{"$f":"IDEA!H23","v":-1.0714285714285787E-2},{"$f":"SUNPHARMA!H23","v":-1.3555590227730563E-2},{"$f":"TATAELXSI!H23","v":-1.380437697151804E-2},{"$f":"COALINDIA!H23","v":9.5822510484895318E-3},-6.9555641417261647E-3]
["2019-06-06",{"$f":"RELIANCE!H24","v":-1.7978003697431199E-2},{"$f":"IDEA!H24","v":-2.8880866425992857E-2},{"$f":"SUNPHARMA!H24","v":-1.7025404942273115E-2},{"$f":"TATAELXSI!H24","v":-1.4573797981531356E-2},{"$f":"COALINDIA!H24","v":2.182987167380146E-2},-1.1325640274685416E-2]
["2019-06-07",{"$f":"RELIANCE!H25","v":-9.3795488011000887E-3},{"$f":"IDEA!H25","v":-3.7174721189590088E-3},{"$f":"SUNPHARMA!H25","v":-1.2124231616899794E-2},{"$f":"TATAELXSI!H25","v":2.1628791351575583E-3},{"$f":"COALINDIA!H25","v":-1.3375377083871043E-2},-7.2867500971344756E-3]
["2019-06-10",{"$f":"RELIANCE!H26","v":3.2321603891020466E-3},{"$f":"IDEA!H26","v":-4.4776119402985093E-2},{"$f":"SUNPHARMA!H26","v":7.0131278344491843E-3},{"$f":"TATAELXSI!H26","v":0},{"$f":"COALINDIA!H26","v":-2.3536067711956599E-2},-1.1613379778278095E-2]
["2019-06-11",{"$f":"RELIANCE!H27","v":7.5805313380325366E-3},{"$f":"IDEA!H27","v":2.734375E-2},{"$f":"SUNPHARMA!H27","v":-3.0095714898060844E-2},{"$f":"TATAELXSI!H27","v":1.2015829157568048E-2},{"$f":"COALINDIA!H27","v":-2.1210852604169883E-3},2.9446620674245506E-3]
["2019-06-12",{"$f":"RELIANCE!H28","v":2.2571525844707909E-3},{"$f":"IDEA!H28","v":-2.2813688212927841E-2},{"$f":"SUNPHARMA!H28","v":3.7185018269720871E-3},{"$f":"TATAELXSI!H28","v":-1.3775125538376454E-2},{"$f":"COALINDIA!H28","v":-6.7632766378070697E-3},-7.4752871955336983E-3]
["2019-06-13",{"$f":"RELIANCE!H29","v":-3.6782056617598521E-3},{"$f":"IDEA!H29","v":3.8910505836575737E-3},{"$f":"SUNPHARMA!H29","v":-4.2157411587163685E-3},{"$f":"TATAELXSI!H29","v":-1.1220883031258344E-2},{"$f":"COALINDIA!H29","v":-5.4474483644698646E-3},-4.1342455265093708E-3]
["2019-06-14",{"$f":"RELIANCE!H30","v":-7.3084555104539015E-3},{"$f":"IDEA!H30","v":-3.1007751937984551E-2},{"$f":"SUNPHARMA!H30","v":7.1840727083043454E-3},{"$f":"TATAELXSI!H30","v":1.8263512368536183E-2},{"$f":"COALINDIA!H30","v":-1.7606046084207572E-3},-2.9258453960037366E-3]
["2019-06-17",{"$f":"RELIANCE!H31","v":-2.6754102450991274E-2},{"$f":"IDEA!H31","v":-3.2000000000000028E-2},{"$f":"SUNPHARMA!H31","v":-2.4583002730085513E-2},{"$f":"TATAELXSI!H31","v":6.3268952265549405E-3},{"$f":"COALINDIA!H31","v":5.8792779193383993E-4},-1.528445643251761E-2]
["2019-06-18",{"$f":"RELIANCE!H32","v":-1.013828337131881E-3},{"$f":"IDEA!H32","v":-1.2396694214876103E-2},{"$f":"SUNPHARMA!H32","v":-1.1621671634783781E-2},{"$f":"TATAELXSI!H32","v":3.6338063063956483E-3},{"$f":"COALINDIA!H32","v":1.9780653644789759E-2},-3.2354684712127164E-4]
["2019-06-19",{"$f":"RELIANCE!H33","v":-2.8493745470849967E-3},{"$f":"IDEA!H33","v":-4.6025104602510414E-2},{"$f":"SUNPHARMA!H33","v":-8.5877428619985929E-3},{"$f":"TATAELXSI!H33","v":-2.4310279610208596E-2},{"$f":"COALINDIA!H33","v":-1.267525670598757E-2},-1.8889551665558037E-2]
["2019-06-20",{"$f":"RELIANCE!H34","v":1.5187632552202355E-2},{"$f":"IDEA!H34","v":4.3859649122806932E-2},{"$f":"SUNPHARMA!H34","v":4.0778327784354751E-2},{"$f":"TATAELXSI!H34","v":6.7149550719414197E-3},{"$f":"COALINDIA!H34","v":1.2837981416022215E-2},2.3875709189465535E-2]
["2019-06-21",{"$f":"RELIANCE!H35","v":-1.330233038507871E-2},{"$f":"IDEA!H35","v":2.1008403361344463E-2},{"$f":"SUNPHARMA!H35","v":-1.9718311913071163E-2},{"$f":"TATAELXSI!H35","v":7.1967628991738142E-3},{"$f":"COALINDIA!H35","v":-2.342996534871078E-2},-5.6490882772684747E-3]
["2019-06-24",{"$f":"RELIANCE!H36","v":-1.3364646639493107E-2},{"$f":"IDEA!H36","v":-4.115226337448652E-3},{"$f":"SUNPHARMA!H36","v":1.6979812283977047E-3},{"$f":"TATAELXSI!H36","v":-1.0572815580994877E-2},{"$f":"COALINDIA!H36","v":9.832797971677687E-3},-3.3043818715722483E-3]
["2019-06-25",{"$f":"RELIANCE!H37","v":2.6497134643754281E-2},{"$f":"IDEA!H37","v":0},{"$f":"SUNPHARMA!H37","v":5.9982490170606972E-3},{"$f":"TATAELXSI!H37","v":7.6326128421719819E-3},{"$f":"COALINDIA!H37","v":6.2317746196387525E-3},9.2719542245251422E-3]
["2019-06-26",{"$f":"RELIANCE!H38","v":-1.31183182046706E-3},{"$f":"IDEA!H38","v":2.0661157024793431E-2},{"$f":"SUNPHARMA!H38","v":3.5515159335060664E-2},{"$f":"TATAELXSI!H38","v":9.7891626567738754E-3},{"$f":"COALINDIA!H38","v":7.5478673911477667E-3},1.4440302917461737E-2]
["2019-06-27",{"$f":"RELIANCE!H39","v":-1.5454131725149737E-2},{"$f":"IDEA!H39","v":0},{"$f":"SUNPHARMA!H39","v":8.3864650423512987E-3},{"$f":"TATAELXSI!H39","v":1.0848269920943121E-2},{"$f":"COALINDIA!H39","v":-3.4576299854797155E-3},6.4594650532993751E-5]
["2019-06-28",{"$f":"RELIANCE!H40","v":-1.6520874463725795E-2},{"$f":"IDEA!H40","v":-1.6194331983805599E-2},{"$f":"SUNPHARMA!H40","v":-4.5927423400610179E-3},{"$f":"TATAELXSI!H40","v":1.0275095602832574E-2},{"$f":"COALINDIA!H40","v":-2.1588198329797303E-2},-9.7242103029114291E-3]
["2019-07-01",{"$f":"RELIANCE!H41","v":1.2568926730711898E-2},{"$f":"IDEA!H41","v":-1.2345679012345734E-2},{"$f":"SUNPHARMA!H41","v":1.0973970367229802E-2},{"$f":"TATAELXSI!H41","v":1.5821002203822765E-2},{"$f":"COALINDIA!H41","v":-1.792761139723742E-2},1.8181217784362623E-3]
["2019-07-02",{"$f":"RELIANCE!H42","v":7.6051054708692013E-3},{"$f":"IDEA!H42","v":-2.5000000000000022E-2},{"$f":"SUNPHARMA!H42","v":-2.4176680450478161E-2},{"$f":"TATAELXSI!H42","v":2.4363126899563659E-2},{"$f":"COALINDIA!H42","v":1.3841577793749948E-2},-6.7337405725907467E-4]
["2019-07-03",{"$f":"RELIANCE!H43","v":3.1678357497070993E-3},{"$f":"IDEA!H43","v":2.1367521367521292E-2},{"$f":"SUNPHARMA!H43","v":3.7919926732365994E-4},{"$f":"TATAELXSI!H43","v":4.8870988388749481E-4},{"$f":"COALINDIA!H43","v":-6.9251994149626128E-3},3.6956133706953875E-3]
["2019-07-04",{"$f":"RELIANCE!H44","v":1.1305699051036362E-3},{"$f":"IDEA!H44","v":3.3472803347280422E-2},{"$f":"SUNPHARMA!H44","v":-9.0978089307212073E-3},{"$f":"TATAELXSI!H44","v":-7.4898938463651143E-3},{"$f":"COALINDIA!H44","v":5.977675976696073E-4},3.7226876145934691E-3]
["2019-07-05",{"$f":"RELIANCE!H45","v":-1.6082491939029317E-2},{"$f":"IDEA!H45","v":-2.8340080971659853E-2},{"$f":"SUNPHARMA!H45","v":-4.2973730655966214E-2},{"$f":"TATAELXSI!H45","v":-2.6794966492987071E-2},{"$f":"COALINDIA!H45","v":-3.6638793046380402E-2},-3.0166012621204573E-2]
["2019-07-08",{"$f":"RELIANCE!H46","v":-8.9445839337271779E-3},{"$f":"IDEA!H46","v":-4.5833333333333393E-2},{"$f":"SUNPHARMA!H46","v":-2.2518303599892375E-2},{"$f":"TATAELXSI!H46","v":-2.2194239481484246E-2},{"$f":"COALINDIA!H46","v":-3.9272433833708376E-2},-2.7752578836429113E-2]
["2019-07-09",{"$f":"RELIANCE!H47","v":2.240323021690821E-2},{"$f":"IDEA!H47","v":-8.733624454148492E-3},{"$f":"SUNPHARMA!H47","v":5.3435212308347912E-2},{"$f":"TATAELXSI!H47","v":1.2449553313880202E-2},{"$f":"COALINDIA!H47","v":-1.2048322064817207E-2},1.3501209864034127E-2]
["2019-07-10",{"$f":"RELIANCE!H48","v":-9.7648512202413095E-4},{"$f":"IDEA!H48","v":-8.8105726872246271E-3},{"$f":"SUNPHARMA!H48","v":1.5010252436480132E-2},{"$f":"TATAELXSI!H48","v":-4.9771030100823621E-3},{"$f":"COALINDIA!H48","v":1.6332814581000887E-2},3.3157812396299802E-3]
["2019-07-11",{"$f":"RELIANCE!H49","v":2.1112805488413145E-3},{"$f":"IDEA!H49","v":3.5555555555555562E-2},{"$f":"SUNPHARMA!H49","v":1.5170796734371939E-2},{"$f":"TATAELXSI!H49","v":-7.7680070762583542E-3},{"$f":"COALINDIA!H49","v":6.6424922956827004E-3},1.0342423611638634E-2]
["2019-07-12",{"$f":"RELIANCE!H50","v":-8.192102887312195E-4},{"$f":"IDEA!H50","v":4.2918454935620964E-3},{"$f":"SUNPHARMA!H50","v":2.3986145916484958E-2},{"$f":"TATAELXSI!H50","v":7.6508642122081749E-3},{"$f":"COALINDIA!H50","v":-1.5538555263722387E-2},3.9142180139603248E-3]
["2019-07-15",{"$f":"RELIANCE!H51","v":-3.4361163686453633E-3},{"$f":"IDEA!H51","v":4.2735042735042583E-3},{"$f":"SUNPHARMA!H51","v":3.7404892809451695E-2},{"$f":"TATAELXSI!H51","v":-3.884644849800345E-2},{"$f":"COALINDIA!H51","v":-3.6757547387437084E-3},-8.559845044873144E-4]
["2019-07-16",{"$f":"RELIANCE!H52","v":1.3243514949088604E-2},{"$f":"IDEA!H52","v":4.2553191489362874E-3},{"$f":"SUNPHARMA!H52","v":2.447097492156991E-2},{"$f":"TATAELXSI!H52","v":-2.2044563970112785E-3},{"$f":"COALINDIA!H52","v":1.0416676911662259E-2},1.0036405906849158E-2]
["2019-07-17",{"$f":"RELIANCE!H53","v":-8.6233831963342927E-3},{"$f":"IDEA!H53","v":1.2711864406779627E-2},{"$f":"SUNPHARMA!H53","v":-7.5007942764685476E-3},{"$f":"TATAELXSI!H53","v":-8.8682947229781206E-2},{"$f":"COALINDIA!H53","v":-1.2027529034663753E-2},-2.0824557866093635E-2]
["2019-07-18",{"$f":"RELIANCE!H54","v":-1.5602616863639463E-2},{"$f":"IDEA!H54","v":-5.4393305439330408E-2},{"$f":"SUNPHARMA!H54","v":-8.9523025460228611E-3},{"$f":"TATAELXSI!H54","v":-1.4007702291242041E-2},{"$f":"COALINDIA!H54","v":-4.2173810685500857E-2},-2.7025947565147125E-2]
["2019-07-19",{"$f":"RELIANCE!H55","v":-1.0183440258079825E-2},{"$f":"IDEA!H55","v":-3.0973451327433787E-2},{"$f":"SUNPHARMA!H55","v":-1.1379686208607853E-2},{"$f":"TATAELXSI!H55","v":-4.1800445103229444E-2},{"$f":"COALINDIA!H55","v":7.2628604248115014E-3},-1.7414832494507884E-2]
["2019-07-22",{"$f":"RELIANCE!H56","v":2.5220274897735147E-2},{"$f":"IDEA!H56","v":-1.826484018264829E-2},{"$f":"SUNPHARMA!H56","v":2.1122661526657982E-2},{"$f":"TATAELXSI!H56","v":-3.0935842859305174E-2},{"$f":"COALINDIA!H56","v":-2.2534179912179209E-3},-1.0222329217556513E-3]
["2019-07-23",{"$f":"RELIANCE!H57","v":-5.4275498228490739E-3},{"$f":"IDEA!H57","v":-1.8604651162790642E-2},{"$f":"SUNPHARMA!H57","v":0},{"$f":"TATAELXSI!H57","v":-1.1107057440817858E-2},{"$f":"COALINDIA!H57","v":-1.5130831622579222E-2},-1.0054018009807359E-2]
["2019-07-24",{"$f":"RELIANCE!H58","v":-1.1346307297701481E-2},{"$f":"IDEA!H58","v":-5.6872037914692086E-2},{"$f":"SUNPHARMA!H58","v":-1.0924023102499625E-2},{"$f":"TATAELXSI!H58","v":-2.2166099939152417E-2},{"$f":"COALINDIA!H58","v":-5.5033327526999853E-3},-2.1362360201349118E-2]
["2019-07-25",{"$f":"RELIANCE!H59","v":-2.1920338967629058E-2},{"$f":"IDEA!H59","v":-2.5125628140703515E-2},{"$f":"SUNPHARMA!H59","v":2.7258962471900183E-2},{"$f":"TATAELXSI!H59","v":-5.3247275915536685E-3},{"$f":"COALINDIA!H59","v":-3.596959401499511E-2},-1.2216265248596234E-2]
["2019-07-26",{"$f":"RELIANCE!H60","v":-1.4372702868832502E-2},{"$f":"IDEA!H60","v":-4.6391752577319534E-2},{"$f":"SUNPHARMA!H60","v":6.4051775786624354E-3},{"$f":"TATAELXSI!H60","v":-1.2618536299593419E-2},{"$f":"COALINDIA!H60","v":7.6537103468914403E-3},-1.1864820764038315E-2]
["2019-07-29",{"$f":"RELIANCE!H61","v":-2.3480924707654765E-3},{"$f":"IDEA!H61","v":-0.27027027027027029},{"$f":"SUNPHARMA!H61","v":-2.0229574803389827E-2},{"$f":"TATAELXSI!H61","v":-1.0998383717062299E-2},{"$f":"COALINDIA!H61","v":-2.4923022963160846E-2},-6.5753868844929758E-2]
["2019-07-30",{"$f":"RELIANCE!H62","v":-2.4815112210255726E-2},{"$f":"IDEA!H62","v":-3.703703703703709E-2},{"$f":"SUNPHARMA!H62","v":-4.8022339149478288E-2},{"$f":"TATAELXSI!H62","v":-3.015114404153274E-2},{"$f":"COALINDIA!H62","v":-2.8480796057600344E-2},-3.3701285699180843E-2]
["2019-07-31",{"$f":"RELIANCE!H63","v":-1.2405984885299128E-2},{"$f":"IDEA!H63","v":5.3846153846153877E-2},{"$f":"SUNPHARMA!H63","v":3.99659376284629E-2},{"$f":"TATAELXSI!H63","v":2.8504505088815968E-2},{"$f":"COALINDIA!H63","v":2.4555102059466094E-2},2.6893142747519947E-2]
["2019-08-01",{"$f":"RELIANCE!H64","v":1.2004417519561798E-2},{"$f":"IDEA!H64","v":-2.9197080291970656E-2},{"$f":"SUNPHARMA!H64","v":-3.8664536683433726E-3},{"$f":"TATAELXSI!H64","v":-3.4309446636279106E-2},{"$f":"COALINDIA!H64","v":-9.7822177564825807E-3},-1.3030156166702783E-2]
["2019-08-02",{"$f":"RELIANCE!H65","v":9.0308583484000563E-3},{"$f":"IDEA!H65","v":-4.5112781954887327E-2},{"$f":"SUNPHARMA!H65","v":-1.0468126070907191E-2},{"$f":"TATAELXSI!H65","v":1.1463377258300822E-2},{"$f":"COALINDIA!H65","v":-2.593250648506884E-2},-1.2203835780832496E-2]
["2019-08-05",{"$f":"RELIANCE!H66","v":-3.4618183248392553E-2},{"$f":"IDEA!H66","v":-5.5118110236220375E-2},{"$f":"SUNPHARMA!H66","v":-8.3205246037655334E-3},{"$f":"TATAELXSI!H66","v":-2.8213155383554511E-2},{"$f":"COALINDIA!H66","v":1.7241534407462789E-2},-2.1805687812894037E-2]
["2019-08-06",{"$f":"RELIANCE!H67","v":-1.3163087183486764E-2},{"$f":"IDEA!H67","v":-5.8333333333333237E-2},{"$f":"SUNPHARMA!H67","v":2.5170250316337572E-3},{"$f":"TATAELXSI!H67","v":3.6393606180796123E-2},{"$f":"COALINDIA!H67","v":2.2432725302256928E-2},-2.0306128004266375E-3]
["2019-08-07",{"$f":"RELIANCE!H68","v":-1.6750837896143823E-2},{"$f":"IDEA!H68","v":-5.3097345132743445E-2},{"$f":"SUNPHARMA!H68","v":6.8149468545062319E-3},{"$f":"TATAELXSI!H68","v":-1.1971159377176854E-2},{"$f":"COALINDIA!H68","v":4.8757087946829092E-3},{"$f":"Portfolio_Return(B68,C68,D68,E68,F68,$J$2,$J$3,$J$4,$J$5,$J$6)","v":-1.4025737351374995E-2}]
["2019-08-08",{"$f":"RELIANCE!H69","v":3.8714589576074557E-2},{"$f":"IDEA!H69","v":5.6074766355140415E-2},{"$f":"SUNPHARMA!H69","v":1.2825088969701692E-2},{"$f":"TATAELXSI!H69","v":2.0113053492966326E-2},{"$f":"COALINDIA!H69","v":2.7899016973631952E-2},3.1125303073502992E-2]
["2019-08-09",{"$f":"RELIANCE!H70","v":8.4609428862585552E-3},{"$f":"IDEA!H70","v":-5.3097345132743445E-2},{"$f":"SUNPHARMA!H70","v":-1.0434988380857879E-2},{"$f":"TATAELXSI!H70","v":7.9229439408745606E-5},{"$f":"COALINDIA!H70","v":-2.0061402303443998E-2},-1.5010712698275605E-2]
["2019-08-13",{"$f":"RELIANCE!H71","v":9.6936763571468715E-2},{"$f":"IDEA!H71","v":-6.5420560747663448E-2},{"$f":"SUNPHARMA!H71","v":4.0876829869278763E-2},{"$f":"TATAELXSI!H71","v":-3.2700038566694678E-2},{"$f":"COALINDIA!H71","v":-1.8545372267473548E-2},4.2295243717831617E-3]
["2019-08-14",{"$f":"RELIANCE!H72","v":1.0590237978208773E-2},{"$f":"IDEA!H72","v":0.13000000000000012},{"$f":"SUNPHARMA!H72","v":-5.03130601161077E-2},{"$f":"TATAELXSI!H72","v":3.2742185685388225E-3},{"$f":"COALINDIA!H72","v":-1.5950719267431634E-2},1.5520135432641677E-2]
["2019-08-16",{"$f":"RELIANCE!H73","v":-7.9565629659566796E-3},{"$f":"IDEA!H73","v":0.1415929203539823},{"$f":"SUNPHARMA!H73","v":-5.8731601704116176E-3},{"$f":"TATAELXSI!H73","v":1.7296157053269257E-2},{"$f":"COALINDIA!H73","v":7.231703934499123E-3},3.0458211641076476E-2]
["2019-08-19",{"$f":"RELIANCE!H74","v":1.142415671995368E-2},{"$f":"IDEA!H74","v":-6.9767441860465129E-2},{"$f":"SUNPHARMA!H74","v":2.7248697588149851E-2},{"$f":"TATAELXSI!H74","v":9.7040871717481991E-3},{"$f":"COALINDIA!H74","v":-1.485507576667533E-2},-7.2491152294577466E-3]
["2019-08-20",{"$f":"RELIANCE!H75","v":-1.2881018762996268E-2},{"$f":"IDEA!H75","v":-2.5000000000000022E-2},{"$f":"SUNPHARMA!H75","v":-5.5523660803284969E-3},{"$f":"TATAELXSI!H75","v":-1.5964953476225952E-2},{"$f":"COALINDIA!H75","v":-1.8346251077478559E-2},-1.5548917879405861E-2]
["2019-08-21",{"$f":"RELIANCE!H76","v":-3.9187477598589112E-3},{"$f":"IDEA!H76","v":-4.2735042735042694E-2},{"$f":"SUNPHARMA!H76","v":-9.2658324754497645E-3},{"$f":"TATAELXSI!H76","v":2.2762053324531184E-2},{"$f":"COALINDIA!H76","v":-3.3282124663706281E-2},-1.3287938861905296E-2]
["2019-08-22",{"$f":"RELIANCE!H77","v":-1.9040792506831071E-2},{"$f":"IDEA!H77","v":-5.3571428571428492E-2},{"$f":"SUNPHARMA!H77","v":-5.8752861857600536E-3},{"$f":"TATAELXSI!H77","v":-4.2301252986824522E-2},{"$f":"COALINDIA!H77","v":-4.2108135404877123E-2},-3.2579379131144254E-2]
["2019-08-23",{"$f":"RELIANCE!H78","v":2.33405896885325E-2},{"$f":"IDEA!H78","v":8.4905660377358583E-2},{"$f":"SUNPHARMA!H78","v":3.196231475692124E-2},{"$f":"TATAELXSI!H78","v":7.0045293379575657E-2},{"$f":"COALINDIA!H78","v":3.953554059566855E-2},4.9957879759611308E-2]
["2019-08-26",{"$f":"RELIANCE!H79","v":-7.0932036236722781E-3},{"$f":"IDEA!H79","v":-4.3478260869565188E-2},{"$f":"SUNPHARMA!H79","v":-1.9752163426600466E-2},{"$f":"TATAELXSI!H79","v":-3.1574287878001206E-3},{"$f":"COALINDIA!H79","v":3.9894219555764998E-3},-1.389832695041231E-2]
["2019-08-27",{"$f":"RELIANCE!H80","v":6.3545636548556729E-3},{"$f":"IDEA!H80","v":-3.6363636363636376E-2},{"$f":"SUNPHARMA!H80","v":-6.2001296335191247E-3},{"$f":"TATAELXSI!H80","v":7.0301883567993606E-3},{"$f":"COALINDIA!H80","v":1.6423889698637284E-2},-2.5510248573726376E-3]
["2019-08-28",{"$f":"RELIANCE!H81","v":-9.0598798510292192E-3},{"$f":"IDEA!H81","v":-5.6603773584905648E-2},{"$f":"SUNPHARMA!H81","v":-8.7581804979958155E-3},{"$f":"TATAELXSI!H81","v":-4.833216321070366E-3},{"$f":"COALINDIA!H81","v":-3.5444347665795073E-2},-2.2939879584159224E-2]
["2019-08-29",{"$f":"RELIANCE!H82","v":-1.7058590477161458E-2},{"$f":"IDEA!H82","v":-3.0000000000000027E-2},{"$f":"SUNPHARMA!H82","v":5.2166511781325475E-2},{"$f":"TATAELXSI!H82","v":-3.052721193884278E-2},{"$f":"COALINDIA!H82","v":2.134539590330542E-2},-8.1477894627467271E-4]
["2019-08-30",{"$f":"RELIANCE!H83","v":5.4762615274893626E-3},{"$f":"IDEA!H83","v":0.10309278350515472},{"$f":"SUNPHARMA!H83","v":3.6235939966337893E-2},{"$f":"TATAELXSI!H83","v":5.4866019351056394E-3},{"$f":"COALINDIA!H83","v":-2.2486704451648576E-2},2.5560976496487808E-2]
["2019-09-03",{"$f":"RELIANCE!H84","v":-3.3759135106339842E-2},{"$f":"IDEA!H84","v":-4.6728971962616828E-2},{"$f":"SUNPHARMA!H84","v":-2.4533607999285834E-2},{"$f":"TATAELXSI!H84","v":-7.5918713330034304E-3},{"$f":"COALINDIA!H84","v":-2.0027006479328424E-2},-2.6528118576114871E-2]
["2019-09-04",{"$f":"RELIANCE!H85","v":-4.3518225260142278E-3},{"$f":"IDEA!H85","v":-1.9607843137254832E-2},{"$f":"SUNPHARMA!H85","v":-2.9361640574670944E-2},{"$f":"TATAELXSI!H85","v":-2.7412500914196336E-2},{"$f":"COALINDIA!H85","v":6.0756332065732277E-3},-1.4931634789112623E-2]
["2019-09-05",{"$f":"RELIANCE!H86","v":-2.1229727684333359E-3},{"$f":"IDEA!H86","v":2.0000000000000018E-2},{"$f":"SUNPHARMA!H86","v":1.2545392164752922E-2},{"$f":"TATAELXSI!H86","v":1.3846667656656653E-2},{"$f":"COALINDIA!H86","v":6.972285360598196E-2},2.2798388131791643E-2]
["2019-09-06",{"$f":"RELIANCE!H87","v":1.993990598712974E-2},{"$f":"IDEA!H87","v":9.8039215686276382E-3},{"$f":"SUNPHARMA!H87","v":-1.5516343745554662E-2},{"$f":"TATAELXSI!H87","v":1.777931481651418E-2},{"$f":"COALINDIA!H87","v":1.9245435264519273E-2},1.0250446778247234E-2]
["2019-09-09",{"$f":"RELIANCE!H88","v":-2.4543542584941276E-4},{"$f":"IDEA!H88","v":2.9126213592232997E-2},{"$f":"SUNPHARMA!H88","v":8.7037934843208209E-3},{"$f":"TATAELXSI!H88","v":1.3419174331985806E-2},{"$f":"COALINDIA!H88","v":3.7764853959165734E-3},1.0956046275721358E-2]
["2019-09-11",{"$f":"RELIANCE!H89","v":9.9820700973229023E-3},{"$f":"IDEA!H89","v":8.4905660377358583E-2},{"$f":"SUNPHARMA!H89","v":-1.5391645996438719E-2},{"$f":"TATAELXSI!H89","v":1.0577332785618454E-2},{"$f":"COALINDIA!H89","v":-1.3293297420511774E-2},1.5356023968669892E-2]
["2019-09-12",{"$f":"RELIANCE!H90","v":-1.9483144431092638E-2},{"$f":"IDEA!H90","v":-3.4782608695652195E-2},{"$f":"SUNPHARMA!H90","v":1.3263702020117618E-2},{"$f":"TATAELXSI!H90","v":9.3044141125475655E-4},{"$f":"COALINDIA!H90","v":5.0840270857355208E-3},-6.997516521927389E-3]
["2019-09-13",{"$f":"RELIANCE!H91","v":1.2599697759605127E-2},{"$f":"IDEA!H91","v":-2.7027027027026973E-2},{"$f":"SUNPHARMA!H91","v":-1.1570829716197495E-2},{"$f":"TATAELXSI!H91","v":2.9433536085385903E-3},{"$f":"COALINDIA!H91","v":2.529050124626675E-3},-4.1051510500908156E-3]
["2019-09-16",{"$f":"RELIANCE!H92","v":-1.2116501792529386E-2},{"$f":"IDEA!H92","v":-2.777777777777779E-2},{"$f":"SUNPHARMA!H92","v":9.3413715772170391E-3},{"$f":"TATAELXSI!H92","v":2.1779454100803175E-2},{"$f":"COALINDIA!H92","v":1.1856706727683353E-2},6.166505670792779E-4]
["2019-09-17",{"$f":"RELIANCE!H93","v":-1.0985029450012559E-2},{"$f":"IDEA!H93","v":-2.8571428571428692E-2},{"$f":"SUNPHARMA!H93","v":-1.440950618668202E-2},{"$f":"TATAELXSI!H93","v":-4.0891884263165035E-2},{"$f":"COALINDIA!H93","v":-1.4709445808010591E-2},-2.1913458855859783E-2]
["2019-09-18",{"$f":"RELIANCE!H94","v":6.8897375351284068E-3},{"$f":"IDEA!H94","v":-4.9019607843137303E-2},{"$f":"SUNPHARMA!H94","v":-9.1526031105615413E-3},{"$f":"TATAELXSI!H94","v":6.068189182722783E-3},{"$f":"COALINDIA!H94","v":-2.6568999384676939E-2},-1.4356656724104919E-2]
["2019-09-19",{"$f":"RELIANCE!H95","v":-2.2103350022037314E-2},{"$f":"IDEA!H95","v":0.12371134020618579},{"$f":"SUNPHARMA!H95","v":-1.3555530562139206E-2},{"$f":"TATAELXSI!H95","v":-1.8486659386141691E-2},{"$f":"COALINDIA!H95","v":5.7188196036348504E-3},1.5056923967900487E-2]
["2019-09-20",{"$f":"RELIANCE!H96","v":6.3864936057461741E-2},{"$f":"IDEA!H96","v":7.3394495412844041E-2},{"$f":"SUNPHARMA!H96","v":6.2020756902072538E-3},{"$f":"TATAELXSI!H96","v":2.8252327589919801E-2},{"$f":"COALINDIA!H96","v":3.4117263419601862E-2},4.1166219634006941E-2]
["2019-09-23",{"$f":"RELIANCE!H97","v":-1.2077991767632917E-2},{"$f":"IDEA!H97","v":-4.2735042735042694E-2},{"$f":"SUNPHARMA!H97","v":-1.0273051054853766E-2},{"$f":"TATAELXSI!H97","v":7.7614932143859061E-3},{"$f":"COALINDIA!H97","v":1.3246689530725275E-2},-8.8155805624836395E-3]
["2019-09-24",{"$f":"RELIANCE!H98","v":3.1875359222771522E-2},{"$f":"IDEA!H98","v":0},{"$f":"SUNPHARMA!H98","v":4.8839973315173424E-4},{"$f":"TATAELXSI!H98","v":5.5914987249518822E-2},{"$f":"COALINDIA!H98","v":-2.244700491483731E-2},1.3166348258120956E-2]
["2019-09-25",{"$f":"RELIANCE!H99","v":6.6474020934309715E-4},{"$f":"IDEA!H99","v":-5.3571428571428492E-2},{"$f":"SUNPHARMA!H99","v":-7.0793347453902422E-3},{"$f":"TATAELXSI!H99","v":-2.6404093234237758E-2},{"$f":"COALINDIA!H99","v":-2.8009063778013488E-2},-2.2879836023945381E-2]
["2019-09-26",{"$f":"RELIANCE!H100","v":1.3481279830640498E-2},{"$f":"IDEA!H100","v":-1.8867924528301772E-2},{"$f":"SUNPHARMA!H100","v":1.2784384118473158E-2},{"$f":"TATAELXSI!H100","v":2.7419836367669204E-2},{"$f":"COALINDIA!H100","v":5.555568125499466E-2},1.8074651408695151E-2]
["2019-09-27",{"$f":"RELIANCE!H101","v":9.4463058030696545E-3},{"$f":"IDEA!H101","v":8.6538461538461675E-2},{"$f":"SUNPHARMA!H101","v":-2.48817462354608E-2},{"$f":"TATAELXSI!H101","v":-4.4479931090576352E-3},{"$f":"COALINDIA!H101","v":-1.9429450418655736E-2},9.4451155156714331E-3]
["2019-09-30",{"$f":"RELIANCE!H102","v":1.7722866022005644E-2},{"$f":"IDEA!H102","v":8.8495575221238854E-2},{"$f":"SUNPHARMA!H102","v":-3.0495336071204693E-2},{"$f":"TATAELXSI!H102","v":-7.9103539774530995E-3},{"$f":"COALINDIA!H102","v":2.5081242725315533E-3},1.4064175093423651E-2]
["2019-10-01",{"$f":"RELIANCE!H103","v":-2.052926608596415E-2},{"$f":"IDEA!H103","v":-0.12195121951219512},{"$f":"SUNPHARMA!H103","v":-7.4463649287457301E-3},{"$f":"TATAELXSI!H103","v":-3.2484127210363756E-3},{"$f":"COALINDIA!H103","v":-2.8771518817678254E-2},-3.6389356413123929E-2]
["2019-10-03",{"$f":"RELIANCE!H104","v":4.7131388786405531E-3},{"$f":"IDEA!H104","v":-5.5555555555555691E-2},{"$f":"SUNPHARMA!H104","v":4.1391553764018596E-3},{"$f":"TATAELXSI!H104","v":1.8146785622376038E-2},{"$f":"COALINDIA!H104","v":-3.7867056868114424E-2},-1.3284706509250335E-2]
["2019-10-04",{"$f":"RELIANCE!H105","v":-2.2502518926304526E-3},{"$f":"IDEA!H105","v":-9.8039215686274161E-3},{"$f":"SUNPHARMA!H105","v":-5.4102563551448046E-3},{"$f":"TATAELXSI!H105","v":-6.8383916852934323E-3},{"$f":"COALINDIA!H105","v":-5.0871494942172912E-3},-5.8779941991826791E-3]
["2019-10-07",{"$f":"RELIANCE!H106","v":1.5290685279528264E-3},{"$f":"IDEA!H106","v":1.980198019801982E-2},{"$f":"SUNPHARMA!H106","v":-1.5930601307064141E-2},{"$f":"TATAELXSI!H106","v":-3.4426470748868399E-3},{"$f":"COALINDIA!H106","v":-7.5349531849684404E-3},-1.1154305681893551E-3]
["2019-10-09",{"$f":"RELIANCE!H107","v":1.1182223093801248E-2},{"$f":"IDEA!H107","v":0.13592233009708732},{"$f":"SUNPHARMA!H107","v":1.0660746963221834E-2},{"$f":"TATAELXSI!H107","v":-6.2477098602735759E-2},{"$f":"COALINDIA!H107","v":5.1519735712073356E-3},2.00880350245164E-2]
["2019-10-10",{"$f":"RELIANCE!H108","v":2.8684637659368819E-2},{"$f":"IDEA!H108","v":5.9829059829059839E-2},{"$f":"SUNPHARMA!H108","v":8.0738661463726213E-3},{"$f":"TATAELXSI!H108","v":-2.9635405014089899E-2},{"$f":"COALINDIA!H108","v":-4.3162344044529455E-3},1.2527184843251686E-2]
["2019-10-11",{"$f":"RELIANCE!H109","v":-7.4481960621750193E-3},{"$f":"IDEA!H109","v":-3.2258064516129115E-2},{"$f":"SUNPHARMA!H109","v":-1.9376974708776862E-3},{"$f":"TATAELXSI!H109","v":2.1733877060772011E-2},{"$f":"COALINDIA!H109","v":2.4383661726405048E-2},8.947161475990487E-4]
["2019-10-14",{"$f":"RELIANCE!H110","v":3.9923577659622929E-3},{"$f":"IDEA!H110","v":6.6666666666666652E-2},{"$f":"SUNPHARMA!H110","v":2.1615373922639458E-2},{"$f":"TATAELXSI!H110","v":2.2299568536959136E-2},{"$f":"COALINDIA!H110","v":5.5540364114468055E-3},2.4025600660734871E-2]
["2019-10-15",{"$f":"RELIANCE!H111","v":4.5288475268068637E-3},{"$f":"IDEA!H111","v":-3.90625E-2},{"$f":"SUNPHARMA!H111","v":5.4477894371411928E-3},{"$f":"TATAELXSI!H111","v":7.0389861606559023E-3},{"$f":"COALINDIA!H111","v":5.5234652723661348E-3},-3.3046823206059812E-3]
["2019-10-16",{"$f":"RELIANCE!H112","v":6.0109661520342441E-3},{"$f":"IDEA!H112","v":6.5040650406503975E-2},{"$f":"SUNPHARMA!H112","v":7.3085929276679451E-3},{"$f":"TATAELXSI!H112","v":3.218373336645497E-2},{"$f":"COALINDIA!H112","v":1.7787017783776893E-2},2.5666192127287608E-2]
["2019-10-17",{"$f":"RELIANCE!H113","v":1.7597559511257761E-2},{"$f":"IDEA!H113","v":-3.8167938931297662E-2},{"$f":"SUNPHARMA!H113","v":4.5032891301841627E-3},{"$f":"TATAELXSI!H113","v":5.3876988979594476E-2},{"$f":"COALINDIA!H113","v":2.4929154010362442E-2},1.2547810540020236E-2]
["2019-10-18",{"$f":"RELIANCE!H114","v":1.4214187575113132E-2},{"$f":"IDEA!H114","v":1.5873015873016039E-2},{"$f":"SUNPHARMA!H114","v":3.7351505232763316E-4},{"$f":"TATAELXSI!H114","v":2.8243570684094443E-4},{"$f":"COALINDIA!H114","v":3.2848568514715293E-2},1.2718344544402609E-2]
["2019-10-22",{"$f":"RELIANCE!H115","v":-1.5533447258264926E-3},{"$f":"IDEA!H115","v":-4.6875000000000111E-2},{"$f":"SUNPHARMA!H115","v":9.4611320166633206E-3},{"$f":"TATAELXSI!H115","v":-8.4709623107565024E-3},{"$f":"COALINDIA!H115","v":1.3838471629397775E-2},-6.7199406781044014E-3]
["2019-10-23",{"$f":"RELIANCE!H116","v":-1.5380281157034568E-2},{"$f":"IDEA!H116","v":-7.3770491803278548E-2},{"$f":"SUNPHARMA!H116","v":-6.1663868739858518E-4},{"$f":"TATAELXSI!H116","v":1.9649673930758782E-2},{"$f":"COALINDIA!H116","v":0},-1.4023547543390583E-2]
["2019-10-24",{"$f":"RELIANCE!H117","v":3.163611854085404E-2},{"$f":"IDEA!H117","v":-0.23008849557522137},{"$f":"SUNPHARMA!H117","v":1.85105749586012E-3},{"$f":"TATAELXSI!H117","v":5.6416784345576954E-2},{"$f":"COALINDIA!H117","v":-1.7241494125443291E-2},-3.148520586367471E-2]
["2019-10-25",{"$f":"RELIANCE!H118","v":-3.6549575535445326E-3},{"$f":"IDEA!H118","v":-5.7471264367816133E-2},{"$f":"SUNPHARMA!H118","v":2.8451542295112597E-2},{"$f":"TATAELXSI!H118","v":6.6094073323972324E-3},{"$f":"COALINDIA!H118","v":3.1678589106283184E-3},-4.5794826766445028E-3]
["2019-10-27",{"$f":"RELIANCE!H119","v":2.1311370501592201E-3},{"$f":"IDEA!H119","v":2.4390243902439046E-2},{"$f":"SUNPHARMA!H119","v":5.9884118236452899E-4},{"$f":"TATAELXSI!H119","v":3.3880488580734669E-2},{"$f":"COALINDIA!H119","v":-1.457382626104331E-2},9.2853768909308323E-3]
["2019-10-29",{"$f":"RELIANCE!H120","v":2.2869051957367052E-2},{"$f":"IDEA!H120","v":-8.333333333333337E-2},{"$f":"SUNPHARMA!H120","v":1.0053970050935446E-2},{"$f":"TATAELXSI!H120","v":1.9560488617554439E-2},{"$f":"COALINDIA!H120","v":3.4015211051031002E-2},6.3307766871091489E-4]
["2019-10-30",{"$f":"RELIANCE!H121","v":8.2138050846067758E-3},{"$f":"IDEA!H121","v":-1.2987012987013102E-2},{"$f":"SUNPHARMA!H121","v":1.8248581191029567E-2},{"$f":"TATAELXSI!H121","v":2.5476540925783553E-2},{"$f":"COALINDIA!H121","v":-1.6686415825258649E-2},4.4530996778296287E-3]
["2019-10-31",{"$f":"RELIANCE!H122","v":-9.9723436338662198E-3},{"$f":"IDEA!H122","v":2.6315789473684292E-2},{"$f":"SUNPHARMA!H122","v":8.7280145380059793E-3},{"$f":"TATAELXSI!H122","v":-5.1023279250964615E-3},{"$f":"COALINDIA!H122","v":6.3030657050926475E-3},5.2544396315640472E-3]
["2019-11-01",{"$f":"RELIANCE!H123","v":-5.0874950687302281E-3},{"$f":"IDEA!H123","v":0.10256410256410264},{"$f":"SUNPHARMA!H123","v":9.5753875164581448E-3},{"$f":"TATAELXSI!H123","v":1.288232832103442E-2},{"$f":"COALINDIA!H123","v":-2.1682028676131004E-3},2.3553224093050378E-2]
["2019-11-04",{"$f":"RELIANCE!H124","v":5.1469831280869438E-4},{"$f":"IDEA!H124","v":4.6511627906976827E-2},{"$f":"SUNPHARMA!H124","v":9.142117327209931E-4},{"$f":"TATAELXSI!H124","v":-1.56723112398649E-3},{"$f":"COALINDIA!H124","v":3.8145790598605345E-2},1.6903819485425076E-2]
["2019-11-05",{"$f":"RELIANCE!H125","v":-7.1004249442442359E-3},{"$f":"IDEA!H125","v":-6.6666666666666652E-2},{"$f":"SUNPHARMA!H125","v":-1.8381006674484057E-2},{"$f":"TATAELXSI!H125","v":-2.2337590519497241E-2},{"$f":"COALINDIA!H125","v":-1.7907072646909161E-2},-2.6478552290360269E-2]
["2019-11-06",{"$f":"RELIANCE!H126","v":-8.5676718618684783E-3},{"$f":"IDEA!H126","v":-8.333333333333337E-2},{"$f":"SUNPHARMA!H126","v":-4.6523993485456661E-3},{"$f":"TATAELXSI!H126","v":6.1756862726425332E-4},{"$f":"COALINDIA!H126","v":5.9200795045570853E-3},-1.8003151282385235E-2]
["2019-11-07",{"$f":"RELIANCE!H127","v":1.6516877756196629E-2},{"$f":"IDEA!H127","v":1.298701298701288E-2},{"$f":"SUNPHARMA!H127","v":2.9679903954129339E-2},{"$f":"TATAELXSI!H127","v":6.1095093626628572E-3},{"$f":"COALINDIA!H127","v":4.7074786527190327E-4},1.3152810385054722E-2]
["2019-11-08",{"$f":"RELIANCE!H128","v":-8.9812804803592293E-3},{"$f":"IDEA!H128","v":-3.8461538461538436E-2},{"$f":"SUNPHARMA!H128","v":-4.1988203908870037E-2},{"$f":"TATAELXSI!H128","v":-5.0910286431535834E-3},{"$f":"COALINDIA!H128","v":-1.5294018782665564E-2},-2.196321405531737E-2]
["2019-11-11",{"$f":"RELIANCE!H129","v":-1.2244839880419254E-2},{"$f":"IDEA!H129","v":6.6666666666666652E-2},{"$f":"SUNPHARMA!H129","v":-1.5399162482594431E-3},{"$f":"TATAELXSI!H129","v":-4.4389667323058157E-3},{"$f":"COALINDIA!H129","v":2.8673843072117844E-3},1.0262065622578784E-2]
["2019-11-13",{"$f":"RELIANCE!H130","v":3.1166793090135675E-2},{"$f":"IDEA!H130","v":-7.4999999999999956E-2},{"$f":"SUNPHARMA!H130","v":-2.2422458807914936E-2},{"$f":"TATAELXSI!H130","v":-1.9197385509752363E-2},{"$f":"COALINDIA!H130","v":-1.2389878078399086E-2},-1.9568585861186136E-2]
["2019-11-14",{"$f":"RELIANCE!H131","v":-6.4864074520810944E-3},{"$f":"IDEA!H131","v":-0.20270270270270274},{"$f":"SUNPHARMA!H131","v":-4.3690009138533936E-3},{"$f":"TATAELXSI!H131","v":-2.5262814812931911E-4},{"$f":"COALINDIA!H131","v":-2.3642894505380041E-2},-4.7490726744429321E-2]
["2019-11-15",{"$f":"RELIANCE!H132","v":5.5374940749441876E-3},{"$f":"IDEA!H132","v":0.23728813559322015},{"$f":"SUNPHARMA!H132","v":1.1823452977583582E-2},{"$f":"TATAELXSI!H132","v":9.4741505308526541E-4},{"$f":"COALINDIA!H132","v":-5.9303271788140322E-3},{"$f":"Portfolio_Return(B132,C132,D132,E132,F132,$J$2,$J$3,$J$4,$J$5,$J$6)","v":4.9933234104003833E-2}]
["2019-11-18",{"$f":"RELIANCE!H133","v":-7.9205929335829511E-3},{"$f":"IDEA!H133","v":0.21917808219178081},{"$f":"SUNPHARMA!H133","v":2.288885166369159E-2},{"$f":"TATAELXSI!H133","v":-2.5238906477440537E-3},{"$f":"COALINDIA!H133","v":-4.225786297376799E-3},4.5479332795353725E-2]
["2019-11-19",{"$f":"RELIANCE!H134","v":3.464225884978004E-2},{"$f":"IDEA!H134","v":0.3595505617977528},{"$f":"SUNPHARMA!H134","v":3.1797769869534864E-3},{"$f":"TATAELXSI!H134","v":2.4353214298168835E-2},{"$f":"COALINDIA!H134","v":-3.4948005282007255E-3},8.3646202280890883E-2]
["2019-11-20",{"$f":"RELIANCE!H135","v":2.5103463938434524E-2},{"$f":"IDEA!H135","v":0.16528925619834722},{"$f":"SUNPHARMA!H135","v":5.6586055709126004E-2},{"$f":"TATAELXSI!H135","v":4.1373087931195762E-3},{"$f":"COALINDIA!H135","v":1.72846422214743E-2},5.3680145372100321E-2]
["2019-11-21",{"$f":"RELIANCE!H136","v":-6.4937241955583275E-3},{"$f":"IDEA!H136","v":-5.673758865248224E-2},{"$f":"SUNPHARMA!H136","v":-6.3332818040781058E-3},{"$f":"TATAELXSI!H136","v":-1.6235146479766316E-2},{"$f":"COALINDIA!H136","v":-3.176555857597807E-2},-2.3513059941572614E-2]
["2019-11-22",{"$f":"RELIANCE!H137","v":5.7882994428767919E-3},{"$f":"IDEA!H137","v":-1.5037593984962516E-2},{"$f":"SUNPHARMA!H137","v":1.1070109538093398E-2},{"$f":"TATAELXSI!H137","v":-1.4440221742147541E-2},{"$f":"COALINDIA!H137","v":1.2207539069636342E-2},-8.237353530070584E-5]
["2019-11-25",{"$f":"RELIANCE!H138","v":9.731661211081797E-3},{"$f":"IDEA!H138","v":4.5801526717557328E-2},{"$f":"SUNPHARMA!H138","v":1.5151550902422484E-2},{"$f":"TATAELXSI!H138","v":1.2685487868743461E-2},{"$f":"COALINDIA!H138","v":8.5426883903760853E-3},1.8382583018036233E-2]
["2019-11-26",{"$f":"RELIANCE!H139","v":-8.3255063810902064E-4},{"$f":"IDEA!H139","v":-0.12408759124087587},{"$f":"SUNPHARMA!H139","v":-1.7866915926436189E-2},{"$f":"TATAELXSI!H139","v":-1.9415200696409896E-3},{"$f":"COALINDIA!H139","v":-1.4698553171550222E-2},-3.1885426209322464E-2]
["2019-11-27",{"$f":"RELIANCE!H140","v":6.1528247940428604E-3},{"$f":"IDEA!H140","v":-1.6666666666666607E-2},{"$f":"SUNPHARMA!H140","v":1.7748229119564085E-2},{"$f":"TATAELXSI!H140","v":1.8825834712594691E-3},{"$f":"COALINDIA!H140","v":1.6434996246005307E-2},5.1103933928410231E-3]
["2019-11-28",{"$f":"RELIANCE!H141","v":6.6566548193880935E-3},{"$f":"IDEA!H141","v":0.11864406779661008},{"$f":"SUNPHARMA!H141","v":-3.0517347034810793E-3},{"$f":"TATAELXSI!H141","v":1.3780463985051394E-3},{"$f":"COALINDIA!H141","v":2.4129386750816995E-2},2.955128421236785E-2]
["2019-11-29",{"$f":"RELIANCE!H142","v":-1.8445796117204778E-2},{"$f":"IDEA!H142","v":3.7878787878787845E-2},{"$f":"SUNPHARMA!H142","v":-1.6398918149543418E-2},{"$f":"TATAELXSI!H142","v":9.5077119339148641E-3},{"$f":"COALINDIA!H142","v":-2.9149398193953902E-3},1.9253691453118239E-3]
["2019-12-02",{"$f":"RELIANCE!H143","v":2.2789589208469092E-2},{"$f":"IDEA!H143","v":0.13868613138686126},{"$f":"SUNPHARMA!H143","v":-2.1896234913980406E-2},{"$f":"TATAELXSI!H143","v":-2.2925822282101271E-2},{"$f":"COALINDIA!H143","v":2.9234615338307179E-3},2.3915424986615884E-2]
["2019-12-03",{"$f":"RELIANCE!H144","v":-4.7904305951844053E-3},{"$f":"IDEA!H144","v":-9.6153846153846145E-2},{"$f":"SUNPHARMA!H144","v":-1.4545439599615739E-2},{"$f":"TATAELXSI!H144","v":-2.5373227940239662E-4},{"$f":"COALINDIA!H144","v":-1.2145577152729015E-3},-2.3391601268664321E-2]
["2019-12-04",{"$f":"RELIANCE!H145","v":-1.6593874061595841E-2},{"$f":"IDEA!H145","v":9.9290780141843893E-2},{"$f":"SUNPHARMA!H145","v":2.3293518622913068E-2},{"$f":"TATAELXSI!H145","v":2.3469782310782561E-2},{"$f":"COALINDIA!H145","v":-1.3862026871821254E-2},2.3119636028424491E-2]
["2019-12-05",{"$f":"RELIANCE!H146","v":-1.1914916089147344E-3},{"$f":"IDEA!H146","v":-5.8064516129032295E-2},{"$f":"SUNPHARMA!H146","v":-1.5776595683759886E-2},{"$f":"TATAELXSI!H146","v":6.8980479897400082E-2},{"$f":"COALINDIA!H146","v":-3.1319311264153327E-2},-7.4742869576920326E-3]
["2019-12-06",{"$f":"RELIANCE!H147","v":2.6115414451430515E-3},{"$f":"IDEA!H147","v":-5.4794520547945091E-2},{"$f":"SUNPHARMA!H147","v":-1.8548136490141309E-2},{"$f":"TATAELXSI!H147","v":-1.44365061385473E-2},{"$f":"COALINDIA!H147","v":-2.2403243054940347E-2},-2.15141729572862E-2]
["2019-12-09",{"$f":"RELIANCE!H148","v":1.1383314024915311E-2},{"$f":"IDEA!H148","v":-5.7971014492753659E-2},{"$f":"SUNPHARMA!H148","v":-3.7331367800420567E-3},{"$f":"TATAELXSI!H148","v":8.2357924058191756E-3},{"$f":"COALINDIA!H148","v":-1.8229354459249336E-3},-8.7815960575972334E-3]
["2019-12-10",{"$f":"RELIANCE!H149","v":-6.772210890082106E-3},{"$f":"IDEA!H149","v":7.692307692307665E-3},{"$f":"SUNPHARMA!H149","v":1.5222451148033667E-3},{"$f":"TATAELXSI!H149","v":-2.0537982944786926E-2},{"$f":"COALINDIA!H149","v":-2.3219416144117044E-2},-8.2630114343750088E-3]
["2019-12-11",{"$f":"RELIANCE!H150","v":2.8814444881560436E-4},{"$f":"IDEA!H150","v":2.2900763358778775E-2},{"$f":"SUNPHARMA!H150","v":5.0274759689998838E-3},{"$f":"TATAELXSI!H150","v":-1.2450019434970483E-2},{"$f":"COALINDIA!H150","v":-2.6700161448689474E-4},3.0998725454273761E-3]
["2019-12-12",{"$f":"RELIANCE!H151","v":3.7121571758924133E-3},{"$f":"IDEA!H151","v":1.4925373134328401E-2},{"$f":"SUNPHARMA!H151","v":1.0121015073905726E-2},{"$f":"TATAELXSI!H151","v":2.310283227828247E-2},{"$f":"COALINDIA!H151","v":1.6029827625731796E-2},1.357824105762816E-2]
["2019-12-13",{"$f":"RELIANCE!H152","v":9.3738599415898686E-3},{"$f":"IDEA!H152","v":1.4705882352941346E-2},{"$f":"SUNPHARMA!H152","v":1.1747084891445159E-2},{"$f":"TATAELXSI!H152","v":1.2499278272707137E-2},{"$f":"COALINDIA!H152","v":3.2080001245579526E-2},1.608122134085261E-2]
["2019-12-16",{"$f":"RELIANCE!H153","v":-1.0297525821181331E-2},{"$f":"IDEA!H153","v":-4.3478260869565299E-2},{"$f":"SUNPHARMA!H153","v":-9.3340807731177033E-3},{"$f":"TATAELXSI!H153","v":-6.5218610416091227E-3},{"$f":"COALINDIA!H153","v":-1.8598760864683372E-2},-1.7646097874031368E-2]
["2019-12-17",{"$f":"RELIANCE!H154","v":-2.489522748255681E-3},{"$f":"IDEA!H154","v":4.5454545454545636E-2},{"$f":"SUNPHARMA!H154","v":-1.4018151977774784E-2},{"$f":"TATAELXSI!H154","v":3.6340417718987439E-3},{"$f":"COALINDIA!H154","v":1.869161025606525E-2},1.0254504551295833E-2]
["2019-12-18",{"$f":"RELIANCE!H155","v":8.4149097904875538E-3},{"$f":"IDEA!H155","v":-7.2463768115942018E-2},{"$f":"SUNPHARMA!H155","v":2.4938879120698587E-2},{"$f":"TATAELXSI!H155","v":1.4249789508318456E-2},{"$f":"COALINDIA!H155","v":7.9001226149273407E-3},-3.3920134163020147E-3]
["2019-12-19",{"$f":"RELIANCE!H156","v":2.1639200193208381E-2},{"$f":"IDEA!H156","v":3.1249999999999778E-2},{"$f":"SUNPHARMA!H156","v":-1.3985308327147949E-2},{"$f":"TATAELXSI!H156","v":-1.2955630383823635E-2},{"$f":"COALINDIA!H156","v":-4.2983405512636574E-3},4.3299841861945843E-3]
["2019-12-20",{"$f":"RELIANCE!H157","v":-6.7394214597643071E-3},{"$f":"IDEA!H157","v":-7.575757575757569E-3},{"$f":"SUNPHARMA!H157","v":-7.6107016973884223E-3},{"$f":"TATAELXSI!H157","v":1.6335050612727997E-3},{"$f":"COALINDIA!H157","v":1.9807025704961845E-2},-9.7069993335131138E-5]
["2019-12-23",{"$f":"RELIANCE!H158","v":-1.7322272031539403E-2},{"$f":"IDEA!H158","v":-2.2900763358778553E-2},{"$f":"SUNPHARMA!H158","v":-4.4154890455367912E-3},{"$f":"TATAELXSI!H158","v":-3.3197391380874741E-3},{"$f":"COALINDIA!H158","v":-1.7679281458532148E-2},-1.3127509006494875E-2]
["2019-12-24",{"$f":"RELIANCE!H159","v":-1.5877487234581839E-2},{"$f":"IDEA!H159","v":-1.5625000000000111E-2},{"$f":"SUNPHARMA!H159","v":3.2679350673956442E-3},{"$f":"TATAELXSI!H159","v":-1.5952786828923649E-2},{"$f":"COALINDIA!H159","v":8.6184789390357786E-3},-7.1137720114148352E-3]
["2019-12-26",{"$f":"RELIANCE!H160","v":-2.0078274660997368E-2},{"$f":"IDEA!H160","v":-3.9682539682539653E-2},{"$f":"SUNPHARMA!H160","v":-1.7799000676765764E-2},{"$f":"TATAELXSI!H160","v":-3.2125866956343008E-2},{"$f":"COALINDIA!H160","v":-8.2934951583919503E-3},-2.3595835427007546E-2]
["2019-12-27",{"$f":"RELIANCE!H161","v":1.7784039032113196E-2},{"$f":"IDEA!H161","v":-4.132231404958675E-2},{"$f":"SUNPHARMA!H161","v":9.1200798989905518E-3},{"$f":"TATAELXSI!H161","v":1.362038448224645E-2},{"$f":"COALINDIA!H161","v":3.1424218588500086E-2},6.1252815904527073E-3]
["2019-12-30",{"$f":"RELIANCE!H162","v":1.1994865459994623E-3},{"$f":"IDEA!H162","v":6.0344827586207073E-2},{"$f":"SUNPHARMA!H162","v":9.741720422053568E-3},{"$f":"TATAELXSI!H162","v":8.2319677299107497E-3},{"$f":"COALINDIA!H162","v":1.1302187410491493E-2},1.8164037938932471E-2]
["2019-12-31",{"$f":"RELIANCE!H163","v":-1.9524618021192298E-2},{"$f":"IDEA!H163","v":0},{"$f":"SUNPHARMA!H163","v":5.579343333916853E-3},{"$f":"TATAELXSI!H163","v":-8.2847471793144889E-3},{"$f":"COALINDIA!H163","v":2.6967901702863895E-2},9.4757596725479187E-4]
["2020-01-01",{"$f":"RELIANCE!H164","v":-2.939165730568898E-3},{"$f":"IDEA!H164","v":-8.1300813008131634E-3},{"$f":"SUNPHARMA!H164","v":4.045747195109195E-3},{"$f":"TATAELXSI!H164","v":2.3003024647982873E-3},{"$f":"COALINDIA!H164","v":2.83879870898196E-3},-3.7687973249852396E-4]
["2020-01-02",{"$f":"RELIANCE!H165","v":1.7024372900911935E-2},{"$f":"IDEA!H165","v":0},{"$f":"SUNPHARMA!H165","v":1.4968739511489471E-3},{"$f":"TATAELXSI!H165","v":4.8316297799733121E-4},{"$f":"COALINDIA!H165","v":-4.0103653094942793E-3},2.9988089041127867E-3]
["2020-01-03",{"$f":"RELIANCE!H166","v":1.204995124888015E-3},{"$f":"IDEA!H166","v":0},{"$f":"SUNPHARMA!H166","v":2.2186491829982335E-2},{"$f":"TATAELXSI!H166","v":1.1892554280751311E-2},{"$f":"COALINDIA!H166","v":3.5529678300323386E-3},7.7674018131308007E-3]
["2020-01-06",{"$f":"RELIANCE!H167","v":-2.3192346675019765E-2},{"$f":"IDEA!H167","v":-1.6393442622950727E-2},{"$f":"SUNPHARMA!H167","v":-1.0458922379755431E-2},{"$f":"TATAELXSI!H167","v":-1.7539596181269657E-2},{"$f":"COALINDIA!H167","v":-2.9030047533081693E-2},-1.9322871078415457E-2]
["2020-01-07",{"$f":"RELIANCE!H168","v":1.5384683835440206E-2},{"$f":"IDEA!H168","v":0},{"$f":"SUNPHARMA!H168","v":1.4660761680263867E-2},{"$f":"TATAELXSI!H168","v":4.189913960107372E-3},{"$f":"COALINDIA!H168","v":0},6.8470718951622895E-3]
["2020-01-08",{"$f":"RELIANCE!H169","v":-7.5101494385050246E-3},{"$f":"IDEA!H169","v":8.3333333333333259E-2},{"$f":"SUNPHARMA!H169","v":-1.4112914241515617E-2},{"$f":"TATAELXSI!H169","v":-6.6518255585981123E-3},{"$f":"COALINDIA!H169","v":-2.673802459359742E-2},5.664083900223417E-3]
["2020-01-09",{"$f":"RELIANCE!H170","v":2.303142204475947E-2},{"$f":"IDEA!H170","v":-3.8461538461538436E-2},{"$f":"SUNPHARMA!H170","v":-5.6794688695149809E-4},{"$f":"TATAELXSI!H170","v":2.6541753551203362E-2},{"$f":"COALINDIA!H170","v":-1.098885275065109E-2},-8.9032500635638154E-5]
["2020-01-10",{"$f":"RELIANCE!H171","v":-2.261324002461409E-4},{"$f":"IDEA!H171","v":-2.4000000000000021E-2},{"$f":"SUNPHARMA!H171","v":8.5255413030729255E-3},{"$f":"TATAELXSI!H171","v":6.404556773696557E-3},{"$f":"COALINDIA!H171","v":3.6868643808683599E-2},5.5145218970413835E-3]
["2020-01-13",{"$f":"RELIANCE!H172","v":-2.5522370736193387E-3},{"$f":"IDEA!H172","v":8.19672131147553E-3},{"$f":"SUNPHARMA!H172","v":2.2543593921542371E-3},{"$f":"TATAELXSI!H172","v":5.0085421450326573E-2},{"$f":"COALINDIA!H172","v":3.0443266006955128E-2},1.7685506217458426E-2]
["2020-01-14",{"$f":"RELIANCE!H173","v":-9.2634757492026914E-3},{"$f":"IDEA!H173","v":-8.1300813008131634E-3},{"$f":"SUNPHARMA!H173","v":3.1488602463767279E-3},{"$f":"TATAELXSI!H173","v":1.8910293507695464E-2},{"$f":"COALINDIA!H173","v":6.6177932567801356E-3},2.2566779921672948E-3]
["2020-01-15",{"$f":"RELIANCE!H174","v":-3.628848596239458E-3},{"$f":"IDEA!H174","v":-1.6393442622950727E-2},{"$f":"SUNPHARMA!H174","v":6.8385287600796207E-3},{"$f":"TATAELXSI!H174","v":4.4222899045318176E-2},{"$f":"COALINDIA!H174","v":-2.347937244754128E-3},5.7382398682906963E-3]
["2020-01-16",{"$f":"RELIANCE!H175","v":9.2200615154399822E-3},{"$f":"IDEA!H175","v":0},{"$f":"SUNPHARMA!H175","v":0},{"$f":"TATAELXSI!H175","v":1.1286334111625163E-2},{"$f":"COALINDIA!H175","v":-1.0355321896345693E-2},2.0302147461438904E-3]
["2020-01-17",{"$f":"RELIANCE!H176","v":2.8025220742085778E-2},{"$f":"IDEA!H176","v":-0.25},{"$f":"SUNPHARMA!H176","v":1.2359468030293419E-2},{"$f":"TATAELXSI!H176","v":-1.2099064647798863E-2},{"$f":"COALINDIA!H176","v":-1.117735712739365E-2},-4.6578346600562662E-2]
["2020-01-20",{"$f":"RELIANCE!H177","v":-3.077155237065125E-2},{"$f":"IDEA!H177","v":7.7777777777777724E-2},{"$f":"SUNPHARMA!H177","v":-1.1328584948889997E-2},{"$f":"TATAELXSI!H177","v":-1.0980329001434197E-2},{"$f":"COALINDIA!H177","v":-3.2467419015423715E-2},-1.554021511724288E-3]
["2020-01-21",{"$f":"RELIANCE!H178","v":1.0114262297686626E-3},{"$f":"IDEA!H178","v":0.22680412371134029},{"$f":"SUNPHARMA!H178","v":-4.5612980583403795E-3},{"$f":"TATAELXSI!H178","v":1.9162041688752796E-2},{"$f":"COALINDIA!H178","v":4.9712537131052503E-3},4.9477509456925327E-2]
["2020-01-22",{"$f":"RELIANCE!H179","v":-3.5853606654899479E-4},{"$f":"IDEA!H179","v":-5.882352941176483E-2},{"$f":"SUNPHARMA!H179","v":-2.4586280045194586E-3},{"$f":"TATAELXSI!H179","v":6.441691461910759E-3},{"$f":"COALINDIA!H179","v":-5.0704793989923003E-2},-2.1180759202169108E-2]
["2020-01-23",{"$f":"RELIANCE!H180","v":-4.2390701526253917E-3},{"$f":"IDEA!H180","v":5.3571428571428603E-2},{"$f":"SUNPHARMA!H180","v":7.9543276951989927E-3},{"$f":"TATAELXSI!H180","v":7.7535795649030792E-3},{"$f":"COALINDIA!H180","v":-5.9926919937730583E-3},1.1809514737026447E-2]
["2020-01-24",{"$f":"RELIANCE!H181","v":-3.4712296373243683E-3},{"$f":"IDEA!H181","v":2.5423728813559254E-2},{"$f":"SUNPHARMA!H181","v":-4.5571741177927727E-3},{"$f":"TATAELXSI!H181","v":-5.2152446261036767E-3},{"$f":"COALINDIA!H181","v":1.677575888585503E-2},5.7911678636386934E-3]
["2020-01-27",{"$f":"RELIANCE!H182","v":-9.858372704127186E-3},{"$f":"IDEA!H182","v":-4.132231404958675E-2},{"$f":"SUNPHARMA!H182","v":1.3399987223776666E-3},{"$f":"TATAELXSI!H182","v":-2.1282167566131882E-2},{"$f":"COALINDIA!H182","v":-3.0933748038906028E-3},-1.4843246080271752E-2]
["2020-01-28",{"$f":"RELIANCE!H183","v":-2.309912578496736E-2},{"$f":"IDEA!H183","v":-7.7586206896551713E-2},{"$f":"SUNPHARMA!H183","v":1.0035700660367963E-2},{"$f":"TATAELXSI!H183","v":4.7203033750888856E-3},{"$f":"COALINDIA!H183","v":-2.1722388448444208E-2},-2.1530343418901289E-2]
["2020-01-29",{"$f":"RELIANCE!H184","v":5.5037157027995115E-3},{"$f":"IDEA!H184","v":-1.869158878504662E-2},{"$f":"SUNPHARMA!H184","v":-6.1824451939007652E-3},{"$f":"TATAELXSI!H184","v":-1.5413982637821011E-2},{"$f":"COALINDIA!H184","v":1.0044985279160645E-2},-4.9478631269616481E-3]
["2020-01-30",{"$f":"RELIANCE!H185","v":-2.4394485844668311E-2},{"$f":"IDEA!H185","v":-9.52380952380949E-3},{"$f":"SUNPHARMA!H185","v":-1.7773723790079909E-2},{"$f":"TATAELXSI!H185","v":2.6753222248109054E-2},{"$f":"COALINDIA!H185","v":-1.6226062013131037E-2},-8.2329717847159402E-3]
["2020-01-31",{"$f":"RELIANCE!H186","v":-2.2233651549123039E-2},{"$f":"IDEA!H186","v":1.9230769230769162E-2},{"$f":"SUNPHARMA!H186","v":-1.7643296599535008E-2},{"$f":"TATAELXSI!H186","v":-8.7201669168442963E-3},{"$f":"COALINDIA!H186","v":-3.3253536564451069E-2},-1.252397647983685E-2]
["2020-02-03",{"$f":"RELIANCE!H187","v":-1.8524462982848756E-2},{"$f":"IDEA!H187","v":9.4339622641508303E-3},{"$f":"SUNPHARMA!H187","v":-3.8567637455754311E-2},{"$f":"TATAELXSI!H187","v":8.3227769674072416E-3},{"$f":"COALINDIA!H187","v":-1.6786056270345018E-2},-1.1224283495478004E-2]
["2020-02-04",{"$f":"RELIANCE!H188","v":2.9519960534227882E-2},{"$f":"IDEA!H188","v":-1.869158878504662E-2},{"$f":"SUNPHARMA!H188","v":1.9398806554764336E-2},{"$f":"TATAELXSI!H188","v":7.6533307640299642E-2},{"$f":"COALINDIA!H188","v":2.1550635073717128E-2},2.5662224203592474E-2]
["2020-02-05",{"$f":"RELIANCE!H189","v":1.5493516538155226E-2},{"$f":"IDEA!H189","v":0},{"$f":"SUNPHARMA!H189","v":1.4096546609265737E-3},{"$f":"TATAELXSI!H189","v":-2.7660466367481762E-3},{"$f":"COALINDIA!H189","v":-1.780821301859703E-2},-7.3421769125268151E-4]
["2020-02-06",{"$f":"RELIANCE!H190","v":6.4205382014028822E-3},{"$f":"IDEA!H190","v":-1.904761904761898E-2},{"$f":"SUNPHARMA!H190","v":1.0322630186023751E-2},{"$f":"TATAELXSI!H190","v":7.737174445410222E-3},{"$f":"COALINDIA!H190","v":3.905088009916069E-3},1.8675623590267889E-3]
["2020-02-07",{"$f":"RELIANCE!H191","v":-1.6566149615560084E-2},{"$f":"IDEA!H191","v":1.9417475728155331E-2},{"$f":"SUNPHARMA!H191","v":3.483040686660388E-4},{"$f":"TATAELXSI!H191","v":-4.7804568464013819E-3},{"$f":"COALINDIA!H191","v":2.8341346863144379E-2},5.3521040396008563E-3]
["2020-02-10",{"$f":"RELIANCE!H192","v":1.3602813541529451E-3},{"$f":"IDEA!H192","v":-3.8095238095238182E-2},{"$f":"SUNPHARMA!H192","v":-2.4373304279488472E-2},{"$f":"TATAELXSI!H192","v":2.7171255695631169E-2},{"$f":"COALINDIA!H192","v":-3.3504446842452018E-2},-1.3488290433478912E-2]
["2020-02-11",{"$f":"RELIANCE!H193","v":1.194610751383181E-2},{"$f":"IDEA!H193","v":-3.9603960396039639E-2},{"$f":"SUNPHARMA!H193","v":-4.1637368245829309E-3},{"$f":"TATAELXSI!H193","v":2.2579117266394944E-2},{"$f":"COALINDIA!H193","v":2.7956006957912116E-3},-1.2893743489209215E-3]
["2020-02-12",{"$f":"RELIANCE!H194","v":1.208054864187492E-2},{"$f":"IDEA!H194","v":-7.2164948453608213E-2},{"$f":"SUNPHARMA!H194","v":-9.4371883985976401E-3},{"$f":"TATAELXSI!H194","v":-1.9863222417273119E-2},{"$f":"COALINDIA!H194","v":5.2967019105780722E-3},-1.6817621743405193E-2]
["2020-02-13",{"$f":"RELIANCE!H195","v":2.6185673081248217E-3},{"$f":"IDEA!H195","v":0},{"$f":"SUNPHARMA!H195","v":1.0491989226905973E-2},{"$f":"TATAELXSI!H195","v":2.6581119453800595E-2},{"$f":"COALINDIA!H195","v":-1.3865608459068923E-2},5.1652135059524935E-3]
["2020-02-14",{"$f":"RELIANCE!H196","v":9.1239181483859996E-3},{"$f":"IDEA!H196","v":-0.24444444444444446},{"$f":"SUNPHARMA!H196","v":-9.5487329481946936E-4},{"$f":"TATAELXSI!H196","v":-4.9674010613077413E-2},{"$f":"COALINDIA!H196","v":-1.7154133991257536E-2},{"$f":"Portfolio_Return(B196,C196,D196,E196,F196,$J$2,$J$3,$J$4,$J$5,$J$6)","v":-6.0620708839042581E-2}]
["2020-02-17",{"$f":"RELIANCE!H197","v":-6.285313146645077E-3},{"$f":"IDEA!H197","v":0},{"$f":"SUNPHARMA!H197","v":-1.7206044477987015E-2},{"$f":"TATAELXSI!H197","v":-4.5845383665802819E-2},{"$f":"COALINDIA!H197","v":-3.9485018044864373E-2},-2.1764351867059856E-2]
["2020-02-18",{"$f":"RELIANCE!H198","v":-7.339849192421464E-3},{"$f":"IDEA!H198","v":-0.11764705882352944},{"$f":"SUNPHARMA!H198","v":6.1199297515490692E-4},{"$f":"TATAELXSI!H198","v":-1.7720648511230785E-2},{"$f":"COALINDIA!H198","v":2.3830863180593465E-2},-2.3652940074286664E-2]
["2020-02-19",{"$f":"RELIANCE!H199","v":2.480585098980775E-2},{"$f":"IDEA!H199","v":0.40000000000000013},{"$f":"SUNPHARMA!H199","v":-1.2480124923762825E-2},{"$f":"TATAELXSI!H199","v":3.6750682894109987E-2},{"$f":"COALINDIA!H199","v":3.4332142905489915E-2},9.668171037312899E-2]
["2020-02-20",{"$f":"RELIANCE!H200","v":-1.1869970172760796E-2},{"$f":"IDEA!H200","v":4.7619047619047672E-2},{"$f":"SUNPHARMA!H200","v":3.4694078794459404E-3},{"$f":"TATAELXSI!H200","v":-9.2472227904710769E-3},{"$f":"COALINDIA!H200","v":9.0015661529321278E-3},7.7945657376387737E-3]
["2020-02-24",{"$f":"RELIANCE!H201","v":-2.7591725334523365E-2},{"$f":"IDEA!H201","v":-0.125},{"$f":"SUNPHARMA!H201","v":-1.7533126590049353E-2},{"$f":"TATAELXSI!H201","v":8.4804586763411738E-3},{"$f":"COALINDIA!H201","v":-2.5090622757532266E-2},-3.7347003201152765E-2]
["2020-02-25",{"$f":"RELIANCE!H202","v":-1.9758502161833225E-2},{"$f":"IDEA!H202","v":2.5974025974025983E-2},{"$f":"SUNPHARMA!H202","v":-2.2495920346353282E-2},{"$f":"TATAELXSI!H202","v":-1.552467235379662E-2},{"$f":"COALINDIA!H202","v":1.4297775595342177E-3},-6.0750582656845858E-3]
["2020-02-26",{"$f":"RELIANCE!H203","v":-1.7226805527887988E-2},{"$f":"IDEA!H203","v":1.2658227848101111E-2},{"$f":"SUNPHARMA!H203","v":-3.6513289812860616E-2},{"$f":"TATAELXSI!H203","v":-2.795049065223687E-2},{"$f":"COALINDIA!H203","v":-7.4243784034624394E-3},-1.529134730966936E-2]
["2020-02-27",{"$f":"RELIANCE!H204","v":-4.1306514460924589E-3},{"$f":"IDEA!H204","v":-5.0000000000000044E-2},{"$f":"SUNPHARMA!H204","v":3.6829643190321448E-2},{"$f":"TATAELXSI!H204","v":-3.244591847723699E-2},{"$f":"COALINDIA!H204","v":1.7261264404204724E-3},-9.604160058517516E-3]
["2020-02-28",{"$f":"RELIANCE!H205","v":-4.1551068068631541E-2},{"$f":"IDEA!H205","v":1.3157894736842257E-2},{"$f":"SUNPHARMA!H205","v":-4.0154602859102662E-2},{"$f":"TATAELXSI!H205","v":-5.1214561162555183E-2},{"$f":"COALINDIA!H205","v":-3.2739896881201824E-2},-3.0500446846929791E-2]
["2020-03-02",{"$f":"RELIANCE!H206","v":-9.4079582930925946E-3},{"$f":"IDEA!H206","v":-0.10389610389610382},{"$f":"SUNPHARMA!H206","v":-9.1176214746172546E-3},{"$f":"TATAELXSI!H206","v":6.6270251228061738E-2},{"$f":"COALINDIA!H206","v":5.6413611831749311E-3},-1.0102014250515401E-2]
["2020-03-03",{"$f":"RELIANCE!H207","v":2.0286362479070223E-2},{"$f":"IDEA!H207","v":5.7971014492753437E-2},{"$f":"SUNPHARMA!H207","v":6.5087964436875145E-2},{"$f":"TATAELXSI!H207","v":0.10262942263696151},{"$f":"COALINDIA!H207","v":5.2258687064262954E-2},5.9646690221984655E-2]
["2020-03-04",{"$f":"RELIANCE!H208","v":-2.3456459897525728E-3},{"$f":"IDEA!H208","v":-1.3698630136986245E-2},{"$f":"SUNPHARMA!H208","v":3.0237623037224104E-2},{"$f":"TATAELXSI!H208","v":-5.1934258907167075E-2},{"$f":"COALINDIA!H208","v":-5.612063065038031E-4},-7.6604236606371183E-3]
["2020-03-05",{"$f":"RELIANCE!H209","v":-2.131077630069966E-2},{"$f":"IDEA!H209","v":0},{"$f":"SUNPHARMA!H209","v":-1.3566617301469241E-3},{"$f":"TATAELXSI!H209","v":5.3864583677576405E-3},{"$f":"COALINDIA!H209","v":-5.3341110890187116E-3},-4.5230181504215313E-3]
["2020-03-06",{"$f":"RELIANCE!H210","v":-3.0621911523025989E-2},{"$f":"IDEA!H210","v":-8.333333333333337E-2},{"$f":"SUNPHARMA!H210","v":-9.8789346312934123E-3},{"$f":"TATAELXSI!H210","v":-3.5380385744675502E-3},{"$f":"COALINDIA!H210","v":-4.7417311833037212E-2},-3.4957905979031506E-2]
["2020-03-09",{"$f":"RELIANCE!H211","v":-0.12340684593742211},{"$f":"IDEA!H211","v":0.21212121212121215},{"$f":"SUNPHARMA!H211","v":-1.8832512106972343E-2},{"$f":"TATAELXSI!H211","v":-5.4121183566410713E-2},{"$f":"COALINDIA!H211","v":-6.4000177603420472E-2},-9.647901418602698E-3]
["2020-03-11",{"$f":"RELIANCE!H212","v":3.5363332927260134E-2},{"$f":"IDEA!H212","v":8.7499999999999911E-2},{"$f":"SUNPHARMA!H212","v":-1.8812769109319727E-2},{"$f":"TATAELXSI!H212","v":4.3060884239281894E-2},{"$f":"COALINDIA!H212","v":6.3627860693645566E-2},4.2147861750173564E-2]
["2020-03-12",{"$f":"RELIANCE!H213","v":-7.8496817863171031E-2},{"$f":"IDEA!H213","v":-3.4482758620689502E-2},{"$f":"SUNPHARMA!H213","v":-8.0710039772202147E-2},{"$f":"TATAELXSI!H213","v":-9.6961619034975577E-2},{"$f":"COALINDIA!H213","v":-8.0059452132912212E-2},-7.4142137484790094E-2]
["2020-03-13",{"$f":"RELIANCE!H214","v":3.9793148026637241E-2},{"$f":"IDEA!H214","v":0.33333333333333326},{"$f":"SUNPHARMA!H214","v":8.2863693802013749E-2},{"$f":"TATAELXSI!H214","v":-3.5696011148228846E-2},{"$f":"COALINDIA!H214","v":-2.9116169875701425E-3},8.3476509405237043E-2]
["2020-03-16",{"$f":"RELIANCE!H215","v":-8.1064056500202902E-2},{"$f":"IDEA!H215","v":1.7857142857143016E-2},{"$f":"SUNPHARMA!H215","v":-4.0734144119454863E-2},{"$f":"TATAELXSI!H215","v":-8.9975154850246208E-2},{"$f":"COALINDIA!H215","v":-6.6190904112434445E-2},-5.2021423345039078E-2]
["2020-03-17",{"$f":"RELIANCE!H216","v":-7.580950659472183E-3},{"$f":"IDEA!H216","v":-0.14912280701754399},{"$f":"SUNPHARMA!H216","v":4.3414020583192325E-3},{"$f":"TATAELXSI!H216","v":-6.1826944686327878E-2},{"$f":"COALINDIA!H216","v":1.3898501982983813E-2},-4.0058159664408198E-2]
["2020-03-18",{"$f":"RELIANCE!H217","v":-3.9186575911602663E-2},{"$f":"IDEA!H217","v":-0.35051546391752575},{"$f":"SUNPHARMA!H217","v":-1.9991904804867011E-2},{"$f":"TATAELXSI!H217","v":-6.2927883796078499E-2},{"$f":"COALINDIA!H217","v":-5.825813133458313E-3},-9.5689528312706468E-2]
["2020-03-19",{"$f":"RELIANCE!H218","v":-5.2452205468829421E-2},{"$f":"IDEA!H218","v":4.7619047619047672E-2},{"$f":"SUNPHARMA!H218","v":-6.4782764013242566E-3},{"$f":"TATAELXSI!H218","v":-0.15009966020514376},{"$f":"COALINDIA!H218","v":-7.1401743295035569E-2},-4.6562567550257075E-2]
["2020-03-20",{"$f":"RELIANCE!H219","v":0.10924052095317333},{"$f":"IDEA!H219","v":4.5454545454545636E-2},{"$f":"SUNPHARMA!H219","v":1.3457276002598384E-2},{"$f":"TATAELXSI!H219","v":3.9506825400406509E-2},{"$f":"COALINDIA!H219","v":7.4868518319016752E-2},5.650553722594813E-2]
["2020-03-23",{"$f":"RELIANCE!H220","v":-0.13153890134827201},{"$f":"IDEA!H220","v":-8.6956521739130488E-2},{"$f":"SUNPHARMA!H220","v":-0.11156741287119443},{"$f":"TATAELXSI!H220","v":-9.0544541394644185E-2},{"$f":"COALINDIA!H220","v":-3.7274129839647507E-2},-9.1576301438577715E-2]
["2020-03-24",{"$f":"RELIANCE!H221","v":6.7134277305004125E-2},{"$f":"IDEA!H221","v":6.3492063492063489E-2},{"$f":"SUNPHARMA!H221","v":3.2819667288013443E-2},{"$f":"TATAELXSI!H221","v":1.0653911662887872E-2},{"$f":"COALINDIA!H221","v":0},3.4819983949593791E-2]
["2020-03-25",{"$f":"RELIANCE!H222","v":0.1471802300911281},{"$f":"IDEA!H222","v":0},{"$f":"SUNPHARMA!H222","v":3.7296660903461953E-2},{"$f":"TATAELXSI!H222","v":6.5067180627478738E-2},{"$f":"COALINDIA!H222","v":-2.6202603828458515E-2},4.4668293558722059E-2]
["2020-03-26",{"$f":"RELIANCE!H223","v":-1.4830139527008871E-2},{"$f":"IDEA!H223","v":-2.9850746268656692E-2},{"$f":"SUNPHARMA!H223","v":-2.6894734833585621E-2},{"$f":"TATAELXSI!H223","v":5.8959112107025868E-2},{"$f":"COALINDIA!H223","v":-1.0040145090319696E-2},-4.5313307225090024E-3]
["2020-03-27",{"$f":"RELIANCE!H224","v":-5.6271395013192643E-4},{"$f":"IDEA!H224","v":-1.538461538461533E-2},{"$f":"SUNPHARMA!H224","v":-1.4777923509134983E-4},{"$f":"TATAELXSI!H224","v":2.9892771331614165E-2},{"$f":"COALINDIA!H224","v":6.8559795115854749E-2},1.6471491575526062E-2]
["2020-03-30",{"$f":"RELIANCE!H225","v":-3.298609012918164E-2},{"$f":"IDEA!H225","v":-1.5625000000000111E-2},{"$f":"SUNPHARMA!H225","v":-1.6407921431181749E-2},{"$f":"TATAELXSI!H225","v":-5.6250867421624884E-2},{"$f":"COALINDIA!H225","v":1.100985114209907E-2},-2.2052005567977862E-2]
["2020-03-31",{"$f":"RELIANCE!H226","v":8.0838442550274905E-2},{"$f":"IDEA!H226","v":-1.5873015873015817E-2},{"$f":"SUNPHARMA!H226","v":5.8911786120797283E-2},{"$f":"TATAELXSI!H226","v":4.3023946477195096E-2},{"$f":"COALINDIA!H226","v":5.1821295931901989E-2},4.3744491041430696E-2]
["2020-04-01",{"$f":"RELIANCE!H227","v":-2.9899000496364746E-2},{"$f":"IDEA!H227","v":-1.6129032258064613E-2},{"$f":"SUNPHARMA!H227","v":-2.4836774141392293E-2},{"$f":"TATAELXSI!H227","v":-3.4811443734537817E-2},{"$f":"COALINDIA!H227","v":-4.2841867344352025E-3},-2.1992087472958936E-2]
["2020-04-03",{"$f":"RELIANCE!H228","v":-2.7765764523655823E-3},{"$f":"IDEA!H228","v":3.2786885245901676E-2},{"$f":"SUNPHARMA!H228","v":9.430937452467858E-2},{"$f":"TATAELXSI!H228","v":-2.2398049831956923E-2},{"$f":"COALINDIA!H228","v":-1.2190777137898401E-2},1.7946171269671869E-2]
["2020-04-07",{"$f":"RELIANCE!H229","v":0.11940227642489974},{"$f":"IDEA!H229","v":1.5873015873016039E-2},{"$f":"SUNPHARMA!H229","v":0.11012114687303121},{"$f":"TATAELXSI!H229","v":7.6061411086280062E-2},{"$f":"COALINDIA!H229","v":1.7422833630232226E-2},6.7776136777491849E-2]
["2020-04-08",{"$f":"RELIANCE!H230","v":-1.156628632375519E-2},{"$f":"IDEA!H230","v":0},{"$f":"SUNPHARMA!H230","v":4.6363919290876465E-2},{"$f":"TATAELXSI!H230","v":-1.8787035162002308E-3},{"$f":"COALINDIA!H230","v":-1.9978437702631302E-2},2.588098349657948E-3]
["2020-04-09",{"$f":"RELIANCE!H231","v":2.3319159388571195E-2},{"$f":"IDEA!H231","v":3.1249999999999778E-2},{"$f":"SUNPHARMA!H231","v":4.0645803166775796E-2},{"$f":"TATAELXSI!H231","v":9.732565815651939E-2},{"$f":"COALINDIA!H231","v":2.5118265012953778E-2},4.3531777144963993E-2]
["2020-04-13",{"$f":"RELIANCE!H232","v":-2.5246845910136401E-2},{"$f":"IDEA!H232","v":0.24242424242424243},{"$f":"SUNPHARMA!H232","v":1.7383590986435049E-2},{"$f":"TATAELXSI!H232","v":-3.7021052732618132E-2},{"$f":"COALINDIA!H232","v":3.6221531698284348E-2},4.6752293293241466E-2]
["2020-04-15",{"$f":"RELIANCE!H233","v":-3.3048850607660635E-2},{"$f":"IDEA!H233","v":3.6585365853658569E-2},{"$f":"SUNPHARMA!H233","v":-2.8441632353469304E-2},{"$f":"TATAELXSI!H233","v":8.9505619865038355E-2},{"$f":"COALINDIA!H233","v":6.5113537207355243E-3},1.4222371295660502E-2]
["2020-04-16",{"$f":"RELIANCE!H234","v":1.5828251171196829E-2},{"$f":"IDEA!H234","v":0},{"$f":"SUNPHARMA!H234","v":3.2279563825357016E-2},{"$f":"TATAELXSI!H234","v":-2.7384111853451354E-2},{"$f":"COALINDIA!H234","v":3.7452296739437507E-3},4.8937865634092487E-3]
["2020-04-17",{"$f":"RELIANCE!H235","v":4.7900171163882226E-2},{"$f":"IDEA!H235","v":-3.529411764705892E-2},{"$f":"SUNPHARMA!H235","v":-1.4233355975833861E-2},{"$f":"TATAELXSI!H235","v":-9.8058416148461003E-4},{"$f":"COALINDIA!H235","v":9.1588034219969305E-3},1.3101833603003528E-3]
["2020-04-20",{"$f":"RELIANCE!H236","v":1.6176557460734781E-2},{"$f":"IDEA!H236","v":-4.8780487804877981E-2},{"$f":"SUNPHARMA!H236","v":3.565961966835296E-2},{"$f":"TATAELXSI!H236","v":2.271462593235718E-2},{"$f":"COALINDIA!H236","v":-3.0588334514329518E-2},-9.6360385155251724E-4]
["2020-04-21",{"$f":"RELIANCE!H237","v":-5.1856974222903003E-3},{"$f":"IDEA!H237","v":-5.1282051282051211E-2},{"$f":"SUNPHARMA!H237","v":-5.2809731105218916E-4},{"$f":"TATAELXSI!H237","v":-5.8953109280200922E-3},{"$f":"COALINDIA!H237","v":-3.6061039790879157E-2},-1.979043934685859E-2]
["2020-04-22",{"$f":"RELIANCE!H238","v":0.10203247175532336},{"$f":"IDEA!H238","v":6.7567567567567544E-2},{"$f":"SUNPHARMA!H238","v":2.5361490391961894E-3},{"$f":"TATAELXSI!H238","v":-7.5161632089245645E-3},{"$f":"COALINDIA!H238","v":1.2230377783537305E-2},3.5370080587339973E-2]
["2020-04-23",{"$f":"RELIANCE!H239","v":5.3535488922573267E-3},{"$f":"IDEA!H239","v":0.10126582278481},{"$f":"SUNPHARMA!H239","v":6.5353184729750602E-3},{"$f":"TATAELXSI!H239","v":6.11395983759766E-3},{"$f":"COALINDIA!H239","v":1.4214677922241847E-3},2.4138023555972846E-2]
["2020-04-24",{"$f":"RELIANCE!H240","v":3.3627499818303548E-2},{"$f":"IDEA!H240","v":-8.045977011494243E-2},{"$f":"SUNPHARMA!H240","v":1.6965085095200338E-2},{"$f":"TATAELXSI!H240","v":3.7566478784182955E-2},{"$f":"COALINDIA!H240","v":-2.7679324757502566E-2},-3.9960062349516327E-3]
["2020-04-27",{"$f":"RELIANCE!H241","v":8.9979146059683754E-3},{"$f":"IDEA!H241","v":2.4999999999999911E-2},{"$f":"SUNPHARMA!H241","v":8.9589796960969359E-3},{"$f":"TATAELXSI!H241","v":0.10369387992843593},{"$f":"COALINDIA!H241","v":8.029277202828311E-3},3.0936010286665892E-2]
["2020-04-28",{"$f":"RELIANCE!H242","v":-1.1190707081276587E-3},{"$f":"IDEA!H242","v":-2.4390243902438935E-2},{"$f":"SUNPHARMA!H242","v":-3.2557648085122071E-2},{"$f":"TATAELXSI!H242","v":-1.6462644321638686E-2},{"$f":"COALINDIA!H242","v":-1.9551088057699006E-2},-1.8816139015005274E-2]
["2020-04-29",{"$f":"RELIANCE!H243","v":-8.4028656344049271E-4},{"$f":"IDEA!H243","v":5.0000000000000044E-2},{"$f":"SUNPHARMA!H243","v":7.8066370650422545E-3},{"$f":"TATAELXSI!H243","v":-1.5940597786475719E-3},{"$f":"COALINDIA!H243","v":3.2865687122658249E-2},1.7647595569122498E-2]
["2020-04-30",{"$f":"RELIANCE!H244","v":2.7366151740326687E-2},{"$f":"IDEA!H244","v":0},{"$f":"SUNPHARMA!H244","v":-2.7635264452974706E-2},{"$f":"TATAELXSI!H244","v":-1.3940086067927404E-2},{"$f":"COALINDIA!H244","v":6.1851877206199557E-2},9.5285356851248261E-3]
["2020-05-04",{"$f":"RELIANCE!H245","v":-2.1009557178355023E-2},{"$f":"IDEA!H245","v":-1.1904761904761862E-2},{"$f":"SUNPHARMA!H245","v":2.1530908161311313E-3},{"$f":"TATAELXSI!H245","v":-4.328333996581879E-2},{"$f":"COALINDIA!H245","v":-4.1750804187814294E-2},-2.3159074484123771E-2]
["2020-05-05",{"$f":"RELIANCE!H246","v":1.7732602962991957E-2},{"$f":"IDEA!H246","v":0},{"$f":"SUNPHARMA!H246","v":-1.9658415252292727E-2},{"$f":"TATAELXSI!H246","v":3.8406360220777369E-3},{"$f":"COALINDIA!H246","v":-3.0217847032094403E-2},-5.6606046598634873E-3]
["2020-05-06",{"$f":"RELIANCE!H247","v":6.8558040600605116E-5},{"$f":"IDEA!H247","v":2.409638554216853E-2},{"$f":"SUNPHARMA!H247","v":-4.1638987300227637E-3},{"$f":"TATAELXSI!H247","v":-7.5221953868028768E-3},{"$f":"COALINDIA!H247","v":-3.0797135629787808E-2},-3.6636572327688631E-3]
["2020-05-07",{"$f":"RELIANCE!H248","v":3.1627641952630035E-2},{"$f":"IDEA!H248","v":-2.3529411764705799E-2},{"$f":"SUNPHARMA!H248","v":-4.8415769291323407E-3},{"$f":"TATAELXSI!H248","v":3.1754304120744425E-2},{"$f":"COALINDIA!H248","v":-2.205601628894116E-2},2.5909882181190322E-3]
["2020-05-08",{"$f":"RELIANCE!H249","v":3.6398024723527059E-2},{"$f":"IDEA!H249","v":1.2048192771084265E-2},{"$f":"SUNPHARMA!H249","v":3.7151732714083563E-2},{"$f":"TATAELXSI!H249","v":-2.2861094415195904E-2},{"$f":"COALINDIA!H249","v":-1.3761569554848418E-2},9.7950572477301118E-3]
["2020-05-11",{"$f":"RELIANCE!H250","v":9.6042280940957445E-3},{"$f":"IDEA!H250","v":9.5238095238095122E-2},{"$f":"SUNPHARMA!H250","v":-1.0980736841859962E-2},{"$f":"TATAELXSI!H250","v":6.8049771978562212E-3},{"$f":"COALINDIA!H250","v":-4.2634654086857182E-3},1.9280619655900284E-2]
["2020-05-12",{"$f":"RELIANCE!H251","v":-6.1865764040433681E-2},{"$f":"IDEA!H251","v":7.6086956521739246E-2},{"$f":"SUNPHARMA!H251","v":1.0764560097431541E-4},{"$f":"TATAELXSI!H251","v":1.081424163559519E-2},{"$f":"COALINDIA!H251","v":-1.2456231537418483E-2},2.5373696360913166E-3]
["2020-05-13",{"$f":"RELIANCE!H252","v":2.1216639090412177E-2},{"$f":"IDEA!H252","v":-1.0101010101010055E-2},{"$f":"SUNPHARMA!H252","v":-2.4897467697626241E-2},{"$f":"TATAELXSI!H252","v":-1.910397322105073E-3},{"$f":"COALINDIA!H252","v":2.9562497362731754E-2},2.7740522664805121E-3]
["2020-05-14",{"$f":"RELIANCE!H253","v":-4.0428960247321385E-2},{"$f":"IDEA!H253","v":-3.0612244897959218E-2},{"$f":"SUNPHARMA!H253","v":7.9584342461278545E-3},{"$f":"TATAELXSI!H253","v":-1.4930182312300033E-2},{"$f":"COALINDIA!H253","v":-1.4931147428345004E-2},-1.8588820127959559E-2]
["2020-05-15",{"$f":"RELIANCE!H254","v":1.6330644125083966E-2},{"$f":"IDEA!H254","v":2.1052631578947212E-2},{"$f":"SUNPHARMA!H254","v":-1.6120139618472806E-2},{"$f":"TATAELXSI!H254","v":7.6428828226011714E-3},{"$f":"COALINDIA!H254","v":7.384493920313151E-3},7.2581025656945387E-3]
["2020-05-18",{"$f":"RELIANCE!H255","v":-1.2779206854441087E-2},{"$f":"IDEA!H255","v":-4.1237113402061709E-2},{"$f":"SUNPHARMA!H255","v":-1.7610423039256973E-2},{"$f":"TATAELXSI!H255","v":-1.8833845615412126E-2},{"$f":"COALINDIA!H255","v":-6.0956836600055464E-2},-3.0283485102245475E-2]
["2020-05-19",{"$f":"RELIANCE!H256","v":-2.2106487004729673E-2},{"$f":"IDEA!H256","v":0.17204301075268802},{"$f":"SUNPHARMA!H256","v":2.2691240770773558E-3},{"$f":"TATAELXSI!H256","v":1.2644065788939951E-2},{"$f":"COALINDIA!H256","v":1.5612115777590585E-2},3.609236587831325E-2]
["2020-05-20",{"$f":"RELIANCE!H257","v":1.7602332452621536E-2},{"$f":"IDEA!H257","v":3.669724770642202E-2},{"$f":"SUNPHARMA!H257","v":3.1808859067240736E-2},{"$f":"TATAELXSI!H257","v":1.895585295162272E-2},{"$f":"COALINDIA!H257","v":-2.831685390199401E-3},2.0446521357541519E-2]
["2020-05-21",{"$f":"RELIANCE!H258","v":5.2661251225536478E-3},{"$f":"IDEA!H258","v":-1.7699115044247926E-2},{"$f":"SUNPHARMA!H258","v":2.3477868082074194E-2},{"$f":"TATAELXSI!H258","v":-2.0253950597444614E-2},{"$f":"COALINDIA!H258","v":1.0141971960303087E-2},1.865799046476776E-4]
["2020-05-22",{"$f":"RELIANCE!H259","v":-6.7302437873038102E-3},{"$f":"IDEA!H259","v":-9.009009009009028E-3},{"$f":"SUNPHARMA!H259","v":6.3242637769680421E-3},{"$f":"TATAELXSI!H259","v":4.4714875382196873E-3},{"$f":"COALINDIA!H259","v":5.6224306708512195E-3},1.3578583794522214E-4]
["2020-05-26",{"$f":"RELIANCE!H260","v":-5.2390857420391993E-3},{"$f":"IDEA!H260","v":1.8181818181818077E-2},{"$f":"SUNPHARMA!H260","v":-2.1836387145247271E-2},{"$f":"TATAELXSI!H260","v":-1.9741905377831381E-2},{"$f":"COALINDIA!H260","v":1.6373873004793316E-2},{"$f":"Portfolio_Return(B260,C260,D260,E260,F260,$J$2,$J$3,$J$4,$J$5,$J$6)","v":-2.4523374157012917E-3}]
["2020-05-27",{"$f":"RELIANCE!H261","v":1.5097828441734587E-2},{"$f":"IDEA!H261","v":8.9285714285716189E-3},{"$f":"SUNPHARMA!H261","v":-1.7967971306869446E-2},{"$f":"TATAELXSI!H261","v":-1.1451908507646769E-2},{"$f":"COALINDIA!H261","v":2.7897856464556003E-2},4.5008753040691983E-3]
["2020-05-28",{"$f":"RELIANCE!H262","v":1.8470439258731201E-2},{"$f":"IDEA!H262","v":2.6548672566371501E-2},{"$f":"SUNPHARMA!H262","v":1.8185918913973032E-2},{"$f":"TATAELXSI!H262","v":6.3914253036334578E-3},{"$f":"COALINDIA!H262","v":2.370021239108655E-2},1.865933368675915E-2]
["2020-05-29",{"$f":"RELIANCE!H263","v":-5.3320415615137947E-3},{"$f":"IDEA!H263","v":0.1293103448275863},{"$f":"SUNPHARMA!H263","v":3.2999269072890636E-2},{"$f":"TATAELXSI!H263","v":1.2040307617988022E-2},{"$f":"COALINDIA!H263","v":5.5265171176654082E-2},4.485661022672105E-2]
["2020-06-01",{"$f":"RELIANCE!H264","v":3.8206807547246799E-2},{"$f":"IDEA!H264","v":0},{"$f":"SUNPHARMA!H264","v":-1.8661009934010986E-2},{"$f":"TATAELXSI!H264","v":1.8303072734095371E-2},{"$f":"COALINDIA!H264","v":5.1309283011352624E-2},1.7831630671736765E-2]
["2020-06-02",{"$f":"RELIANCE!H265","v":1.0096270753064955E-2},{"$f":"IDEA!H265","v":0.17557251908396942},{"$f":"SUNPHARMA!H265","v":1.654490432827882E-2},{"$f":"TATAELXSI!H265","v":5.2253073319235233E-2},{"$f":"COALINDIA!H265","v":-3.466850568337243E-2},4.3959652360235212E-2]
["2020-06-03",{"$f":"RELIANCE!H266","v":3.8745871433181057E-3},{"$f":"IDEA!H266","v":5.1948051948051965E-2},{"$f":"SUNPHARMA!H266","v":6.4467810645563173E-3},{"$f":"TATAELXSI!H266","v":-3.1722474958284508E-3},{"$f":"COALINDIA!H266","v":-1.1854841492996759E-2},9.4484662334202371E-3]
["2020-06-04",{"$f":"RELIANCE!H267","v":2.4746186886247471E-2},{"$f":"IDEA!H267","v":6.1728395061728447E-2},{"$f":"SUNPHARMA!H267","v":3.9273338394120616E-2},{"$f":"TATAELXSI!H267","v":7.4050786423602855E-3},{"$f":"COALINDIA!H267","v":-1.0232945263375592E-2},2.4584010744216244E-2]
["2020-06-05",{"$f":"RELIANCE!H268","v":1.202617719858213E-3},{"$f":"IDEA!H268","v":0.22093023255813948},{"$f":"SUNPHARMA!H268","v":-1.2124023731807654E-3},{"$f":"TATAELXSI!H268","v":1.7921180739408626E-2},{"$f":"COALINDIA!H268","v":3.2798642795790478E-2},5.4328054288003212E-2]
["2020-06-08",{"$f":"RELIANCE!H269","v":-7.7132004001515481E-3},{"$f":"IDEA!H269","v":0.14285714285714279},{"$f":"SUNPHARMA!H269","v":-1.0622123482827872E-2},{"$f":"TATAELXSI!H269","v":-1.0384358312281128E-2},{"$f":"COALINDIA!H269","v":1.2771761693805228E-2},2.5381844471137494E-2]
["2020-06-09",{"$f":"RELIANCE!H270","v":-2.0611640925267901E-2},{"$f":"IDEA!H270","v":-0.16249999999999998},{"$f":"SUNPHARMA!H270","v":2.402857242160783E-2},{"$f":"TATAELXSI!H270","v":1.0553591227370873E-2},{"$f":"COALINDIA!H270","v":-1.6359885882127445E-2},-3.2977872631683322E-2]
["2020-06-10",{"$f":"RELIANCE!H271","v":2.2769372151061677E-2},{"$f":"IDEA!H271","v":7.9601990049751103E-2},{"$f":"SUNPHARMA!H271","v":-3.1951911126445465E-3},{"$f":"TATAELXSI!H271","v":5.5081480857205323E-2},{"$f":"COALINDIA!H271","v":-2.4948013199644903E-2},2.5861927749145728E-2]
["2020-06-11",{"$f":"RELIANCE!H272","v":-2.1912658171855896E-2},{"$f":"IDEA!H272","v":-0.13364055299539168},{"$f":"SUNPHARMA!H272","v":-5.1086875848909474E-2},{"$f":"TATAELXSI!H272","v":6.2783135689330472E-3},{"$f":"COALINDIA!H272","v":-2.1321938210622893E-2},-4.4336742331569381E-2]
["2020-06-12",{"$f":"RELIANCE!H273","v":3.3231533466742222E-2},{"$f":"IDEA!H273","v":7.9787234042553168E-2},{"$f":"SUNPHARMA!H273","v":1.3617638097513485E-2},{"$f":"TATAELXSI!H273","v":-7.3064595840655056E-4},{"$f":"COALINDIA!H273","v":-2.2149682021763817E-2},2.0751215525327701E-2]
["2020-06-15",{"$f":"RELIANCE!H274","v":1.6207197909899135E-2},{"$f":"IDEA!H274","v":0},{"$f":"SUNPHARMA!H274","v":1.1872445185651781E-2},{"$f":"TATAELXSI!H274","v":-2.4187428034488923E-3},{"$f":"COALINDIA!H274","v":-1.8937985061451723E-2},1.344583046130061E-3]
["2020-06-16",{"$f":"RELIANCE!H275","v":1.950868523245034E-3},{"$f":"IDEA!H275","v":-3.9408866995073955E-2},{"$f":"SUNPHARMA!H275","v":-4.9402161967119218E-3},{"$f":"TATAELXSI!H275","v":-1.2630382254332662E-2},{"$f":"COALINDIA!H275","v":-7.1915057093576706E-3},-1.2444020526446236E-2]
["2020-06-17",{"$f":"RELIANCE!H276","v":-1.4526276820861336E-3},{"$f":"IDEA!H276","v":1.025641025641022E-2},{"$f":"SUNPHARMA!H276","v":4.6546089457697448E-3},{"$f":"TATAELXSI!H276","v":-9.7653492937479491E-3},{"$f":"COALINDIA!H276","v":-1.2962352042085512E-2},-1.8538619631479263E-3]
["2020-06-18",{"$f":"RELIANCE!H277","v":2.5103013464694311E-2},{"$f":"IDEA!H277","v":-1.015228426395931E-2},{"$f":"SUNPHARMA!H277","v":-2.8828325722987103E-3},{"$f":"TATAELXSI!H277","v":8.9965208478834935E-3},{"$f":"COALINDIA!H277","v":6.2958912010859569E-2},1.6804665897435872E-2]
["2020-06-19",{"$f":"RELIANCE!H278","v":6.2503721268433399E-2},{"$f":"IDEA!H278","v":-6.1538461538461542E-2},{"$f":"SUNPHARMA!H278","v":7.9505008137674693E-3},{"$f":"TATAELXSI!H278","v":1.1438030218213768E-4},{"$f":"COALINDIA!H278","v":-2.5437115735837956E-3},1.2972858544675334E-3]
["2020-06-22",{"$f":"RELIANCE!H279","v":-7.5309621083811569E-3},{"$f":"IDEA!H279","v":0.10382513661202175},{"$f":"SUNPHARMA!H279","v":1.0448683396695024E-2},{"$f":"TATAELXSI!H279","v":3.4860998469556925E-3},{"$f":"COALINDIA!H279","v":4.6630197195376644E-2},3.1371830988533592E-2]
["2020-06-23",{"$f":"RELIANCE!H280","v":-1.4460353835189756E-2},{"$f":"IDEA!H280","v":1.4851485148514865E-2},{"$f":"SUNPHARMA!H280","v":1.4699963773093572E-2},{"$f":"TATAELXSI!H280","v":4.2144323912407522E-3},{"$f":"COALINDIA!H280","v":1.3924050004316957E-3},4.1395864956182259E-3]
["2020-06-24",{"$f":"RELIANCE!H281","v":4.0385456327721595E-3},{"$f":"IDEA!H281","v":-4.3902439024390172E-2},{"$f":"SUNPHARMA!H281","v":-3.2071217350351011E-2},{"$f":"TATAELXSI!H281","v":-9.7545291242299159E-3},{"$f":"COALINDIA!H281","v":-1.598910135308329E-2},-1.9535748243856444E-2]
["2020-06-25",{"$f":"RELIANCE!H282","v":-5.7585947706535797E-3},{"$f":"IDEA!H282","v":5.1020408163264808E-3},{"$f":"SUNPHARMA!H282","v":6.7093503541539867E-3},{"$f":"TATAELXSI!H282","v":-5.0397732598639333E-3},{"$f":"COALINDIA!H282","v":-8.124257884341457E-3},-1.4222469488757005E-3]
["2020-06-26",{"$f":"RELIANCE!H283","v":1.3825043639667802E-2},{"$f":"IDEA!H283","v":5.5837563451776706E-2},{"$f":"SUNPHARMA!H283","v":-1.5789945139097594E-2},{"$f":"TATAELXSI!H283","v":3.7241681740527888E-2},{"$f":"COALINDIA!H283","v":1.2108421374763312E-2},2.0644553013527623E-2]
["2020-06-29",{"$f":"RELIANCE!H284","v":-1.062211584375819E-2},{"$f":"IDEA!H284","v":6.7307692307692291E-2},{"$f":"SUNPHARMA!H284","v":4.2711475766255003E-3},{"$f":"TATAELXSI!H284","v":-2.9412495983910381E-3},{"$f":"COALINDIA!H284","v":-5.102047325459691E-2},1.3990002375143303E-3]
["2020-06-30",{"$f":"RELIANCE!H285","v":-1.1055385861091262E-2},{"$f":"IDEA!H285","v":-4.5045045045045029E-2},{"$f":"SUNPHARMA!H285","v":-1.8775848535095396E-2},{"$f":"TATAELXSI!H285","v":-1.1687344968338564E-3},{"$f":"COALINDIA!H285","v":-1.4831259245526973E-2},-1.8175254636718506E-2]
["2020-07-01",{"$f":"RELIANCE!H286","v":1.9658492110377082E-2},{"$f":"IDEA!H286","v":-4.245283018867918E-2},{"$f":"SUNPHARMA!H286","v":-1.0149079915158565E-2},{"$f":"TATAELXSI!H286","v":5.4607799044383842E-3},{"$f":"COALINDIA!H286","v":7.5272314614440727E-3},-3.9910813255156427E-3]
["2020-07-02",{"$f":"RELIANCE!H287","v":1.6896724916786416E-2},{"$f":"IDEA!H287","v":-9.8522167487684609E-3},{"$f":"SUNPHARMA!H287","v":1.0359931982982573E-2},{"$f":"TATAELXSI!H287","v":9.8094006962607949E-3},{"$f":"COALINDIA!H287","v":-1.8678017226154697E-3},5.069207824929171E-3]
["2020-07-03",{"$f":"RELIANCE!H288","v":1.5650304108063229E-2},{"$f":"IDEA!H288","v":-4.9751243781095411E-3},{"$f":"SUNPHARMA!H288","v":8.1395309217604517E-3},{"$f":"TATAELXSI!H288","v":-9.3299197936291822E-4},{"$f":"COALINDIA!H288","v":1.2350366440758931E-2},6.0464170226220311E-3]
["2020-07-06",{"$f":"RELIANCE!H289","v":3.5740306966877924E-2},{"$f":"IDEA!H289","v":-1.9999999999999907E-2},{"$f":"SUNPHARMA!H289","v":7.0252651070228378E-3},{"$f":"TATAELXSI!H289","v":7.5258016523389593E-3},{"$f":"COALINDIA!H289","v":4.436167842320371E-3},6.9455083137120368E-3]
["2020-07-07",{"$f":"RELIANCE!H290","v":-1.5309462498346497E-2},{"$f":"IDEA!H290","v":-2.5510204081632626E-2},{"$f":"SUNPHARMA!H290","v":-1.9783616860735709E-3},{"$f":"TATAELXSI!H290","v":2.5080245381101651E-3},{"$f":"COALINDIA!H290","v":-2.2083093151674338E-2},-1.2474619375923375E-2]
["2020-07-08",{"$f":"RELIANCE!H291","v":-1.3957068361969881E-2},{"$f":"IDEA!H291","v":-2.6178010471204161E-2},{"$f":"SUNPHARMA!H291","v":6.7813847750914924E-3},{"$f":"TATAELXSI!H291","v":4.677261409830491E-3},{"$f":"COALINDIA!H291","v":0},-5.735286529650413E-3]
["2020-07-09",{"$f":"RELIANCE!H292","v":1.4599592879056151E-2},{"$f":"IDEA!H292","v":5.3763440860215006E-3},{"$f":"SUNPHARMA!H292","v":-1.139820908019562E-3},{"$f":"TATAELXSI!H292","v":3.0314828721436093E-3},{"$f":"COALINDIA!H292","v":-1.844198880102399E-2},6.8512202563554211E-4]
["2020-07-10",{"$f":"RELIANCE!H293","v":2.9491547222176159E-2},{"$f":"IDEA!H293","v":4.2780748663101553E-2},{"$f":"SUNPHARMA!H293","v":2.4795124902919907E-2},{"$f":"TATAELXSI!H293","v":2.2127061733936415E-3},{"$f":"COALINDIA!H293","v":6.1349763267337654E-3},2.1083020657665007E-2]
["2020-07-13",{"$f":"RELIANCE!H294","v":3.0323979713139285E-2},{"$f":"IDEA!H294","v":0},{"$f":"SUNPHARMA!H294","v":1.1743226578373678E-2},{"$f":"TATAELXSI!H294","v":-1.0087745546201177E-2},{"$f":"COALINDIA!H294","v":-5.3353754209455317E-3},5.3288170648732522E-3]
["2020-07-14",{"$f":"RELIANCE!H295","v":-9.3023154123770459E-3},{"$f":"IDEA!H295","v":-4.1025641025641102E-2},{"$f":"SUNPHARMA!H295","v":-1.5209084108279036E-2},{"$f":"TATAELXSI!H295","v":-1.2295059722441271E-2},{"$f":"COALINDIA!H295","v":-1.724131008789076E-2},-1.9014682071325843E-2]
["2020-07-15",{"$f":"RELIANCE!H296","v":-3.8080308960254619E-2},{"$f":"IDEA!H296","v":-7.4866310160427774E-2},{"$f":"SUNPHARMA!H296","v":6.0962756100262361E-3},{"$f":"TATAELXSI!H296","v":7.3455189210764882E-3},{"$f":"COALINDIA!H296","v":-1.9493587907104537E-3},-2.0290836676058025E-2]
["2020-07-16",{"$f":"RELIANCE!H297","v":-3.2535020828028995E-4},{"$f":"IDEA!H297","v":-9.2485549132948042E-2},{"$f":"SUNPHARMA!H297","v":9.2910563392205603E-3},{"$f":"TATAELXSI!H297","v":1.7812440217663816E-2},{"$f":"COALINDIA!H297","v":-1.445311288399409E-2},-1.6032103133667611E-2]
["2020-07-17",{"$f":"RELIANCE!H298","v":3.705100247200712E-2},{"$f":"IDEA!H298","v":0.13375796178343968},{"$f":"SUNPHARMA!H298","v":7.8047299708623452E-3},{"$f":"TATAELXSI!H298","v":3.0078905975841064E-3},{"$f":"COALINDIA!H298","v":3.5275497897348629E-2},4.3379416544248373E-2]
["2020-07-20",{"$f":"RELIANCE!H299","v":4.2894403012965557E-3},{"$f":"IDEA!H299","v":2.2471910112359383E-2},{"$f":"SUNPHARMA!H299","v":-3.9316957832511212E-2},{"$f":"TATAELXSI!H299","v":5.2344424619692465E-3},{"$f":"COALINDIA!H299","v":1.8376695416341571E-2},2.2111060918911076E-3]
["2020-07-21",{"$f":"RELIANCE!H300","v":2.6902440640989254E-2},{"$f":"IDEA!H300","v":-8.7912087912087822E-2},{"$f":"SUNPHARMA!H300","v":-1.3538616312259832E-2},{"$f":"TATAELXSI!H300","v":-5.4242293820727649E-4},{"$f":"COALINDIA!H300","v":7.5187705710577646E-4},-1.4867761892891981E-2]
["2020-07-22",{"$f":"RELIANCE!H301","v":1.6459132251119633E-2},{"$f":"IDEA!H301","v":3.0120481927710774E-2},{"$f":"SUNPHARMA!H301","v":-6.1813427226794504E-3},{"$f":"TATAELXSI!H301","v":-7.000974456728315E-3},{"$f":"COALINDIA!H301","v":7.5131678300301985E-3},8.1820929658905691E-3]
["2020-07-23",{"$f":"RELIANCE!H302","v":2.6846285379744129E-2},{"$f":"IDEA!H302","v":5.8479532163742132E-3},{"$f":"SUNPHARMA!H302","v":3.5843195987987908E-3},{"$f":"TATAELXSI!H302","v":-1.4210110925347852E-3},{"$f":"COALINDIA!H302","v":-4.8471760940858033E-3},6.0020742016593086E-3]
["2020-07-24",{"$f":"RELIANCE!H303","v":4.293417960472011E-2},{"$f":"IDEA!H303","v":-2.3255813953488302E-2},{"$f":"SUNPHARMA!H303","v":2.0168100082145202E-2},{"$f":"TATAELXSI!H303","v":-6.4035151741614893E-3},{"$f":"COALINDIA!H303","v":-1.3862729530598861E-2},3.9160442057233312E-3]
["2020-07-27",{"$f":"RELIANCE!H304","v":4.6828273460517945E-3},{"$f":"IDEA!H304","v":-4.166666666666663E-2},{"$f":"SUNPHARMA!H304","v":-2.0799046125621556E-2},{"$f":"TATAELXSI!H304","v":-5.3983095884215793E-3},{"$f":"COALINDIA!H304","v":-1.253812602732185E-2},-1.5143864212395965E-2]
["2020-07-28",{"$f":"RELIANCE!H305","v":9.9711760588401723E-3},{"$f":"IDEA!H305","v":0},{"$f":"SUNPHARMA!H305","v":1.4931668217404326E-2},{"$f":"TATAELXSI!H305","v":2.2264137244574433E-2},{"$f":"COALINDIA!H305","v":3.8475729450235807E-3},1.0202910893168502E-2]
["2020-07-29",{"$f":"RELIANCE!H306","v":-3.7218138778699457E-2},{"$f":"IDEA!H306","v":2.4844720496894235E-2},{"$f":"SUNPHARMA!H306","v":2.1549962590218241E-2},{"$f":"TATAELXSI!H306","v":2.6167423086832731E-2},{"$f":"COALINDIA!H306","v":5.7493755117250522E-3},8.2186685813941604E-3]
["2020-07-30",{"$f":"RELIANCE!H307","v":5.8189278420636703E-3},{"$f":"IDEA!H307","v":-3.0303030303030276E-2},{"$f":"SUNPHARMA!H307","v":3.4381324136441238E-2},{"$f":"TATAELXSI!H307","v":1.6208311609081649E-2},{"$f":"COALINDIA!H307","v":-1.9816966751633913E-2},1.2577133065844737E-3]
["2020-07-31",{"$f":"RELIANCE!H308","v":-1.9797559929904958E-2},{"$f":"IDEA!H308","v":5.0000000000000044E-2},{"$f":"SUNPHARMA!H308","v":4.2651180689013524E-2},{"$f":"TATAELXSI!H308","v":-2.3275168534529378E-2},{"$f":"COALINDIA!H308","v":5.0544046569445111E-3},1.0926571376304747E-2]
["2020-08-03",{"$f":"RELIANCE!H309","v":-2.8107068668859404E-2},{"$f":"IDEA!H309","v":3.5714285714285587E-2},{"$f":"SUNPHARMA!H309","v":-2.3133225552896097E-2},{"$f":"TATAELXSI!H309","v":1.8829765357881723E-2},{"$f":"COALINDIA!H309","v":-6.5764550426645751E-3},-6.5453963845055435E-4]
["2020-08-04",{"$f":"RELIANCE!H310","v":7.048285532659572E-2},{"$f":"IDEA!H310","v":-5.7471264367814356E-3},{"$f":"SUNPHARMA!H310","v":1.8386398618615907E-2},{"$f":"TATAELXSI!H310","v":-2.150987449495978E-2},{"$f":"COALINDIA!H310","v":2.7259046141723253E-3},1.2867631525528545E-2]
["2020-08-05",{"$f":"RELIANCE!H311","v":-1.1229400423661263E-2},{"$f":"IDEA!H311","v":-4.0462427745664664E-2},{"$f":"SUNPHARMA!H311","v":-1.8903003886960867E-4},{"$f":"TATAELXSI!H311","v":3.5215023711637095E-2},{"$f":"COALINDIA!H311","v":-2.3301079125973567E-3},-3.7991884818311603E-3]
["2020-08-06",{"$f":"RELIANCE!H312","v":3.5975538893568641E-3},{"$f":"IDEA!H312","v":-6.0240963855422436E-3},{"$f":"SUNPHARMA!H312","v":6.4289703123932007E-3},{"$f":"TATAELXSI!H312","v":1.9482517517281916E-2},{"$f":"COALINDIA!H312","v":3.1140602781210003E-3},5.3198011223221479E-3]
["2020-08-07",{"$f":"RELIANCE!H313","v":5.7869378025588837E-3},{"$f":"IDEA!H313","v":7.2727272727272751E-2},{"$f":"SUNPHARMA!H313","v":-1.1836509373874593E-2},{"$f":"TATAELXSI!H313","v":1.0111313528733401E-3},{"$f":"COALINDIA!H313","v":6.9848126850478032E-3},1.493472903877564E-2]
["2020-08-10",{"$f":"RELIANCE!H314","v":-1.2392529552679856E-2},{"$f":"IDEA!H314","v":2.8248587570621542E-2},{"$f":"SUNPHARMA!H314","v":3.4033662720527103E-2},{"$f":"TATAELXSI!H314","v":3.0252557203720887E-2},{"$f":"COALINDIA!H314","v":-3.8535036725565464E-3},1.5257754853926626E-2]
["2020-08-11",{"$f":"RELIANCE!H315","v":6.5806571610533869E-3},{"$f":"IDEA!H315","v":-4.3956043956044022E-2},{"$f":"SUNPHARMA!H315","v":-5.1484252090194804E-3},{"$f":"TATAELXSI!H315","v":-8.1376691364707376E-3},{"$f":"COALINDIA!H315","v":6.5763789162645025E-3},-8.8170204448432682E-3]
["2020-08-12",{"$f":"RELIANCE!H316","v":-2.9055264305662101E-3},{"$f":"IDEA!H316","v":1.7241379310344973E-2},{"$f":"SUNPHARMA!H316","v":-1.6449339685384867E-2},{"$f":"TATAELXSI!H316","v":2.6688718482350549E-3},{"$f":"COALINDIA!H316","v":-1.076090561231724E-2},-2.0411041139376581E-3]
["2020-08-13",{"$f":"RELIANCE!H317","v":-2.6086989954921601E-3},{"$f":"IDEA!H317","v":2.2598870056497189E-2},{"$f":"SUNPHARMA!H317","v":-2.1328668359222536E-2},{"$f":"TATAELXSI!H317","v":5.4221803806728808E-3},{"$f":"COALINDIA!H317","v":1.942399416551055E-3},1.2052164998012861E-3]
["2020-08-14",{"$f":"RELIANCE!H318","v":-3.8876757049651259E-3},{"$f":"IDEA!H318","v":-1.1049723756906271E-2},{"$f":"SUNPHARMA!H318","v":2.0257224624371961E-2},{"$f":"TATAELXSI!H318","v":7.8449667762647834E-4},{"$f":"COALINDIA!H318","v":2.2489458955825326E-2},5.7187561591904744E-3]
["2020-08-17",{"$f":"RELIANCE!H319","v":-1.0620643869289211E-2},{"$f":"IDEA!H319","v":0},{"$f":"SUNPHARMA!H319","v":-5.6460132064070079E-3},{"$f":"TATAELXSI!H319","v":9.8955657303980704E-3},{"$f":"COALINDIA!H319","v":3.1475113133483834E-2},5.0208043576371372E-3]
["2020-08-18",{"$f":"RELIANCE!H320","v":1.3005841016859108E-2},{"$f":"IDEA!H320","v":-1.1173184357541888E-2},{"$f":"SUNPHARMA!H320","v":-4.4477394972909368E-3},{"$f":"TATAELXSI!H320","v":3.8418626220764418E-2},{"$f":"COALINDIA!H320","v":4.7793224301357906E-3},8.1165731625852996E-3]
["2020-08-19",{"$f":"RELIANCE!H321","v":6.1363587304950817E-3},{"$f":"IDEA!H321","v":-1.6949152542372947E-2},{"$f":"SUNPHARMA!H321","v":7.6202275964565303E-4},{"$f":"TATAELXSI!H321","v":-1.4341006842001014E-2},{"$f":"COALINDIA!H321","v":-1.1342834384983957E-2},-7.1469224558434376E-3]
["2020-08-20",{"$f":"RELIANCE!H322","v":-1.61854190212255E-2},{"$f":"IDEA!H322","v":-2.2988505747126409E-2},{"$f":"SUNPHARMA!H322","v":-5.9004112355387495E-3},{"$f":"TATAELXSI!H322","v":1.1706152022514793E-2},{"$f":"COALINDIA!H322","v":2.5166592337544591E-2},-1.6403183287662555E-3]
["2020-08-21",{"$f":"RELIANCE!H323","v":-7.2483288685457406E-3},{"$f":"IDEA!H323","v":0},{"$f":"SUNPHARMA!H323","v":1.924173140984653E-2},{"$f":"TATAELXSI!H323","v":-6.2772857906220336E-3},{"$f":"COALINDIA!H323","v":7.2202355532084983E-3},2.5872704607774509E-3]
["2020-08-24",{"$f":"RELIANCE!H324","v":6.6767735573689917E-3},{"$f":"IDEA!H324","v":7.0588235294117618E-2},{"$f":"SUNPHARMA!H324","v":2.0664538311503389E-3},{"$f":"TATAELXSI!H324","v":1.0559544379333374E-2},{"$f":"COALINDIA!H324","v":2.1505388289171368E-3},{"$f":"Portfolio_Return(B324,C324,D324,E324,F324,$J$2,$J$3,$J$4,$J$5,$J$6)","v":1.8408309178177495E-2}]
["2020-08-25",{"$f":"RELIANCE!H325","v":-6.5131675468188951E-3},{"$f":"IDEA!H325","v":-1.098901098901095E-2},{"$f":"SUNPHARMA!H325","v":-1.5653006176925111E-2},{"$f":"TATAELXSI!H325","v":1.9825604510783856E-2},{"$f":"COALINDIA!H325","v":4.6494740023441672E-3},-1.7360212399253874E-3]
["2020-08-26",{"$f":"RELIANCE!H326","v":2.6511671845779555E-2},{"$f":"IDEA!H326","v":-1.1111111111111072E-2},{"$f":"SUNPHARMA!H326","v":9.5384199884973597E-5},{"$f":"TATAELXSI!H326","v":6.6324623057809617E-3},{"$f":"COALINDIA!H326","v":1.0679910926497893E-2},6.561663633366464E-3]
["2020-08-27",{"$f":"RELIANCE!H327","v":-1.2492337914964052E-2},{"$f":"IDEA!H327","v":-5.6179775280900124E-3},{"$f":"SUNPHARMA!H327","v":1.3519967220500861E-2},{"$f":"TATAELXSI!H327","v":4.8530015485132028E-2},{"$f":"COALINDIA!H327","v":-9.862576089812447E-3},6.8154182345532763E-3]
["2020-08-28",{"$f":"RELIANCE!H328","v":2.6294791014173668E-3},{"$f":"IDEA!H328","v":0.14124293785310726},{"$f":"SUNPHARMA!H328","v":4.41521888801375E-2},{"$f":"TATAELXSI!H328","v":-1.2740966558109079E-2},{"$f":"COALINDIA!H328","v":-1.0672250948681405E-2},3.2922277665574338E-2]
["2020-08-31",{"$f":"RELIANCE!H329","v":-1.6752053072855284E-2},{"$f":"IDEA!H329","v":9.9009900990099098E-3},{"$f":"SUNPHARMA!H329","v":-6.3877690587930358E-2},{"$f":"TATAELXSI!H329","v":-5.64066327546765E-2},{"$f":"COALINDIA!H329","v":-3.3800853952510312E-2},-3.2187248053792514E-2]
["2020-09-01",{"$f":"RELIANCE!H330","v":3.1478884377454833E-3},{"$f":"IDEA!H330","v":-0.13235294117647056},{"$f":"SUNPHARMA!H330","v":2.3065232709633676E-3},{"$f":"TATAELXSI!H330","v":2.0934090489638679E-2},{"$f":"COALINDIA!H330","v":-6.6990066672859561E-3},-2.2532689129081795E-2]
["2020-09-02",{"$f":"RELIANCE!H331","v":1.9619192964291387E-2},{"$f":"IDEA!H331","v":0.1186440677966103},{"$f":"SUNPHARMA!H331","v":-1.3328169306432436E-2},{"$f":"TATAELXSI!H331","v":3.4858272729208162E-2},{"$f":"COALINDIA!H331","v":2.1356321772341591E-2},3.6229937191203807E-2]
["2020-09-03",{"$f":"RELIANCE!H332","v":-7.5650620292850327E-3},{"$f":"IDEA!H332","v":0.26767676767676774},{"$f":"SUNPHARMA!H332","v":1.7395596866674801E-2},{"$f":"TATAELXSI!H332","v":3.2979592063039576E-2},{"$f":"COALINDIA!H332","v":-4.4020659902481718E-3},6.1216965717389778E-2]
["2020-09-04",{"$f":"RELIANCE!H333","v":-1.6500180501855206E-2},{"$f":"IDEA!H333","v":-3.9840637450199168E-2},{"$f":"SUNPHARMA!H333","v":-2.1014411286286339E-2},{"$f":"TATAELXSI!H333","v":-1.9138926880870377E-2},{"$f":"COALINDIA!H333","v":-2.3949905805740634E-2},-2.4088812384990346E-2]
["2020-09-07",{"$f":"RELIANCE!H334","v":2.5995350653615656E-3},{"$f":"IDEA!H334","v":2.0746887966804906E-2},{"$f":"SUNPHARMA!H334","v":1.5610055700656655E-3},{"$f":"TATAELXSI!H334","v":3.1680471463304771E-2},{"$f":"COALINDIA!H334","v":-3.7750149340464167E-3},1.0562577026298099E-2]
["2020-09-08",{"$f":"RELIANCE!H335","v":1.173996073010016E-2},{"$f":"IDEA!H335","v":-8.1300813008130079E-2},{"$f":"SUNPHARMA!H335","v":-2.211392410815527E-2},{"$f":"TATAELXSI!H335","v":2.6958657466377156E-2},{"$f":"COALINDIA!H335","v":-1.51572227630834E-2},-1.5974668336578287E-2]
["2020-09-09",{"$f":"RELIANCE!H336","v":2.5746230483500609E-2},{"$f":"IDEA!H336","v":-1.7699115044247926E-2},{"$f":"SUNPHARMA!H336","v":1.474396542141454E-2},{"$f":"TATAELXSI!H336","v":2.132915513842315E-3},{"$f":"COALINDIA!H336","v":-2.3085778393654555E-2},3.6764359617099708E-4]
["2020-09-10",{"$f":"RELIANCE!H337","v":7.0627101482041404E-2},{"$f":"IDEA!H337","v":2.7027027027027195E-2},{"$f":"SUNPHARMA!H337","v":-2.6507112891374085E-3},{"$f":"TATAELXSI!H337","v":3.2948594630991312E-2},{"$f":"COALINDIA!H337","v":-2.3631364700436031E-3},2.5117775076175779E-2]
["2020-09-11",{"$f":"RELIANCE!H338","v":2.4849298149199604E-3},{"$f":"IDEA!H338","v":-2.1929824561403466E-2},{"$f":"SUNPHARMA!H338","v":-4.724871874899339E-3},{"$f":"TATAELXSI!H338","v":2.2268902392643009E-2},{"$f":"COALINDIA!H338","v":-1.223843853790052E-2},-2.8278605533280715E-3]
["2020-09-14",{"$f":"RELIANCE!H339","v":-7.4145610699357985E-3},{"$f":"IDEA!H339","v":3.5874439461883512E-2},{"$f":"SUNPHARMA!H339","v":-1.9285931350355945E-2},{"$f":"TATAELXSI!H339","v":9.4189615759703305E-3},{"$f":"COALINDIA!H339","v":-1.1990856927350801E-3},3.4787645849654034E-3]
["2020-09-15",{"$f":"RELIANCE!H340","v":7.0791383737839634E-3},{"$f":"IDEA!H340","v":1.7316017316017174E-2},{"$f":"SUNPHARMA!H340","v":2.1379577769299996E-2},{"$f":"TATAELXSI!H340","v":-1.2326167514596031E-2},{"$f":"COALINDIA!H340","v":-6.8026973842214566E-3},5.3291737120567282E-3]
["2020-09-16",{"$f":"RELIANCE!H341","v":2.4580791868521225E-3},{"$f":"IDEA!H341","v":-2.1276595744680882E-2},{"$f":"SUNPHARMA!H341","v":2.38942349807445E-2},{"$f":"TATAELXSI!H341","v":-1.3529829326529796E-2},{"$f":"COALINDIA!H341","v":-2.0144676321665056E-3},-2.0937157071561122E-3]
["2020-09-17",{"$f":"RELIANCE!H342","v":-1.1098928520917919E-2},{"$f":"IDEA!H342","v":-2.1739130434782594E-2},{"$f":"SUNPHARMA!H342","v":-1.2536245164367243E-2},{"$f":"TATAELXSI!H342","v":1.1823603875344979E-2},{"$f":"COALINDIA!H342","v":3.6334742360604189E-3},-5.9834452017324732E-3]
["2020-09-18",{"$f":"RELIANCE!H343","v":3.0232843559222476E-3},{"$f":"IDEA!H343","v":0},{"$f":"SUNPHARMA!H343","v":2.2167972556383253E-2},{"$f":"TATAELXSI!H343","v":-7.9851156070740448E-3},{"$f":"COALINDIA!H343","v":-5.2293344710709899E-3},2.3953613668320937E-3]
["2020-09-21",{"$f":"RELIANCE!H344","v":-2.1620242229878951E-2},{"$f":"IDEA!H344","v":-7.5555555555555487E-2},{"$f":"SUNPHARMA!H344","v":-3.7642124659952092E-2},{"$f":"TATAELXSI!H344","v":8.5204788571890955E-3},{"$f":"COALINDIA!H344","v":-1.6174718860976212E-2},-2.8494432489834728E-2]
["2020-09-22",{"$f":"RELIANCE!H345","v":-1.9815244570021599E-2},{"$f":"IDEA!H345","v":-1.4423076923076983E-2},{"$f":"SUNPHARMA!H345","v":1.0324687496847007E-2},{"$f":"TATAELXSI!H345","v":-3.8855341198263948E-2},{"$f":"COALINDIA!H345","v":-1.7262679258538527E-2},-1.600633089061081E-2]
["2020-09-23",{"$f":"RELIANCE!H346","v":8.8868555399345024E-3},{"$f":"IDEA!H346","v":-0.10243902439024399},{"$f":"SUNPHARMA!H346","v":-1.1693041253537872E-2},{"$f":"TATAELXSI!H346","v":-2.422330061537592E-2},{"$f":"COALINDIA!H346","v":1.2547079957276441E-2},-2.3384286152389369E-2]
["2020-09-24",{"$f":"RELIANCE!H347","v":-2.223416037952863E-2},{"$f":"IDEA!H347","v":-1.0869565217391242E-2},{"$f":"SUNPHARMA!H347","v":-3.4002859024507726E-2},{"$f":"TATAELXSI!H347","v":-1.3657608925246589E-2},{"$f":"COALINDIA!H347","v":-4.4196590580020789E-2},-2.4992156825338993E-2]
["2020-09-25",{"$f":"RELIANCE!H348","v":9.3984120070959645E-3},{"$f":"IDEA!H348","v":0.13186813186813207},{"$f":"SUNPHARMA!H348","v":7.9251166210185797E-3},{"$f":"TATAELXSI!H348","v":6.6035237533353053E-2},{"$f":"COALINDIA!H348","v":1.210028049659706E-2},4.5465435705239345E-2]
["2020-09-28",{"$f":"RELIANCE!H349","v":6.608563913496574E-3},{"$f":"IDEA!H349","v":4.8543689320388328E-3},{"$f":"SUNPHARMA!H349","v":4.1764552204696104E-2},{"$f":"TATAELXSI!H349","v":2.8070658672938897E-2},{"$f":"COALINDIA!H349","v":2.476504932067658E-2},2.1212638608769398E-2]
["2020-09-29",{"$f":"RELIANCE!H350","v":1.2994975408365594E-2},{"$f":"IDEA!H350","v":-5.3140096618357391E-2},{"$f":"SUNPHARMA!H350","v":-7.7435300779209459E-3},{"$f":"TATAELXSI!H350","v":-1.6090590289235318E-2},{"$f":"COALINDIA!H350","v":-1.9583255844272451E-2},-1.6712499484284101E-2]
["2020-09-30",{"$f":"RELIANCE!H351","v":-4.7660772085854845E-3},{"$f":"IDEA!H351","v":-2.5510204081632626E-2},{"$f":"SUNPHARMA!H351","v":-1.1261507503124712E-2},{"$f":"TATAELXSI!H351","v":4.644574806734969E-3},{"$f":"COALINDIA!H351","v":-1.4024641937542492E-2},-1.018357118483007E-2]
["2020-10-01",{"$f":"RELIANCE!H352","v":-4.0727643935967103E-3},{"$f":"IDEA!H352","v":-3.1413612565445059E-2},{"$f":"SUNPHARMA!H352","v":1.2888314616556373E-2},{"$f":"TATAELXSI!H352","v":-8.3138898296051256E-3},{"$f":"COALINDIA!H352","v":1.0775771123096467E-2},-4.027236209798812E-3]
["2020-10-05",{"$f":"RELIANCE!H353","v":-5.8645759667820107E-3},{"$f":"IDEA!H353","v":-2.7027027027026973E-2},{"$f":"SUNPHARMA!H353","v":3.1959013336000153E-2},{"$f":"TATAELXSI!H353","v":5.5198649573041436E-2},{"$f":"COALINDIA!H353","v":9.8081631096302857E-3},1.2814844604972578E-2]
["2020-10-06",{"$f":"RELIANCE!H354","v":-8.3612752944228828E-4},{"$f":"IDEA!H354","v":-2.2222222222222143E-2},{"$f":"SUNPHARMA!H354","v":-3.9188677953164719E-3},{"$f":"TATAELXSI!H354","v":3.4156251617274425E-2},{"$f":"COALINDIA!H354","v":-1.3513549449736595E-2},-1.2669030758886155E-3]
["2020-10-07",{"$f":"RELIANCE!H355","v":2.1331337525708014E-2},{"$f":"IDEA!H355","v":-2.8409090909090939E-2},{"$f":"SUNPHARMA!H355","v":-1.7848654192970326E-2},{"$f":"TATAELXSI!H355","v":-8.3647347426890617E-3},{"$f":"COALINDIA!H355","v":-2.0119867232956667E-2},-1.0682201910399796E-2]
["2020-10-08",{"$f":"RELIANCE!H356","v":-8.0841316243661331E-3},{"$f":"IDEA!H356","v":4.6783625730993927E-2},{"$f":"SUNPHARMA!H356","v":2.4132819003872541E-2},{"$f":"TATAELXSI!H356","v":1.4734590177825302E-2},{"$f":"COALINDIA!H356","v":-1.0047946033829969E-2},1.3503791450899133E-2]
["2020-10-09",{"$f":"RELIANCE!H357","v":-2.5901943433142612E-3},{"$f":"IDEA!H357","v":-5.5865921787707773E-3},{"$f":"SUNPHARMA!H357","v":-2.136983834988837E-2},{"$f":"TATAELXSI!H357","v":-5.2801197748171269E-3},{"$f":"COALINDIA!H357","v":1.4121739392474852E-2},-4.1410010508631367E-3]
["2020-10-12",{"$f":"RELIANCE!H358","v":1.6119310984805304E-3},{"$f":"IDEA!H358","v":-2.2471910112359716E-2},{"$f":"SUNPHARMA!H358","v":1.9496955815083705E-3},{"$f":"TATAELXSI!H358","v":5.8462671712586678E-2},{"$f":"COALINDIA!H358","v":-1.4795497466782659E-2},4.9513781626866413E-3]
["2020-10-13",{"$f":"RELIANCE!H359","v":1.9512294031499282E-2},{"$f":"IDEA!H359","v":-1.724137931034464E-2},{"$f":"SUNPHARMA!H359","v":-2.0918529688716658E-2},{"$f":"TATAELXSI!H359","v":-1.175835274771253E-2},{"$f":"COALINDIA!H359","v":5.7420186410257479E-3},-4.9327898148497605E-3]
["2020-10-14",{"$f":"RELIANCE!H360","v":2.9814883421952704E-3},{"$f":"IDEA!H360","v":-1.7543859649122862E-2},{"$f":"SUNPHARMA!H360","v":-1.8881198363958074E-3},{"$f":"TATAELXSI!H360","v":6.5149436230349522E-4},{"$f":"COALINDIA!H360","v":-2.8985407358113946E-2},-8.9568808278267693E-3]
["2020-10-15",{"$f":"RELIANCE!H361","v":-3.5409823964061476E-2},{"$f":"IDEA!H361","v":-4.7619047619047672E-2},{"$f":"SUNPHARMA!H361","v":-2.3695757804921613E-2},{"$f":"TATAELXSI!H361","v":3.4266837418930329E-3},{"$f":"COALINDIA!H361","v":4.523269309626432E-4},-2.0569123743035017E-2]
["2020-10-16",{"$f":"RELIANCE!H362","v":-1.3913440607431554E-2},{"$f":"IDEA!H362","v":6.2500000000000888E-3},{"$f":"SUNPHARMA!H362","v":-6.9345272751778486E-3},{"$f":"TATAELXSI!H362","v":3.0529605362800138E-2},{"$f":"COALINDIA!H362","v":6.7811691327412937E-3},4.5425613225864234E-3]
["2020-10-19",{"$f":"RELIANCE!H363","v":1.8382412966279693E-4},{"$f":"IDEA!H363","v":-1.2422360248447228E-2},{"$f":"SUNPHARMA!H363","v":-6.6748608468232273E-3},{"$f":"TATAELXSI!H363","v":-1.2426634871071873E-2},{"$f":"COALINDIA!H363","v":3.0085242370553988E-2},-2.5095789322510977E-4]
["2020-10-20",{"$f":"RELIANCE!H364","v":-9.3281678800112375E-3},{"$f":"IDEA!H364","v":9.4339622641509413E-2},{"$f":"SUNPHARMA!H364","v":5.5825141554823876E-3},{"$f":"TATAELXSI!H364","v":1.3723955179371083E-2},{"$f":"COALINDIA!H364","v":-9.1542943283937639E-3},1.9032725953591578E-2]
["2020-10-21",{"$f":"RELIANCE!H365","v":-1.4518219361658494E-2},{"$f":"IDEA!H365","v":-1.1494252873563204E-2},{"$f":"SUNPHARMA!H365","v":7.9161541957699644E-3},{"$f":"TATAELXSI!H365","v":2.1978707727890789E-2},{"$f":"COALINDIA!H365","v":1.2758456576303923E-2},3.3281692529485954E-3]
["2020-10-22",{"$f":"RELIANCE!H366","v":-8.3074941243605899E-3},{"$f":"IDEA!H366","v":3.488372093023262E-2},{"$f":"SUNPHARMA!H366","v":-9.4859045194363167E-3},{"$f":"TATAELXSI!H366","v":3.9157857762008197E-2},{"$f":"COALINDIA!H366","v":6.0816040565425666E-3},1.2465956820997295E-2]
["2020-10-23",{"$f":"RELIANCE!H367","v":2.8952403635457606E-3},{"$f":"IDEA!H367","v":1.6853932584269593E-2},{"$f":"SUNPHARMA!H367","v":-2.1625434376134622E-3},{"$f":"TATAELXSI!H367","v":2.9547482107521228E-2},{"$f":"COALINDIA!H367","v":1.6407712783764739E-2},1.2708364880297572E-2]
["2020-10-26",{"$f":"RELIANCE!H368","v":-3.9729405363227263E-2},{"$f":"IDEA!H368","v":-1.6574585635359185E-2},{"$f":"SUNPHARMA!H368","v":-2.0639823927140144E-2},{"$f":"TATAELXSI!H368","v":2.1645653374302798E-2},{"$f":"COALINDIA!H368","v":-2.6762966080347672E-2},-1.6412225526354296E-2]
["2020-10-27",{"$f":"RELIANCE!H369","v":2.6613416431505829E-3},{"$f":"IDEA!H369","v":-2.2471910112359716E-2},{"$f":"SUNPHARMA!H369","v":-8.5352798468139035E-3},{"$f":"TATAELXSI!H369","v":-1.7157093535412615E-2},{"$f":"COALINDIA!H369","v":-5.2379010374176138E-3},-1.0148168577770653E-2]
["2020-10-28",{"$f":"RELIANCE!H370","v":-1.1329618190449446E-2},{"$f":"IDEA!H370","v":0},{"$f":"SUNPHARMA!H370","v":-1.4985693712657233E-2},{"$f":"TATAELXSI!H370","v":-4.4560990963377956E-2},{"$f":"COALINDIA!H370","v":-1.0969792780486598E-2},-1.6369219129394246E-2]
["2020-10-29",{"$f":"RELIANCE!H371","v":7.6810538653366818E-3},{"$f":"IDEA!H371","v":-4.0229885057471271E-2},{"$f":"SUNPHARMA!H371","v":-1.5213547093674173E-2},{"$f":"TATAELXSI!H371","v":-4.7775299052618458E-2},{"$f":"COALINDIA!H371","v":-1.6415248621338585E-2},-2.2390585191953166E-2]
["2020-10-30",{"$f":"RELIANCE!H372","v":1.3616841721718523E-2},{"$f":"IDEA!H372","v":4.7904191616766401E-2},{"$f":"SUNPHARMA!H372","v":2.0598144292166998E-2},{"$f":"TATAELXSI!H372","v":1.6768202641534335E-2},{"$f":"COALINDIA!H372","v":3.0220947728860637E-2},2.5821665600209383E-2]
["2020-11-02",{"$f":"RELIANCE!H373","v":-8.6176701010735393E-2},{"$f":"IDEA!H373","v":0},{"$f":"SUNPHARMA!H373","v":7.8368698542516935E-3},{"$f":"TATAELXSI!H373","v":-2.4639762353462658E-2},{"$f":"COALINDIA!H373","v":1.3134967984669732E-2},-1.7968925105055326E-2]
["2020-11-03",{"$f":"RELIANCE!H374","v":-1.4407773464797127E-2},{"$f":"IDEA!H374","v":-2.2857142857142798E-2},{"$f":"SUNPHARMA!H374","v":3.4512189348495648E-2},{"$f":"TATAELXSI!H374","v":2.238851780602813E-2},{"$f":"COALINDIA!H374","v":6.914452072470656E-3},5.3100485810109012E-3]
["2020-11-04",{"$f":"RELIANCE!H375","v":3.3938544398207926E-2},{"$f":"IDEA!H375","v":-1.7543859649122862E-2},{"$f":"SUNPHARMA!H375","v":3.9229781907102357E-2},{"$f":"TATAELXSI!H375","v":3.5625905765561683E-3},{"$f":"COALINDIA!H375","v":-1.4592391985690623E-2},8.9189330494105924E-3]
["2020-11-05",{"$f":"RELIANCE!H376","v":2.1848240423667127E-2},{"$f":"IDEA!H376","v":1.1904761904761862E-2},{"$f":"SUNPHARMA!H376","v":1.5555310294680824E-2},{"$f":"TATAELXSI!H376","v":1.9833845295694985E-2},{"$f":"COALINDIA!H376","v":4.3989610969757065E-2},2.2626353777712372E-2]
["2020-11-06",{"$f":"RELIANCE!H377","v":3.7928389810423985E-2},{"$f":"IDEA!H377","v":1.1764705882352899E-2},{"$f":"SUNPHARMA!H377","v":-6.5365973338283867E-3},{"$f":"TATAELXSI!H377","v":-8.1113840696482864E-3},{"$f":"COALINDIA!H377","v":1.6270332630787365E-2},1.0263089384017517E-2]
["2020-11-09",{"$f":"RELIANCE!H378","v":1.062017948650565E-2},{"$f":"IDEA!H378","v":1.1627906976744207E-2},{"$f":"SUNPHARMA!H378","v":1.9641177212339489E-3},{"$f":"TATAELXSI!H378","v":-1.8609157874757143E-2},{"$f":"COALINDIA!H378","v":-4.1047731170218427E-4},1.0385137996048956E-3]
["2020-11-10",{"$f":"RELIANCE!H379","v":1.6506618282468924E-2},{"$f":"IDEA!H379","v":-1.724137931034464E-2},{"$f":"SUNPHARMA!H379","v":-3.7734083818941833E-2},{"$f":"TATAELXSI!H379","v":-3.903939189516159E-2},{"$f":"COALINDIA!H379","v":2.5051347907446564E-2},-1.0491377766906517E-2]
["2020-11-11",{"$f":"RELIANCE!H380","v":-4.1903607165861063E-2},{"$f":"IDEA!H380","v":-1.1695906432748648E-2},{"$f":"SUNPHARMA!H380","v":3.0861683785125216E-2},{"$f":"TATAELXSI!H380","v":2.3112074389280091E-2},{"$f":"COALINDIA!H380","v":8.4134417927146377E-3},1.7575372737020478E-3]
["2020-11-12",{"$f":"RELIANCE!H381","v":-8.6120215128819948E-3},{"$f":"IDEA!H381","v":5.9171597633136397E-3},{"$f":"SUNPHARMA!H381","v":6.3234824889939478E-3},{"$f":"TATAELXSI!H381","v":-7.0405924346895743E-3},{"$f":"COALINDIA!H381","v":-2.9797322443319452E-2},-6.6418588277166873E-3]
["2020-11-13",{"$f":"RELIANCE!H382","v":8.282828626855681E-3},{"$f":"IDEA!H382","v":2.3529411764705799E-2},{"$f":"SUNPHARMA!H382","v":-1.5708147252447846E-3},{"$f":"TATAELXSI!H382","v":-9.0724446243783952E-4},{"$f":"COALINDIA!H382","v":3.1121940604993625E-2},1.2091224361774497E-2]
["2020-11-14",{"$f":"RELIANCE!H383","v":2.9553311812365885E-3},{"$f":"IDEA!H383","v":4.5977011494252817E-2},{"$f":"SUNPHARMA!H383","v":1.0915475163040478E-2},{"$f":"TATAELXSI!H383","v":1.177216706649431E-2},{"$f":"COALINDIA!H383","v":9.5314680486886516E-3},1.6230290590742571E-2]
["2020-11-17",{"$f":"RELIANCE!H384","v":-4.5198106772377658E-3},{"$f":"IDEA!H384","v":2.1978021978022122E-2},{"$f":"SUNPHARMA!H384","v":8.5603656878350254E-3},{"$f":"TATAELXSI!H384","v":7.911961807167911E-3},{"$f":"COALINDIA!H384","v":1.2588535890946995E-2},9.3038149373468569E-3]
["2020-11-18",{"$f":"RELIANCE!H385","v":-3.0352636131848105E-3},{"$f":"IDEA!H385","v":-1.0752688172043112E-2},{"$f":"SUNPHARMA!H385","v":-1.0416719882291425E-2},{"$f":"TATAELXSI!H385","v":2.0680130676183461E-2},{"$f":"COALINDIA!H385","v":-3.4965483049664847E-3},-1.4042178592604745E-3]
["2020-11-19",{"$f":"RELIANCE!H386","v":-7.070217456499237E-3},{"$f":"IDEA!H386","v":5.4347826086957873E-3},{"$f":"SUNPHARMA!H386","v":-1.101368362761479E-2},{"$f":"TATAELXSI!H386","v":-1.1730139175912146E-2},{"$f":"COALINDIA!H386","v":1.0765999707274876E-2},-2.7226515888111018E-3]
["2020-11-20",{"$f":"RELIANCE!H387","v":-3.7326095245192779E-2},{"$f":"IDEA!H387","v":8.6486486486486491E-2},{"$f":"SUNPHARMA!H387","v":-8.0811721361813138E-3},{"$f":"TATAELXSI!H387","v":3.3352170601579356E-3},{"$f":"COALINDIA!H387","v":-4.9159878283012715E-3},7.89968966739381E-3]
["2020-11-23",{"$f":"RELIANCE!H388","v":2.6954432157364257E-2},{"$f":"IDEA!H388","v":3.4825870646766122E-2},{"$f":"SUNPHARMA!H388","v":1.9075933924956878E-2},{"$f":"TATAELXSI!H388","v":1.7337380648426048E-2},{"$f":"COALINDIA!H388","v":1.0704005204738909E-2},{"$f":"Portfolio_Return(B388,C388,D388,E388,F388,$J$2,$J$3,$J$4,$J$5,$J$6)","v":2.1779524516450443E-2}]
["2020-11-24",{"$f":"RELIANCE!H389","v":6.843727749818721E-3},{"$f":"IDEA!H389","v":-1.4423076923076983E-2},{"$f":"SUNPHARMA!H389","v":1.4234266062503664E-2},{"$f":"TATAELXSI!H389","v":1.12119464053273E-3},{"$f":"COALINDIA!H389","v":4.0732835576871018E-3},2.369879017493047E-3]
["2020-11-25",{"$f":"RELIANCE!H390","v":-8.2737115730040414E-3},{"$f":"IDEA!H390","v":-5.3658536585365901E-2},{"$f":"SUNPHARMA!H390","v":-2.681924775761213E-2},{"$f":"TATAELXSI!H390","v":-1.6798923551108458E-2},{"$f":"COALINDIA!H390","v":5.6795643889677727E-3},-1.9974171015624549E-2]
["2020-11-26",{"$f":"RELIANCE!H391","v":2.4642866021790059E-3},{"$f":"IDEA!H391","v":2.5773195876288568E-2},{"$f":"SUNPHARMA!H391","v":1.0865358913810574E-2},{"$f":"TATAELXSI!H391","v":-1.8843297321430974E-2},{"$f":"COALINDIA!H391","v":8.8745550103230819E-3},5.8268198162340513E-3]
["2020-11-27",{"$f":"RELIANCE!H392","v":-1.1676696596819794E-2},{"$f":"IDEA!H392","v":-1.5075376884421954E-2},{"$f":"SUNPHARMA!H392","v":-9.7760507053568091E-5},{"$f":"TATAELXSI!H392","v":5.3635403942592585E-2},{"$f":"COALINDIA!H392","v":3.9983650132087156E-3},6.1567869935011971E-3]
["2020-12-01",{"$f":"RELIANCE!H393","v":1.3006538120164248E-2},{"$f":"IDEA!H393","v":2.0408163265306145E-2},{"$f":"SUNPHARMA!H393","v":5.4138512438929087E-2},{"$f":"TATAELXSI!H393","v":2.5405244261587745E-2},{"$f":"COALINDIA!H393","v":6.7702284637936039E-3},2.3945737309956163E-2]
["2020-12-02",{"$f":"RELIANCE!H394","v":1.6624498012443071E-3},{"$f":"IDEA!H394","v":-1.0000000000000009E-2},{"$f":"SUNPHARMA!H394","v":9.8267254340360655E-3},{"$f":"TATAELXSI!H394","v":3.4201245813130443E-2},{"$f":"COALINDIA!H394","v":2.6503152427621135E-2},1.2438714695206389E-2]
["2020-12-03",{"$f":"RELIANCE!H395","v":3.0130593078978207E-3},{"$f":"IDEA!H395","v":5.050505050504972E-3},{"$f":"SUNPHARMA!H395","v":6.6097453705955544E-3},{"$f":"TATAELXSI!H395","v":4.2153665171722476E-3},{"$f":"COALINDIA!H395","v":2.8516354678725042E-2},9.4810061849791277E-3]
["2020-12-04",{"$f":"RELIANCE!H396","v":-8.8083201239871553E-3},{"$f":"IDEA!H396","v":-2.010050251256279E-2},{"$f":"SUNPHARMA!H396","v":3.7938875484024193E-2},{"$f":"TATAELXSI!H396","v":-1.2770458235929039E-2},{"$f":"COALINDIA!H396","v":-1.1239249621379788E-3},-9.7286607011855383E-4]
["2020-12-07",{"$f":"RELIANCE!H397","v":5.8815580975873525E-3},{"$f":"IDEA!H397","v":-1.5384615384615441E-2},{"$f":"SUNPHARMA!H397","v":2.3284340890245447E-2},{"$f":"TATAELXSI!H397","v":1.6948072576035367E-2},{"$f":"COALINDIA!H397","v":2.6256389968660754E-2},1.1397149229582697E-2]
["2020-12-08",{"$f":"RELIANCE!H398","v":1.8154443784659045E-2},{"$f":"IDEA!H398","v":-5.2083333333332593E-3},{"$f":"SUNPHARMA!H398","v":-2.3355648580699717E-2},{"$f":"TATAELXSI!H398","v":-6.772265331785654E-3},{"$f":"COALINDIA!H398","v":-1.8640222771990178E-2},-7.164405246629953E-3]
["2020-12-09",{"$f":"RELIANCE!H399","v":1.6652019808509378E-2},{"$f":"IDEA!H399","v":3.1413612565444948E-2},{"$f":"SUNPHARMA!H399","v":1.4945691291754493E-3},{"$f":"TATAELXSI!H399","v":-1.7283306223373374E-2},{"$f":"COALINDIA!H399","v":3.3519495921736642E-3},7.1257689743860139E-3]
["2020-12-10",{"$f":"RELIANCE!H400","v":-9.84235337671013E-3},{"$f":"IDEA!H400","v":0},{"$f":"SUNPHARMA!H400","v":-7.6375647352722176E-3},{"$f":"TATAELXSI!H400","v":-2.838694623181548E-2},{"$f":"COALINDIA!H400","v":1.1136325691156745E-3},-8.9506463549364323E-3]
["2020-12-11",{"$f":"RELIANCE!H401","v":-5.9785380628189365E-4},{"$f":"IDEA!H401","v":2.5380710659898442E-2},{"$f":"SUNPHARMA!H401","v":5.1310062001184154E-3},{"$f":"TATAELXSI!H401","v":-2.8254109748288014E-3},{"$f":"COALINDIA!H401","v":2.5213022247901007E-2},1.0460294865361435E-2]
["2020-12-14",{"$f":"RELIANCE!H402","v":-7.229089858635432E-3},{"$f":"IDEA!H402","v":-4.9504950495048439E-3},{"$f":"SUNPHARMA!H402","v":1.4346073591807507E-2},{"$f":"TATAELXSI!H402","v":-3.5494788596813764E-3},{"$f":"COALINDIA!H402","v":3.6889757413381075E-2},7.101353447473386E-3]
["2020-12-15",{"$f":"RELIANCE!H403","v":-8.5120182896647779E-3},{"$f":"IDEA!H403","v":-1.4925373134328401E-2},{"$f":"SUNPHARMA!H403","v":-7.9826975387210508E-3},{"$f":"TATAELXSI!H403","v":2.2654105040785799E-2},{"$f":"COALINDIA!H403","v":-1.7439032152094525E-3},-2.1019774274275774E-3]
["2020-12-16",{"$f":"RELIANCE!H404","v":1.1143149289129554E-3},{"$f":"IDEA!H404","v":1.0101010101010166E-2},{"$f":"SUNPHARMA!H404","v":8.6591540750060592E-3},{"$f":"TATAELXSI!H404","v":7.8220455961399704E-3},{"$f":"COALINDIA!H404","v":1.6771384170284342E-2},8.8935817742706973E-3]
["2020-12-17",{"$f":"RELIANCE!H405","v":4.5786310484198312E-3},{"$f":"IDEA!H405","v":-5.0000000000001155E-3},{"$f":"SUNPHARMA!H405","v":-9.1050261422199741E-3},{"$f":"TATAELXSI!H405","v":-1.1247832769326394E-2},{"$f":"COALINDIA!H405","v":-1.4089256262227234E-2},-6.9726968250707778E-3]
["2020-12-18",{"$f":"RELIANCE!H406","v":2.9966306491942701E-3},{"$f":"IDEA!H406","v":-1.005025125628134E-2},{"$f":"SUNPHARMA!H406","v":6.3881972157779909E-3},{"$f":"TATAELXSI!H406","v":3.3421807477340693E-3},{"$f":"COALINDIA!H406","v":-1.219944956906549E-2},-1.9045384425281004E-3]
["2020-12-21",{"$f":"RELIANCE!H407","v":-2.6035047261638158E-2},{"$f":"IDEA!H407","v":-6.5989847715736127E-2},{"$f":"SUNPHARMA!H407","v":-3.9043395285065952E-2},{"$f":"TATAELXSI!H407","v":-5.1677721871350557E-2},{"$f":"COALINDIA!H407","v":-6.1750186729317202E-2},-4.8899239772621603E-2]
["2020-12-22",{"$f":"RELIANCE!H408","v":-1.5466189671982007E-3},{"$f":"IDEA!H408","v":3.2608695652174058E-2},{"$f":"SUNPHARMA!H408","v":2.8504207627278566E-2},{"$f":"TATAELXSI!H408","v":6.4258279008249097E-2},{"$f":"COALINDIA!H408","v":1.9180210625338256E-2},2.8600954789168357E-2]
["2020-12-23",{"$f":"RELIANCE!H409","v":3.6918481513654746E-3},{"$f":"IDEA!H409","v":0.11052631578947381},{"$f":"SUNPHARMA!H409","v":1.1085716724990702E-2},{"$f":"TATAELXSI!H409","v":8.1665340137765607E-2},{"$f":"COALINDIA!H409","v":-3.3210276222759294E-3},4.0729638636263929E-2]
["2020-12-24",{"$f":"RELIANCE!H410","v":2.5876527008123016E-2},{"$f":"IDEA!H410","v":-4.2654028436019065E-2},{"$f":"SUNPHARMA!H410","v":2.7584487761864285E-2},{"$f":"TATAELXSI!H410","v":-1.4808732863544671E-2},{"$f":"COALINDIA!H410","v":8.8856115075528486E-3},9.7677299559528231E-4]
["2020-12-28",{"$f":"RELIANCE!H411","v":4.5883940315268341E-3},{"$f":"IDEA!H411","v":2.9702970297029729E-2},{"$f":"SUNPHARMA!H411","v":-5.9278094049162178E-3},{"$f":"TATAELXSI!H411","v":4.4383816686286215E-2},{"$f":"COALINDIA!H411","v":1.0275185431093403E-2},1.6604511408203994E-2]
["2020-12-29",{"$f":"RELIANCE!H412","v":-6.6140904784703384E-3},{"$f":"IDEA!H412","v":-9.6153846153845812E-3},{"$f":"SUNPHARMA!H412","v":6.218623874242768E-3},{"$f":"TATAELXSI!H412","v":9.4408457788277556E-3},{"$f":"COALINDIA!H412","v":-1.8525175209524014E-2},-3.8190361300616824E-3]
["2020-12-30",{"$f":"RELIANCE!H413","v":2.7386100296190622E-3},{"$f":"IDEA!H413","v":-9.7087378640777766E-3},{"$f":"SUNPHARMA!H413","v":-1.1175017696460232E-2},{"$f":"TATAELXSI!H413","v":-1.8596887584847455E-3},{"$f":"COALINDIA!H413","v":3.7009891824333341E-3},-3.2607690213940716E-3]
["2020-12-31",{"$f":"RELIANCE!H414","v":-5.1114724682916543E-3},{"$f":"IDEA!H414","v":4.4117647058823595E-2},{"$f":"SUNPHARMA!H414","v":1.4297897377489432E-2},{"$f":"TATAELXSI!H414","v":-8.8299776844883437E-3},{"$f":"COALINDIA!H414","v":-1.106232599642043E-3},8.6735723367781983E-3]
["2021-01-01",{"$f":"RELIANCE!H415","v":1.108107215462596E-3},{"$f":"IDEA!H415","v":5.1643192488262768E-2},{"$f":"SUNPHARMA!H415","v":6.5840738543783139E-3},{"$f":"TATAELXSI!H415","v":1.7789970704203517E-2},{"$f":"COALINDIA!H415","v":-7.3822534423095831E-4},1.5277423783615249E-2]
["2021-01-04",{"$f":"RELIANCE!H416","v":1.6855220714538503E-3},{"$f":"IDEA!H416","v":6.25E-2},{"$f":"SUNPHARMA!H416","v":1.3668767496209711E-2},{"$f":"TATAELXSI!H416","v":7.0398023704727475E-3},{"$f":"COALINDIA!H416","v":1.4037610522367405E-2},1.9786340492100742E-2]
["2021-01-05",{"$f":"RELIANCE!H417","v":-1.2431885053389361E-2},{"$f":"IDEA!H417","v":0},{"$f":"SUNPHARMA!H417","v":-1.5718189826626761E-3},{"$f":"TATAELXSI!H417","v":4.0827227319031545E-2},{"$f":"COALINDIA!H417","v":-1.5300615991933664E-2},2.3045814582091694E-3]
["2021-01-06",{"$f":"RELIANCE!H418","v":-2.6371995636013865E-2},{"$f":"IDEA!H418","v":-4.2016806722690037E-3},{"$f":"SUNPHARMA!H418","v":3.0655871691835923E-3},{"$f":"TATAELXSI!H418","v":1.8744558027913305E-2},{"$f":"COALINDIA!H418","v":-3.698634978606119E-4},-1.8266789218093177E-3]
["2021-01-07",{"$f":"RELIANCE!H419","v":-1.6193837130793734E-3},{"$f":"IDEA!H419","v":8.4388185654007408E-3},{"$f":"SUNPHARMA!H419","v":-5.6169950122252343E-3},{"$f":"TATAELXSI!H419","v":2.1808471450541767E-3},{"$f":"COALINDIA!H419","v":1.036264971162737E-2},2.749187339355536E-3]
["2021-01-08",{"$f":"RELIANCE!H420","v":1.179909848681835E-2},{"$f":"IDEA!H420","v":-1.67364016736401E-2},{"$f":"SUNPHARMA!H420","v":3.140041798761728E-2},{"$f":"TATAELXSI!H420","v":2.2186730815382916E-2},{"$f":"COALINDIA!H420","v":2.3443166022944606E-2},1.4418602327824612E-2]
["2021-01-11",{"$f":"RELIANCE!H421","v":-1.8849816756454439E-2},{"$f":"IDEA!H421","v":-2.1276595744680882E-2},{"$f":"SUNPHARMA!H421","v":3.2231669251681083E-4},{"$f":"TATAELXSI!H421","v":3.6338249802564393E-2},{"$f":"COALINDIA!H421","v":1.4316390127145473E-2},2.1701088242182705E-3]
["2021-01-12",{"$f":"RELIANCE!H422","v":3.1519320781452573E-2},{"$f":"IDEA!H422","v":5.2173913043478182E-2},{"$f":"SUNPHARMA!H422","v":-1.8276976197537431E-2},{"$f":"TATAELXSI!H422","v":-1.414366000205014E-2},{"$f":"COALINDIA!H422","v":3.4932981831060417E-2},1.7241115891280724E-2]
["2021-01-13",{"$f":"RELIANCE!H423","v":-9.3252221947190302E-3},{"$f":"IDEA!H423","v":1.2396694214876103E-2},{"$f":"SUNPHARMA!H423","v":-1.2056205715904933E-2},{"$f":"TATAELXSI!H423","v":0.13616115604849477},{"$f":"COALINDIA!H423","v":-5.7960729162878089E-3},2.4276069887291821E-2]
["2021-01-14",{"$f":"RELIANCE!H424","v":1.1244007909765864E-2},{"$f":"IDEA!H424","v":4.0816326530612734E-3},{"$f":"SUNPHARMA!H424","v":7.8863931847501512E-3},{"$f":"TATAELXSI!H424","v":4.9876514502487979E-2},{"$f":"COALINDIA!H424","v":5.8298632286530871E-3},1.5783682295743669E-2]
["2021-01-15",{"$f":"RELIANCE!H425","v":-1.1807629433545552E-2},{"$f":"IDEA!H425","v":0.10975609756097549},{"$f":"SUNPHARMA!H425","v":-4.5299621536361023E-3},{"$f":"TATAELXSI!H425","v":-5.3149262974991451E-2},{"$f":"COALINDIA!H425","v":-2.3184473280026041E-2},3.4169539437552696E-3]
["2021-01-18",{"$f":"RELIANCE!H426","v":2.4000650712368052E-2},{"$f":"IDEA!H426","v":-4.7619047619047672E-2},{"$f":"SUNPHARMA!H426","v":-3.7812362405578281E-2},{"$f":"TATAELXSI!H426","v":5.5984384290411526E-2},{"$f":"COALINDIA!H426","v":-3.1762648529180093E-2},-7.4418047102052937E-3]
["2021-01-19",{"$f":"RELIANCE!H427","v":1.6356259643788829E-2},{"$f":"IDEA!H427","v":2.3076923076923217E-2},{"$f":"SUNPHARMA!H427","v":2.5969571625728882E-2},{"$f":"TATAELXSI!H427","v":7.3841210225059406E-2},{"$f":"COALINDIA!H427","v":1.0093810229999223E-2},2.9867554960299914E-2]
["2021-01-20",{"$f":"RELIANCE!H428","v":1.8994215792747439E-2},{"$f":"IDEA!H428","v":3.759398496240518E-3},{"$f":"SUNPHARMA!H428","v":-3.1012540002093303E-3},{"$f":"TATAELXSI!H428","v":4.2582217233837039E-2},{"$f":"COALINDIA!H428","v":9.9928854978426074E-3},1.4445492604091656E-2]
["2021-01-21",{"$f":"RELIANCE!H429","v":2.1754989775633976E-2},{"$f":"IDEA!H429","v":-3.3707865168539297E-2},{"$f":"SUNPHARMA!H429","v":-1.98417721635612E-2},{"$f":"TATAELXSI!H429","v":-7.5300439906050287E-2},{"$f":"COALINDIA!H429","v":-2.9328716379140696E-2},-2.7284760768331501E-2]
["2021-01-22",{"$f":"RELIANCE!H430","v":-2.3720980936942936E-2},{"$f":"IDEA!H430","v":-1.5503875968992276E-2},{"$f":"SUNPHARMA!H430","v":-1.3209885125108234E-2},{"$f":"TATAELXSI!H430","v":-4.558498534250055E-3},{"$f":"COALINDIA!H430","v":-3.0214753561460639E-2},-1.7441598825350828E-2]
["2021-01-25",{"$f":"RELIANCE!H431","v":-5.2985979586008911E-2},{"$f":"IDEA!H431","v":-7.4803149606299191E-2},{"$f":"SUNPHARMA!H431","v":1.94715865645263E-2},{"$f":"TATAELXSI!H431","v":-3.3945892405886302E-2},{"$f":"COALINDIA!H431","v":-1.013512691142604E-2},-3.047971238901883E-2]
["2021-01-27",{"$f":"RELIANCE!H432","v":-2.3699146038766675E-2},{"$f":"IDEA!H432","v":-1.2765957446808529E-2},{"$f":"SUNPHARMA!H432","v":-2.8308463325686595E-2},{"$f":"TATAELXSI!H432","v":7.2536638067152825E-2},{"$f":"COALINDIA!H432","v":-2.0477921870788562E-2},-2.5429701229795088E-3]
["2021-01-28",{"$f":"RELIANCE!H433","v":-9.7360996196890481E-3},{"$f":"IDEA!H433","v":1.2931034482758674E-2},{"$f":"SUNPHARMA!H433","v":-9.564851218939685E-3},{"$f":"TATAELXSI!H433","v":-2.5483819309659705E-2},{"$f":"COALINDIA!H433","v":-7.3556856428210748E-3},-7.8418842616701685E-3]
["2021-01-29",{"$f":"RELIANCE!H434","v":-1.8438135683716252E-2},{"$f":"IDEA!H434","v":-4.680851063829794E-2},{"$f":"SUNPHARMA!H434","v":3.8717300563181567E-2},{"$f":"TATAELXSI!H434","v":3.8520895052131632E-2},{"$f":"COALINDIA!H434","v":-1.7940731790739628E-2},-1.189836499488125E-3]
["2021-02-01",{"$f":"RELIANCE!H435","v":2.8963884957983389E-2},{"$f":"IDEA!H435","v":4.4642857142857206E-2},{"$f":"SUNPHARMA!H435","v":6.7382709532648466E-3},{"$f":"TATAELXSI!H435","v":9.6335365169293974E-2},{"$f":"COALINDIA!H435","v":2.4622722636744809E-2},4.0260620172028846E-2]
["2021-02-02",{"$f":"RELIANCE!H436","v":1.6092451499416606E-2},{"$f":"IDEA!H436","v":1.2820512820512775E-2},{"$f":"SUNPHARMA!H436","v":3.2703505154503931E-2},{"$f":"TATAELXSI!H436","v":-3.0035962378984538E-2},{"$f":"COALINDIA!H436","v":1.7441840424147648E-2},9.8044695039192862E-3]
["2021-02-03",{"$f":"RELIANCE!H437","v":2.5184468917112237E-3},{"$f":"IDEA!H437","v":3.3755274261603407E-2},{"$f":"SUNPHARMA!H437","v":3.2406265059727435E-2},{"$f":"TATAELXSI!H437","v":5.2775547493266739E-3},{"$f":"COALINDIA!H437","v":4.571434878468783E-2},2.3934377949411313E-2]
["2021-02-04",{"$f":"RELIANCE!H438","v":-3.2890860479746604E-3},{"$f":"IDEA!H438","v":-8.1632653061224358E-3},{"$f":"SUNPHARMA!H438","v":3.6554590006545595E-3},{"$f":"TATAELXSI!H438","v":-1.6757623888476569E-2},{"$f":"COALINDIA!H438","v":4.6265976400397868E-2},4.342292031695753E-3]
["2021-02-05",{"$f":"RELIANCE!H439","v":-2.8580864594459683E-4},{"$f":"IDEA!H439","v":-1.2345679012345734E-2},{"$f":"SUNPHARMA!H439","v":5.1464117750119609E-3},{"$f":"TATAELXSI!H439","v":-3.6596908784947146E-3},{"$f":"COALINDIA!H439","v":-1.9150423911808545E-2},-6.0590381347163267E-3]
["2021-02-08",{"$f":"RELIANCE!H440","v":1.4398911803321732E-2},{"$f":"IDEA!H440","v":-2.5000000000000022E-2},{"$f":"SUNPHARMA!H440","v":-1.5742060906331901E-4},{"$f":"TATAELXSI!H440","v":8.5706161724237173E-3},{"$f":"COALINDIA!H440","v":4.9697388742113713E-3},5.5636924817869626E-4]
["2021-02-09",{"$f":"RELIANCE!H441","v":2.4085319482767204E-3},{"$f":"IDEA!H441","v":2.1367521367521292E-2},{"$f":"SUNPHARMA!H441","v":-8.82150049619157E-3},{"$f":"TATAELXSI!H441","v":1.0609154426878487E-2},{"$f":"COALINDIA!H441","v":-1.6248688597307992E-2},1.8630037298353868E-3]
["2021-02-10",{"$f":"RELIANCE!H442","v":9.2784277717072247E-3},{"$f":"IDEA!H442","v":-4.1841004184099972E-3},{"$f":"SUNPHARMA!H442","v":5.6125182505206705E-3},{"$f":"TATAELXSI!H442","v":-1.6973966411086283E-2},{"$f":"COALINDIA!H442","v":-6.8221003566234506E-3},-2.6178442327783671E-3]
["2021-02-11",{"$f":"RELIANCE!H443","v":4.1229768450272958E-2},{"$f":"IDEA!H443","v":8.4033613445378075E-2},{"$f":"SUNPHARMA!H443","v":2.6391388217993361E-2},{"$f":"TATAELXSI!H443","v":4.1440378088803964E-3},{"$f":"COALINDIA!H443","v":-8.3154212976929154E-3},2.9496677324966376E-2]
["2021-02-12",{"$f":"RELIANCE!H444","v":-6.8589883713868517E-3},{"$f":"IDEA!H444","v":-3.1007751937984551E-2},{"$f":"SUNPHARMA!H444","v":-2.5634981529815803E-2},{"$f":"TATAELXSI!H444","v":6.350134178936262E-4},{"$f":"COALINDIA!H444","v":-2.4061204741542275E-2},-1.7385582632567169E-2]
["2021-02-15",{"$f":"RELIANCE!H445","v":-4.4082726489904633E-3},{"$f":"IDEA!H445","v":-3.2000000000000028E-2},{"$f":"SUNPHARMA!H445","v":5.5802645992297784E-4},{"$f":"TATAELXSI!H445","v":7.7375328658317866E-3},{"$f":"COALINDIA!H445","v":-1.1953715228753437E-2},-8.0132857103978328E-3]
["2021-02-16",{"$f":"RELIANCE!H446","v":1.3234270557941786E-2},{"$f":"IDEA!H446","v":-2.8925619834710758E-2},{"$f":"SUNPHARMA!H446","v":5.8167815010625734E-3},{"$f":"TATAELXSI!H446","v":9.5846112368183078E-3},{"$f":"COALINDIA!H446","v":1.1342124752129479E-2},2.210433642648277E-3]
["2021-02-17",{"$f":"RELIANCE!H447","v":1.1531917859515352E-2},{"$f":"IDEA!H447","v":1.276595744680864E-2},{"$f":"SUNPHARMA!H447","v":-1.5685667195983743E-2},{"$f":"TATAELXSI!H447","v":-2.4894773263179348E-2},{"$f":"COALINDIA!H447","v":1.0841110791914188E-2},-1.0882908721849822E-3]
["2021-02-18",{"$f":"RELIANCE!H448","v":-7.4643500164819363E-3},{"$f":"IDEA!H448","v":-2.9411764705882359E-2},{"$f":"SUNPHARMA!H448","v":-8.3702538391724479E-3},{"$f":"TATAELXSI!H448","v":-2.3540489081201654E-2},{"$f":"COALINDIA!H448","v":3.5133220804232534E-2},-6.7307273677011748E-3]
["2021-02-19",{"$f":"RELIANCE!H449","v":6.0938335715963908E-3},{"$f":"IDEA!H449","v":-5.6277056277056259E-2},{"$f":"SUNPHARMA!H449","v":-1.4203406701735699E-2},{"$f":"TATAELXSI!H449","v":-2.7109936862870221E-3},{"$f":"COALINDIA!H449","v":-5.0018312742722282E-3},-1.4419890873550965E-2]
["2021-02-22",{"$f":"RELIANCE!H450","v":-3.4706600983537783E-2},{"$f":"IDEA!H450","v":-1.3761467889908285E-2},{"$f":"SUNPHARMA!H450","v":-1.9759575619292202E-2},{"$f":"TATAELXSI!H450","v":-2.6928389706600941E-2},{"$f":"COALINDIA!H450","v":-2.1543919931101718E-2},-2.3339990826088189E-2]
["2021-02-23",{"$f":"RELIANCE!H451","v":7.6440430128088309E-3},{"$f":"IDEA!H451","v":2.3255813953488413E-2},{"$f":"SUNPHARMA!H451","v":1.4698485941492923E-2},{"$f":"TATAELXSI!H451","v":1.8692757256381753E-2},{"$f":"COALINDIA!H451","v":4.7706473043689357E-3},1.3812349493708173E-2]
["2021-02-24",{"$f":"RELIANCE!H452","v":1.855740137292897E-2},{"$f":"IDEA!H452","v":4.0909090909090784E-2},{"$f":"SUNPHARMA!H452","v":-4.3041941860950672E-3},{"$f":"TATAELXSI!H452","v":-7.9877624074884412E-3},{"$f":"COALINDIA!H452","v":5.4784415100184169E-2},{"$f":"Portfolio_Return(B452,C452,D452,E452,F452,$J$2,$J$3,$J$4,$J$5,$J$6)","v":2.0391790157724084E-2}]
["2021-02-25",{"$f":"RELIANCE!H453","v":4.0441670271185629E-2},{"$f":"IDEA!H453","v":1.7467248908296984E-2},{"$f":"SUNPHARMA!H453","v":1.3467410423699588E-2},{"$f":"TATAELXSI!H453","v":-6.1225282308181583E-3},{"$f":"COALINDIA!H453","v":8.1025144904209423E-2},2.9255789255314697E-2]
["2021-02-26",{"$f":"RELIANCE!H454","v":-2.7304332916412464E-2},{"$f":"IDEA!H454","v":-3.0042918454935563E-2},{"$f":"SUNPHARMA!H454","v":-2.4526435891550125E-2},{"$f":"TATAELXSI!H454","v":-7.6909944448738665E-3},{"$f":"COALINDIA!H454","v":-2.4984253422309921E-2},-2.2909787026016388E-2]
["2021-03-01",{"$f":"RELIANCE!H455","v":7.6229074732938277E-3},{"$f":"IDEA!H455","v":-2.2123893805309769E-2},{"$f":"SUNPHARMA!H455","v":1.6565949334897967E-2},{"$f":"TATAELXSI!H455","v":-1.3431940531775655E-2},{"$f":"COALINDIA!H455","v":1.4126243932599314E-2},5.5185328074113752E-4]
["2021-03-02",{"$f":"RELIANCE!H456","v":2.0459252597538179E-3},{"$f":"IDEA!H456","v":2.7149321266968229E-2},{"$f":"SUNPHARMA!H456","v":1.6130274249451793E-2},{"$f":"TATAELXSI!H456","v":-1.3748246055922286E-2},{"$f":"COALINDIA!H456","v":-6.1547495095806148E-3},5.0845050421341872E-3]
["2021-03-03",{"$f":"RELIANCE!H457","v":4.5631600254709609E-2},{"$f":"IDEA!H457","v":-1.7621145374449254E-2},{"$f":"SUNPHARMA!H457","v":1.6525552160194579E-2},{"$f":"TATAELXSI!H457","v":-8.9711203869877743E-3},{"$f":"COALINDIA!H457","v":9.7781491606070414E-3},9.0686071628148408E-3]
["2021-03-04",{"$f":"RELIANCE!H458","v":-1.1920413791971469E-2},{"$f":"IDEA!H458","v":-1.3452914798206317E-2},{"$f":"SUNPHARMA!H458","v":-8.6489664790584397E-3},{"$f":"TATAELXSI!H458","v":4.450044883430837E-2},{"$f":"COALINDIA!H458","v":-1.8398817080494068E-2},-1.5841326630843841E-3]
["2021-03-05",{"$f":"RELIANCE!H459","v":1.3097013695334357E-3},{"$f":"IDEA!H459","v":-4.0909090909090895E-2},{"$f":"SUNPHARMA!H459","v":-1.252122032774583E-2},{"$f":"TATAELXSI!H459","v":1.497978085430085E-2},{"$f":"COALINDIA!H459","v":-6.2478497082227857E-3},-8.677735744245043E-3]
["2021-03-08",{"$f":"RELIANCE!H460","v":5.6915202212182714E-3},{"$f":"IDEA!H460","v":-4.7393364928910442E-3},{"$f":"SUNPHARMA!H460","v":5.8900676054274292E-3},{"$f":"TATAELXSI!H460","v":-1.6931186409407939E-3},{"$f":"COALINDIA!H460","v":1.3567084551862507E-2},3.7432434489352738E-3]
["2021-03-09",{"$f":"RELIANCE!H461","v":-2.2803714787019086E-5},{"$f":"IDEA!H461","v":-3.8095238095238182E-2},{"$f":"SUNPHARMA!H461","v":-3.5784365413382702E-3},{"$f":"TATAELXSI!H461","v":-2.1438155623856536E-2},{"$f":"COALINDIA!H461","v":-9.4678395583989161E-3},-1.4520494706723786E-2]
["2021-03-10",{"$f":"RELIANCE!H462","v":-4.1532511977650415E-3},{"$f":"IDEA!H462","v":1.980198019801982E-2},{"$f":"SUNPHARMA!H462","v":2.1873941836946242E-2},{"$f":"TATAELXSI!H462","v":1.5917576095249242E-2},{"$f":"COALINDIA!H462","v":-4.9439778714636118E-3},9.6992538121973317E-3]
["2021-03-12",{"$f":"RELIANCE!H463","v":-2.032584451239321E-2},{"$f":"IDEA!H463","v":-9.7087378640777766E-3},{"$f":"SUNPHARMA!H463","v":-1.9808271634275787E-2},{"$f":"TATAELXSI!H463","v":1.1440513682906994E-2},{"$f":"COALINDIA!H463","v":-2.9810609011465816E-3},-8.276680245797273E-3]
["2021-03-15",{"$f":"RELIANCE!H464","v":-1.3426358328684673E-2},{"$f":"IDEA!H464","v":-1.4705882352941013E-2},{"$f":"SUNPHARMA!H464","v":-1.3200741407618843E-2},{"$f":"TATAELXSI!H464","v":-4.014804817089157E-3},{"$f":"COALINDIA!H464","v":9.6218683208426636E-3},-7.1451837170982049E-3]
["2021-03-16",{"$f":"RELIANCE!H465","v":-3.9356099174506316E-3},{"$f":"IDEA!H465","v":9.9502487562188602E-3},{"$f":"SUNPHARMA!H465","v":-5.2849247326152149E-3},{"$f":"TATAELXSI!H465","v":2.0247020144772643E-2},{"$f":"COALINDIA!H465","v":-8.1687979451543491E-3},2.5615872611542616E-3]
["2021-03-17",{"$f":"RELIANCE!H466","v":-2.1541501951555807E-2},{"$f":"IDEA!H466","v":-2.9556650246305494E-2},{"$f":"SUNPHARMA!H466","v":-2.9138263166653355E-2},{"$f":"TATAELXSI!H466","v":-5.2318778201553284E-3},{"$f":"COALINDIA!H466","v":-4.0150870520747062E-2},-2.5123832741083412E-2]
["2021-03-18",{"$f":"RELIANCE!H467","v":-2.2502245391907115E-2},{"$f":"IDEA!H467","v":5.0761421319798217E-3},{"$f":"SUNPHARMA!H467","v":-1.7443379052517805E-2},{"$f":"TATAELXSI!H467","v":-2.9833745438190062E-2},{"$f":"COALINDIA!H467","v":-2.0021487431029605E-2},-1.6944943036332955E-2]
["2021-03-19",{"$f":"RELIANCE!H468","v":3.628485331391354E-2},{"$f":"IDEA!H468","v":-1.5151515151515138E-2},{"$f":"SUNPHARMA!H468","v":6.5268693771358688E-3},{"$f":"TATAELXSI!H468","v":3.3629929993689522E-2},{"$f":"COALINDIA!H468","v":-5.4724587504016986E-3},1.1163535756564421E-2]
["2021-03-22",{"$f":"RELIANCE!H469","v":-9.4140054959039442E-3},{"$f":"IDEA!H469","v":2.564102564102555E-2},{"$f":"SUNPHARMA!H469","v":2.1960888799845479E-2},{"$f":"TATAELXSI!H469","v":-1.5173718350877885E-2},{"$f":"COALINDIA!H469","v":-4.7689444476682885E-3},3.6490492292841812E-3]
["2021-03-23",{"$f":"RELIANCE!H470","v":1.2170295664162663E-2},{"$f":"IDEA!H470","v":1.0000000000000009E-2},{"$f":"SUNPHARMA!H470","v":-5.3299492151436256E-3},{"$f":"TATAELXSI!H470","v":3.7095876184070065E-3},{"$f":"COALINDIA!H470","v":-2.9488002365114507E-3},3.5202267661829209E-3]
["2021-03-24",{"$f":"RELIANCE!H471","v":-1.9257461807043012E-2},{"$f":"IDEA!H471","v":-3.4653465346534573E-2},{"$f":"SUNPHARMA!H471","v":-4.3378228484249881E-3},{"$f":"TATAELXSI!H471","v":-2.3657049458427282E-2},{"$f":"COALINDIA!H471","v":-2.1811393191805806E-2},-2.0743438530447134E-2]
["2021-03-25",{"$f":"RELIANCE!H472","v":-2.7279885473151709E-2},{"$f":"IDEA!H472","v":-8.7179487179487092E-2},{"$f":"SUNPHARMA!H472","v":-1.631638854721118E-2},{"$f":"TATAELXSI!H472","v":-2.4249051972045965E-2},{"$f":"COALINDIA!H472","v":-3.1746001658972234E-2},-3.7354162966173637E-2]
["2021-03-26",{"$f":"RELIANCE!H473","v":1.6069098327302232E-3},{"$f":"IDEA!H473","v":2.2471910112359383E-2},{"$f":"SUNPHARMA!H473","v":1.9886994554585424E-2},{"$f":"TATAELXSI!H473","v":1.7956967172400473E-2},{"$f":"COALINDIA!H473","v":1.1709600399909093E-2},1.4726476414396918E-2]
["2021-03-30",{"$f":"RELIANCE!H474","v":1.7371494101317272E-2},{"$f":"IDEA!H474","v":1.098901098901095E-2},{"$f":"SUNPHARMA!H474","v":1.7881615181632782E-2},{"$f":"TATAELXSI!H474","v":1.4489514170254791E-2},{"$f":"COALINDIA!H474","v":2.5848729679231797E-2},1.7316072824289517E-2]
["2021-03-31",{"$f":"RELIANCE!H475","v":-1.2910906343540118E-2},{"$f":"IDEA!H475","v":5.4347826086957873E-3},{"$f":"SUNPHARMA!H475","v":1.6727692220053214E-4},{"$f":"TATAELXSI!H475","v":1.5992687830077568E-3},{"$f":"COALINDIA!H475","v":-1.9556186465411685E-2},-5.0531528990095456E-3]
["2021-04-01",{"$f":"RELIANCE!H476","v":9.3605241434877567E-3},{"$f":"IDEA!H476","v":8.1081081081081141E-2},{"$f":"SUNPHARMA!H476","v":2.166281238295853E-2},{"$f":"TATAELXSI!H476","v":2.9373628667453522E-2},{"$f":"COALINDIA!H476","v":1.3808864133411758E-2},3.105738208167854E-2]
["2021-04-05",{"$f":"RELIANCE!H477","v":-1.4466970211657744E-2},{"$f":"IDEA!H477","v":-4.4999999999999929E-2},{"$f":"SUNPHARMA!H477","v":-3.1928592285970225E-3},{"$f":"TATAELXSI!H477","v":3.0230893004086878E-2},{"$f":"COALINDIA!H477","v":-1.7782699960471549E-2},-1.0042327279327874E-2]
["2021-04-06",{"$f":"RELIANCE!H478","v":-4.1653768381720519E-3},{"$f":"IDEA!H478","v":1.5706806282722363E-2},{"$f":"SUNPHARMA!H478","v":1.9135944081020595E-2},{"$f":"TATAELXSI!H478","v":7.3358865902890535E-3},{"$f":"COALINDIA!H478","v":3.8520565740520762E-3},8.3730633379824077E-3]
["2021-04-07",{"$f":"RELIANCE!H479","v":9.3483648606194469E-3},{"$f":"IDEA!H479","v":5.1546391752577136E-3},{"$f":"SUNPHARMA!H479","v":9.6705914929873238E-4},{"$f":"TATAELXSI!H479","v":2.4211360314629893E-2},{"$f":"COALINDIA!H479","v":7.2908889860896497E-3},9.3944624971790871E-3]
["2021-04-08",{"$f":"RELIANCE!H480","v":1.2482015300838783E-3},{"$f":"IDEA!H480","v":-3.5897435897435881E-2},{"$f":"SUNPHARMA!H480","v":-1.0949150275825104E-2},{"$f":"TATAELXSI!H480","v":6.2958352392488148E-3},{"$f":"COALINDIA!H480","v":3.0475185371079405E-3},-7.2510061733640713E-3]
["2021-04-09",{"$f":"RELIANCE!H481","v":-1.1618886778253139E-2},{"$f":"IDEA!H481","v":0},{"$f":"SUNPHARMA!H481","v":3.6630053389084871E-2},{"$f":"TATAELXSI!H481","v":4.6088519814957651E-2},{"$f":"COALINDIA!H481","v":-1.6331107651269106E-2},1.0953715754904057E-2]
["2021-04-12",{"$f":"RELIANCE!H482","v":-3.5771022729702236E-2},{"$f":"IDEA!H482","v":-6.9148936170212782E-2},{"$f":"SUNPHARMA!H482","v":-2.7326414720184933E-2},{"$f":"TATAELXSI!H482","v":-5.9598304665341773E-2},{"$f":"COALINDIA!H482","v":-3.7065660457061722E-2},-4.5782067748500695E-2]
["2021-04-13",{"$f":"RELIANCE!H483","v":1.0804989615947858E-2},{"$f":"IDEA!H483","v":2.2857142857142687E-2},{"$f":"SUNPHARMA!H483","v":1.2916856035670721E-2},{"$f":"TATAELXSI!H483","v":-3.0719152755022128E-2},{"$f":"COALINDIA!H483","v":2.6062576178691677E-2},8.3844823864861646E-3]
["2021-04-15",{"$f":"RELIANCE!H484","v":6.4706717967885144E-3},{"$f":"IDEA!H484","v":0},{"$f":"SUNPHARMA!H484","v":9.4046603419619679E-3},{"$f":"TATAELXSI!H484","v":3.5618978240954391E-2},{"$f":"COALINDIA!H484","v":2.3446936112145877E-3},1.0767800798183891E-2]
["2021-04-16",{"$f":"RELIANCE!H485","v":-6.274756678364567E-3},{"$f":"IDEA!H485","v":-1.1173184357541888E-2},{"$f":"SUNPHARMA!H485","v":2.0213227377213761E-2},{"$f":"TATAELXSI!H485","v":1.2278621601157225E-2},{"$f":"COALINDIA!H485","v":-3.1189451774548127E-3},2.3849925530019431E-3]
["2021-04-19",{"$f":"RELIANCE!H486","v":-1.5734223246737844E-2},{"$f":"IDEA!H486","v":-4.5197740112994378E-2},{"$f":"SUNPHARMA!H486","v":-8.3585551589888674E-3},{"$f":"TATAELXSI!H486","v":2.8949339275461394E-2},{"$f":"COALINDIA!H486","v":-2.5420439554198371E-2},-1.3152323759491612E-2]
["2021-04-20",{"$f":"RELIANCE!H487","v":-2.8914087478752867E-4},{"$f":"IDEA!H487","v":0},{"$f":"SUNPHARMA!H487","v":7.0241585465293799E-3},{"$f":"TATAELXSI!H487","v":-1.6297288315103353E-2},{"$f":"COALINDIA!H487","v":-8.0257773683056755E-4},-2.0729696760384141E-3]
["2021-04-22",{"$f":"RELIANCE!H488","v":2.7614803911483465E-3},{"$f":"IDEA!H488","v":0},{"$f":"SUNPHARMA!H488","v":-8.060172396944898E-3},{"$f":"TATAELXSI!H488","v":1.6067269098456682E-2},{"$f":"COALINDIA!H488","v":4.4177276148575917E-3},3.0372609415035448E-3]
["2021-04-23",{"$f":"RELIANCE!H489","v":-1.0754054592701943E-3},{"$f":"IDEA!H489","v":0},{"$f":"SUNPHARMA!H489","v":-3.1251452675038482E-3},{"$f":"TATAELXSI!H489","v":4.5126362966893874E-2},{"$f":"COALINDIA!H489","v":8.7964420783521735E-3},9.944450863694403E-3]
["2021-04-26",{"$f":"RELIANCE!H490","v":1.7591304602597075E-2},{"$f":"IDEA!H490","v":0},{"$f":"SUNPHARMA!H490","v":-5.0945101267407811E-3},{"$f":"TATAELXSI!H490","v":5.3992621726757228E-3},{"$f":"COALINDIA!H490","v":6.3415899263266073E-3},4.8475293149717246E-3]
["2021-04-27",{"$f":"RELIANCE!H491","v":2.6214673658497469E-2},{"$f":"IDEA!H491","v":2.9585798816567976E-2},{"$f":"SUNPHARMA!H491","v":7.1687196565068945E-3},{"$f":"TATAELXSI!H491","v":-8.6953458100271774E-3},{"$f":"COALINDIA!H491","v":4.3324615622093443E-3},1.1721261576750901E-2]
["2021-04-28",{"$f":"RELIANCE!H492","v":4.3497107414094318E-3},{"$f":"IDEA!H492","v":-5.7471264367814356E-3},{"$f":"SUNPHARMA!H492","v":6.491983003524604E-3},{"$f":"TATAELXSI!H492","v":3.8267681986242641E-2},{"$f":"COALINDIA!H492","v":7.8431601187773925E-3},1.0241081882634527E-2]
["2021-04-29",{"$f":"RELIANCE!H493","v":1.3393060506116716E-2},{"$f":"IDEA!H493","v":-2.8901734104046284E-2},{"$f":"SUNPHARMA!H493","v":1.709637226716465E-3},{"$f":"TATAELXSI!H493","v":2.6755673518552348E-2},{"$f":"COALINDIA!H493","v":-3.5019129646288727E-3},1.8909448365420746E-3]
["2021-04-30",{"$f":"RELIANCE!H494","v":-1.4599479815539466E-2},{"$f":"IDEA!H494","v":-5.9523809523810423E-3},{"$f":"SUNPHARMA!H494","v":1.5438373286117635E-2},{"$f":"TATAELXSI!H494","v":2.8185701016885112E-2},{"$f":"COALINDIA!H494","v":3.9047218950287288E-2},1.2423886497073905E-2]
["2021-05-03",{"$f":"RELIANCE!H495","v":-1.7773806311788352E-2},{"$f":"IDEA!H495","v":1.1976047904191489E-2},{"$f":"SUNPHARMA!H495","v":7.2580210517756427E-3},{"$f":"TATAELXSI!H495","v":1.5904614329906419E-2},{"$f":"COALINDIA!H495","v":-6.3886471768537234E-3},2.195245959446296E-3]
["2021-05-04",{"$f":"RELIANCE!H496","v":-2.166870817541193E-2},{"$f":"IDEA!H496","v":-2.3668639053254337E-2},{"$f":"SUNPHARMA!H496","v":-2.1313728581663471E-2},{"$f":"TATAELXSI!H496","v":8.8107648750394674E-2},{"$f":"COALINDIA!H496","v":4.5386912682114922E-3},5.1990528416552863E-3]
["2021-05-05",{"$f":"RELIANCE!H497","v":1.8261463458125863E-3},{"$f":"IDEA!H497","v":1.2121212121211977E-2},{"$f":"SUNPHARMA!H497","v":5.9288557856549184E-2},{"$f":"TATAELXSI!H497","v":-6.4987125080040453E-4},{"$f":"COALINDIA!H497","v":2.6355100478663296E-3},1.5044311024127935E-2]
["2021-05-06",{"$f":"RELIANCE!H498","v":5.6767573745599197E-3},{"$f":"IDEA!H498","v":-5.9880239520956335E-3},{"$f":"SUNPHARMA!H498","v":-5.8530823989493275E-3},{"$f":"TATAELXSI!H498","v":-2.3098254174746979E-2},{"$f":"COALINDIA!H498","v":1.0889905000915245E-2},-3.6745396300633553E-3]
["2021-05-07",{"$f":"RELIANCE!H499","v":3.8844446126762397E-4},{"$f":"IDEA!H499","v":0},{"$f":"SUNPHARMA!H499","v":7.3536051299338823E-5},{"$f":"TATAELXSI!H499","v":-1.7280594304414754E-2},{"$f":"COALINDIA!H499","v":1.6716316080761962E-2},-2.0459542217166147E-5]
["2021-05-10",{"$f":"RELIANCE!H500","v":-2.8730543102076932E-3},{"$f":"IDEA!H500","v":-1.2048192771084487E-2},{"$f":"SUNPHARMA!H500","v":2.7595848921400323E-2},{"$f":"TATAELXSI!H500","v":-2.1025597370947446E-2},{"$f":"COALINDIA!H500","v":7.4534000875753792E-2},1.32366010689829E-2]
["2021-05-11",{"$f":"RELIANCE!H501","v":3.6081507459181862E-3},{"$f":"IDEA!H501","v":-1.2195121951219523E-2},{"$f":"SUNPHARMA!H501","v":1.4179244841219241E-2},{"$f":"TATAELXSI!H501","v":-2.6832485270346318E-2},{"$f":"COALINDIA!H501","v":5.8823504332994547E-2},7.5166585397132262E-3]
["2021-05-12",{"$f":"RELIANCE!H502","v":-1.034583194929032E-2},{"$f":"IDEA!H502","v":8.6419753086419915E-2},{"$f":"SUNPHARMA!H502","v":-7.4140919704733799E-3},{"$f":"TATAELXSI!H502","v":1.720588231232334E-3},{"$f":"COALINDIA!H502","v":-1.4129675539862441E-2},1.1250148371605224E-2]
["2021-05-14",{"$f":"RELIANCE!H503","v":1.262319841773216E-2},{"$f":"IDEA!H503","v":-1.7045454545454586E-2},{"$f":"SUNPHARMA!H503","v":-1.6219645508872782E-2},{"$f":"TATAELXSI!H503","v":-1.1484138044223546E-2},{"$f":"COALINDIA!H503","v":-4.3648260909507131E-2},-1.5154860118065178E-2]
["2021-05-17",{"$f":"RELIANCE!H504","v":1.189793178605769E-2},{"$f":"IDEA!H504","v":-1.1560693641618491E-2},{"$f":"SUNPHARMA!H504","v":-6.2188188885360374E-3},{"$f":"TATAELXSI!H504","v":4.253543989029307E-2},{"$f":"COALINDIA!H504","v":9.1962913692580361E-3},9.1700301030908545E-3]
["2021-05-18",{"$f":"RELIANCE!H505","v":1.4079107035603717E-2},{"$f":"IDEA!H505","v":0},{"$f":"SUNPHARMA!H505","v":5.3116595524083099E-3},{"$f":"TATAELXSI!H505","v":8.7743939029460982E-3},{"$f":"COALINDIA!H505","v":-1.1474871578169732E-2},3.3380577825576781E-3]
["2021-05-19",{"$f":"RELIANCE!H506","v":4.5776322111908876E-3},{"$f":"IDEA!H506","v":-1.1695906432748648E-2},{"$f":"SUNPHARMA!H506","v":1.8239815358968903E-2},{"$f":"TATAELXSI!H506","v":-2.0619081703205921E-3},{"$f":"COALINDIA!H506","v":3.6872715527054734E-2},9.186469698829058E-3]
["2021-05-20",{"$f":"RELIANCE!H507","v":-5.8336186343185175E-3},{"$f":"IDEA!H507","v":-5.9171597633135287E-3},{"$f":"SUNPHARMA!H507","v":-2.3528629326191708E-2},{"$f":"TATAELXSI!H507","v":-9.6600721594970462E-3},{"$f":"COALINDIA!H507","v":-3.4244362872664635E-2},-1.5836768551197089E-2]
["2021-05-21",{"$f":"RELIANCE!H508","v":8.6381015803780603E-3},{"$f":"IDEA!H508","v":1.7857142857142794E-2},{"$f":"SUNPHARMA!H508","v":5.1685944226689262E-3},{"$f":"TATAELXSI!H508","v":-1.4576285222972496E-2},{"$f":"COALINDIA!H508","v":3.7504667882111153E-3},4.1676040850856799E-3]
["2021-05-24",{"$f":"RELIANCE!H509","v":-8.439248090912942E-3},{"$f":"IDEA!H509","v":5.8479532163742132E-3},{"$f":"SUNPHARMA!H509","v":7.9662628036225591E-4},{"$f":"TATAELXSI!H509","v":4.4586310375398508E-3},{"$f":"COALINDIA!H509","v":1.1548813594095764E-2},2.8425552074918289E-3]
["2021-05-25",{"$f":"RELIANCE!H510","v":-1.1331304743688788E-2},{"$f":"IDEA!H510","v":-5.8139534883719923E-3},{"$f":"SUNPHARMA!H510","v":7.4535034367257946E-3},{"$f":"TATAELXSI!H510","v":-4.4946745024430079E-3},{"$f":"COALINDIA!H510","v":-9.7380786115885964E-3},-4.784901581873318E-3]
["2021-05-26",{"$f":"RELIANCE!H511","v":3.5147877948522675E-3},{"$f":"IDEA!H511","v":0},{"$f":"SUNPHARMA!H511","v":1.1061610847438175E-2},{"$f":"TATAELXSI!H511","v":-1.2619473501206402E-3},{"$f":"COALINDIA!H511","v":-1.186844594918568E-2},2.8920106859682418E-4]
["2021-05-27",{"$f":"RELIANCE!H512","v":3.0709461400226924E-3},{"$f":"IDEA!H512","v":-1.1695906432748648E-2},{"$f":"SUNPHARMA!H512","v":-6.1096939445265397E-3},{"$f":"TATAELXSI!H512","v":1.2017619583606143E-2},{"$f":"COALINDIA!H512","v":-7.8927903892778151E-3},-2.1219650085848333E-3]
["2021-05-28",{"$f":"RELIANCE!H513","v":6.0067790029047212E-2},{"$f":"IDEA!H513","v":2.9585798816567976E-2},{"$f":"SUNPHARMA!H513","v":-4.2530365036608231E-2},{"$f":"TATAELXSI!H513","v":7.074978211658145E-3},{"$f":"COALINDIA!H513","v":1.6257181709160351E-2},1.4091076745965093E-2]
["2021-05-31",{"$f":"RELIANCE!H514","v":3.1267936369978086E-2},{"$f":"IDEA!H514","v":-5.7471264367814356E-3},{"$f":"SUNPHARMA!H514","v":-2.1649996770475299E-3},{"$f":"TATAELXSI!H514","v":3.8019497657881818E-3},{"$f":"COALINDIA!H514","v":5.4459465871374846E-3},6.5207413218149584E-3]
["2021-06-01",{"$f":"RELIANCE!H515","v":3.9808550512281122E-3},{"$f":"IDEA!H515","v":-1.7341040462427793E-2},{"$f":"SUNPHARMA!H515","v":4.1149388614230009E-3},{"$f":"TATAELXSI!H515","v":-9.372779851632429E-3},{"$f":"COALINDIA!H515","v":-6.7694241656890419E-4},-3.8589937635956023E-3]
["2021-06-02",{"$f":"RELIANCE!H516","v":1.491542892430231E-2},{"$f":"IDEA!H516","v":3.529411764705892E-2},{"$f":"SUNPHARMA!H516","v":9.5373577080366534E-3},{"$f":"TATAELXSI!H516","v":-4.9869565287680162E-3},{"$f":"COALINDIA!H516","v":1.016248612697046E-2},{"$f":"Portfolio_Return(B516,C516,D516,E516,F516,$J$2,$J$3,$J$4,$J$5,$J$6)","v":1.2984486775520065E-2}]
["2021-06-03",{"$f":"RELIANCE!H517","v":3.8160057400206783E-3},{"$f":"IDEA!H517","v":6.2499999999999778E-2},{"$f":"SUNPHARMA!H517","v":-2.8784984785035217E-3},{"$f":"TATAELXSI!H517","v":-6.306756647940448E-3},{"$f":"COALINDIA!H517","v":-3.353531459419079E-4},1.1359079493526915E-2]
["2021-06-04",{"$f":"RELIANCE!H518","v":-8.6665445698991764E-3},{"$f":"IDEA!H518","v":4.2780748663101553E-2},{"$f":"SUNPHARMA!H518","v":-2.2945801969461721E-3},{"$f":"TATAELXSI!H518","v":-7.2855312975150799E-4},{"$f":"COALINDIA!H518","v":2.7172168971483668E-2},1.1652647947597673E-2]
["2021-06-07",{"$f":"RELIANCE!H519","v":1.6845498124886563E-2},{"$f":"IDEA!H519","v":3.589743589743577E-2},{"$f":"SUNPHARMA!H519","v":2.0771938690711256E-3},{"$f":"TATAELXSI!H519","v":1.3137435469804393E-2},{"$f":"COALINDIA!H519","v":2.0574683511111136E-2},1.7706449374461797E-2]
["2021-06-08",{"$f":"RELIANCE!H520","v":-5.7465355298813598E-3},{"$f":"IDEA!H520","v":-4.9504950495048439E-3},{"$f":"SUNPHARMA!H520","v":5.034495788041049E-3},{"$f":"TATAELXSI!H520","v":3.5718263921168836E-2},{"$f":"COALINDIA!H520","v":-1.5999080137258925E-3},5.6911642232195577E-3]
["2021-06-09",{"$f":"RELIANCE!H521","v":-1.7881388825900704E-2},{"$f":"IDEA!H521","v":-3.9800995024875663E-2},{"$f":"SUNPHARMA!H521","v":-8.6924693958545518E-3},{"$f":"TATAELXSI!H521","v":-8.6984222943439216E-3},{"$f":"COALINDIA!H521","v":2.5640252428371646E-3},-1.4501850059627536E-2]
["2021-06-10",{"$f":"RELIANCE!H522","v":3.6781691467407556E-3},{"$f":"IDEA!H522","v":3.1088082901554293E-2},{"$f":"SUNPHARMA!H522","v":4.7558303131327584E-3},{"$f":"TATAELXSI!H522","v":2.3534120740632547E-2},{"$f":"COALINDIA!H522","v":6.39393800419219E-4},1.2739119380495916E-2]
["2021-06-11",{"$f":"RELIANCE!H523","v":1.7072565257352991E-2},{"$f":"IDEA!H523","v":-1.005025125628134E-2},{"$f":"SUNPHARMA!H523","v":7.7657596167508558E-3},{"$f":"TATAELXSI!H523","v":6.1236020806660907E-3},{"$f":"COALINDIA!H523","v":3.929723799140894E-2},1.2041782737979508E-2]
["2021-06-14",{"$f":"RELIANCE!H524","v":1.4346068457137883E-2},{"$f":"IDEA!H524","v":-2.0304568527918732E-2},{"$f":"SUNPHARMA!H524","v":-6.1646258707447332E-3},{"$f":"TATAELXSI!H524","v":-2.735559397811449E-3},{"$f":"COALINDIA!H524","v":-2.028897604301616E-2},-7.0295322764706378E-3]
["2021-06-15",{"$f":"RELIANCE!H525","v":2.2718598702134419E-3},{"$f":"IDEA!H525","v":5.1813471502588637E-3},{"$f":"SUNPHARMA!H525","v":-5.759880513232174E-3},{"$f":"TATAELXSI!H525","v":-3.12371636422204E-3},{"$f":"COALINDIA!H525","v":-1.3806137724235445E-2},-3.0473055162434709E-3]
["2021-06-16",{"$f":"RELIANCE!H526","v":-1.7066623111111161E-2},{"$f":"IDEA!H526","v":-1.546391752577303E-2},{"$f":"SUNPHARMA!H526","v":-6.9073521271144633E-3},{"$f":"TATAELXSI!H526","v":-5.8588312462282133E-3},{"$f":"COALINDIA!H526","v":-1.018125520730262E-2},-1.1095595843505897E-2]
["2021-06-17",{"$f":"RELIANCE!H527","v":1.8311646864469537E-3},{"$f":"IDEA!H527","v":-1.0471204188481797E-2},{"$f":"SUNPHARMA!H527","v":-5.2352524198708839E-3},{"$f":"TATAELXSI!H527","v":-4.5581983561960859E-3},{"$f":"COALINDIA!H527","v":-2.1858057962520827E-2},-8.0583096481245276E-3]
["2021-06-18",{"$f":"RELIANCE!H528","v":4.5133484270115523E-3},{"$f":"IDEA!H528","v":9.5238095238095344E-2},{"$f":"SUNPHARMA!H528","v":5.1876832783306348E-3},{"$f":"TATAELXSI!H528","v":-2.5278869019419892E-2},{"$f":"COALINDIA!H528","v":-3.779163496469462E-2},8.3737245918646033E-3]
["2021-06-21",{"$f":"RELIANCE!H529","v":5.212004812426195E-3},{"$f":"IDEA!H529","v":-1.9323671497584516E-2},{"$f":"SUNPHARMA!H529","v":4.2631747236745454E-3},{"$f":"TATAELXSI!H529","v":-4.2170505657044277E-3},{"$f":"COALINDIA!H529","v":7.5136356704008644E-3},-1.3103813713574684E-3]
["2021-06-22",{"$f":"RELIANCE!H530","v":-5.1402391328640076E-3},{"$f":"IDEA!H530","v":-1.4778325123152691E-2},{"$f":"SUNPHARMA!H530","v":-6.7773706410862999E-3},{"$f":"TATAELXSI!H530","v":1.796056150743941E-2},{"$f":"COALINDIA!H530","v":8.1356823909211062E-3},-1.1993819974849681E-4]
["2021-06-23",{"$f":"RELIANCE!H531","v":-9.1654058182635573E-3},{"$f":"IDEA!H531","v":-5.0000000000001155E-3},{"$f":"SUNPHARMA!H531","v":-2.3244262018377038E-3},{"$f":"TATAELXSI!H531","v":-7.7919615095553008E-3},{"$f":"COALINDIA!H531","v":-1.6812534734218509E-3},-5.1926094006157063E-3]
["2021-06-24",{"$f":"RELIANCE!H532","v":-2.351105071572173E-2},{"$f":"IDEA!H532","v":-4.0201005025125469E-2},{"$f":"SUNPHARMA!H532","v":-6.7654262775518337E-4},{"$f":"TATAELXSI!H532","v":2.1633715855188473E-2},{"$f":"COALINDIA!H532","v":-1.380940977280054E-2},-1.1312858457242891E-2]
["2021-06-25",{"$f":"RELIANCE!H533","v":-2.2776897608544205E-2},{"$f":"IDEA!H533","v":0.10994764397905743},{"$f":"SUNPHARMA!H533","v":1.12064749141918E-2},{"$f":"TATAELXSI!H533","v":7.6200154396912634E-3},{"$f":"COALINDIA!H533","v":1.6051984546209486E-2},2.4409844254121158E-2]
["2021-06-28",{"$f":"RELIANCE!H534","v":-8.7671132265383367E-3},{"$f":"IDEA!H534","v":-1.4150943396226467E-2},{"$f":"SUNPHARMA!H534","v":6.0244787673413569E-3},{"$f":"TATAELXSI!H534","v":1.5270733683555582E-2},{"$f":"COALINDIA!H534","v":-1.0420174341159272E-2},-2.4086037026054279E-3]
["2021-06-29",{"$f":"RELIANCE!H535","v":8.6291898370083624E-4},{"$f":"IDEA!H535","v":-3.349282296650713E-2},{"$f":"SUNPHARMA!H535","v":1.9222314085356462E-3},{"$f":"TATAELXSI!H535","v":4.6194658476697015E-2},{"$f":"COALINDIA!H535","v":-1.8342364437307634E-2},-5.7107570697625346E-4]
["2021-06-30",{"$f":"RELIANCE!H536","v":1.0944464251231641E-2},{"$f":"IDEA!H536","v":-1.4851485148514865E-2},{"$f":"SUNPHARMA!H536","v":-3.1729645854455812E-3},{"$f":"TATAELXSI!H536","v":7.5281943988512179E-2},{"$f":"COALINDIA!H536","v":1.4878823903709426E-2},1.6616156481898559E-2]
["2021-07-01",{"$f":"RELIANCE!H537","v":-6.0170807995991631E-3},{"$f":"IDEA!H537","v":-9.04522613065325E-2},{"$f":"SUNPHARMA!H537","v":1.2880282283410871E-2},{"$f":"TATAELXSI!H537","v":-1.4067283354580296E-2},{"$f":"COALINDIA!H537","v":-6.8189153205783226E-3},-2.0895051699575881E-2]
["2021-07-02",{"$f":"RELIANCE!H538","v":1.4824041910616526E-2},{"$f":"IDEA!H538","v":-2.7624309392265234E-2},{"$f":"SUNPHARMA!H538","v":-4.2388601335888731E-3},{"$f":"TATAELXSI!H538","v":4.3781986450662558E-2},{"$f":"COALINDIA!H538","v":1.3731464333675447E-2},8.0948646338200852E-3]
["2021-07-05",{"$f":"RELIANCE!H539","v":9.9339618671407341E-3},{"$f":"IDEA!H539","v":3.409090909090895E-2},{"$f":"SUNPHARMA!H539","v":-1.5412251265433108E-3},{"$f":"TATAELXSI!H539","v":-1.1400707119941678E-2},{"$f":"COALINDIA!H539","v":1.5238682538308845E-2},9.2643242499747085E-3]
["2021-07-06",{"$f":"RELIANCE!H540","v":-1.1812809310216615E-2},{"$f":"IDEA!H540","v":-3.296703296703285E-2},{"$f":"SUNPHARMA!H540","v":-1.0217542019431924E-2},{"$f":"TATAELXSI!H540","v":-1.5254406315207358E-2},{"$f":"COALINDIA!H540","v":-1.6010625992407879E-2},-1.7252483320859328E-2]
["2021-07-07",{"$f":"RELIANCE!H541","v":-6.9418296591916163E-3},{"$f":"IDEA!H541","v":5.6818181818181213E-3},{"$f":"SUNPHARMA!H541","v":1.0174420692520503E-2},{"$f":"TATAELXSI!H541","v":-1.5224048234680265E-2},{"$f":"COALINDIA!H541","v":3.3898328755177509E-4},-1.1941311463962965E-3]
["2021-07-08",{"$f":"RELIANCE!H542","v":-8.2699227955611663E-3},{"$f":"IDEA!H542","v":-5.6497175141241307E-3},{"$f":"SUNPHARMA!H542","v":-1.9408839510997367E-2},{"$f":"TATAELXSI!H542","v":-1.1208989992351315E-2},{"$f":"COALINDIA!H542","v":-8.8105560751660095E-3},-1.0669605177639997E-2]
["2021-07-09",{"$f":"RELIANCE!H543","v":-1.0226582241132933E-2},{"$f":"IDEA!H543","v":2.8409090909090828E-2},{"$f":"SUNPHARMA!H543","v":1.4994739106068966E-3},{"$f":"TATAELXSI!H543","v":2.2957823767563834E-2},{"$f":"COALINDIA!H543","v":3.0769557925420798E-3},9.1433524277341419E-3]
["2021-07-12",{"$f":"RELIANCE!H544","v":6.2283445853556964E-3},{"$f":"IDEA!H544","v":-5.5248618784531356E-3},{"$f":"SUNPHARMA!H544","v":9.7315646683426849E-4},{"$f":"TATAELXSI!H544","v":9.7896107369237484E-3},{"$f":"COALINDIA!H544","v":-2.0450139956490476E-3},1.8842471830023064E-3]
["2021-07-13",{"$f":"RELIANCE!H545","v":7.4851745436654007E-3},{"$f":"IDEA!H545","v":-1.6666666666666718E-2},{"$f":"SUNPHARMA!H545","v":2.1614028505001714E-2},{"$f":"TATAELXSI!H545","v":-6.870463442866126E-3},{"$f":"COALINDIA!H545","v":1.1612037319069568E-2},3.4348220516407673E-3]
["2021-07-14",{"$f":"RELIANCE!H546","v":-6.5247184453546981E-3},{"$f":"IDEA!H546","v":-5.6497175141241307E-3},{"$f":"SUNPHARMA!H546","v":4.3192356454775371E-3},{"$f":"TATAELXSI!H546","v":1.4892088368234191E-2},{"$f":"COALINDIA!H546","v":3.3761750441119176E-4},1.4749011117288183E-3]
["2021-07-15",{"$f":"RELIANCE!H547","v":-1.7497133269415682E-3},{"$f":"IDEA!H547","v":-5.6818181818182323E-3},{"$f":"SUNPHARMA!H547","v":-4.300660081155927E-3},{"$f":"TATAELXSI!H547","v":2.6373644298197663E-2},{"$f":"COALINDIA!H547","v":-9.7873764616678294E-3},9.7081524932282094E-4]
["2021-07-16",{"$f":"RELIANCE!H548","v":1.4430716539385791E-2},{"$f":"IDEA!H548","v":7.9999999999999849E-2},{"$f":"SUNPHARMA!H548","v":8.1990420167215028E-3},{"$f":"TATAELXSI!H548","v":-4.1106770959313588E-2},{"$f":"COALINDIA!H548","v":-7.8390943991967221E-3},1.0736778639519367E-2]
["2021-07-19",{"$f":"RELIANCE!H549","v":-6.3671424086252657E-3},{"$f":"IDEA!H549","v":-3.1746031746031633E-2},{"$f":"SUNPHARMA!H549","v":9.4399343799445035E-4},{"$f":"TATAELXSI!H549","v":-1.8430456998869249E-2},{"$f":"COALINDIA!H549","v":-7.5575142479094026E-3},-1.263143039268822E-2]
["2021-07-20",{"$f":"RELIANCE!H550","v":-2.4535611235258609E-3},{"$f":"IDEA!H550","v":-1.6393442622950838E-2},{"$f":"SUNPHARMA!H550","v":-1.8570948081551797E-2},{"$f":"TATAELXSI!H550","v":-7.8137022113387022E-3},{"$f":"COALINDIA!H550","v":-1.0730417096720513E-2},-1.1192414227217543E-2]
["2021-07-22",{"$f":"RELIANCE!H551","v":1.2847407283636047E-2},{"$f":"IDEA!H551","v":2.7777777777777679E-2},{"$f":"SUNPHARMA!H551","v":1.6039600099339468E-2},{"$f":"TATAELXSI!H551","v":1.3423699377015597E-2},{"$f":"COALINDIA!H551","v":1.2596190152835751E-2},1.653693493812091E-2]
["2021-07-23",{"$f":"RELIANCE!H552","v":-7.07313639203267E-3},{"$f":"IDEA!H552","v":-9.7297297297297303E-2},{"$f":"SUNPHARMA!H552","v":9.7483632903450079E-3},{"$f":"TATAELXSI!H552","v":6.3573374881031874E-4},{"$f":"COALINDIA!H552","v":-4.1465592648889382E-3},-1.9626579183012721E-2]
["2021-07-26",{"$f":"RELIANCE!H553","v":-1.3700837570091278E-2},{"$f":"IDEA!H553","v":-5.9880239520956335E-3},{"$f":"SUNPHARMA!H553","v":1.3544638950220955E-2},{"$f":"TATAELXSI!H553","v":-1.1813642083086662E-2},{"$f":"COALINDIA!H553","v":-6.9385426605406142E-4},-3.7303437842213356E-3]
["2021-07-27",{"$f":"RELIANCE!H554","v":-1.0520787234977366E-2},{"$f":"IDEA!H554","v":1.2048192771084265E-2},{"$f":"SUNPHARMA!H554","v":-2.1467202666283547E-2},{"$f":"TATAELXSI!H554","v":-5.560738599949433E-3},{"$f":"COALINDIA!H554","v":-1.076401220028711E-2},-7.2529095860826374E-3]
["2021-07-28",{"$f":"RELIANCE!H555","v":-8.5888194647202095E-3},{"$f":"IDEA!H555","v":-5.9523809523810423E-3},{"$f":"SUNPHARMA!H555","v":-7.2647162580474767E-4},{"$f":"TATAELXSI!H555","v":2.9934742261872316E-4},{"$f":"COALINDIA!H555","v":1.1232145362634061E-2},-7.4723585153064348E-4]
["2021-07-29",{"$f":"RELIANCE!H556","v":7.8042673999570268E-3},{"$f":"IDEA!H556","v":-1.19760479041916E-2},{"$f":"SUNPHARMA!H556","v":2.2099466589637462E-2},{"$f":"TATAELXSI!H556","v":2.3928703615034852E-2},{"$f":"COALINDIA!H556","v":-1.3189896043746208E-2},5.7332987313383071E-3]
["2021-07-30",{"$f":"RELIANCE!H557","v":-8.7422140508949496E-3},{"$f":"IDEA!H557","v":0},{"$f":"SUNPHARMA!H557","v":0.10092476198220779},{"$f":"TATAELXSI!H557","v":-1.1936143904523577E-2},{"$f":"COALINDIA!H557","v":8.090011572764455E-3},1.7667283119910747E-2]
["2021-08-02",{"$f":"RELIANCE!H558","v":1.8277379307428128E-2},{"$f":"IDEA!H558","v":0},{"$f":"SUNPHARMA!H558","v":1.3566231202728485E-3},{"$f":"TATAELXSI!H558","v":-7.3359451759213989E-4},{"$f":"COALINDIA!H558","v":4.1869527712647958E-3},4.6174721362747268E-3]
["2021-08-03",{"$f":"RELIANCE!H559","v":7.358262967430639E-3},{"$f":"IDEA!H559","v":-0.10303030303030303},{"$f":"SUNPHARMA!H559","v":2.5548333227447761E-2},{"$f":"TATAELXSI!H559","v":2.3231055586354188E-2},{"$f":"COALINDIA!H559","v":2.4323864682225249E-3},-8.892052956169582E-3]
["2021-08-04",{"$f":"RELIANCE!H560","v":7.6637528439707815E-3},{"$f":"IDEA!H560","v":-0.18918918918918926},{"$f":"SUNPHARMA!H560","v":-1.1386452050781481E-2},{"$f":"TATAELXSI!H560","v":-1.6096138669587812E-2},{"$f":"COALINDIA!H560","v":3.1195083341695184E-3},-4.1177703746283656E-2]
["2021-08-05",{"$f":"RELIANCE!H561","v":1.4497920380273321E-2},{"$f":"IDEA!H561","v":-8.3333333333333037E-3},{"$f":"SUNPHARMA!H561","v":5.0913008717179409E-4},{"$f":"TATAELXSI!H561","v":3.1048271009741502E-3},{"$f":"COALINDIA!H561","v":5.1830714232550257E-3},2.9923231316681979E-3]
["2021-08-06",{"$f":"RELIANCE!H562","v":-2.1178376947405438E-2},{"$f":"IDEA!H562","v":0.19327731092436973},{"$f":"SUNPHARMA!H562","v":-1.2085496781839566E-3},{"$f":"TATAELXSI!H562","v":-8.2305545966062654E-3},{"$f":"COALINDIA!H562","v":4.4690623221017578E-3},3.3425778404855173E-2]
["2021-08-09",{"$f":"RELIANCE!H563","v":-5.6964393963161736E-3},{"$f":"IDEA!H563","v":-2.8169014084506894E-2},{"$f":"SUNPHARMA!H563","v":4.5848311654086427E-3},{"$f":"TATAELXSI!H563","v":9.1854988730986076E-3},{"$f":"COALINDIA!H563","v":-1.95072900215566E-2},-7.9204826927744849E-3]
["2021-08-10",{"$f":"RELIANCE!H564","v":5.2476458196418765E-3},{"$f":"IDEA!H564","v":-3.6231884057971064E-2},{"$f":"SUNPHARMA!H564","v":5.768239784669893E-3},{"$f":"TATAELXSI!H564","v":-6.9582054581097674E-3},{"$f":"COALINDIA!H564","v":-7.3298088398652261E-3},-7.9008025503268589E-3]
["2021-08-11",{"$f":"RELIANCE!H565","v":1.4008284913481018E-2},{"$f":"IDEA!H565","v":0},{"$f":"SUNPHARMA!H565","v":-1.7394547535088289E-2},{"$f":"TATAELXSI!H565","v":-1.02157061291136E-2},{"$f":"COALINDIA!H565","v":1.2306634098429914E-2},-2.5906693045819147E-4]
["2021-08-12",{"$f":"RELIANCE!H566","v":-3.2116605311616579E-3},{"$f":"IDEA!H566","v":-2.2556390977443663E-2},{"$f":"SUNPHARMA!H566","v":-1.1544558879106326E-3},{"$f":"TATAELXSI!H566","v":2.3431053218853304E-2},{"$f":"COALINDIA!H566","v":3.1260018426555458E-3},-7.3090467001420112E-5]
["2021-08-13",{"$f":"RELIANCE!H567","v":1.665477469793893E-2},{"$f":"IDEA!H567","v":-3.0769230769230771E-2},{"$f":"SUNPHARMA!H567","v":-4.4953179039886049E-4},{"$f":"TATAELXSI!H567","v":8.2681198038299097E-3},{"$f":"COALINDIA!H567","v":-4.5013184411232254E-3},-2.1594372997968039E-3]
["2021-08-16",{"$f":"RELIANCE!H568","v":1.297979599283196E-2},{"$f":"IDEA!H568","v":-5.5555555555555469E-2},{"$f":"SUNPHARMA!H568","v":3.2120866114415669E-3},{"$f":"TATAELXSI!H568","v":1.7266868011329484E-2},{"$f":"COALINDIA!H568","v":-1.2173936393843454E-2},-6.8541482667591825E-3]
["2021-08-17",{"$f":"RELIANCE!H569","v":-4.2558086036346907E-3},{"$f":"IDEA!H569","v":-3.3613445378151252E-2},{"$f":"SUNPHARMA!H569","v":4.2905039450726878E-3},{"$f":"TATAELXSI!H569","v":7.0710831447560407E-2},{"$f":"COALINDIA!H569","v":-1.9366170588652531E-2},3.5531821644389245E-3]
["2021-08-18",{"$f":"RELIANCE!H570","v":3.8812068846021076E-3},{"$f":"IDEA!H570","v":0.12173913043478257},{"$f":"SUNPHARMA!H570","v":-1.5941410006141687E-3},{"$f":"TATAELXSI!H570","v":1.4739822915010858E-3},{"$f":"COALINDIA!H570","v":-6.4630872411457485E-3},2.3807418273825168E-2]
["2021-08-20",{"$f":"RELIANCE!H571","v":-1.1230480335344939E-2},{"$f":"IDEA!H571","v":-7.7519379844961267E-2},{"$f":"SUNPHARMA!H571","v":-2.7781322671010411E-2},{"$f":"TATAELXSI!H571","v":2.2023426730215512E-3},{"$f":"COALINDIA!H571","v":-1.9877157968895665E-2},-2.6841199629438151E-2]
["2021-08-23",{"$f":"RELIANCE!H572","v":6.5635275224019034E-3},{"$f":"IDEA!H572","v":8.4033613445377853E-3},{"$f":"SUNPHARMA!H572","v":2.6344037756165228E-4},{"$f":"TATAELXSI!H572","v":-9.9945678951385286E-3},{"$f":"COALINDIA!H572","v":-1.2168214472666694E-2},-1.3864906246607764E-3]
["2021-08-24",{"$f":"RELIANCE!H573","v":9.8734488091207183E-3},{"$f":"IDEA!H573","v":4.1666666666666741E-2},{"$f":"SUNPHARMA!H573","v":1.5803012283805096E-2},{"$f":"TATAELXSI!H573","v":1.2934091631730871E-2},{"$f":"COALINDIA!H573","v":1.6797306383979027E-2},1.9414905155060492E-2]
["2021-08-25",{"$f":"RELIANCE!H574","v":8.6551025434353883E-3},{"$f":"IDEA!H574","v":8.0000000000000071E-3},{"$f":"SUNPHARMA!H574","v":-2.9817709108140855E-3},{"$f":"TATAELXSI!H574","v":1.351691024350643E-2},{"$f":"COALINDIA!H574","v":1.9456718484363034E-2},9.3293920720981544E-3]
["2021-08-26",{"$f":"RELIANCE!H575","v":1.2644080523417905E-2},{"$f":"IDEA!H575","v":-6.3492063492063378E-2},{"$f":"SUNPHARMA!H575","v":-1.1052623279614537E-2},{"$f":"TATAELXSI!H575","v":1.0717205661033846E-2},{"$f":"COALINDIA!H575","v":-1.1163132425647815E-2},-1.2469306602574797E-2]
["2021-08-27",{"$f":"RELIANCE!H576","v":-1.3674590629717944E-3},{"$f":"IDEA!H576","v":1.6949152542372836E-2},{"$f":"SUNPHARMA!H576","v":1.4791932504449434E-2},{"$f":"TATAELXSI!H576","v":1.4500995264707939E-3},{"$f":"COALINDIA!H576","v":9.1041325991223498E-3},8.1855716218887254E-3]
["2021-08-30",{"$f":"RELIANCE!H577","v":1.9237721058317569E-2},{"$f":"IDEA!H577","v":-8.3333333333333037E-3},{"$f":"SUNPHARMA!H577","v":1.9953420080749851E-2},{"$f":"TATAELXSI!H577","v":-8.6060618124930155E-3},{"$f":"COALINDIA!H577","v":3.6448909893123771E-2},1.1740131177272975E-2]
["2021-08-31",{"$f":"RELIANCE!H578","v":-5.3298526593986957E-3},{"$f":"IDEA!H578","v":2.5210084033613356E-2},{"$f":"SUNPHARMA!H578","v":8.7016705276750095E-3},{"$f":"TATAELXSI!H578","v":-1.1560533485264313E-2},{"$f":"COALINDIA!H578","v":1.5668580714400804E-2},6.537989826205232E-3]
["2021-09-01",{"$f":"RELIANCE!H579","v":3.9635083534856393E-3},{"$f":"IDEA!H579","v":0},{"$f":"SUNPHARMA!H579","v":-6.9894625366739849E-3},{"$f":"TATAELXSI!H579","v":1.6254582804337891E-2},{"$f":"COALINDIA!H579","v":-1.1312999574083271E-2},3.8312580941325496E-4]
["2021-09-02",{"$f":"RELIANCE!H580","v":1.2041728560676999E-2},{"$f":"IDEA!H580","v":0.17213114754098369},{"$f":"SUNPHARMA!H580","v":1.8389503533269291E-3},{"$f":"TATAELXSI!H580","v":1.534493183458796E-2},{"$f":"COALINDIA!H580","v":6.3965930549505501E-3},{"$f":"Portfolio_Return(B580,C580,D580,E580,F580,$J$2,$J$3,$J$4,$J$5,$J$6)","v":4.1550670268905215E-2}]
["2021-09-03",{"$f":"RELIANCE!H581","v":4.1012945440755115E-2},{"$f":"IDEA!H581","v":1.3986013986013957E-2},{"$f":"SUNPHARMA!H581","v":-6.9619558764355549E-4},{"$f":"TATAELXSI!H581","v":-7.4955621147220208E-3},{"$f":"COALINDIA!H581","v":3.3545213833406029E-2},1.6070483111561906E-2]
["2021-09-06",{"$f":"RELIANCE!H582","v":1.5532802177098551E-2},{"$f":"IDEA!H582","v":0},{"$f":"SUNPHARMA!H582","v":-6.5240210682282473E-3},{"$f":"TATAELXSI!H582","v":-1.9853039295948394E-3},{"$f":"COALINDIA!H582","v":0},1.404695435855093E-3]
["2021-09-07",{"$f":"RELIANCE!H583","v":6.307636618507517E-3},{"$f":"IDEA!H583","v":0.13793103448275867},{"$f":"SUNPHARMA!H583","v":-1.8297683199631543E-2},{"$f":"TATAELXSI!H583","v":8.8592163582117411E-3},{"$f":"COALINDIA!H583","v":5.8079687094871879E-3},2.8121634593866723E-2]
["2021-09-08",{"$f":"RELIANCE!H584","v":-3.9124111530240953E-3},{"$f":"IDEA!H584","v":-2.4242424242424176E-2},{"$f":"SUNPHARMA!H584","v":9.8064889439155589E-3},{"$f":"TATAELXSI!H584","v":-1.1159650777518015E-2},{"$f":"COALINDIA!H584","v":1.3247136306713481E-2},-3.2521721844674498E-3]
["2021-09-09",{"$f":"RELIANCE!H585","v":-2.3649411924386711E-3},{"$f":"IDEA!H585","v":4.3478260869565188E-2},{"$f":"SUNPHARMA!H585","v":-1.4792666803128407E-3},{"$f":"TATAELXSI!H585","v":1.3187086442393081E-2},{"$f":"COALINDIA!H585","v":-3.352244880522548E-3},9.8937789117368412E-3]
["2021-09-13",{"$f":"RELIANCE!H586","v":-2.2283165738889225E-2},{"$f":"IDEA!H586","v":-5.3571428571428603E-2},{"$f":"SUNPHARMA!H586","v":5.1526544555233755E-3},{"$f":"TATAELXSI!H586","v":1.6342846563530244E-2},{"$f":"COALINDIA!H586","v":4.0026969418514469E-2},-2.8664247745499496E-3]
["2021-09-14",{"$f":"RELIANCE!H587","v":-1.3072032788458722E-3},{"$f":"IDEA!H587","v":9.4339622641509413E-2},{"$f":"SUNPHARMA!H587","v":1.4097698314770035E-3},{"$f":"TATAELXSI!H587","v":-4.4516810468683277E-3},{"$f":"COALINDIA!H587","v":6.4677447145600198E-4},1.8127456523745644E-2]
["2021-09-15",{"$f":"RELIANCE!H588","v":4.1588795219595033E-3},{"$f":"IDEA!H588","v":2.8735632183908066E-2},{"$f":"SUNPHARMA!H588","v":-9.5983224816065249E-4},{"$f":"TATAELXSI!H588","v":2.5345879687186601E-2},{"$f":"COALINDIA!H588","v":4.1047219988098904E-2},1.9665555826598485E-2]
["2021-09-16",{"$f":"RELIANCE!H589","v":2.0981331611619587E-2},{"$f":"IDEA!H589","v":0.25698324022346375},{"$f":"SUNPHARMA!H589","v":5.1237110823065812E-4},{"$f":"TATAELXSI!H589","v":7.861735199759412E-3},{"$f":"COALINDIA!H589","v":7.7615230436591798E-3},5.8820040237346514E-2]
["2021-09-17",{"$f":"RELIANCE!H590","v":-1.5505272530993519E-2},{"$f":"IDEA!H590","v":-8.8888888888888351E-3},{"$f":"SUNPHARMA!H590","v":-1.42756271916199E-2},{"$f":"TATAELXSI!H590","v":6.5400845543060582E-2},{"$f":"COALINDIA!H590","v":-3.4504005177957597E-2},-1.5545896492798533E-3]
["2021-09-20",{"$f":"RELIANCE!H591","v":1.5896128180163211E-3},{"$f":"IDEA!H591","v":-3.5874439461883401E-2},{"$f":"SUNPHARMA!H591","v":-1.7404876043593087E-2},{"$f":"TATAELXSI!H591","v":6.2114740347180231E-2},{"$f":"COALINDIA!H591","v":-1.5954071867525843E-2},-1.1058068415611558E-3]
["2021-09-21",{"$f":"RELIANCE!H592","v":4.3226147290011587E-3},{"$f":"IDEA!H592","v":4.6511627906977715E-3},{"$f":"SUNPHARMA!H592","v":1.057502978930458E-2},{"$f":"TATAELXSI!H592","v":-3.631016563258016E-2},{"$f":"COALINDIA!H592","v":1.4267168659323204E-2},-4.9883793285068929E-4]
["2021-09-22",{"$f":"RELIANCE!H593","v":1.0729009658469421E-2},{"$f":"IDEA!H593","v":-3.703703703703709E-2},{"$f":"SUNPHARMA!H593","v":7.3249633539047565E-3},{"$f":"TATAELXSI!H593","v":-7.0819654301225166E-3},{"$f":"COALINDIA!H593","v":3.6445168541670458E-2},2.0760278173770066E-3]
["2021-09-23",{"$f":"RELIANCE!H594","v":2.4439375437152897E-2},{"$f":"IDEA!H594","v":1.4423076923076872E-2},{"$f":"SUNPHARMA!H594","v":-3.2463878933519652E-4},{"$f":"TATAELXSI!H594","v":2.628063861643537E-2},{"$f":"COALINDIA!H594","v":3.2387349397354992E-2},1.944116031693699E-2]
["2021-09-24",{"$f":"RELIANCE!H595","v":-2.8916628311912176E-3},{"$f":"IDEA!H595","v":9.004739336492884E-2},{"$f":"SUNPHARMA!H595","v":7.7941779611423456E-4},{"$f":"TATAELXSI!H595","v":2.4472723819966014E-2},{"$f":"COALINDIA!H595","v":-7.4694332881221071E-3},2.0987687772339156E-2]
["2021-09-27",{"$f":"RELIANCE!H596","v":1.6816369607283246E-2},{"$f":"IDEA!H596","v":-1.3043478260869601E-2},{"$f":"SUNPHARMA!H596","v":-9.604745979107765E-3},{"$f":"TATAELXSI!H596","v":-2.4893733225223036E-2},{"$f":"COALINDIA!H596","v":5.7195690440974278E-3},-5.001203762763945E-3]
["2021-09-28",{"$f":"RELIANCE!H597","v":9.3486099776512819E-3},{"$f":"IDEA!H597","v":-3.524229074889873E-2},{"$f":"SUNPHARMA!H597","v":1.5791845433893448E-2},{"$f":"TATAELXSI!H597","v":-9.6575715265853068E-3},{"$f":"COALINDIA!H597","v":4.4896682735066085E-2},5.0274551742253556E-3]
["2021-09-29",{"$f":"RELIANCE!H598","v":-7.9276115506159966E-3},{"$f":"IDEA!H598","v":2.7397260273972712E-2},{"$f":"SUNPHARMA!H598","v":4.6703705351952784E-2},{"$f":"TATAELXSI!H598","v":-1.1984486012104445E-2},{"$f":"COALINDIA!H598","v":6.3878509846340359E-2},2.3613475581909085E-2]
["2021-09-30",{"$f":"RELIANCE!H599","v":-3.4021392355520477E-3},{"$f":"IDEA!H599","v":5.7777777777777706E-2},{"$f":"SUNPHARMA!H599","v":8.5664750106999588E-3},{"$f":"TATAELXSI!H599","v":-6.6101469340362762E-4},{"$f":"COALINDIA!H599","v":-3.2309849284054559E-3},1.1810022786223307E-2]
["2021-10-01",{"$f":"RELIANCE!H600","v":1.7663792795475064E-3},{"$f":"IDEA!H600","v":-4.2016806722689037E-2},{"$f":"SUNPHARMA!H600","v":1.0204680860713022E-2},{"$f":"TATAELXSI!H600","v":3.3741208351647956E-2},{"$f":"COALINDIA!H600","v":1.9448860309151605E-2},4.6288644156742102E-3]
["2021-10-04",{"$f":"RELIANCE!H601","v":1.2858085996769136E-2},{"$f":"IDEA!H601","v":0},{"$f":"SUNPHARMA!H601","v":6.5327903318672664E-3},{"$f":"TATAELXSI!H601","v":1.8468613232582864E-2},{"$f":"COALINDIA!H601","v":6.6243230091385108E-3},8.8967625140715552E-3]
["2021-10-05",{"$f":"RELIANCE!H602","v":2.0753888087115771E-2},{"$f":"IDEA!H602","v":1.3157894736842035E-2},{"$f":"SUNPHARMA!H602","v":-1.3822125385278161E-2},{"$f":"TATAELXSI!H602","v":-8.396189075178806E-3},{"$f":"COALINDIA!H602","v":4.2116315119379522E-2},1.0761956696576074E-2]
["2021-10-06",{"$f":"RELIANCE!H603","v":-1.8913787339711691E-2},{"$f":"IDEA!H603","v":-8.6580086580088089E-3},{"$f":"SUNPHARMA!H603","v":-2.4253506832773497E-2},{"$f":"TATAELXSI!H603","v":5.5443832510037483E-2},{"$f":"COALINDIA!H603","v":-2.5763975248782045E-2},-4.4290891138477097E-3]
["2021-10-07",{"$f":"RELIANCE!H604","v":4.902554258862787E-3},{"$f":"IDEA!H604","v":-8.733624454148492E-3},{"$f":"SUNPHARMA!H604","v":2.8291342724125812E-2},{"$f":"TATAELXSI!H604","v":2.9899625916753436E-2},{"$f":"COALINDIA!H604","v":-1.1148613949467312E-2},8.6422568992252456E-3]
["2021-10-08",{"$f":"RELIANCE!H605","v":3.8427189304099066E-2},{"$f":"IDEA!H605","v":0},{"$f":"SUNPHARMA!H605","v":-2.2471847027402125E-3},{"$f":"TATAELXSI!H605","v":-1.8359359666049624E-2},{"$f":"COALINDIA!H605","v":-1.1798633796517355E-2},1.2044022277583753E-3]
["2021-10-11",{"$f":"RELIANCE!H606","v":-6.9630689751988351E-3},{"$f":"IDEA!H606","v":-4.4052863436123357E-2},{"$f":"SUNPHARMA!H606","v":1.3574357548985061E-2},{"$f":"TATAELXSI!H606","v":1.7645425254597669E-4},{"$f":"COALINDIA!H606","v":4.4574103209252813E-2},1.461796519892331E-3]
["2021-10-12",{"$f":"RELIANCE!H607","v":5.7113254894953086E-3},{"$f":"IDEA!H607","v":-1.8433179723502224E-2},{"$f":"SUNPHARMA!H607","v":-3.4232299466028238E-3},{"$f":"TATAELXSI!H607","v":-2.5534255547936646E-2},{"$f":"COALINDIA!H607","v":-1.8033933646511735E-2},-1.1942654675011625E-2]
["2021-10-13",{"$f":"RELIANCE!H608","v":1.0176887885648326E-2},{"$f":"IDEA!H608","v":4.6948356807510194E-3},{"$f":"SUNPHARMA!H608","v":1.5487517645121462E-2},{"$f":"TATAELXSI!H608","v":7.6478224378233595E-3},{"$f":"COALINDIA!H608","v":-1.6813288970489615E-2},4.2387549357709112E-3]
["2021-10-14",{"$f":"RELIANCE!H609","v":2.0222828249473698E-3},{"$f":"IDEA!H609","v":4.6728971962617383E-3},{"$f":"SUNPHARMA!H609","v":-1.4836159222396672E-3},{"$f":"TATAELXSI!H609","v":2.2850949291777445E-2},{"$f":"COALINDIA!H609","v":-3.2886066192414742E-2},-9.6471056033357178E-4]
["2021-10-18",{"$f":"RELIANCE!H610","v":2.6663443420609995E-3},{"$f":"IDEA!H610","v":-1.3953488372093092E-2},{"$f":"SUNPHARMA!H610","v":-6.4185701659069672E-3},{"$f":"TATAELXSI!H610","v":9.321098120973037E-3},{"$f":"COALINDIA!H610","v":8.161014726672855E-3},-4.4720269658633143E-5]
["2021-10-19",{"$f":"RELIANCE!H611","v":8.9562709123524337E-3},{"$f":"IDEA!H611","v":-5.6603773584905648E-2},{"$f":"SUNPHARMA!H611","v":-1.0228534621477325E-2},{"$f":"TATAELXSI!H611","v":-4.581882451524466E-3},{"$f":"COALINDIA!H611","v":-4.3172851757559139E-3},-1.3355040984262184E-2]
["2021-10-20",{"$f":"RELIANCE!H612","v":-1.1512416447382897E-2},{"$f":"IDEA!H612","v":6.0000000000000053E-2},{"$f":"SUNPHARMA!H612","v":-1.5047985055132052E-2},{"$f":"TATAELXSI!H612","v":-1.756938288983767E-2},{"$f":"COALINDIA!H612","v":-2.1680291154436593E-2},-1.1620151093578316E-3]
["2021-10-21",{"$f":"RELIANCE!H613","v":-2.8847542892556404E-2},{"$f":"IDEA!H613","v":-2.8301886792452713E-2},{"$f":"SUNPHARMA!H613","v":4.2950015486380444E-3},{"$f":"TATAELXSI!H613","v":-4.333330567230731E-2},{"$f":"COALINDIA!H613","v":1.0526360254194955E-2},-1.7132274710896685E-2]
["2021-10-22",{"$f":"RELIANCE!H614","v":1.8684087702574303E-3},{"$f":"IDEA!H614","v":-4.8543689320389438E-3},{"$f":"SUNPHARMA!H614","v":-7.148167922637727E-3},{"$f":"TATAELXSI!H614","v":2.0503748031776237E-2},{"$f":"COALINDIA!H614","v":-3.5636050836382105E-2},-5.0532861778050222E-3]
["2021-10-25",{"$f":"RELIANCE!H615","v":-9.7434170491189145E-3},{"$f":"IDEA!H615","v":1.4634146341463428E-2},{"$f":"SUNPHARMA!H615","v":8.0000901427013105E-4},{"$f":"TATAELXSI!H615","v":-3.698417141254795E-2},{"$f":"COALINDIA!H615","v":-1.0232996008763151E-2},-8.3052858229392922E-3]
["2021-10-26",{"$f":"RELIANCE!H616","v":2.2772695397085835E-2},{"$f":"IDEA!H616","v":0},{"$f":"SUNPHARMA!H616","v":3.6885806858055759E-4},{"$f":"TATAELXSI!H616","v":1.1533429345001345E-2},{"$f":"COALINDIA!H616","v":5.4566569125005238E-3},8.0263279446336523E-3]
["2021-10-27",{"$f":"RELIANCE!H617","v":-1.2645439349269389E-2},{"$f":"IDEA!H617","v":-1.4423076923076983E-2},{"$f":"SUNPHARMA!H617","v":1.4259341136602988E-2},{"$f":"TATAELXSI!H617","v":-1.540160767106058E-3},{"$f":"COALINDIA!H617","v":-8.2832972940726224E-3},-4.5265266393844129E-3]
["2021-10-28",{"$f":"RELIANCE!H618","v":-1.0961332524248614E-2},{"$f":"IDEA!H618","v":-5.3658536585365901E-2},{"$f":"SUNPHARMA!H618","v":-2.1209534220528958E-2},{"$f":"TATAELXSI!H618","v":5.1728860702286994E-3},{"$f":"COALINDIA!H618","v":-4.0610732623528878E-2},-2.425344997668873E-2]
["2021-10-29",{"$f":"RELIANCE!H619","v":-2.3993725717161074E-2},{"$f":"IDEA!H619","v":-1.546391752577303E-2},{"$f":"SUNPHARMA!H619","v":-1.5601771282733545E-2},{"$f":"TATAELXSI!H619","v":-4.2730300974990199E-3},{"$f":"COALINDIA!H619","v":-1.2608862419403843E-2},-1.4388261408514104E-2]
["2021-11-01",{"$f":"RELIANCE!H620","v":6.1115781172989432E-4},{"$f":"IDEA!H620","v":5.7591623036649109E-2},{"$f":"SUNPHARMA!H620","v":2.1132058843112311E-2},{"$f":"TATAELXSI!H620","v":1.7352722678300125E-2},{"$f":"COALINDIA!H620","v":3.8309628088113223E-2},2.6999438091580934E-2]
["2021-11-02",{"$f":"RELIANCE!H621","v":-1.457955681519494E-2},{"$f":"IDEA!H621","v":-4.9504950495048439E-3},{"$f":"SUNPHARMA!H621","v":4.434694132005701E-3},{"$f":"TATAELXSI!H621","v":1.7650849244766453E-2},{"$f":"COALINDIA!H621","v":-9.0775925961964488E-3},-1.3044202168248156E-3]
["2021-11-03",{"$f":"RELIANCE!H622","v":-6.8777793757952921E-3},{"$f":"IDEA!H622","v":-1.4925373134328401E-2},{"$f":"SUNPHARMA!H622","v":-3.3664477763580503E-2},{"$f":"TATAELXSI!H622","v":1.8167196759745208E-2},{"$f":"COALINDIA!H622","v":3.2505416983079627E-3},-6.809978363130206E-3]
["2021-11-04",{"$f":"RELIANCE!H623","v":6.140279996075278E-3},{"$f":"IDEA!H623","v":1.0101010101010166E-2},{"$f":"SUNPHARMA!H623","v":9.5183732557697631E-3},{"$f":"TATAELXSI!H623","v":4.8464482843650902E-3},{"$f":"COALINDIA!H623","v":5.5964889809996254E-3},7.240520123643986E-3]
["2021-11-08",{"$f":"RELIANCE!H624","v":1.2405117867939298E-3},{"$f":"IDEA!H624","v":-1.9999999999999907E-2},{"$f":"SUNPHARMA!H624","v":5.7199887893191192E-3},{"$f":"TATAELXSI!H624","v":-5.7153892123746886E-3},{"$f":"COALINDIA!H624","v":5.8581775698871574E-3},-2.5793422132748788E-3]
["2021-11-09",{"$f":"RELIANCE!H625","v":7.8938429572126961E-3},{"$f":"IDEA!H625","v":6.1224489795918435E-2},{"$f":"SUNPHARMA!H625","v":1.6874827762465294E-3},{"$f":"TATAELXSI!H625","v":1.3816720326339071E-2},{"$f":"COALINDIA!H625","v":-6.9889715552292619E-3},1.5526712860097495E-2]
["2021-11-10",{"$f":"RELIANCE!H626","v":1.1182912934910095E-2},{"$f":"IDEA!H626","v":-9.6153846153845812E-3},{"$f":"SUNPHARMA!H626","v":1.2166942090403365E-2},{"$f":"TATAELXSI!H626","v":2.2352456459330261E-2},{"$f":"COALINDIA!H626","v":-2.2287382965010316E-2},2.7599087808497643E-3]
["2021-11-11",{"$f":"RELIANCE!H627","v":1.8236586449344604E-3},{"$f":"IDEA!H627","v":-4.3689320388349606E-2},{"$f":"SUNPHARMA!H627","v":-2.003447889209431E-2},{"$f":"TATAELXSI!H627","v":2.8337855709633875E-2},{"$f":"COALINDIA!H627","v":1.7997726133973657E-3},-6.3525024624956437E-3]
["2021-11-12",{"$f":"RELIANCE!H628","v":1.5090739371143143E-2},{"$f":"IDEA!H628","v":4.5685279187817285E-2},{"$f":"SUNPHARMA!H628","v":1.4656836241726756E-2},{"$f":"TATAELXSI!H628","v":-5.9239974142387686E-3},{"$f":"COALINDIA!H628","v":-2.9942102820734728E-4},1.3841887271648217E-2]
["2021-11-15",{"$f":"RELIANCE!H629","v":-5.9002924768698783E-3},{"$f":"IDEA!H629","v":-1.9417475728155442E-2},{"$f":"SUNPHARMA!H629","v":5.2077593064883132E-3},{"$f":"TATAELXSI!H629","v":1.0156011598184023E-2},{"$f":"COALINDIA!H629","v":-4.312669576444772E-2},-1.0616138612960142E-2]
["2021-11-16",{"$f":"RELIANCE!H630","v":-2.3236925231356387E-2},{"$f":"IDEA!H630","v":-9.9009900990099098E-3},{"$f":"SUNPHARMA!H630","v":-1.5110422306816029E-2},{"$f":"TATAELXSI!H630","v":-3.0138696822480382E-3},{"$f":"COALINDIA!H630","v":-4.3818566492449529E-3},-1.1128812793735066E-2]
["2021-11-17",{"$f":"RELIANCE!H631","v":-2.1406689740599588E-2},{"$f":"IDEA!H631","v":-5.0000000000001155E-3},{"$f":"SUNPHARMA!H631","v":-8.892254732916216E-3},{"$f":"TATAELXSI!H631","v":-6.440028088959826E-4},{"$f":"COALINDIA!H631","v":-1.854753714336288E-2},-1.0898096885154957E-2]
["2021-11-18",{"$f":"RELIANCE!H632","v":3.7743705357142633E-3},{"$f":"IDEA!H632","v":0},{"$f":"SUNPHARMA!H632","v":-8.845635752576797E-4},{"$f":"TATAELXSI!H632","v":-3.0985139719406307E-2},{"$f":"COALINDIA!H632","v":-1.7296825808270411E-2},-9.0784317134440275E-3]
["2021-11-22",{"$f":"RELIANCE!H633","v":-4.4293068705631981E-2},{"$f":"IDEA!H633","v":6.5326633165829096E-2},{"$f":"SUNPHARMA!H633","v":-2.5169166709477442E-2},{"$f":"TATAELXSI!H633","v":-5.6480099362359759E-2},{"$f":"COALINDIA!H633","v":-1.8578738228722247E-2},-1.5838887968072465E-2]
["2021-11-23",{"$f":"RELIANCE!H634","v":9.3495919619248601E-3},{"$f":"IDEA!H634","v":0},{"$f":"SUNPHARMA!H634","v":1.874795173879118E-2},{"$f":"TATAELXSI!H634","v":1.4346065010031328E-3},{"$f":"COALINDIA!H634","v":3.7528971251502341E-2},1.3412224290644302E-2]
["2021-11-24",{"$f":"RELIANCE!H635","v":-1.4439379921177168E-2},{"$f":"IDEA!H635","v":3.7735849056603765E-2},{"$f":"SUNPHARMA!H635","v":-7.9597326162917925E-3},{"$f":"TATAELXSI!H635","v":-4.3388939469426457E-3},{"$f":"COALINDIA!H635","v":1.8566040081363644E-2},5.9127765307111597E-3]
["2021-11-25",{"$f":"RELIANCE!H636","v":6.0198203155321872E-2},{"$f":"IDEA!H636","v":5.9090909090909083E-2},{"$f":"SUNPHARMA!H636","v":5.0709198273266587E-3},{"$f":"TATAELXSI!H636","v":-1.0170884776913858E-2},{"$f":"COALINDIA!H636","v":-3.4569958463732675E-3},2.21464302900541E-2]
["2021-11-26",{"$f":"RELIANCE!H637","v":-3.2230832780164455E-2},{"$f":"IDEA!H637","v":-6.8669527896995763E-2},{"$f":"SUNPHARMA!H637","v":-1.9925888824451565E-2},{"$f":"TATAELXSI!H637","v":-1.897126600810195E-2},{"$f":"COALINDIA!H637","v":-1.6713948690254554E-2},-3.130229283999366E-2]
["2021-11-29",{"$f":"RELIANCE!H638","v":1.1978736975082437E-2},{"$f":"IDEA!H638","v":3.2258064516129004E-2},{"$f":"SUNPHARMA!H638","v":-2.1178191345516906E-2},{"$f":"TATAELXSI!H638","v":-2.7208744423674269E-2},{"$f":"COALINDIA!H638","v":-1.0583743392346689E-2},-2.9467755340652846E-3]
["2021-11-30",{"$f":"RELIANCE!H639","v":-1.478603235715744E-2},{"$f":"IDEA!H639","v":-1.3392857142856984E-2},{"$f":"SUNPHARMA!H639","v":3.3952376837882436E-3},{"$f":"TATAELXSI!H639","v":1.80125898623551E-2},{"$f":"COALINDIA!H639","v":-1.4586714167688197E-2},-4.2715552243118553E-3]
["2021-12-01",{"$f":"RELIANCE!H640","v":2.5609088097485043E-2},{"$f":"IDEA!H640","v":0.15837104072398178},{"$f":"SUNPHARMA!H640","v":-1.0947472965662897E-2},{"$f":"TATAELXSI!H640","v":1.7607481380840007E-2},{"$f":"COALINDIA!H640","v":2.3355353317727534E-2},4.2799098110874303E-2]
["2021-12-02",{"$f":"RELIANCE!H641","v":6.4248471828130885E-3},{"$f":"IDEA!H641","v":0},{"$f":"SUNPHARMA!H641","v":2.8040544534212231E-2},{"$f":"TATAELXSI!H641","v":1.6367913691500036E-2},{"$f":"COALINDIA!H641","v":2.410797146039001E-2},1.4988255373783075E-2]
["2021-12-03",{"$f":"RELIANCE!H642","v":-3.0046154643041962E-2},{"$f":"IDEA!H642","v":0.12890624999999978},{"$f":"SUNPHARMA!H642","v":-1.8858054226928322E-2},{"$f":"TATAELXSI!H642","v":-1.3796563401479944E-2},{"$f":"COALINDIA!H642","v":2.8248608103402795E-3},1.3806067707777965E-2]
["2021-12-06",{"$f":"RELIANCE!H643","v":-1.8955632513235798E-2},{"$f":"IDEA!H643","v":3.8062283737024361E-2},{"$f":"SUNPHARMA!H643","v":-1.9486532994887451E-2},{"$f":"TATAELXSI!H643","v":-3.3134071304421586E-2},{"$f":"COALINDIA!H643","v":-1.4593677830041951E-2},-9.6215261811124862E-3]
["2021-12-07",{"$f":"RELIANCE!H644","v":8.1478029296179269E-3},{"$f":"IDEA!H644","v":-5.0000000000000044E-2},{"$f":"SUNPHARMA!H644","v":8.8855708453254856E-3},{"$f":"TATAELXSI!H644","v":3.442738771207865E-2},{"$f":"COALINDIA!H644","v":1.4136497119270786E-2},{"$f":"Portfolio_Return(B644,C644,D644,E644,F644,$J$2,$J$3,$J$4,$J$5,$J$6)","v":3.1194517212585616E-3}]
["2021-12-08",{"$f":"RELIANCE!H645","v":1.5219261711909798E-2},{"$f":"IDEA!H645","v":3.5087719298245723E-3},{"$f":"SUNPHARMA!H645","v":1.862303290553502E-2},{"$f":"TATAELXSI!H645","v":-1.3987436971044653E-3},{"$f":"COALINDIA!H645","v":1.6595483149850487E-3},7.5223742330299955E-3]
["2021-12-09",{"$f":"RELIANCE!H646","v":1.5859497723737393E-2},{"$f":"IDEA!H646","v":0.14685314685314665},{"$f":"SUNPHARMA!H646","v":2.9041308759112372E-3},{"$f":"TATAELXSI!H646","v":9.0833462181307834E-3},{"$f":"COALINDIA!H646","v":1.1597044956655589E-2},3.7259433325516331E-2]
["2021-12-10",{"$f":"RELIANCE!H647","v":1.0177288566299799E-3},{"$f":"IDEA!H647","v":0},{"$f":"SUNPHARMA!H647","v":2.1059421189855154E-3},{"$f":"TATAELXSI!H647","v":8.4715985513705849E-3},{"$f":"COALINDIA!H647","v":-8.8437179476529293E-3},5.503103158666302E-4]
["2021-12-13",{"$f":"RELIANCE!H648","v":-2.0049228322012294E-2},{"$f":"IDEA!H648","v":-5.4878048780487743E-2},{"$f":"SUNPHARMA!H648","v":1.6417680652238698E-3},{"$f":"TATAELXSI!H648","v":-2.0037555453597533E-2},{"$f":"COALINDIA!H648","v":-1.5201591642540091E-2},-2.170493122668276E-2]
["2021-12-14",{"$f":"RELIANCE!H649","v":-1.2242442346298985E-2},{"$f":"IDEA!H649","v":-1.6129032258064502E-2},{"$f":"SUNPHARMA!H649","v":-8.5889571817039378E-3},{"$f":"TATAELXSI!H649","v":2.5248405246200312E-2},{"$f":"COALINDIA!H649","v":-6.7117306497310736E-4},-2.4766399209680441E-3]
["2021-12-15",{"$f":"RELIANCE!H650","v":-2.9199635679081088E-3},{"$f":"IDEA!H650","v":-1.9672131147541072E-2},{"$f":"SUNPHARMA!H650","v":2.5196696430000332E-2},{"$f":"TATAELXSI!H650","v":-2.5656140452353871E-2},{"$f":"COALINDIA!H650","v":-5.3726376628632222E-3},-5.6848352801331893E-3]
["2021-12-16",{"$f":"RELIANCE!H651","v":1.2936099626609193E-2},{"$f":"IDEA!H651","v":-1.6722408026755842E-2},{"$f":"SUNPHARMA!H651","v":-1.3740123006854454E-2},{"$f":"TATAELXSI!H651","v":7.0643474801577177E-3},{"$f":"COALINDIA!H651","v":1.1141054862128463E-2},1.3579418705701599E-4]
["2021-12-17",{"$f":"RELIANCE!H652","v":-2.6394589453250891E-2},{"$f":"IDEA!H652","v":-4.421768707482987E-2},{"$f":"SUNPHARMA!H652","v":5.8866036548315126E-3},{"$f":"TATAELXSI!H652","v":-2.9827887241810291E-2},{"$f":"COALINDIA!H652","v":-2.2036702021206667E-2},-2.3318052427253242E-2]
["2021-12-20",{"$f":"RELIANCE!H653","v":-2.6960564985822319E-2},{"$f":"IDEA!H653","v":-2.8469750889679735E-2},{"$f":"SUNPHARMA!H653","v":-6.5024028881502938E-3},{"$f":"TATAELXSI!H653","v":-5.2131231125022603E-2},{"$f":"COALINDIA!H653","v":-3.9262560089210474E-2},-3.0665301995577085E-2]
["2021-12-21",{"$f":"RELIANCE!H654","v":1.4885678767516453E-2},{"$f":"IDEA!H654","v":2.19780219780219E-2},{"$f":"SUNPHARMA!H654","v":1.9111148715114989E-2},{"$f":"TATAELXSI!H654","v":1.2885918236360538E-4},{"$f":"COALINDIA!H654","v":2.8073852972468227E-2},1.6835512323097036E-2]
["2021-12-22",{"$f":"RELIANCE!H655","v":2.3731789291508876E-2},{"$f":"IDEA!H655","v":-3.5842293906809264E-3},{"$f":"SUNPHARMA!H655","v":2.4340197137025177E-2},{"$f":"TATAELXSI!H655","v":7.7559852792346007E-3},{"$f":"COALINDIA!H655","v":4.8393565539670558E-3},1.1416619774210957E-2]
["2021-12-23",{"$f":"RELIANCE!H656","v":-3.5928234850184646E-4},{"$f":"IDEA!H656","v":-7.194244604316502E-3},{"$f":"SUNPHARMA!H656","v":-6.3323326238545752E-3},{"$f":"TATAELXSI!H656","v":2.6202328534383756E-3},{"$f":"COALINDIA!H656","v":1.6167785810437652E-2},9.8043181744062119E-4]
["2021-12-24",{"$f":"RELIANCE!H657","v":3.1920722967973551E-3},{"$f":"IDEA!H657","v":-1.0869565217391353E-2},{"$f":"SUNPHARMA!H657","v":-8.8963923214092633E-3},{"$f":"TATAELXSI!H657","v":1.8211619012931113E-3},{"$f":"COALINDIA!H657","v":-1.218684197712383E-2},-5.3879130635667962E-3]
["2021-12-27",{"$f":"RELIANCE!H658","v":-1.0747003318187915E-3},{"$f":"IDEA!H658","v":-1.4652014652014711E-2},{"$f":"SUNPHARMA!H658","v":1.1077092719894432E-2},{"$f":"TATAELXSI!H658","v":-1.0343556080712579E-2},{"$f":"COALINDIA!H658","v":1.0281436075618711E-3},-2.7930069474179559E-3]
["2021-12-28",{"$f":"RELIANCE!H659","v":1.1876343001793107E-2},{"$f":"IDEA!H659","v":2.2304832713754719E-2},{"$f":"SUNPHARMA!H659","v":2.6445010657764279E-2},{"$f":"TATAELXSI!H659","v":1.5613232392847953E-2},{"$f":"COALINDIA!H659","v":1.9171558695213031E-2},1.908219549227462E-2]
["2021-12-29",{"$f":"RELIANCE!H660","v":1.7095139124133807E-3},{"$f":"IDEA!H660","v":5.0909090909090793E-2},{"$f":"SUNPHARMA!H660","v":2.9076207109385299E-2},{"$f":"TATAELXSI!H660","v":3.2193303945498686E-2},{"$f":"COALINDIA!H660","v":-1.4108220672328087E-2},1.9955979040812012E-2]
["2021-12-30",{"$f":"RELIANCE!H661","v":-1.8064475338189431E-2},{"$f":"IDEA!H661","v":-3.1141868512110649E-2},{"$f":"SUNPHARMA!H661","v":-5.1859496880505285E-3},{"$f":"TATAELXSI!H661","v":1.8757302686440491E-2},{"$f":"COALINDIA!H661","v":-3.7479164525151543E-3},-7.8765814608850529E-3]
["2021-12-31",{"$f":"RELIANCE!H662","v":3.8361254817769171E-3},{"$f":"IDEA!H662","v":9.6428571428571308E-2},{"$f":"SUNPHARMA!H662","v":1.3481938537142524E-2},{"$f":"TATAELXSI!H662","v":9.2619039597647834E-3},{"$f":"COALINDIA!H662","v":-1.025928135943821E-3},2.4396522254262344E-2]
["2022-01-03",{"$f":"RELIANCE!H663","v":1.5075141978913367E-2},{"$f":"IDEA!H663","v":1.3029315960912058E-2},{"$f":"SUNPHARMA!H663","v":3.8429627187939186E-3},{"$f":"TATAELXSI!H663","v":4.371148943421943E-3},{"$f":"COALINDIA!H663","v":6.3334519273231304E-2},1.9930617775054518E-2]
["2022-01-04",{"$f":"RELIANCE!H664","v":2.2567962971208534E-2},{"$f":"IDEA!H664","v":-1.9292604501607746E-2},{"$f":"SUNPHARMA!H664","v":-1.3251668118801629E-2},{"$f":"TATAELXSI!H664","v":1.4269612107678853E-2},{"$f":"COALINDIA!H664","v":-1.4810056105243441E-2},-2.1033507293530857E-3]
["2022-01-05",{"$f":"RELIANCE!H665","v":4.6784099676643849E-3},{"$f":"IDEA!H665","v":-9.8360655737704805E-3},{"$f":"SUNPHARMA!H665","v":-3.1037445161220534E-3},{"$f":"TATAELXSI!H665","v":-2.3336865877630064E-3},{"$f":"COALINDIA!H665","v":4.5751530901814164E-3},-1.2039867239619479E-3]
["2022-01-06",{"$f":"RELIANCE!H666","v":-2.1501496555253172E-2},{"$f":"IDEA!H666","v":1.3245033112582849E-2},{"$f":"SUNPHARMA!H666","v":-6.5860753021116381E-3},{"$f":"TATAELXSI!H666","v":-1.5132969407245178E-2},{"$f":"COALINDIA!H666","v":6.1808186836385115E-3},-4.758937893677726E-3]
["2022-01-07",{"$f":"RELIANCE!H667","v":8.0695220360024831E-3},{"$f":"IDEA!H667","v":-1.3071895424836666E-2},{"$f":"SUNPHARMA!H667","v":-7.8341896046907333E-4},{"$f":"TATAELXSI!H667","v":-1.2598854603566245E-2},{"$f":"COALINDIA!H667","v":1.4872297789678024E-2},-7.0246983263829626E-4]
["2022-01-10",{"$f":"RELIANCE!H668","v":8.2101806239737272E-4},{"$f":"IDEA!H668","v":-1.655629139072845E-2},{"$f":"SUNPHARMA!H668","v":-2.7143226110829533E-3},{"$f":"TATAELXSI!H668","v":3.3347483253486798E-2},{"$f":"COALINDIA!H668","v":2.389294742890713E-2},7.7581669485959799E-3]
["2022-01-11",{"$f":"RELIANCE!H669","v":7.1985434782608467E-3},{"$f":"IDEA!H669","v":-0.20538720538720534},{"$f":"SUNPHARMA!H669","v":6.8949101193502838E-3},{"$f":"TATAELXSI!H669","v":-9.0439922302741893E-3},{"$f":"COALINDIA!H669","v":-1.3378934138586707E-2},-4.2743335631691019E-2]
["2022-01-12",{"$f":"RELIANCE!H670","v":2.6694649952948259E-2},{"$f":"IDEA!H670","v":8.4745762711864403E-2},{"$f":"SUNPHARMA!H670","v":4.5651293703679041E-3},{"$f":"TATAELXSI!H670","v":2.9526431993264657E-2},{"$f":"COALINDIA!H670","v":5.0457407907347207E-3},3.0115542963835992E-2]
["2022-01-13",{"$f":"RELIANCE!H671","v":5.6324423656422609E-3},{"$f":"IDEA!H671","v":0},{"$f":"SUNPHARMA!H671","v":3.5039402964120114E-2},{"$f":"TATAELXSI!H671","v":4.7046972962397904E-2},{"$f":"COALINDIA!H671","v":3.3887691937207753E-2},2.4321302045873607E-2]
["2022-01-14",{"$f":"RELIANCE!H672","v":1.4593740103698691E-3},{"$f":"IDEA!H672","v":-3.90625E-3},{"$f":"SUNPHARMA!H672","v":-6.6435278589558333E-3},{"$f":"TATAELXSI!H672","v":-1.4019604014527287E-2},{"$f":"COALINDIA!H672","v":0},-4.6220015726226504E-3]
["2022-01-17",{"$f":"RELIANCE!H673","v":5.2185899960614417E-3},{"$f":"IDEA!H673","v":-1.9607843137254943E-2},{"$f":"SUNPHARMA!H673","v":-7.6184922045825498E-3},{"$f":"TATAELXSI!H673","v":1.3640699936628531E-2},{"$f":"COALINDIA!H673","v":-6.3733661019245158E-3},-2.9480823022144075E-3]
["2022-01-18",{"$f":"RELIANCE!H674","v":-1.1930630228230014E-2},{"$f":"IDEA!H674","v":-3.5999999999999921E-2},{"$f":"SUNPHARMA!H674","v":-7.6183615903613333E-3},{"$f":"TATAELXSI!H674","v":-3.4073072734224219E-3},{"$f":"COALINDIA!H674","v":-1.7715299710460486E-2},-1.5334319760494836E-2]
["2022-01-19",{"$f":"RELIANCE!H675","v":-7.9288998380083511E-5},{"$f":"IDEA!H675","v":-8.2987551867220732E-3},{"$f":"SUNPHARMA!H675","v":-9.6846599554395452E-3},{"$f":"TATAELXSI!H675","v":9.4247481043592485E-2},{"$f":"COALINDIA!H675","v":1.9278523082608467E-2},1.9092659997131851E-2]
["2022-01-20",{"$f":"RELIANCE!H676","v":-1.7508782235144026E-2},{"$f":"IDEA!H676","v":8.3682008368202165E-3},{"$f":"SUNPHARMA!H676","v":-2.2063210845615466E-2},{"$f":"TATAELXSI!H676","v":6.4953985452721463E-2},{"$f":"COALINDIA!H676","v":7.0165771034180757E-3},8.1533540624400512E-3]
["2022-01-21",{"$f":"RELIANCE!H677","v":1.6151567455008236E-4},{"$f":"IDEA!H677","v":-1.6597510373444035E-2},{"$f":"SUNPHARMA!H677","v":-1.3719516326590186E-2},{"$f":"TATAELXSI!H677","v":-3.0920064595090113E-2},{"$f":"COALINDIA!H677","v":-3.8170309808407854E-2},-1.9849177085796425E-2]
["2022-01-24",{"$f":"RELIANCE!H678","v":-4.033746677439233E-2},{"$f":"IDEA!H678","v":-7.5949367088607667E-2},{"$f":"SUNPHARMA!H678","v":-9.7682179604265951E-3},{"$f":"TATAELXSI!H678","v":-2.2220061336687857E-2},{"$f":"COALINDIA!H678","v":-1.5433017844217245E-2},-3.274162620086634E-2]
["2022-01-25",{"$f":"RELIANCE!H679","v":-1.9554658276781031E-3},{"$f":"IDEA!H679","v":3.1963470319634757E-2},{"$f":"SUNPHARMA!H679","v":8.9904299720136027E-3},{"$f":"TATAELXSI!H679","v":1.9671338952673478E-2},{"$f":"COALINDIA!H679","v":3.103004460486436E-2},1.7939963604301619E-2]
["2022-01-27",{"$f":"RELIANCE!H680","v":-1.4810872010955487E-2},{"$f":"IDEA!H680","v":-5.7522123893805288E-2},{"$f":"SUNPHARMA!H680","v":5.0120887480438192E-3},{"$f":"TATAELXSI!H680","v":-2.8561718217972043E-2},{"$f":"COALINDIA!H680","v":-3.7231935530050997E-3},-1.992116378553882E-2]
["2022-01-28",{"$f":"RELIANCE!H681","v":-9.6231979200746786E-4},{"$f":"IDEA!H681","v":1.4084507042253502E-2},{"$f":"SUNPHARMA!H681","v":1.8778488735071486E-2},{"$f":"TATAELXSI!H681","v":2.9967810118343596E-2},{"$f":"COALINDIA!H681","v":6.8513391888911368E-3},1.374396505851045E-2]
["2022-01-31",{"$f":"RELIANCE!H682","v":2.1726565434765328E-2},{"$f":"IDEA!H682","v":-1.3888888888888951E-2},{"$f":"SUNPHARMA!H682","v":8.6420905684094773E-3},{"$f":"TATAELXSI!H682","v":5.9054899561804985E-2},{"$f":"COALINDIA!H682","v":-1.1444370513421953E-2},1.2818059232533778E-2]
["2022-02-01",{"$f":"RELIANCE!H683","v":-3.310209786138974E-3},{"$f":"IDEA!H683","v":4.6948356807510194E-3},{"$f":"SUNPHARMA!H683","v":6.860392320118347E-2},{"$f":"TATAELXSI!H683","v":-1.8731884054798975E-2},{"$f":"COALINDIA!H683","v":2.0337875732978405E-2},1.4318908154794991E-2]
["2022-02-02",{"$f":"RELIANCE!H684","v":2.0389700676459502E-3},{"$f":"IDEA!H684","v":6.542056074766367E-2},{"$f":"SUNPHARMA!H684","v":-1.2335092828114069E-3},{"$f":"TATAELXSI!H684","v":2.3644013969856825E-3},{"$f":"COALINDIA!H684","v":4.9064839805392779E-3},1.4699381382004635E-2]
["2022-02-03",{"$f":"RELIANCE!H685","v":-1.2921922496622997E-2},{"$f":"IDEA!H685","v":-4.3859649122807154E-3},{"$f":"SUNPHARMA!H685","v":-7.9717294713527176E-3},{"$f":"TATAELXSI!H685","v":-2.5212148613431351E-2},{"$f":"COALINDIA!H685","v":-1.5562992130194964E-2},-1.3210951524776551E-2]
["2022-02-04",{"$f":"RELIANCE!H686","v":-9.1169699288067389E-3},{"$f":"IDEA!H686","v":-4.405286343612258E-3},{"$f":"SUNPHARMA!H686","v":1.1770728554543197E-2},{"$f":"TATAELXSI!H686","v":1.7953440945531085E-2},{"$f":"COALINDIA!H686","v":-5.5797020186513224E-3},2.1244422418007928E-3]
["2022-02-07",{"$f":"RELIANCE!H687","v":-6.0910010301295434E-3},{"$f":"IDEA!H687","v":-3.0973451327433787E-2},{"$f":"SUNPHARMA!H687","v":-7.7185849865477607E-3},{"$f":"TATAELXSI!H687","v":2.899068064502508E-2},{"$f":"COALINDIA!H687","v":3.4288797306143426E-3},-2.4726953936943341E-3]
["2022-02-08",{"$f":"RELIANCE!H688","v":1.6809783502067788E-2},{"$f":"IDEA!H688","v":-9.1324200913242004E-3},{"$f":"SUNPHARMA!H688","v":7.9477002136985053E-3},{"$f":"TATAELXSI!H688","v":-3.2002025672658307E-3},{"$f":"COALINDIA!H688","v":-6.2130807147142697E-3},1.2423560684923993E-3]
["2022-02-09",{"$f":"RELIANCE!H689","v":1.1650835266275812E-2},{"$f":"IDEA!H689","v":-4.6082949308754451E-3},{"$f":"SUNPHARMA!H689","v":-7.3268404642590212E-4},{"$f":"TATAELXSI!H689","v":6.8412333013234683E-3},{"$f":"COALINDIA!H689","v":5.4079482366856002E-2},1.3446114391430789E-2]
["2022-02-10",{"$f":"RELIANCE!H690","v":-1.0278795888399646E-3},{"$f":"IDEA!H690","v":3.240740740740744E-2},{"$f":"SUNPHARMA!H690","v":8.8555202140376821E-3},{"$f":"TATAELXSI!H690","v":-8.3597552551414323E-3},{"$f":"COALINDIA!H690","v":-3.2621987382982498E-3},5.7226188078330961E-3]
["2022-02-11",{"$f":"RELIANCE!H691","v":-1.9529816275608383E-3},{"$f":"IDEA!H691","v":-3.1390134529147962E-2},{"$f":"SUNPHARMA!H691","v":-1.5878354232964575E-2},{"$f":"TATAELXSI!H691","v":-2.7092429552441177E-2},{"$f":"COALINDIA!H691","v":-9.2234511866789992E-3},-1.710747022575871E-2]
["2022-02-14",{"$f":"RELIANCE!H692","v":-1.5927392089246165E-2},{"$f":"IDEA!H692","v":-6.018518518518523E-2},{"$f":"SUNPHARMA!H692","v":-1.7327576884287987E-2},{"$f":"TATAELXSI!H692","v":-6.5730776678704417E-2},{"$f":"COALINDIA!H692","v":-2.9129204282330678E-2},-3.7660027023950896E-2]
["2022-02-15",{"$f":"RELIANCE!H693","v":3.3952620357196435E-2},{"$f":"IDEA!H693","v":4.9261083743842304E-2},{"$f":"SUNPHARMA!H693","v":1.3817439245670915E-2},{"$f":"TATAELXSI!H693","v":2.8894456823680414E-2},{"$f":"COALINDIA!H693","v":1.2372434976693603E-2},2.7659607029416736E-2]
["2022-02-16",{"$f":"RELIANCE!H694","v":-2.0678674502473192E-3},{"$f":"IDEA!H694","v":-4.6948356807512415E-3},{"$f":"SUNPHARMA!H694","v":-9.0670758540202234E-3},{"$f":"TATAELXSI!H694","v":-1.5827452779315743E-2},{"$f":"COALINDIA!H694","v":1.2221726229590946E-3},-6.0870118282750872E-3]
["2022-02-17",{"$f":"RELIANCE!H695","v":1.2660871389951155E-2},{"$f":"IDEA!H695","v":-4.7169811320754151E-3},{"$f":"SUNPHARMA!H695","v":-7.2509503067534897E-3},{"$f":"TATAELXSI!H695","v":-8.1803243552189819E-3},{"$f":"COALINDIA!H695","v":-4.88252793543964E-3},-2.4739824679072741E-3]
["2022-02-18",{"$f":"RELIANCE!H696","v":-7.816696541845667E-3},{"$f":"IDEA!H696","v":9.4786729857818663E-3},{"$f":"SUNPHARMA!H696","v":4.0581532070005366E-4},{"$f":"TATAELXSI!H696","v":6.3749324689357234E-3},{"$f":"COALINDIA!H696","v":2.606564517524057E-2},6.901673881762509E-3]
["2022-02-21",{"$f":"RELIANCE!H697","v":-1.0105593544938198E-2},{"$f":"IDEA!H697","v":5.6338028169014009E-2},{"$f":"SUNPHARMA!H697","v":-2.2076773056156518E-2},{"$f":"TATAELXSI!H697","v":-3.6146303056330931E-2},{"$f":"COALINDIA!H697","v":-6.7776092400935184E-3},-3.7536501457010327E-3]
["2022-02-22",{"$f":"RELIANCE!H698","v":-4.5418152610933816E-3},{"$f":"IDEA!H698","v":-3.1111111111111089E-2},{"$f":"SUNPHARMA!H698","v":2.3108515203655866E-3},{"$f":"TATAELXSI!H698","v":-2.5568082875389919E-2},{"$f":"COALINDIA!H698","v":-8.0645348895385105E-3},-1.3394938523353463E-2]
["2022-02-23",{"$f":"RELIANCE!H699","v":-6.2578279614901866E-3},{"$f":"IDEA!H699","v":-1.8348623853211121E-2},{"$f":"SUNPHARMA!H699","v":-6.5618208545067391E-3},{"$f":"TATAELXSI!H699","v":6.5387718602316625E-3},{"$f":"COALINDIA!H699","v":-8.7554349751882699E-3},-6.6769871568329309E-3]
["2022-02-24",{"$f":"RELIANCE!H700","v":-4.9830478110531165E-2},{"$f":"IDEA!H700","v":-9.8130841121495282E-2},{"$f":"SUNPHARMA!H700","v":-2.6182683725081812E-2},{"$f":"TATAELXSI!H700","v":-8.0204414461480189E-2},{"$f":"COALINDIA!H700","v":-5.362776025236593E-2},-6.1595235534190877E-2]
["2022-02-25",{"$f":"RELIANCE!H701","v":1.2501363626288399E-2},{"$f":"IDEA!H701","v":6.2176165803108807E-2},{"$f":"SUNPHARMA!H701","v":1.6254186373357848E-2},{"$f":"TATAELXSI!H701","v":7.0076208019711927E-2},{"$f":"COALINDIA!H701","v":8.9666646666666683E-2},5.0134914097826735E-2]
["2022-02-28",{"$f":"RELIANCE!H702","v":3.3100593104896756E-2},{"$f":"IDEA!H702","v":4.8780487804878092E-3},{"$f":"SUNPHARMA!H702","v":1.4851826322195949E-2},{"$f":"TATAELXSI!H702","v":-1.0446540559252315E-2},{"$f":"COALINDIA!H702","v":3.7320318825090126E-2},1.5940849294683666E-2]
["2022-03-02",{"$f":"RELIANCE!H703","v":1.6528575020703026E-2},{"$f":"IDEA!H703","v":1.4563106796116276E-2},{"$f":"SUNPHARMA!H703","v":-2.7254413254999554E-2},{"$f":"TATAELXSI!H703","v":2.0670523251364425E-2},{"$f":"COALINDIA!H703","v":8.9943967739121833E-2},2.2890351910461203E-2]
["2022-03-03",{"$f":"RELIANCE!H704","v":-8.4426005654718774E-3},{"$f":"IDEA!H704","v":6.2200956937799035E-2},{"$f":"SUNPHARMA!H704","v":0},{"$f":"TATAELXSI!H704","v":1.4433037231056822E-2},{"$f":"COALINDIA!H704","v":2.2456677124621072E-2},1.8129614145601009E-2]
["2022-03-04",{"$f":"RELIANCE!H705","v":-2.2179707737961706E-2},{"$f":"IDEA!H705","v":-6.7567567567567544E-2},{"$f":"SUNPHARMA!H705","v":1.0659032457282613E-2},{"$f":"TATAELXSI!H705","v":2.1097962191756192E-3},{"$f":"COALINDIA!H705","v":-4.2074607706926836E-2},-2.3810610867199572E-2]
["2022-03-07",{"$f":"RELIANCE!H706","v":-3.6980498457550075E-2},{"$f":"IDEA!H706","v":-7.7294685990338063E-2},{"$f":"SUNPHARMA!H706","v":-8.4372925902549412E-3},{"$f":"TATAELXSI!H706","v":-1.7808993085398961E-2},{"$f":"COALINDIA!H706","v":4.2541419889502663E-2},-1.9596010046807874E-2]
["2022-03-08",{"$f":"RELIANCE!H707","v":-1.8084208485576669E-3},{"$f":"IDEA!H707","v":3.6649214659685736E-2},{"$f":"SUNPHARMA!H707","v":3.9324105094780792E-2},{"$f":"TATAELXSI!H707","v":2.7385018498036207E-3},{"$f":"COALINDIA!H707","v":2.3847218185171215E-3},1.585762451484592E-2]
["2022-03-09",{"$f":"RELIANCE!H708","v":5.3053052113621067E-2},{"$f":"IDEA!H708","v":4.0404040404040442E-2},{"$f":"SUNPHARMA!H708","v":1.5497076023391898E-2},{"$f":"TATAELXSI!H708","v":6.3946291863385296E-2},{"$f":"COALINDIA!H708","v":-1.3217023945557238E-2},{"$f":"Portfolio_Return(B708,C708,D708,E708,F708,$J$2,$J$3,$J$4,$J$5,$J$6)","v":3.1936687291776303E-2}]
["2022-03-10",{"$f":"RELIANCE!H709","v":1.6205726354801806E-2},{"$f":"IDEA!H709","v":-4.8543689320389438E-3},{"$f":"SUNPHARMA!H709","v":1.497250791822724E-3},{"$f":"TATAELXSI!H709","v":2.4381245531244211E-3},{"$f":"COALINDIA!H709","v":-4.1253668617851624E-2},-5.1933871700283237E-3]
["2022-03-11",{"$f":"RELIANCE!H710","v":2.8842729647821554E-3},{"$f":"IDEA!H710","v":1.4634146341463428E-2},{"$f":"SUNPHARMA!H710","v":3.7318167382919931E-2},{"$f":"TATAELXSI!H710","v":1.5855863095397993E-2},{"$f":"COALINDIA!H710","v":1.5646845749877292E-2},1.7267859106888158E-2]
["2022-03-14",{"$f":"RELIANCE!H711","v":8.2113235123729162E-3},{"$f":"IDEA!H711","v":-1.9230769230769384E-2},{"$f":"SUNPHARMA!H711","v":-1.0809312638580981E-2},{"$f":"TATAELXSI!H711","v":6.8035872708673839E-3},{"$f":"COALINDIA!H711","v":-7.7028555708390511E-3},-4.5456053313898247E-3]
["2022-03-15",{"$f":"RELIANCE!H712","v":-2.2903505697110724E-2},{"$f":"IDEA!H712","v":-1.9607843137254832E-2},{"$f":"SUNPHARMA!H712","v":-6.7243037265340977E-4},{"$f":"TATAELXSI!H712","v":-2.4017868285585942E-2},{"$f":"COALINDIA!H712","v":-4.1308631838914422E-2},-2.1702055866303867E-2]
["2022-03-16",{"$f":"RELIANCE!H713","v":1.6882162866667716E-2},{"$f":"IDEA!H713","v":3.0000000000000027E-2},{"$f":"SUNPHARMA!H713","v":-2.7477282947956372E-3},{"$f":"TATAELXSI!H713","v":3.086119957728406E-2},{"$f":"COALINDIA!H713","v":2.313476077969101E-2},1.9626078985769436E-2]
["2022-03-17",{"$f":"RELIANCE!H714","v":3.2600266213898964E-2},{"$f":"IDEA!H714","v":-4.8543689320389438E-3},{"$f":"SUNPHARMA!H714","v":2.519114226012853E-2},{"$f":"TATAELXSI!H714","v":3.0270066954066976E-2},{"$f":"COALINDIA!H714","v":-1.9784681281560523E-3},1.6245727673579898E-2]
["2022-03-21",{"$f":"RELIANCE!H715","v":-5.7621990096900092E-3},{"$f":"IDEA!H715","v":-1.9512195121951126E-2},{"$f":"SUNPHARMA!H715","v":2.4133524110578897E-3},{"$f":"TATAELXSI!H715","v":-3.7676186631682151E-3},{"$f":"COALINDIA!H715","v":3.2568676875072144E-2},1.1880032982641373E-3]
["2022-03-22",{"$f":"RELIANCE!H716","v":2.583691437627365E-2},{"$f":"IDEA!H716","v":0},{"$f":"SUNPHARMA!H716","v":3.2828628139580651E-4},{"$f":"TATAELXSI!H716","v":1.4702022353537014E-2},{"$f":"COALINDIA!H716","v":5.7597530593567203E-3},9.3253952141126393E-3]
["2022-03-23",{"$f":"RELIANCE!H717","v":3.1803920398547555E-3},{"$f":"IDEA!H717","v":-4.9751243781095411E-3},{"$f":"SUNPHARMA!H717","v":-1.4549817688650712E-2},{"$f":"TATAELXSI!H717","v":2.387986844232004E-2},{"$f":"COALINDIA!H717","v":-1.6362311981599209E-3},1.1798174434509241E-3]
["2022-03-24",{"$f":"RELIANCE!H718","v":1.5536370416383982E-2},{"$f":"IDEA!H718","v":1.5000000000000124E-2},{"$f":"SUNPHARMA!H718","v":8.9364876856548037E-3},{"$f":"TATAELXSI!H718","v":-1.1063455278211065E-2},{"$f":"COALINDIA!H718","v":2.3763949351041536E-2},1.0434670434973878E-2]
["2022-03-25",{"$f":"RELIANCE!H719","v":6.6702331272885515E-3},{"$f":"IDEA!H719","v":-4.9261083743843415E-3},{"$f":"SUNPHARMA!H719","v":-7.151895441101952E-3},{"$f":"TATAELXSI!H719","v":0.10928240199157013},{"$f":"COALINDIA!H719","v":-6.9369692722615062E-3},1.938753240622218E-2]
["2022-03-28",{"$f":"RELIANCE!H720","v":1.0054453074971114E-2},{"$f":"IDEA!H720","v":-1.4851485148514865E-2},{"$f":"SUNPHARMA!H720","v":3.934225183600093E-3},{"$f":"TATAELXSI!H720","v":7.0785213813003178E-2},{"$f":"COALINDIA!H720","v":2.7673260795058718E-2},1.9519133543623651E-2]
["2022-03-29",{"$f":"RELIANCE!H721","v":2.2887469677711211E-4},{"$f":"IDEA!H721","v":-1.005025125628134E-2},{"$f":"SUNPHARMA!H721","v":1.4847059988597477E-2},{"$f":"TATAELXSI!H721","v":-5.3417120358585479E-2},{"$f":"COALINDIA!H721","v":-2.7450980392156876E-2},-1.5168483464329821E-2]
["2022-03-30",{"$f":"RELIANCE!H722","v":1.9217899013678694E-2},{"$f":"IDEA!H722","v":0},{"$f":"SUNPHARMA!H722","v":1.3596563143871698E-3},{"$f":"TATAELXSI!H722","v":5.1906699672684464E-2},{"$f":"COALINDIA!H722","v":-1.6666698924731271E-2},1.1163511215203811E-2]
["2022-03-31",{"$f":"RELIANCE!H723","v":-1.4291307993143959E-2},{"$f":"IDEA!H723","v":-2.0304568527918732E-2},{"$f":"SUNPHARMA!H723","v":-6.3545254752428448E-3},{"$f":"TATAELXSI!H723","v":-1.741168164183704E-2},{"$f":"COALINDIA!H723","v":8.2016951843089103E-4},-1.1508382823942337E-2]
["2022-04-01",{"$f":"RELIANCE!H724","v":8.008387133504085E-3},{"$f":"IDEA!H724","v":4.663212435233155E-2},{"$f":"SUNPHARMA!H724","v":-6.6138157966657563E-3},{"$f":"TATAELXSI!H724","v":8.218119691036474E-3},{"$f":"COALINDIA!H724","v":1.6935214144738309E-2},1.4636005904988932E-2]
["2022-04-04",{"$f":"RELIANCE!H725","v":2.9556837586246056E-3},{"$f":"IDEA!H725","v":1.4851485148514865E-2},{"$f":"SUNPHARMA!H725","v":1.9093183416839077E-2},{"$f":"TATAELXSI!H725","v":1.0872048303568915E-2},{"$f":"COALINDIA!H725","v":8.5952514185954065E-3},1.1273530409228573E-2]
["2022-04-05",{"$f":"RELIANCE!H726","v":-1.4134438072075525E-2},{"$f":"IDEA!H726","v":9.7560975609756184E-3},{"$f":"SUNPHARMA!H726","v":3.2935457475542496E-3},{"$f":"TATAELXSI!H726","v":-1.4578796536747429E-2},{"$f":"COALINDIA!H726","v":7.9890279627159444E-4},-2.9729377008042989E-3]
["2022-04-06",{"$f":"RELIANCE!H727","v":-2.6656003767580897E-3},{"$f":"IDEA!H727","v":4.347826086956541E-2},{"$f":"SUNPHARMA!H727","v":-1.0763104357243147E-3},{"$f":"TATAELXSI!H727","v":1.7233813348020988E-3},{"$f":"COALINDIA!H727","v":3.1665844544944477E-2},1.4625115187365915E-2]
["2022-04-07",{"$f":"RELIANCE!H728","v":-1.7639964924549657E-2},{"$f":"IDEA!H728","v":9.2592592592593004E-3},{"$f":"SUNPHARMA!H728","v":3.0708286539165019E-3},{"$f":"TATAELXSI!H728","v":-1.639940627164671E-2},{"$f":"COALINDIA!H728","v":-1.5991776652305112E-2},-7.540211987065136E-3]
["2022-04-08",{"$f":"RELIANCE!H729","v":1.6635172034807067E-2},{"$f":"IDEA!H729","v":2.7522935779816349E-2},{"$f":"SUNPHARMA!H729","v":-6.821027894245324E-3},{"$f":"TATAELXSI!H729","v":-7.1560405353836565E-3},{"$f":"COALINDIA!H729","v":1.9921378768021025E-2},1.0020483630603094E-2]
["2022-04-11",{"$f":"RELIANCE!H730","v":-2.0835934487382535E-3},{"$f":"IDEA!H730","v":-3.125E-2},{"$f":"SUNPHARMA!H730","v":8.6529095908183251E-4},{"$f":"TATAELXSI!H730","v":2.9878638853872985E-3},{"$f":"COALINDIA!H730","v":9.5090772113737287E-3},-3.9942722785790783E-3]
["2022-04-12",{"$f":"RELIANCE!H731","v":-1.8829937523050743E-2},{"$f":"IDEA!H731","v":-2.3041474654377891E-2},{"$f":"SUNPHARMA!H731","v":-4.4305553205821191E-3},{"$f":"TATAELXSI!H731","v":-3.4656776366977948E-2},{"$f":"COALINDIA!H731","v":-5.2953127890625007E-2},-2.6782374351122743E-2]
["2022-04-13",{"$f":"RELIANCE!H732","v":-3.6704269030862009E-3},{"$f":"IDEA!H732","v":-1.8867924528301772E-2},{"$f":"SUNPHARMA!H732","v":1.6769795073523941E-2},{"$f":"TATAELXSI!H732","v":-3.0264524184676622E-3},{"$f":"COALINDIA!H732","v":3.2258387096775198E-3},-1.1138340133308347E-3]
["2022-04-18",{"$f":"RELIANCE!H733","v":-3.0567688748706018E-3},{"$f":"IDEA!H733","v":-2.8846153846153966E-2},{"$f":"SUNPHARMA!H733","v":-9.8745663197224998E-3},{"$f":"TATAELXSI!H733","v":-6.7731771178665467E-2},{"$f":"COALINDIA!H733","v":1.5273263174493179E-2},-1.8847199408983873E-2]
["2022-04-19",{"$f":"RELIANCE!H734","v":3.8111503140937066E-2},{"$f":"IDEA!H734","v":-1.9801980198019709E-2},{"$f":"SUNPHARMA!H734","v":-5.9299191374663218E-3},{"$f":"TATAELXSI!H734","v":-1.5711498913920652E-2},{"$f":"COALINDIA!H734","v":4.3811048463621827E-2},8.0958306710304413E-3]
["2022-04-20",{"$f":"RELIANCE!H735","v":2.9403930838839555E-2},{"$f":"IDEA!H735","v":1.0101010101010166E-2},{"$f":"SUNPHARMA!H735","v":1.6268980477223138E-3},{"$f":"TATAELXSI!H735","v":1.4889907834789495E-2},{"$f":"COALINDIA!H735","v":6.8268318584070453E-3},1.2569715736153715E-2]
["2022-04-21",{"$f":"RELIANCE!H736","v":2.3414132372231351E-2},{"$f":"IDEA!H736","v":0},{"$f":"SUNPHARMA!H736","v":2.2306416892257763E-2},{"$f":"TATAELXSI!H736","v":1.2314753461150296E-2},{"$f":"COALINDIA!H736","v":3.9176231868119471E-2},1.9442306918751776E-2]
["2022-04-22",{"$f":"RELIANCE!H737","v":-8.3749858665221697E-3},{"$f":"IDEA!H737","v":-5.0000000000001155E-3},{"$f":"SUNPHARMA!H737","v":-2.0442737517874843E-2},{"$f":"TATAELXSI!H737","v":5.7459326324384552E-2},{"$f":"COALINDIA!H737","v":-2.2957951366591178E-2},1.3673031467924951E-4]
["2022-04-25",{"$f":"RELIANCE!H738","v":-2.3126014160803701E-2},{"$f":"IDEA!H738","v":-1.5075376884421954E-2},{"$f":"SUNPHARMA!H738","v":-2.6816596368727463E-2},{"$f":"TATAELXSI!H738","v":-4.1708554438861012E-2},{"$f":"COALINDIA!H738","v":-6.7771444010035431E-2},-3.4899597172569921E-2]
["2022-04-26",{"$f":"RELIANCE!H739","v":2.9925752133580747E-2},{"$f":"IDEA!H739","v":2.0408163265306145E-2},{"$f":"SUNPHARMA!H739","v":2.0055542222222167E-2},{"$f":"TATAELXSI!H739","v":-2.085671911053999E-2},{"$f":"COALINDIA!H739","v":1.5654003963714525E-2},1.3037348494856719E-2]
["2022-04-27",{"$f":"RELIANCE!H740","v":9.7281577120160087E-4},{"$f":"IDEA!H740","v":-4.0000000000000036E-2},{"$f":"SUNPHARMA!H740","v":-1.3016733463537711E-2},{"$f":"TATAELXSI!H740","v":1.7660522454273186E-2},{"$f":"COALINDIA!H740","v":-2.0376144839377552E-2},-1.0951908015488102E-2]
["2022-04-28",{"$f":"RELIANCE!H741","v":1.4936922466997175E-2},{"$f":"IDEA!H741","v":-5.2083333333332593E-3},{"$f":"SUNPHARMA!H741","v":1.6444128015295378E-2},{"$f":"TATAELXSI!H741","v":-1.7209958377043089E-2},{"$f":"COALINDIA!H741","v":1.4666666666666606E-2},4.7258850877165623E-3]
["2022-04-29",{"$f":"RELIANCE!H742","v":-1.0497046641235994E-2},{"$f":"IDEA!H742","v":-5.2356020942408987E-3},{"$f":"SUNPHARMA!H742","v":8.3062149837134225E-3},{"$f":"TATAELXSI!H742","v":-1.2430675081277487E-2},{"$f":"COALINDIA!H742","v":-3.8896157687253519E-2},-1.1750653304058896E-2]
["2022-05-02",{"$f":"RELIANCE!H743","v":-3.5122476480601897E-3},{"$f":"IDEA!H743","v":-2.1052631578947323E-2},{"$f":"SUNPHARMA!H743","v":-5.653367645850671E-3},{"$f":"TATAELXSI!H743","v":-9.5210431190291267E-3},{"$f":"COALINDIA!H743","v":2.6250958941723912E-2},-2.6976662100326801E-3]
["2022-05-04",{"$f":"RELIANCE!H744","v":-3.1217986487684108E-2},{"$f":"IDEA!H744","v":-2.1505376344086113E-2},{"$f":"SUNPHARMA!H744","v":-2.4366471101586185E-2},{"$f":"TATAELXSI!H744","v":1.3587930528853986E-2},{"$f":"COALINDIA!H744","v":-1.5986571254565929E-3},-1.3020112105991802E-2]

{"sheet":"Monte Carlo Simulation VBA","index":3,"n_rows":23,"n_cols":3,"rows_kept":23,"cut":false,"hidden":false,"merged":[]}
["Security","Weight"]
["RELIANCE",0.2]
["IDEA",0.2]
["SUNPHARMA",0.2]
["TATAELXSI",0.2]
["COALINDIA",0.2]
[]
["Portfolio Value",100000]
["Portfolio Volatility",{"$f":"'Portfolio Analysis'!N4","v":1.9703101162754151E-2}]
["Risk Free Rate",7.3999999999999996E-2]
["Time (Years)",1]
[]
["Confidence Level","Percentage VaR","Absolute VaR"]
[0.5,{"$f":"ValueAtRisk(A14,$B$11,$B$10,$B$9)","v":7.6826880807523312E-2},{"$f":"B14*$B$8","v":7682.6880807523312}]
[0.6,{"$f":"ValueAtRisk(A15,$B$11,$B$10,$B$9)","v":8.23977745752245E-2},{"$f":"B15*$B$8","v":8239.7774575224503}]
[0.65,8.4807115349851206E-2,8480.711534985121]
[0.75,9.1544105101274531E-2,9154.4105101274527]
[0.8,9.433656465037138E-2,9433.6564650371383]
[0.85,9.8581233271963303E-2,9858.1233271963301]
[0.9,0.1039136127102883,10391.361271028831]
[0.95,0.11187483746178115,11187.483746178115]
[0.97,0.11704666175110201,11704.6661751102]
[0.99,0.12772272016863659,12772.272016863659]

{"sheet":"Monte Carlo Simulation","index":4,"n_rows":10002,"n_cols":7,"rows_kept":10002,"cut":false,"hidden":false,"merged":[]}
[]
["Security","Weight",null,null,null,"Iteration","Seed Value"]
["RELIANCE",0.2,null,null,null,1,{"$f":"'Monte Carlo Simulation VBA'!B15","v":8.23977745752245E-2}]
["IDEA",0.2,null,null,null,2,{"$f":"EXP($B$11-0.5*$B$10^2)+$B$10*_xlfn.NORM.S.INV(RAND())","v":1.1007993632345789}]
["SUNPHARMA",0.2,null,null,null,3,1.0600893931937228]
["TATAELXSI",0.2,null,null,null,4,1.0962368887776868]
["COALINDIA",0.2,null,null,null,5,1.0884696215723415]
[null,null,null,null,null,6,1.0785074620165314]
["Portfolio Value",100000,null,null,null,7,1.0536791339373253]
["Portfolio Volatility",{"$f":"'Portfolio Analysis'!N4","v":1.9703101162754151E-2},null,null,null,8,1.0653582842446891]
["Risk Free Rate",7.3999999999999996E-2,null,null,null,9,1.0790177873721956]
["Time (Years)",1,null,null,null,10,1.0751803225064436]
[null,null,null,null,null,11,1.0533932794289971]
[null,null,null,null,null,12,1.081801468943425]
["Confidence Level","Percentage VaR","Absolute VaR",null,null,13,1.0685692989045583]
[0.5,{"$f":"_xlfn.PERCENTILE.INC($G$3:$G$10002,A16)-1","v":7.6494004046205877E-2},{"$f":"B16*$B$9","v":7649.4004046205873},null,null,14,1.0727735891589745]
[0.6,8.1312958759187204E-2,{"$f":"B17*$B$9","v":8131.2958759187204},null,null,15,1.0601697798745024]
[0.65,8.3906243066574016E-2,8390.6243066574007,null,null,16,1.0648783831578061]
[0.75,8.967835296114135E-2,8967.8352961141354,null,null,17,1.073897799852342]
[0.8,9.3088804551490378E-2,9308.8804551490375,null,null,18,1.0825885988023554]
[0.85,9.71601099259225E-2,9716.0109925922497,null,null,19,1.101504490490961]
[0.9,0.10215435423822972,10215.435423822972,null,null,20,1.0510731965835691]
[0.95,0.10908337910529786,10908.337910529786,null,null,21,1.0839204230036192]
[0.97,0.11403640410816651,11403.640410816652,null,null,22,1.0778612918973796]
[0.99,0.12250190544656236,12250.190544656236,null,null,23,1.0443162214324979]
[null,null,null,null,null,24,1.0670820795552116]
[null,null,null,null,null,25,1.0687634043017078]
[null,null,null,null,null,26,1.0868205613997155]
[null,null,null,null,null,27,1.0689729442811591]
[null,null,null,null,null,28,1.0856693540794138]
[null,null,null,null,null,29,1.0654886828165056]
[null,null,null,null,null,30,1.0707069248951318]
[null,null,null,null,null,31,1.0871444466979105]
[null,null,null,null,null,32,1.0909183982996966]
[null,null,null,null,null,33,1.101628725692209]
[null,null,null,null,null,34,1.0928068241879254]
[null,null,null,null,null,35,1.0485206580769508]
[null,null,null,null,null,36,1.1073947044950412]
[null,null,null,null,null,37,1.0666779749749378]
[null,null,null,null,null,38,1.1258053857589927]
[null,null,null,null,null,39,1.0993831215365932]
[null,null,null,null,null,40,1.0688368668228465]
[null,null,null,null,null,41,1.0626152278980483]
[null,null,null,null,null,42,1.0818387292922997]
[null,null,null,null,null,43,1.093400355121293]
[null,null,null,null,null,44,1.073947225969125]
[null,null,null,null,null,45,1.0881666761743189]
[null,null,null,null,null,46,1.1140610388177299]
[null,null,null,null,null,47,1.0839691122875972]
[null,null,null,null,null,48,1.0769924421025272]
[null,null,null,null,null,49,1.0842319039414889]
[null,null,null,null,null,50,1.077416327715045]
[null,null,null,null,null,51,1.0849953113328503]
[null,null,null,null,null,52,1.0829908623720494]
[null,null,null,null,null,53,1.0731811423558106]
[null,null,null,null,null,54,1.0354531005913681]
[null,null,null,null,null,55,1.0386923695993677]
[null,null,null,null,null,56,1.0674940934920711]
[null,null,null,null,null,57,1.0652785954939525]
[null,null,null,null,null,58,1.0747346979250367]
[null,null,null,null,null,59,1.0690651215771565]
[null,null,null,null,null,60,1.0880180373443074]
[null,null,null,null,null,61,1.0864800652216935]
[null,null,null,null,null,62,1.0933906413311076]
[null,null,null,null,null,63,1.1243257553426209]
[null,null,null,null,null,64,1.0927507898171802]
[null,null,null,null,null,65,1.0524843615287993]
[null,null,null,null,null,66,{"$f":"EXP($B$11-0.5*$B$10^2)+$B$10*_xlfn.NORM.S.INV(RAND())","v":1.0800587681313807}]
[null,null,null,null,null,67,1.0801611226883783]
[null,null,null,null,null,68,1.0791666221262342]
[null,null,null,null,null,69,1.1088556827779008]
[null,null,null,null,null,70,1.0613603674363421]
[null,null,null,null,null,71,1.0755843353482886]
[null,null,null,null,null,72,1.0552882619757173]
[null,null,null,null,null,73,1.0694343516084717]
[null,null,null,null,null,74,1.1087353298190039]
[null,null,null,null,null,75,1.0614711176724629]
[null,null,null,null,null,76,1.0758877313953288]
[null,null,null,null,null,77,1.0756846065228365]
[null,null,null,null,null,78,1.1069557921272741]
[null,null,null,null,null,79,1.0870131042052842]
[null,null,null,null,null,80,1.0910905109259306]
[null,null,null,null,null,81,1.0813551606388236]
[null,null,null,null,null,82,1.0776885386991855]
[null,null,null,null,null,83,1.0675635168713875]
[null,null,null,null,null,84,1.0726565898393452]
[null,null,null,null,null,85,1.0352534966951417]
[null,null,null,null,null,86,1.0895939947604751]
[null,null,null,null,null,87,1.0963146330837963]
[null,null,null,null,null,88,1.0818193057348868]
[null,null,null,null,null,89,1.0614311005549815]
[null,null,null,null,null,90,1.0728359191724217]
[null,null,null,null,null,91,1.0746424847037579]
[null,null,null,null,null,92,1.0650240197427103]
[null,null,null,null,null,93,1.0642416396663774]
[null,null,null,null,null,94,1.0751566456230441]
[null,null,null,null,null,95,1.0794304288837608]
[null,null,null,null,null,96,1.1008561545307698]
[null,null,null,null,null,97,1.0753696709278722]
[null,null,null,null,null,98,1.0579316061374746]
[null,null,null,null,null,99,1.0968039169545678]
[null,null,null,null,null,100,1.0835266069767044]
[null,null,null,null,null,101,1.0885610580886216]
[null,null,null,null,null,102,1.0616496732362877]
[null,null,null,null,null,103,1.0913235866715618]
[null,null,null,null,null,104,1.0732192687636117]
[null,null,null,null,null,105,1.0563020304593729]
[null,null,null,null,null,106,1.0542319530507374]
[null,null,null,null,null,107,1.087900595914286]
[null,null,null,null,null,108,1.0663598407109773]
[null,null,null,null,null,109,1.0792362633772039]
[null,null,null,null,null,110,1.0779472340004719]
[null,null,null,null,null,111,1.0806345751864495]
[null,null,null,null,null,112,1.0718423540764603]
[null,null,null,null,null,113,1.0740921520628726]
[null,null,null,null,null,114,1.0991575455840912]
[null,null,null,null,null,115,1.1026672256260137]
[null,null,null,null,null,116,1.0914875259877954]
[null,null,null,null,null,117,1.0756963301929843]
[null,null,null,null,null,118,1.0799802621473931]
[null,null,null,null,null,119,1.0929925663891364]
[null,null,null,null,null,120,1.0478136885167881]
[null,null,null,null,null,121,1.0697723733000921]
[null,null,null,null,null,122,1.0359511392595662]
[null,null,null,null,null,123,1.0345481336582958]
[null,null,null,null,null,124,1.0867832931414636]
[null,null,null,null,null,125,1.0395996340610496]
[null,null,null,null,null,126,1.087983254097767]
[null,null,null,null,null,127,1.0819084674499271]
[null,null,null,null,null,128,1.0575489458216527]
[null,null,null,null,null,129,1.0778060190566683]
[null,null,null,null,null,130,{"$f":"EXP($B$11-0.5*$B$10^2)+$B$10*_xlfn.NORM.S.INV(RAND())","v":1.0896321449088724}]
[null,null,null,null,null,131,1.0533203420910697]
[null,null,null,null,null,132,1.1008990025264218]
[null,null,null,null,null,133,1.0611854320516698]
[null,null,null,null,null,134,1.0497658371618126]
[null,null,null,null,null,135,1.0865169141651123]
[null,null,null,null,null,136,1.067169243408143]
[null,null,null,null,null,137,1.0991935413283]
[null,null,null,null,null,138,1.0694872741718171]
[null,null,null,null,null,139,1.1106194563085503]
[null,null,null,null,null,140,1.0906021693413253]
[null,null,null,null,null,141,1.0666781808261325]
[null,null,null,null,null,142,1.0195138381456683]
[null,null,null,null,null,143,1.0584547064917968]
[null,null,null,null,null,144,1.0827661516757685]
[null,null,null,null,null,145,1.1202426894134767]
[null,null,null,null,null,146,1.0754906201113061]
[null,null,null,null,null,147,1.1000724488523446]
[null,null,null,null,null,148,1.0787798419254251]
[null,null,null,null,null,149,1.0929132261266605]
[null,null,null,null,null,150,1.0821420891447731]
[null,null,null,null,null,151,1.077681354861278]
[null,null,null,null,null,152,1.0642619290277746]
[null,null,null,null,null,153,1.0380343469711029]
[null,null,null,null,null,154,1.0526441828422755]
[null,null,null,null,null,155,1.0824368620290801]
[null,null,null,null,null,156,1.0523474713144285]
[null,null,null,null,null,157,1.0766945853163146]
[null,null,null,null,null,158,1.0529436061712774]
[null,null,null,null,null,159,1.1071214414885502]
[null,null,null,null,null,160,1.0959820636645978]
[null,null,null,null,null,161,1.0889390864727664]
[null,null,null,null,null,162,1.0931404032473557]
[null,null,null,null,null,163,1.0735437031060384]
[null,null,null,null,null,164,1.0763274711051758]
[null,null,null,null,null,165,1.0783759986638775]
[null,null,null,null,null,166,1.0974741704981323]
[null,null,null,null,null,167,1.0662362330295194]
[null,null,null,null,null,168,1.0495009819668475]
[null,null,null,null,null,169,1.0629826517615193]
[null,null,null,null,null,170,1.1245836960270288]
[null,null,null,null,null,171,1.044084368742126]
[null,null,null,null,null,172,1.0650646025501485]
[null,null,null,null,null,173,1.0408192158971004]
[null,null,null,null,null,174,1.0800091524942539]
[null,null,null,null,null,175,1.1057843317896374]
[null,null,null,null,null,176,1.0505587942559835]
[null,null,null,null,null,177,1.0512043172434336]
[null,null,null,null,null,178,1.0717338374911951]
[null,null,null,null,null,179,1.0682777921011626]
[null,null,null,null,null,180,1.0758317538543094]
[null,null,null,null,null,181,1.0735340549643617]
[null,null,null,null,null,182,0.99737689604811142]
[null,null,null,null,null,183,1.1092653767909393]
[null,null,null,null,null,184,1.0585510351433254]
[null,null,null,null,null,185,1.0474839691288744]
[null,null,null,null,null,186,1.1026904148813585]
[null,null,null,null,null,187,1.0976986017550097]
[null,null,null,null,null,188,1.0887879385611208]
[null,null,null,null,null,189,1.0727202485570626]
[null,null,null,null,null,190,1.0861411793125704]
[null,null,null,null,null,191,1.072902458268796]
[null,null,null,null,null,192,1.0847906075754328]
[null,null,null,null,null,193,1.0696787785598005]
[null,null,null,null,null,194,{"$f":"EXP($B$11-0.5*$B$10^2)+$B$10*_xlfn.NORM.S.INV(RAND())","v":1.0870131720741563}]
[null,null,null,null,null,195,1.072364568951786]
[null,null,null,null,null,196,1.0787709187771766]
[null,null,null,null,null,197,1.0611593813449745]
[null,null,null,null,null,198,1.0940634083916281]
[null,null,null,null,null,199,1.0889019962323205]
[null,null,null,null,null,200,1.0542926460635722]
[null,null,null,null,null,201,1.1199486038093838]
[null,null,null,null,null,202,1.0768990782037828]
[null,null,null,null,null,203,1.0848058340837954]
[null,null,null,null,null,204,1.0693369875386018]
[null,null,null,null,null,205,1.0491658006646574]
[null,null,null,null,null,206,1.1174887811211227]
[null,null,null,null,null,207,1.0713284939250662]
[null,null,null,null,null,208,1.0501073841258821]
[null,null,null,null,null,209,1.0725284484320332]
[null,null,null,null,null,210,1.073472410427071]
[null,null,null,null,null,211,1.0696032191140339]
[null,null,null,null,null,212,1.0603813533122242]
[null,null,null,null,null,213,1.0656952682610856]
[null,null,null,null,null,214,1.0804587529485905]
[null,null,null,null,null,215,1.0772208571482091]
[null,null,null,null,null,216,1.0912129782630373]
[null,null,null,null,null,217,1.0348663555142796]
[null,null,null,null,null,218,1.0982806870593957]
[null,null,null,null,null,219,1.0855534348593434]
[null,null,null,null,null,220,1.1044923727237823]
[null,null,null,null,null,221,1.0792119042586821]
[null,null,null,null,null,222,1.064122573117418]
[null,null,null,null,null,223,1.0905539664157944]
[null,null,null,null,null,224,1.0842468362492417]
[null,null,null,null,null,225,1.0768869985397593]
[null,null,null,null,null,226,1.0964506118405033]
[null,null,null,null,null,227,1.0633896354025221]
[null,null,null,null,null,228,1.0789460450568644]
[null,null,null,null,null,229,1.0603472654785733]
[null,null,null,null,null,230,1.0735039539409805]
[null,null,null,null,null,231,1.0710341989015646]
[null,null,null,null,null,232,1.104657998283378]
[null,null,null,null,null,233,1.0758383976606112]
[null,null,null,null,null,234,1.0637582877998077]
[null,null,null,null,null,235,1.060097501324311]
[null,null,null,null,null,236,1.061596877585061]
[null,null,null,null,null,237,1.0961257504999786]
[null,null,null,null,null,238,1.0655183552927328]
[null,null,null,null,null,239,1.0684004117288644]
[null,null,null,null,null,240,1.1118153466452314]
[null,null,null,null,null,241,1.0971476962960443]
[null,null,null,null,null,242,1.0751607414448989]
[null,null,null,null,null,243,1.0687464897254806]
[null,null,null,null,null,244,1.0698350782453034]
[null,null,null,null,null,245,1.080376630794144]
[null,null,null,null,null,246,1.0797232792502256]
[null,null,null,null,null,247,1.1059493067133037]
[null,null,null,null,null,248,1.07103115978551]
[null,null,null,null,null,249,1.0715904024150997]
[null,null,null,null,null,250,1.0799429875910653]
[null,null,null,null,null,251,1.1200542846612167]
[null,null,null,null,null,252,1.0724363890168487]
[null,null,null,null,null,253,1.0776600890315939]
[null,null,null,null,null,254,1.0977593218489727]
[null,null,null,null,null,255,1.0280313885384431]
[null,null,null,null,null,256,1.046434760167698]
[null,null,null,null,null,257,1.048251472681176]
[null,null,null,null,null,258,{"$f":"EXP($B$11-0.5*$B$10^2)+$B$10*_xlfn.NORM.S.INV(RAND())","v":1.0791408894809627}]
[null,null,null,null,null,259,1.0472743745269495]
[null,null,null,null,null,260,1.0612047963800499]
[null,null,null,null,null,261,1.0493172453351645]
[null,null,null,null,null,262,1.0722743763002822]
[null,null,null,null,null,263,1.0978304450023471]
[null,null,null,null,null,264,1.0374700593830628]
[null,null,null,null,null,265,1.0706479219550782]
[null,null,null,null,null,266,1.1095115615618989]
[null,null,null,null,null,267,1.0808667425207115]
[null,null,null,null,null,268,1.0909789582879632]
[null,null,null,null,null,269,1.0583286870196829]
[null,null,null,null,null,270,1.0860705310685022]
[null,null,null,null,null,271,1.0686870409740625]
[null,null,null,null,null,272,1.093371878785445]
[null,null,null,null,null,273,1.0409632372987858]
[null,null,null,null,null,274,1.056552116627528]
[null,null,null,null,null,275,1.0629600656993647]
[null,null,null,null,null,276,1.0982569483733975]
[null,null,null,null,null,277,1.092549805620979]
[null,null,null,null,null,278,1.1081884301956195]
[null,null,null,null,null,279,1.0719315843203854]
[null,null,null,null,null,280,1.1002314419088486]
[null,null,null,null,null,281,1.0633306610276458]
[null,null,null,null,null,282,1.0287392740885124]
[null,null,null,null,null,283,1.0366915979206679]
[null,null,null,null,null,284,1.079125041824883]
[null,null,null,null,null,285,1.0893916778550095]
[null,null,null,null,null,286,1.0554281729259491]
[null,null,null,null,null,287,1.0893910864153331]
[null,null,null,null,null,288,1.0704059251388989]
[null,null,null,null,null,289,1.0919304028611472]
[null,null,null,null,null,290,1.0945196520868146]
[null,null,null,null,null,291,1.0740089964298793]
[null,null,null,null,null,292,1.070372790180717]
[null,null,null,null,null,293,1.0548012649209595]
[null,null,null,null,null,294,1.0895499728327163]
[null,null,null,null,null,295,1.0745899601227606]
[null,null,null,null,null,296,1.0711982930731796]
[null,null,null,null,null,297,1.0315338852083804]
[null,null,null,null,null,298,1.0801181261815904]
[null,null,null,null,null,299,1.0860399348819552]
[null,null,null,null,null,300,1.0894776087235645]
[null,null,null,null,null,301,1.0941596095294768]
[null,null,null,null,null,302,1.0834078097369606]
[null,null,null,null,null,303,1.0578106129874292]
[null,null,null,null,null,304,1.0604676896471594]
[null,null,null,null,null,305,1.0879697989024701]
[null,null,null,null,null,306,1.0838959590583486]
[null,null,null,null,null,307,1.0720717659880208]
[null,null,null,null,null,308,1.0836201783044186]
[null,null,null,null,null,309,1.093803848109749]
[null,null,null,null,null,310,1.0648208706963889]
[null,null,null,null,null,311,1.0671496039691277]
[null,null,null,null,null,312,1.0654155675544572]
[null,null,null,null,null,313,1.0815809401007059]
[null,null,null,null,null,314,1.0407577086863053]
[null,null,null,null,null,315,1.0883749348693752]
[null,null,null,null,null,316,1.0717445254868092]
[null,null,null,null,null,317,1.0560700800694998]
[null,null,null,null,null,318,1.1156857507246973]
[null,null,null,null,null,319,1.0926202631955411]
[null,null,null,null,null,320,1.0410040192031995]
[null,null,null,null,null,321,1.0483122770801241]
[null,null,null,null,null,322,{"$f":"EXP($B$11-0.5*$B$10^2)+$B$10*_xlfn.NORM.S.INV(RAND())","v":1.0874640993508096}]
[null,null,null,null,null,323,1.0529583949888097]
[null,null,null,null,null,324,1.0911541881328255]
[null,null,null,null,null,325,1.0656343058413396]
[null,null,null,null,null,326,1.0719677717863285]
[null,null,null,null,null,327,1.0445586398063473]
[null,null,null,null,null,328,1.0748993792210046]
[null,null,null,null,null,329,1.0847887690169056]
[null,null,null,null,null,330,1.1126343897957951]
[null,null,null,null,null,331,1.0649132132346624]
[null,null,null,null,null,332,1.0788509758377587]
[null,null,null,null,null,333,1.1029853194690382]
[null,null,null,null,null,334,1.1060279435856522]
[null,null,null,null,null,335,1.0697952018500245]
[null,null,null,null,null,336,1.056225890087042]
[null,null,null,null,null,337,1.0813739469361896]
[null,null,null,null,null,338,1.1092376037561]
[null,null,null,null,null,339,1.0564867501030952]
[null,null,null,null,null,340,1.065660282807795]
[null,null,null,null,null,341,1.0827494590053748]
[null,null,null,null,null,342,1.0944425326815599]
[null,null,null,null,null,343,1.0674144439086701]
[null,null,null,null,null,344,1.052264062418061]
[null,null,null,null,null,345,1.0661126045346059]
[null,null,null,null,null,346,1.0444826827097]
[null,null,null,null,null,347,1.0665815354991504]
[null,null,null,null,null,348,1.0658171860367764]
[null,null,null,null,null,349,1.0547118964255853]
[null,null,null,null,null,350,1.058801277750653]
[null,null,null,null,null,351,1.0590061150650412]
[null,null,null,null,null,352,1.1115085020935631]
[null,null,null,null,null,353,1.0568577316562671]
[null,null,null,null,null,354,1.0832549000012508]
[null,null,null,null,null,355,1.0431916130563583]
[null,null,null,null,null,356,1.0726736243959667]
[null,null,null,null,null,357,1.0854919121304483]
[null,null,null,null,null,358,1.1061104878464336]
[null,null,null,null,null,359,1.1194635349111501]
[null,null,null,null,null,360,1.0862055004726969]
[null,null,null,null,null,361,1.0742212599225429]
[null,null,null,null,null,362,1.0943441674180903]
[null,null,null,null,null,363,1.0640328540839612]
[null,null,null,null,null,364,1.0958137885782835]
[null,null,null,null,null,365,1.076610817714718]
[null,null,null,null,null,366,1.096851410138677]
[null,null,null,null,null,367,1.0037917487071477]
[null,null,null,null,null,368,1.0832680214506074]
[null,null,null,null,null,369,1.1101212538328673]
[null,null,null,null,null,370,1.0870581725855555]
[null,null,null,null,null,371,1.0689791769075239]
[null,null,null,null,null,372,1.0683679507249331]
[null,null,null,null,null,373,1.0890686171614492]
[null,null,null,null,null,374,1.0662762042615361]
[null,null,null,null,null,375,1.0945788491771424]
[null,null,null,null,null,376,1.0726259459297431]
[null,null,null,null,null,377,1.0896200067972357]
[null,null,null,null,null,378,1.0316131159816941]
[null,null,null,null,null,379,1.0852850967777938]
[null,null,null,null,null,380,1.0980367727195088]
[null,null,null,null,null,381,1.0566280997890047]
[null,null,null,null,null,382,1.0810389061641601]
[null,null,null,null,null,383,1.0834123354699698]
[null,null,null,null,null,384,1.0545452286199557]
[null,null,null,null,null,385,1.0522206973889374]
[null,null,null,null,null,386,{"$f":"EXP($B$11-0.5*$B$10^2)+$B$10*_xlfn.NORM.S.INV(RAND())","v":1.0857540210142711}]
[null,null,null,null,null,387,1.0697420811543703]
[null,null,null,null,null,388,1.0889100186631824]
[null,null,null,null,null,389,1.0247262129578509]
[null,null,null,null,null,390,1.0648603274717261]
[null,null,null,null,null,391,1.0735596483175278]
[null,null,null,null,null,392,1.0917441612847332]
[null,null,null,null,null,393,1.0927180912668519]
[null,null,null,null,null,394,1.0672372346326657]
[null,null,null,null,null,395,1.058418451127515]
[null,null,null,null,null,396,1.0931193717182577]
[null,null,null,null,null,397,1.0615695971869783]
[null,null,null,null,null,398,1.0803903597249926]
[null,null,null,null,null,399,1.0830708581016584]
[null,null,null,null,null,400,1.0393386311910133]
[null,null,null,null,null,401,1.0813004296829858]
[null,null,null,null,null,402,1.0507180024996161]
[null,null,null,null,null,403,1.0827846412302804]
[null,null,null,null,null,404,1.0684856380878067]
[null,null,null,null,null,405,1.0660347444667588]
[null,null,null,null,null,406,1.0704611057004114]
[null,null,null,null,null,407,1.1293509500623151]
[null,null,null,null,null,408,1.1034205481363966]
[null,null,null,null,null,409,1.0502782443062872]
[null,null,null,null,null,410,1.053875047240896]
[null,null,null,null,null,411,1.0979206388903568]
[null,null,null,null,null,412,1.1039495007758293]
[null,null,null,null,null,413,1.0554782920494474]
[null,null,null,null,null,414,1.0707334454012079]
[null,null,null,null,null,415,1.0841186295383425]
[null,null,null,null,null,416,1.0762260547503653]
[null,null,null,null,null,417,1.0898194755791075]
[null,null,null,null,null,418,1.0581041496999473]
[null,null,null,null,null,419,1.1104742878732845]
[null,null,null,null,null,420,1.0953415924423862]
[null,null,null,null,null,421,1.0857989368779057]
[null,null,null,null,null,422,1.0953548983874017]
[null,null,null,null,null,423,1.076764503011266]
[null,null,null,null,null,424,1.0903911999272071]
[null,null,null,null,null,425,1.0389379153130169]
[null,null,null,null,null,426,1.0799760296615626]
[null,null,null,null,null,427,1.0275696670005365]
[null,null,null,null,null,428,1.0560267442478761]
[null,null,null,null,null,429,1.0204129928806325]
[null,null,null,null,null,430,1.1098410046313498]
[null,null,null,null,null,431,1.0858179805836456]
[null,null,null,null,null,432,1.052408152451713]
[null,null,null,null,null,433,1.0863081983615204]
[null,null,null,null,null,434,1.0858055676086253]
[null,null,null,null,null,435,1.0721208192313709]
[null,null,null,null,null,436,1.1247365970074983]
[null,null,null,null,null,437,1.0830935429636588]
[null,null,null,null,null,438,1.0838762539628675]
[null,null,null,null,null,439,1.12082968755799]
[null,null,null,null,null,440,1.0717574043701799]
[null,null,null,null,null,441,1.0452334386794695]
[null,null,null,null,null,442,1.0417484253505194]
[null,null,null,null,null,443,1.0948128105647867]
[null,null,null,null,null,444,1.0784251583175077]
[null,null,null,null,null,445,1.0645146248814945]
[null,null,null,null,null,446,1.0850571113113656]
[null,null,null,null,null,447,1.0595118077599053]
[null,null,null,null,null,448,1.0820928608245861]
[null,null,null,null,null,449,1.0822709028431039]
[null,null,null,null,null,450,{"$f":"EXP($B$11-0.5*$B$10^2)+$B$10*_xlfn.NORM.S.INV(RAND())","v":1.0821519446434711}]
[null,null,null,null,null,451,1.101602824031412]
[null,null,null,null,null,452,1.0424017940814019]
[null,null,null,null,null,453,1.0779180503591639]
[null,null,null,null,null,454,1.0804143047686694]
[null,null,null,null,null,455,1.0975456706548015]
[null,null,null,null,null,456,1.0315946906250868]
[null,null,null,null,null,457,1.0605700275693601]
[null,null,null,null,null,458,1.0675143065846235]
[null,null,null,null,null,459,1.0667238534604617]
[null,null,null,null,null,460,1.0484141025123561]
[null,null,null,null,null,461,1.0806738225092603]
[null,null,null,null,null,462,1.0916566344229832]
[null,null,null,null,null,463,1.0675226659635229]
[null,null,null,null,null,464,1.0931057265605313]
[null,null,null,null,null,465,1.082781560055414]
[null,null,null,null,null,466,1.0810020740022666]
[null,null,null,null,null,467,1.0582717899544773]
[null,null,null,null,null,468,1.0859845322017407]
[null,null,null,null,null,469,1.0811881927648221]
[null,null,null,null,null,470,1.0692153702829024]
[null,null,null,null,null,471,1.0380349504869264]
[null,null,null,null,null,472,1.0933662986358319]
[null,null,null,null,null,473,1.0912736873186337]
[null,null,null,null,null,474,1.0475518126922165]
[null,null,null,null,null,475,1.0679227917386021]
[null,null,null,null,null,476,1.0826058558234497]
[null,null,null,null,null,477,1.0830897141368403]
[null,null,null,null,null,478,1.0762534834621162]
[null,null,null,null,null,479,1.1087771227699255]
[null,null,null,null,null,480,1.0328128156864411]
[null,null,null,null,null,481,1.0606641249525877]
[null,null,null,null,null,482,1.0690091532650172]
[null,null,null,null,null,483,1.0594395148043836]
[null,null,null,null,null,484,1.0572878802181875]
[null,null,null,null,null,485,1.0820943805759324]
[null,null,null,null,null,486,1.0446375676689326]
[null,null,null,null,null,487,1.0623429575920249]
[null,null,null,null,null,488,1.0527009046982356]
[null,null,null,null,null,489,1.1041475091371857]
[null,null,null,null,null,490,1.0860757237446157]
[null,null,null,null,null,491,1.0982679743574153]
[null,null,null,null,null,492,1.1148250546616298]
[null,null,null,null,null,493,1.0887656841983289]
[null,null,null,null,null,494,1.0678550636201074]
[null,null,null,null,null,495,1.0944131168796676]
[null,null,null,null,null,496,1.0684921502246973]
[null,null,null,null,null,497,1.075893784294196]
[null,null,null,null,null,498,1.0732723280732495]
[null,null,null,null,null,499,1.0574306114611882]
[null,null,null,null,null,500,1.0969609665946383]
[null,null,null,null,null,501,1.0794073718040871]
[null,null,null,null,null,502,1.0757770070526169]
[null,null,null,null,null,503,1.0384983502184921]
[null,null,null,null,null,504,1.0721329662473129]
[null,null,null,null,null,505,1.0574322316731024]
[null,null,null,null,null,506,1.1118216181950316]
[null,null,null,null,null,507,1.0540266201183124]
[null,null,null,null,null,508,1.0898956396444628]
[null,null,null,null,null,509,1.0619447907549735]
[null,null,null,null,null,510,1.0783895176223957]
[null,null,null,null,null,511,1.0489102386499245]
[null,null,null,null,null,512,1.0717702569666732]
[null,null,null,null,null,513,1.0975454894560945]
[null,null,null,null,null,514,{"$f":"EXP($B$11-0.5*$B$10^2)+$B$10*_xlfn.NORM.S.INV(RAND())","v":1.0403333822771708}]
[null,null,null,null,null,515,1.0822591603324228]
[null,null,null,null,null,516,1.0556829169660817]
[null,null,null,null,null,517,1.1124310421374601]
[null,null,null,null,null,518,1.1073074164480496]
[null,null,null,null,null,519,1.0920948284391074]
[null,null,null,null,null,520,1.0598025093552617]
[null,null,null,null,null,521,1.0508661341413543]
[null,null,null,null,null,522,1.0790717224852404]
[null,null,null,null,null,523,1.1059124639300695]
[null,null,null,null,null,524,1.1191750895177484]
[null,null,null,null,null,525,1.1076422680397808]
[null,null,null,null,null,526,1.1044069445791631]
[null,null,null,null,null,527,1.0799090731945171]
[null,null,null,null,null,528,1.0752193926573526]
[null,null,null,null,null,529,1.0772215038145649]
[null,null,null,null,null,530,1.0507421126919876]
[null,null,null,null,null,531,1.086954820905035]
[null,null,null,null,null,532,1.0637577298477918]
[null,null,null,null,null,533,1.0300497894582721]
[null,null,null,null,null,534,1.0691988112886599]
[null,null,null,null,null,535,1.070947263933125]
[null,null,null,null,null,536,1.0577207587098076]
[null,null,null,null,null,537,1.0863504074632264]
[null,null,null,null,null,538,1.0636335238233996]
[null,null,null,null,null,539,1.1076755516169925]
[null,null,null,null,null,540,1.0785505007015641]
[null,null,null,null,null,541,1.0700253233157935]
[null,null,null,null,null,542,1.06584284891064]
[null,null,null,null,null,543,1.0988364790299445]
[null,null,null,null,null,544,1.0588182369358914]
[null,null,null,null,null,545,1.0839309905856054]
[null,null,null,null,null,546,1.1066105777631952]
[null,null,null,null,null,547,1.0573790434115853]
[null,null,null,null,null,548,1.0556600720142597]
[null,null,null,null,null,549,1.0857921265335906]
[null,null,null,null,null,550,1.0885880403821375]
[null,null,null,null,null,551,1.0602014036004483]
[null,null,null,null,null,552,1.0887199871154287]
[null,null,null,null,null,553,1.0547467692026824]
[null,null,null,null,null,554,1.0896153282397805]
[null,null,null,null,null,555,1.1153963583717892]
[null,null,null,null,null,556,1.0474382547744643]
[null,null,null,null,null,557,1.1059571672510837]
[null,null,null,null,null,558,1.0684466929978798]
[null,null,null,null,null,559,1.0589118399654227]
[null,null,null,null,null,560,1.0814066321174363]
[null,null,null,null,null,561,1.0818223336095332]
[null,null,null,null,null,562,1.0646700693010513]
[null,null,null,null,null,563,1.0774365880272714]
[null,null,null,null,null,564,1.0813307276784467]
[null,null,null,null,null,565,1.0574839598112507]
[null,null,null,null,null,566,1.0818833498139258]
[null,null,null,null,null,567,1.0646409056304922]
[null,null,null,null,null,568,1.0764962641937967]
[null,null,null,null,null,569,1.1145079825746813]
[null,null,null,null,null,570,1.1097922580333397]
[null,null,null,null,null,571,1.0642420729163493]
[null,null,null,null,null,572,1.0838641364422401]
[null,null,null,null,null,573,1.0781094366518735]
[null,null,null,null,null,574,1.0593563923545339]
[null,null,null,null,null,575,1.0880696312270284]
[null,null,null,null,null,576,1.0867976869993532]
[null,null,null,null,null,577,1.0737915949979806]
[null,null,null,null,null,578,{"$f":"EXP($B$11-0.5*$B$10^2)+$B$10*_xlfn.NORM.S.INV(RAND())","v":1.1037788648569768}]
[null,null,null,null,null,579,1.0800804494968241]
[null,null,null,null,null,580,1.0504670394019582]
[null,null,null,null,null,581,1.1287249136128683]
[null,null,null,null,null,582,1.0672649211954928]
[null,null,null,null,null,583,1.11407247881704]
[null,null,null,null,null,584,1.0951709495932969]
[null,null,null,null,null,585,1.1041690295818061]
[null,null,null,null,null,586,1.0720358071464895]
[null,null,null,null,null,587,1.0536184608491124]
[null,null,null,null,null,588,1.0805452392587607]
[null,null,null,null,null,589,1.1272018520268299]
[null,null,null,null,null,590,1.0561362813957738]
[null,null,null,null,null,591,1.0844921710965145]
[null,null,null,null,null,592,1.0363153595357317]
[null,null,null,null,null,593,1.1082431936972545]
[null,null,null,null,null,594,1.0646957890833673]
[null,null,null,null,null,595,1.1177503996694702]
[null,null,null,null,null,596,1.0598717405970217]
[null,null,null,null,null,597,1.1254688168460174]
[null,null,null,null,null,598,1.0926015771934412]
[null,null,null,null,null,599,1.1134258681218852]
[null,null,null,null,null,600,1.0881474609146478]
[null,null,null,null,null,601,1.0754614678875876]
[null,null,null,null,null,602,1.0825909839492722]
[null,null,null,null,null,603,1.0490480904045052]
[null,null,null,null,null,604,1.1006649875133856]
[null,null,null,null,null,605,1.0829766145643733]
[null,null,null,null,null,606,1.1097250379076975]
[null,null,null,null,null,607,1.0954036488483427]
[null,null,null,null,null,608,1.0655661223550899]
[null,null,null,null,null,609,1.1041412649540374]
[null,null,null,null,null,610,1.0543709048139158]
[null,null,null,null,null,611,1.0801321933814092]
[null,null,null,null,null,612,1.1215388296587314]
[null,null,null,null,null,613,1.0540967489862378]
[null,null,null,null,null,614,1.0569352956914349]
[null,null,null,null,null,615,1.0797584678788026]
[null,null,null,null,null,616,1.0877530797048034]
[null,null,null,null,null,617,1.0467605731551992]
[null,null,null,null,null,618,1.0599437524204072]
[null,null,null,null,null,619,1.0836186188785428]
[null,null,null,null,null,620,1.0312529184834596]
[null,null,null,null,null,621,1.0440222634352627]
[null,null,null,null,null,622,1.0389977902874781]
[null,null,null,null,null,623,1.0648242809465744]
[null,null,null,null,null,624,1.0711034896782654]
[null,null,null,null,null,625,1.0860404191849293]
[null,null,null,null,null,626,1.0652573276438784]
[null,null,null,null,null,627,1.0782830319322632]
[null,null,null,null,null,628,1.0793486113164452]
[null,null,null,null,null,629,1.070689265646493]
[null,null,null,null,null,630,1.0774155144170203]
[null,null,null,null,null,631,1.0442286210770235]
[null,null,null,null,null,632,1.0644967434961614]
[null,null,null,null,null,633,1.0882306527736214]
[null,null,null,null,null,634,1.0731488749877756]
[null,null,null,null,null,635,1.0528054744002093]
[null,null,null,null,null,636,1.0367379379840034]
[null,null,null,null,null,637,1.0671672843035998]
[null,null,null,null,null,638,1.0708993185269182]
[null,null,null,null,null,639,1.050839592364466]
[null,null,null,null,null,640,1.0519940681680342]
[null,null,null,null,null,641,1.0729396762997996]
[null,null,null,null,null,642,{"$f":"EXP($B$11-0.5*$B$10^2)+$B$10*_xlfn.NORM.S.INV(RAND())","v":1.0778680199965058}]
[null,null,null,null,null,643,1.0623542103612247]
[null,null,null,null,null,644,1.0785006404995539]
[null,null,null,null,null,645,1.0852961263730059]
[null,null,null,null,null,646,1.0318120792214107]
[null,null,null,null,null,647,1.061105692084954]
[null,null,null,null,null,648,1.0810447736647395]
[null,null,null,null,null,649,1.0551959746722739]
[null,null,null,null,null,650,1.0536878874608966]
[null,null,null,null,null,651,1.0903813564509395]
[null,null,null,null,null,652,1.076336260109561]
[null,null,null,null,null,653,1.044957128248998]
[null,null,null,null,null,654,1.1079234362691956]
[null,null,null,null,null,655,1.0745294378832355]
[null,null,null,null,null,656,1.0629502660807761]
[null,null,null,null,null,657,1.0996114291974839]
[null,null,null,null,null,658,1.0740191039987146]
[null,null,null,null,null,659,1.0674189024194169]
[null,null,null,null,null,660,1.0905250365851558]
[null,null,null,null,null,661,1.1127540869893509]
[null,null,null,null,null,662,1.0801432067433969]
[null,null,null,null,null,663,1.0416807750035948]
[null,null,null,null,null,664,1.0743579737974698]
[null,null,null,null,null,665,1.0545765773367857]
[null,null,null,null,null,666,1.0785859268571945]
[null,null,null,null,null,667,1.0868913274557708]
[null,null,null,null,null,668,1.1202176371519648]
[null,null,null,null,null,669,1.0768702995289496]
[null,null,null,null,null,670,1.0891139201385085]
[null,null,null,null,null,671,1.0811670463506833]
[null,null,null,null,null,672,1.0694243211932943]
[null,null,null,null,null,673,1.0973721332644015]
[null,null,null,null,null,674,1.0873629491122938]
[null,null,null,null,null,675,1.0505182529384571]
[null,null,null,null,null,676,1.0833517633502776]
[null,null,null,null,null,677,1.0672528759777211]
[null,null,null,null,null,678,1.0809038888433919]
[null,null,null,null,null,679,1.0671411258617554]
[null,null,null,null,null,680,1.0837893976724919]
[null,null,null,null,null,681,1.0628282683020389]
[null,null,null,null,null,682,1.0448094471546667]
[null,null,null,null,null,683,1.0554828127791267]
[null,null,null,null,null,684,1.0757655616504092]
[null,null,null,null,null,685,1.0852199455511051]
[null,null,null,null,null,686,1.1121449520157802]
[null,null,null,null,null,687,1.083012418871907]
[null,null,null,null,null,688,1.0792128673189409]
[null,null,null,null,null,689,1.048147479543819]
[null,null,null,null,null,690,1.098252816683752]
[null,null,null,null,null,691,1.0869894212569775]
[null,null,null,null,null,692,1.0805720957696521]
[null,null,null,null,null,693,1.0602006394369288]
[null,null,null,null,null,694,1.0805771878478438]
[null,null,null,null,null,695,1.0668655684532988]
[null,null,null,null,null,696,1.0954782081466132]
[null,null,null,null,null,697,1.0444781908686864]
[null,null,null,null,null,698,1.0761158221360811]
[null,null,null,null,null,699,1.0786778743645302]
[null,null,null,null,null,700,1.0815152529077277]
[null,null,null,null,null,701,1.0593419130409001]
[null,null,null,null,null,702,1.0622878829662012]
[null,null,null,null,null,703,1.0911767822742118]
[null,null,null,null,null,704,1.0571894485583904]
[null,null,null,null,null,705,1.0482172269768897]
[null,null,null,null,null,706,{"$f":"EXP($B$11-0.5*$B$10^2)+$B$10*_xlfn.NORM.S.INV(RAND())","v":1.1077189989041065}]
[null,null,null,null,null,707,1.0718644047048751]
[null,null,null,null,null,708,1.0859115750807262]
[null,null,null,null,null,709,1.118717729248651]
[null,null,null,null,null,710,1.0709602365055526]
[null,null,null,null,null,711,1.0631986846424251]
[null,null,null,null,null,712,1.0945026270629381]
[null,null,null,null,null,713,1.0632483091991773]
[null,null,null,null,null,714,1.0779052077955229]
[null,null,null,null,null,715,1.0895571983765997]
[null,null,null,null,null,716,1.0394526059152311]
[null,null,null,null,null,717,1.0839088364533469]
[null,null,null,null,null,718,1.089309548377897]
[null,null,null,null,null,719,1.0795694449103153]
[null,null,null,null,null,720,1.0697807822061753]
[null,null,null,null,null,721,1.0839450782601932]
[null,null,null,null,null,722,1.0389520921673885]
[null,null,null,null,null,723,1.1061315008050463]
[null,null,null,null,null,724,1.0693635748131631]
[null,null,null,null,null,725,1.1027836726096838]
[null,null,null,null,null,726,1.0784080089455055]
[null,null,null,null,null,727,1.0780820031243326]
[null,null,null,null,null,728,1.0988827679200015]
[null,null,null,null,null,729,1.0638752718842939]
[null,null,null,null,null,730,1.0734905477907228]
[null,null,null,null,null,731,1.0850358606567505]
[null,null,null,null,null,732,1.0661289552483399]
[null,null,null,null,null,733,1.0938543987819003]
[null,null,null,null,null,734,1.0522586942248551]
[null,null,null,null,null,735,1.0773566251302782]
[null,null,null,null,null,736,1.0917861814645653]
[null,null,null,null,null,737,1.0858916815446831]
[null,null,null,null,null,738,1.0852535169697874]
[null,null,null,null,null,739,1.1066007633033332]
[null,null,null,null,null,740,1.0791574581452659]
[null,null,null,null,null,741,1.1145145442537021]
[null,null,null,null,null,742,1.1016153134618891]
[null,null,null,null,null,743,1.0521911158159776]
[null,null,null,null,null,744,1.0965771985527897]
[null,null,null,null,null,745,1.0633303498969346]
[null,null,null,null,null,746,1.093383839305579]
[null,null,null,null,null,747,1.0715291325294005]
[null,null,null,null,null,748,1.0838105303300927]
[null,null,null,null,null,749,1.0426165894080222]
[null,null,null,null,null,750,1.052615821966397]
[null,null,null,null,null,751,1.0737055826730186]
[null,null,null,null,null,752,1.0545864033118082]
[null,null,null,null,null,753,1.0967707274402185]
[null,null,null,null,null,754,1.0873085223165073]
[null,null,null,null,null,755,1.0941943665658449]
[null,null,null,null,null,756,1.0919253450581896]
[null,null,null,null,null,757,1.089040196427465]
[null,null,null,null,null,758,1.111062367746994]
[null,null,null,null,null,759,1.0927880547429574]
[null,null,null,null,null,760,1.0796171411067581]
[null,null,null,null,null,761,1.0483824344355892]
[null,null,null,null,null,762,1.1030742400833278]
[null,null,null,null,null,763,1.0774732042494919]
[null,null,null,null,null,764,1.0834441954017622]
[null,null,null,null,null,765,1.0585261434153648]
[null,null,null,null,null,766,1.1011546084977462]
[null,null,null,null,null,767,1.0809984712529559]
[null,null,null,null,null,768,1.0650890036459884]
[null,null,null,null,null,769,1.1022146273011011]
[null,null,null,null,null,770,{"$f":"EXP($B$11-0.5*$B$10^2)+$B$10*_xlfn.NORM.S.INV(RAND())","v":1.0458006148822585}]
[null,null,null,null,null,771,1.1126903315807066]
[null,null,null,null,null,772,1.0856010506112133]
[null,null,null,null,null,773,1.0937999552420172]
[null,null,null,null,null,774,1.0929552014190089]
[null,null,null,null,null,775,1.0698738223270652]
[null,null,null,null,null,776,1.0673323835255863]
[null,null,null,null,null,777,1.0952884156929927]
[null,null,null,null,null,778,1.0531190492113625]
[null,null,null,null,null,779,1.065407308177182]
[null,null,null,null,null,780,1.0412959449647998]
[null,null,null,null,null,781,1.0960325180745907]
[null,null,null,null,null,782,1.0920872456317179]
[null,null,null,null,null,783,1.097272049298937]
[null,null,null,null,null,784,1.0646363273568378]
[null,null,null,null,null,785,1.0581722181206576]
[null,null,null,null,null,786,1.096928069996105]
[null,null,null,null,null,787,1.1045641918082496]
[null,null,null,null,null,788,1.1027812429447599]
[null,null,null,null,null,789,1.0830419034717285]
[null,null,null,null,null,790,1.0918266059888]
[null,null,null,null,null,791,1.0912082168483945]
[null,null,null,null,null,792,1.0763004654112993]
[null,null,null,null,null,793,1.1011601433302316]
[null,null,null,null,null,794,1.0522702830525295]
[null,null,null,null,null,795,1.0743289860009013]
[null,null,null,null,null,796,1.0789937576591457]
[null,null,null,null,null,797,1.0850384443897243]
[null,null,null,null,null,798,1.0676013982283883]
[null,null,null,null,null,799,1.0512232425004582]
[null,null,null,null,null,800,1.0611841975513976]
[null,null,null,null,null,801,1.0818026572502917]
[null,null,null,null,null,802,1.0818276159357447]
[null,null,null,null,null,803,1.0933136205535183]
[null,null,null,null,null,804,1.0799205786023904]
[null,null,null,null,null,805,1.0649151765489202]
[null,null,null,null,null,806,1.0795922252127841]
[null,null,null,null,null,807,1.092440839041005]
[null,null,null,null,null,808,1.098441040730243]
[null,null,null,null,null,809,1.0633427789995027]
[null,null,null,null,null,810,1.0715299555915589]
[null,null,null,null,null,811,1.0934137087913038]
[null,null,null,null,null,812,1.077902833674069]
[null,null,null,null,null,813,1.0662608851578514]
[null,null,null,null,null,814,1.0944284791871888]
[null,null,null,null,null,815,1.0707078947883082]
[null,null,null,null,null,816,1.0687760538100257]
[null,null,null,null,null,817,1.03662891195206]
[null,null,null,null,null,818,1.0860839288648323]
[null,null,null,null,null,819,1.0802166364041312]
[null,null,null,null,null,820,1.0672808270398031]
[null,null,null,null,null,821,1.058841617326389]
[null,null,null,null,null,822,1.0811009295331726]
[null,null,null,null,null,823,1.0752983383678012]
[null,null,null,null,null,824,1.1082946142772494]
[null,null,null,null,null,825,1.0666103879995934]
[null,null,null,null,null,826,1.0857660792818036]
[null,null,null,null,null,827,1.0600251422454081]
[null,null,null,null,null,828,1.0560605481605678]
[null,null,null,null,null,829,1.0588221596386265]
[null,null,null,null,null,830,1.0726771522375027]
[null,null,null,null,null,831,1.0897056277790618]
[null,null,null,null,null,832,1.0814154936554041]
[null,null,null,null,null,833,1.0578525074127438]
[null,null,null,null,null,834,{"$f":"EXP($B$11-0.5*$B$10^2)+$B$10*_xlfn.NORM.S.INV(RAND())","v":1.0807984593935129}]
[null,null,null,null,null,835,1.0694244325386633]
[null,null,null,null,null,836,1.0731310325636356]
[null,null,null,null,null,837,1.0827894932069435]
[null,null,null,null,null,838,1.0867878361505563]
[null,null,null,null,null,839,1.0721659321418748]
[null,null,null,null,null,840,1.0609890176373016]
[null,null,null,null,null,841,1.0548378143573587]
[null,null,null,null,null,842,1.076693816241975]
[null,null,null,null,null,843,1.0908754413455872]
[null,null,null,null,null,844,1.0691344434043304]
[null,null,null,null,null,845,1.0762571661000708]
[null,null,null,null,null,846,1.0658096256878276]
[null,null,null,null,null,847,1.0831327202397232]
[null,null,null,null,null,848,1.0757792725513373]
[null,null,null,null,null,849,1.0794476058574518]
[null,null,null,null,null,850,1.1003175780797334]
[null,null,null,null,null,851,1.0937705798830009]
[null,null,null,null,null,852,1.0730459505958214]
[null,null,null,null,null,853,1.0786967541714572]
[null,null,null,null,null,854,1.0812168996735771]
[null,null,null,null,null,855,1.0974140237876431]
[null,null,null,null,null,856,1.0792812528329725]
[null,null,null,null,null,857,1.0394157869440148]
[null,null,null,null,null,858,1.1234847748976482]
[null,null,null,null,null,859,1.0359398892881149]
[null,null,null,null,null,860,1.0334419928264413]
[null,null,null,null,null,861,1.0776648121546917]
[null,null,null,null,null,862,1.0472691036392283]
[null,null,null,null,null,863,1.084096308031711]
[null,null,null,null,null,864,1.0633446227606889]
[null,null,null,null,null,865,1.0902287718955652]
[null,null,null,null,null,866,1.0554122247629341]
[null,null,null,null,null,867,1.0856660775215468]
[null,null,null,null,null,868,1.0711853062860346]
[null,null,null,null,null,869,1.0919459234737883]
[null,null,null,null,null,870,1.073948635685656]
[null,null,null,null,null,871,1.0734279749350553]
[null,null,null,null,null,872,1.064706945102553]
[null,null,null,null,null,873,1.0842372648360619]
[null,null,null,null,null,874,1.0810297876132027]
[null,null,null,null,null,875,1.0461487536409728]
[null,null,null,null,null,876,1.101812865402765]
[null,null,null,null,null,877,1.0625426566772975]
[null,null,null,null,null,878,1.0721293598986601]
[null,null,null,null,null,879,1.0888662775328624]
[null,null,null,null,null,880,1.0887191105815253]
[null,null,null,null,null,881,1.0515206710067224]
[null,null,null,null,null,882,1.1066822719128813]
[null,null,null,null,null,883,1.0864396391655753]
[null,null,null,null,null,884,1.0550869419924505]
[null,null,null,null,null,885,1.0865775684804135]
[null,null,null,null,null,886,1.0815373881094736]
[null,null,null,null,null,887,1.1124975228738039]
[null,null,null,null,null,888,1.1148081754071886]
[null,null,null,null,null,889,1.0772471761049112]
[null,null,null,null,null,890,1.0452208225749824]
[null,null,null,null,null,891,1.1006218712609421]
[null,null,null,null,null,892,1.081891099367845]
[null,null,null,null,null,893,1.1040914440338592]
[null,null,null,null,null,894,1.0542382556378076]
[null,null,null,null,null,895,1.0951063210219254]
[null,null,null,null,null,896,1.0898412176154082]
[null,null,null,null,null,897,1.0769760946191125]
[null,null,null,null,null,898,{"$f":"EXP($B$11-0.5*$B$10^2)+$B$10*_xlfn.NORM.S.INV(RAND())","v":1.0587673577864862}]
[null,null,null,null,null,899,1.095674303424218]
[null,null,null,null,null,900,1.0512854566515153]
[null,null,null,null,null,901,1.0546216295959607]
[null,null,null,null,null,902,1.07686272240786]
[null,null,null,null,null,903,1.0639390237247159]
[null,null,null,null,null,904,1.0609105043728833]
[null,null,null,null,null,905,1.0740257002237066]
[null,null,null,null,null,906,1.066876952226552]
[null,null,null,null,null,907,1.0827818996586931]
[null,null,null,null,null,908,1.0903476127875573]
[null,null,null,null,null,909,1.1081668765661545]
[null,null,null,null,null,910,1.0658056947326378]
[null,null,null,null,null,911,1.0601757616135119]
[null,null,null,null,null,912,1.0692366298833225]
[null,null,null,null,null,913,1.099129958035445]
[null,null,null,null,null,914,1.0900820218988723]
[null,null,null,null,null,915,1.046865222905291]
[null,null,null,null,null,916,1.0685216493139502]
[null,null,null,null,null,917,1.0793200218166912]
[null,null,null,null,null,918,1.0864360870627283]
[null,null,null,null,null,919,1.0739882676944983]
[null,null,null,null,null,920,1.0623954453919338]
[null,null,null,null,null,921,1.0895703720727998]
[null,null,null,null,null,922,1.0967636316393594]
[null,null,null,null,null,923,1.0691825542764855]
[null,null,null,null,null,924,1.0678629690183408]
[null,null,null,null,null,925,1.1070703417329695]
[null,null,null,null,null,926,1.0903043195543058]
[null,null,null,null,null,927,1.0695653422818268]
[null,null,null,null,null,928,1.0726305342659599]
[null,null,null,null,null,929,1.0921069069102587]
[null,null,null,null,null,930,1.0789476724422211]
[null,null,null,null,null,931,1.1137793575248645]
[null,null,null,null,null,932,1.0708447520708657]
[null,null,null,null,null,933,1.0839293656251932]
[null,null,null,null,null,934,1.069352582289349]
[null,null,null,null,null,935,1.0704858761781575]
[null,null,null,null,null,936,1.1095853432611837]
[null,null,null,null,null,937,1.0861800669205595]
[null,null,null,null,null,938,1.0552032947431804]
[null,null,null,null,null,939,1.0739157938551331]
[null,null,null,null,null,940,1.1158486616218746]
[null,null,null,null,null,941,1.076394035088996]
[null,null,null,null,null,942,1.0529196852229878]
[null,null,null,null,null,943,1.0400734955740418]
[null,null,null,null,null,944,1.0750240730706868]
[null,null,null,null,null,945,1.0793577699363432]
[null,null,null,null,null,946,1.0891582875651216]
[null,null,null,null,null,947,1.0576212392868327]
[null,null,null,null,null,948,1.0664246824287311]
[null,null,null,null,null,949,1.0995969111660373]
[null,null,null,null,null,950,1.0817989355866164]
[null,null,null,null,null,951,1.0836722445749023]
[null,null,null,null,null,952,1.0596490881075091]
[null,null,null,null,null,953,1.0859767342117086]
[null,null,null,null,null,954,1.071935263074107]
[null,null,null,null,null,955,1.0579240785912221]
[null,null,null,null,null,956,1.0807376832982605]
[null,null,null,null,null,957,1.0896560605296262]
[null,null,null,null,null,958,1.0802548924900468]
[null,null,null,null,null,959,1.0589662237889093]
[null,null,null,null,null,960,1.0860830609751593]
[null,null,null,null,null,961,1.1067932151690978]
[null,null,null,null,null,962,{"$f":"EXP($B$11-0.5*$B$10^2)+$B$10*_xlfn.NORM.S.INV(RAND())","v":1.0446311001027113}]
[null,null,null,null,null,963,1.091279822709623]
[null,null,null,null,null,964,1.0671798109941846]
[null,null,null,null,null,965,1.0480152417534911]
[null,null,null,null,null,966,1.0738803690587124]
[null,null,null,null,null,967,1.090424631506633]
[null,null,null,null,null,968,1.0628431295442389]
[null,null,null,null,null,969,1.0797169740599588]
[null,null,null,null,null,970,1.0580545348397334]
[null,null,null,null,null,971,1.0744481195297426]
[null,null,null,null,null,972,1.042934676455759]
[null,null,null,null,null,973,1.0458061220884809]
[null,null,null,null,null,974,1.0749018296771475]
[null,null,null,null,null,975,1.0620546407057889]
[null,null,null,null,null,976,1.0978963745868004]
[null,null,null,null,null,977,1.0700140068611279]
[null,null,null,null,null,978,1.1168304032546597]
[null,null,null,null,null,979,1.0898932458003321]
[null,null,null,null,null,980,1.0810482211761894]
[null,null,null,null,null,981,1.0646320586234481]
[null,null,null,null,null,982,1.1022893072643463]
[null,null,null,null,null,983,1.0930185110450157]
[null,null,null,null,null,984,1.0564532125714532]
[null,null,null,null,null,985,1.1000375504121116]
[null,null,null,null,null,986,1.0976545720196138]
[null,null,null,null,null,987,1.1253492170465098]
[null,null,null,null,null,988,1.0603749163544842]
[null,null,null,null,null,989,1.0815125872735509]
[null,null,null,null,null,990,1.0723573556842714]
[null,null,null,null,null,991,1.0800116660745445]
[null,null,null,null,null,992,1.0476496623965337]
[null,null,null,null,null,993,1.0797012394587109]
[null,null,null,null,null,994,1.0910311894880589]
[null,null,null,null,null,995,1.0519540973370767]
[null,null,null,null,null,996,1.0758064719125116]
[null,null,null,null,null,997,1.0778881938679672]
[null,null,null,null,null,998,1.0556001702665097]
[null,null,null,null,null,999,1.104063630743118]
[null,null,null,null,null,1000,1.1052954267322248]
[null,null,null,null,null,1001,1.0656227097597468]
[null,null,null,null,null,1002,1.0382738967928589]
[null,null,null,null,null,1003,1.0608128994204289]
[null,null,null,null,null,1004,1.075205324708054]
[null,null,null,null,null,1005,1.0685786963403958]
[null,null,null,null,null,1006,1.1070212724262327]
[null,null,null,null,null,1007,1.0815794954917721]
[null,null,null,null,null,1008,1.0834844689286982]
[null,null,null,null,null,1009,1.0907577737598184]
[null,null,null,null,null,1010,1.0923378542097488]
[null,null,null,null,null,1011,1.1043418595524621]
[null,null,null,null,null,1012,1.0702244761659194]
[null,null,null,null,null,1013,1.0915741425262362]
[null,null,null,null,null,1014,1.1227621393524119]
[null,null,null,null,null,1015,1.0548024952767903]
[null,null,null,null,null,1016,1.0479247204833082]
[null,null,null,null,null,1017,1.089078916534427]
[null,null,null,null,null,1018,1.0748549993493595]
[null,null,null,null,null,1019,1.0980654445218359]
[null,null,null,null,null,1020,1.0719274249759516]
[null,null,null,null,null,1021,1.0879095809916894]
[null,null,null,null,null,1022,1.0753501551107578]
[null,null,null,null,null,1023,1.0744925176149089]
[null,null,null,null,null,1024,1.0683426148701878]
[null,null,null,null,null,1025,1.0576085323173006]
[null,null,null,null,null,1026,{"$f":"EXP($B$11-0.5*$B$10^2)+$B$10*_xlfn.NORM.S.INV(RAND())","v":1.1075635753537898}]
[null,null,null,null,null,1027,1.0950599282470972]
[null,null,null,null,null,1028,1.0849169280572657]
[null,null,null,null,null,1029,1.0717877110742884]
[null,null,null,null,null,1030,1.0803878805777252]
[null,null,null,null,null,1031,1.0128478434375809]
[null,null,null,null,null,1032,1.0700805013157808]
[null,null,null,null,null,1033,1.0624730891821637]
[null,null,null,null,null,1034,1.1104052804389817]
[null,null,null,null,null,1035,1.057051479562459]
[null,null,null,null,null,1036,1.0486824456920247]
[null,null,null,null,null,1037,1.0619459315299051]
[null,null,null,null,null,1038,1.0696494541000907]
[null,null,null,null,null,1039,1.0949273381106255]
[null,null,null,null,null,1040,1.1033610958055162]
[null,null,null,null,null,1041,1.0805466704103099]
[null,null,null,null,null,1042,1.0533986837106668]
[null,null,null,null,null,1043,1.0847743775477074]
[null,null,null,null,null,1044,1.0693662009359393]
[null,null,null,null,null,1045,1.0865851283658863]
[null,null,null,null,null,1046,1.0442757435710297]
[null,null,null,null,null,1047,1.0867053242729008]
[null,null,null,null,null,1048,1.0688940733432182]
[null,null,null,null,null,1049,1.0873304061056959]
[null,null,null,null,null,1050,1.0737202065252955]
[null,null,null,null,null,1051,1.0232353696610075]
[null,null,null,null,null,1052,1.0919484462039226]
[null,null,null,null,null,1053,1.0761807392044687]
[null,null,null,null,null,1054,1.0972091134679092]
[null,null,null,null,null,1055,1.0917094115622856]
[null,null,null,null,null,1056,1.0541143772845594]
[null,null,null,null,null,1057,1.0542765725078493]
[null,null,null,null,null,1058,1.0907525012183874]
[null,null,null,null,null,1059,1.0923370488791766]
[null,null,null,null,null,1060,1.0981629271993316]
[null,null,null,null,null,1061,1.089339016338009]
[null,null,null,null,null,1062,1.0740594043665981]
[null,null,null,null,null,1063,1.0862438611903491]
[null,null,null,null,null,1064,1.0913534174825763]
[null,null,null,null,null,1065,1.0352083328255981]
[null,null,null,null,null,1066,1.0870330375314694]
[null,null,null,null,null,1067,1.0539752953777834]
[null,null,null,null,null,1068,1.0802379813152783]
[null,null,null,null,null,1069,1.0701333678971616]
[null,null,null,null,null,1070,1.0705419055654108]
[null,null,null,null,null,1071,1.0233857204831827]
[null,null,null,null,null,1072,1.1231174587442299]
[null,null,null,null,null,1073,1.0738480836518267]
[null,null,null,null,null,1074,1.1070184305856956]
[null,null,null,null,null,1075,1.0739959101723662]
[null,null,null,null,null,1076,1.0837120824375641]
[null,null,null,null,null,1077,1.1283978928201404]
[null,null,null,null,null,1078,1.0870897815703027]
[null,null,null,null,null,1079,1.0918490722358707]
[null,null,null,null,null,1080,1.0881635748475693]
[null,null,null,null,null,1081,1.0491156137473661]
[null,null,null,null,null,1082,1.0835171696509958]
[null,null,null,null,null,1083,1.0564310266499113]
[null,null,null,null,null,1084,1.070970023110424]
[null,null,null,null,null,1085,1.0701984273188014]
[null,null,null,null,null,1086,1.0715432542596808]
[null,null,null,null,null,1087,1.0881022427875831]
[null,null,null,null,null,1088,1.0801717318327173]
[null,null,null,null,null,1089,1.0624044588957795]
[null,null,null,null,null,1090,{"$f":"EXP($B$11-0.5*$B$10^2)+$B$10*_xlfn.NORM.S.INV(RAND())","v":1.0769577440854883}]
[null,null,null,null,null,1091,1.0965961875025478]
[null,null,null,null,null,1092,1.0827550796471495]
[null,null,null,null,null,1093,1.0721934973064378]
[null,null,null,null,null,1094,1.0722996248397914]
[null,null,null,null,null,1095,1.0744513952168004]
[null,null,null,null,null,1096,1.0934942008920743]
[null,null,null,null,null,1097,1.0929059601030549]
[null,null,null,null,null,1098,1.0565124017826895]
[null,null,null,null,null,1099,1.0679783814254438]
[null,null,null,null,null,1100,1.0371887384856493]
[null,null,null,null,null,1101,1.0807963605887796]
[null,null,null,null,null,1102,1.0628443424219569]
[null,null,null,null,null,1103,1.1078018240475558]
[null,null,null,null,null,1104,1.11576460139252]
[null,null,null,null,null,1105,1.0573343842605809]
[null,null,null,null,null,1106,1.1184788849771206]
[null,null,null,null,null,1107,1.0649273693579777]
[null,null,null,null,null,1108,1.0523246887055406]
[null,null,null,null,null,1109,1.112752672583984]
[null,null,null,null,null,1110,1.0752293646124609]
[null,null,null,null,null,1111,1.0724038723468428]
[null,null,null,null,null,1112,1.0749059864151149]
[null,null,null,null,null,1113,1.0699495873395559]
[null,null,null,null,null,1114,1.0813316158450372]
[null,null,null,null,null,1115,1.0443594904435971]
[null,null,null,null,null,1116,1.0671817228030425]
[null,null,null,null,null,1117,1.0594293038640714]
[null,null,null,null,null,1118,1.091988311344597]
[null,null,null,null,null,1119,1.0735269136807513]
[null,null,null,null,null,1120,1.0787664334495637]
[null,null,null,null,null,1121,1.0875337351112346]
[null,null,null,null,null,1122,1.037325140465676]
[null,null,null,null,null,1123,1.0784230880878132]
[null,null,null,null,null,1124,1.0820855668015463]
[null,null,null,null,null,1125,1.0615788648056239]
[null,null,null,null,null,1126,1.0860260194322775]
[null,null,null,null,null,1127,1.1166852526857955]
[null,null,null,null,null,1128,1.0824493088398393]
[null,null,null,null,null,1129,1.0659982336489586]
[null,null,null,null,null,1130,1.0933653526101976]
[null,null,null,null,null,1131,1.0715757705437439]
[null,null,null,null,null,1132,1.0529385095410928]
[null,null,null,null,null,1133,1.0368179731660134]
[null,null,null,null,null,1134,1.0679577403715081]
[null,null,null,null,null,1135,1.074100147603229]
[null,null,null,null,null,1136,1.0465522753209173]
[null,null,null,null,null,1137,1.0942265532947979]
[null,null,null,null,null,1138,1.0576205358580202]
[null,null,null,null,null,1139,1.0628785242160794]
[null,null,null,null,null,1140,1.0742408099107323]
[null,null,null,null,null,1141,1.0707076504258048]
[null,null,null,null,null,1142,1.050909548609098]
[null,null,null,null,null,1143,1.0813230962836298]
[null,null,null,null,null,1144,1.0935865524419244]
[null,null,null,null,null,1145,1.031561362503878]
[null,null,null,null,null,1146,1.069340282612808]
[null,null,null,null,null,1147,1.0332068652708859]
[null,null,null,null,null,1148,1.0658541858884663]
[null,null,null,null,null,1149,1.0918419643703821]
[null,null,null,null,null,1150,1.0977934786353811]
[null,null,null,null,null,1151,1.087829633525021]
[null,null,null,null,null,1152,1.0618247835021219]
[null,null,null,null,null,1153,1.0644865879387218]
[null,null,null,null,null,1154,{"$f":"EXP($B$11-0.5*$B$10^2)+$B$10*_xlfn.NORM.S.INV(RAND())","v":1.0700554087241365}]
[null,null,null,null,null,1155,1.0754257179262405]
[null,null,null,null,null,1156,1.0608208664073957]
[null,null,null,null,null,1157,1.0813727182719721]
[null,null,null,null,null,1158,1.0580039512534389]
[null,null,null,null,null,1159,1.0669261451414487]
[null,null,null,null,null,1160,1.076491743898615]
[null,null,null,null,null,1161,1.0755340202599035]
[null,null,null,null,null,1162,1.1107967894960611]
[null,null,null,null,null,1163,1.0909540370287314]
[null,null,null,null,null,1164,1.0908634307537595]
[null,null,null,null,null,1165,1.0657081123901235]
[null,null,null,null,null,1166,1.0842161200436071]
[null,null,null,null,null,1167,1.1020830645169253]
[null,null,null,null,null,1168,1.081346017191803]
[null,null,null,null,null,1169,1.076082498395472]
[null,null,null,null,null,1170,1.0668015331695406]
[null,null,null,null,null,1171,1.087432980625241]
[null,null,null,null,null,1172,1.0504324536085692]
[null,null,null,null,null,1173,1.0659412021452648]
[null,null,null,null,null,1174,1.0530360217184283]
[null,null,null,null,null,1175,1.0398741915897725]
[null,null,null,null,null,1176,1.0639857234660173]
[null,null,null,null,null,1177,1.0672931092762936]
[null,null,null,null,null,1178,1.0547161173915163]
[null,null,null,null,null,1179,1.1043923632230175]
[null,null,null,null,null,1180,1.0763364427820143]
[null,null,null,null,null,1181,1.0927008493657484]
[null,null,null,null,null,1182,1.0763194908423372]
[null,null,null,null,null,1183,1.0439650227199206]
[null,null,null,null,null,1184,1.0680872674760433]
[null,null,null,null,null,1185,1.0732013194433283]
[null,null,null,null,null,1186,1.0949157012881039]
[null,null,null,null,null,1187,1.0852332134838487]
[null,null,null,null,null,1188,1.0415327381617363]
[null,null,null,null,null,1189,1.0615022728006569]
[null,null,null,null,null,1190,1.085527814800229]
[null,null,null,null,null,1191,1.1018538718047508]
[null,null,null,null,null,1192,1.0597346666255092]
[null,null,null,null,null,1193,1.0782936001640144]
[null,null,null,null,null,1194,1.0743366041023996]
[null,null,null,null,null,1195,1.0785661235136834]
[null,null,null,null,null,1196,1.0925943180635693]
[null,null,null,null,null,1197,1.0564599877198639]
[null,null,null,null,null,1198,1.0808983791898958]
[null,null,null,null,null,1199,1.0863772505776361]
[null,null,null,null,null,1200,1.0419164614893597]
[null,null,null,null,null,1201,1.0798371776348179]
[null,null,null,null,null,1202,1.0799885039374075]
[null,null,null,null,null,1203,1.0671236746416388]
[null,null,null,null,null,1204,1.0725746665452864]
[null,null,null,null,null,1205,1.0612389058373233]
[null,null,null,null,null,1206,1.0419672570751004]
[null,null,null,null,null,1207,1.0838204198051109]
[null,null,null,null,null,1208,1.0838735383732978]
[null,null,null,null,null,1209,1.0814168294233808]
[null,null,null,null,null,1210,1.0686017051726246]
[null,null,null,null,null,1211,1.0954392799388604]
[null,null,null,null,null,1212,1.0812710826515577]
[null,null,null,null,null,1213,1.0730801906468959]
[null,null,null,null,null,1214,1.0712713314250992]
[null,null,null,null,null,1215,1.075332128560782]
[null,null,null,null,null,1216,1.0509834028410838]
[null,null,null,null,null,1217,1.0515218277519567]
[null,null,null,null,null,1218,{"$f":"EXP($B$11-0.5*$B$10^2)+$B$10*_xlfn.NORM.S.INV(RAND())","v":1.0768793878375871}]
[null,null,null,null,null,1219,1.0686172619489378]
[null,null,null,null,null,1220,1.0805344925588252]
[null,null,null,null,null,1221,1.0966733347513533]
[null,null,null,null,null,1222,1.0676968601474668]
[null,null,null,null,null,1223,1.0622353213934614]
[null,null,null,null,null,1224,1.072263635353518]
[null,null,null,null,null,1225,1.0609147522013009]
[null,null,null,null,null,1226,1.0781392880732161]
[null,null,null,null,null,1227,1.0837242444749]
[null,null,null,null,null,1228,1.0785705578044182]
[null,null,null,null,null,1229,1.0843991939491795]
[null,null,null,null,null,1230,1.0941022416655017]
[null,null,null,null,null,1231,1.0995794890089541]
[null,null,null,null,null,1232,1.0524872654584023]
[null,null,null,null,null,1233,1.114351222756959]
[null,null,null,null,null,1234,1.0900262023299434]
[null,null,null,null,null,1235,1.049634371290288]
[null,null,null,null,null,1236,1.0669379877935239]
[null,null,null,null,null,1237,1.077042642593812]
[null,null,null,null,null,1238,1.0581767254626495]
[null,null,null,null,null,1239,1.0886244938346317]
[null,null,null,null,null,1240,1.0711612267425403]
[null,null,null,null,null,1241,1.0458161816354963]
[null,null,null,null,null,1242,1.0519234824448238]
[null,null,null,null,null,1243,1.0716575648608195]
[null,null,null,null,null,1244,1.0888687617362864]
[null,null,null,null,null,1245,1.0739583469434109]
[null,null,null,null,null,1246,1.0615757637701706]
[null,null,null,null,null,1247,1.0716972763419512]
[null,null,null,null,null,1248,1.0856602152939228]
[null,null,null,null,null,1249,1.0563115435098913]
[null,null,null,null,null,1250,1.077827531826739]
[null,null,null,null,null,1251,1.0848545320965488]
[null,null,null,null,null,1252,1.0766206580789111]
[null,null,null,null,null,1253,1.0944670415244375]
[null,null,null,null,null,1254,1.0796927526821696]
[null,null,null,null,null,1255,1.0879971249912355]
[null,null,null,null,null,1256,1.048080743047934]
[null,null,null,null,null,1257,1.1196398222537822]
[null,null,null,null,null,1258,1.0967883997714094]
[null,null,null,null,null,1259,1.0796046311101932]
[null,null,null,null,null,1260,1.0655270415436837]
[null,null,null,null,null,1261,1.0716506664441867]
[null,null,null,null,null,1262,1.0339405356131748]
[null,null,null,null,null,1263,1.0734055234912372]
[null,null,null,null,null,1264,1.0584023982132038]
[null,null,null,null,null,1265,1.0884421875012595]
[null,null,null,null,null,1266,1.1042414908142251]
[null,null,null,null,null,1267,1.0755870845789384]
[null,null,null,null,null,1268,1.0306504009324609]
[null,null,null,null,null,1269,1.0686907987401271]
[null,null,null,null,null,1270,1.058337828007013]
[null,null,null,null,null,1271,1.0664533295097689]
[null,null,null,null,null,1272,1.0938152383288926]
[null,null,null,null,null,1273,1.0850467092066858]
[null,null,null,null,null,1274,1.0908066058435308]
[null,null,null,null,null,1275,1.0744971803796248]
[null,null,null,null,null,1276,1.0885019392212476]
[null,null,null,null,null,1277,1.0849344698168473]
[null,null,null,null,null,1278,1.0771429561808574]
[null,null,null,null,null,1279,1.0950573221161284]
[null,null,null,null,null,1280,1.0991199105572578]
[null,null,null,null,null,1281,1.0697719302051516]
[null,null,null,null,null,1282,{"$f":"EXP($B$11-0.5*$B$10^2)+$B$10*_xlfn.NORM.S.INV(RAND())","v":1.0931636357349714}]
[null,null,null,null,null,1283,1.1171157158399976]
[null,null,null,null,null,1284,1.0476006613851985]
[null,null,null,null,null,1285,1.0721601360860304]
[null,null,null,null,null,1286,1.0596244846865828]
[null,null,null,null,null,1287,1.0911989928163128]
[null,null,null,null,null,1288,1.0646980765135297]
[null,null,null,null,null,1289,1.082315165903706]
[null,null,null,null,null,1290,1.0974512078987628]
[null,null,null,null,null,1291,1.0727919434935673]
[null,null,null,null,null,1292,1.097098855069117]
[null,null,null,null,null,1293,1.0432821543711344]
[null,null,null,null,null,1294,1.097988113855366]
[null,null,null,null,null,1295,1.082735986563512]
[null,null,null,null,null,1296,1.0879505535435385]
[null,null,null,null,null,1297,1.1036745851004031]
[null,null,null,null,null,1298,1.0474807482589383]
[null,null,null,null,null,1299,1.0974858843411321]
[null,null,null,null,null,1300,1.0661911207831958]
[null,null,null,null,null,1301,1.088691298460992]
[null,null,null,null,null,1302,1.0938624678663615]
[null,null,null,null,null,1303,1.0654106890455122]
[null,null,null,null,null,1304,1.0796202903619283]
[null,null,null,null,null,1305,1.1133701337461357]
[null,null,null,null,null,1306,1.0883433083128939]
[null,null,null,null,null,1307,1.0611665437538684]
[null,null,null,null,null,1308,1.0702505941930402]
[null,null,null,null,null,1309,1.1129537285196534]
[null,null,null,null,null,1310,1.0643163567029685]
[null,null,null,null,null,1311,1.0286131954346041]
[null,null,null,null,null,1312,1.0484756226964427]
[null,null,null,null,null,1313,1.0731680457929671]
[null,null,null,null,null,1314,1.0319296606252921]
[null,null,null,null,null,1315,1.0638349001647363]
[null,null,null,null,null,1316,1.0799448358363839]
[null,null,null,null,null,1317,1.0588780494895071]
[null,null,null,null,null,1318,1.0786511422365743]
[null,null,null,null,null,1319,1.0983463942846308]
[null,null,null,null,null,1320,1.0590475053664148]
[null,null,null,null,null,1321,1.0779168135977943]
[null,null,null,null,null,1322,1.0780922231491554]
[null,null,null,null,null,1323,1.0460849565063419]
[null,null,null,null,null,1324,1.0473742885016779]
[null,null,null,null,null,1325,1.0637089807063198]
[null,null,null,null,null,1326,1.0632345079112631]
[null,null,null,null,null,1327,1.059931325807981]
[null,null,null,null,null,1328,1.048599031501946]
[null,null,null,null,null,1329,1.1042361953070694]
[null,null,null,null,null,1330,1.0618758204715879]
[null,null,null,null,null,1331,1.0781376770715185]
[null,null,null,null,null,1332,1.0629717206940104]
[null,null,null,null,null,1333,1.0898267246388207]
[null,null,null,null,null,1334,1.0738471306124735]
[null,null,null,null,null,1335,1.0320265327823521]
[null,null,null,null,null,1336,1.1037009711879102]
[null,null,null,null,null,1337,1.09105719592796]
[null,null,null,null,null,1338,1.0689152299465223]
[null,null,null,null,null,1339,1.0885761992390344]
[null,null,null,null,null,1340,1.0910716929973463]
[null,null,null,null,null,1341,1.1037780861087489]
[null,null,null,null,null,1342,1.0785294576932818]
[null,null,null,null,null,1343,1.0656054708432123]
[null,null,null,null,null,1344,1.0442307532765023]
[null,null,null,null,null,1345,1.0891094599259208]
[null,null,null,null,null,1346,{"$f":"EXP($B$11-0.5*$B$10^2)+$B$10*_xlfn.NORM.S.INV(RAND())","v":1.0663946853705408}]
[null,null,null,null,null,1347,1.0633595857625566]
[null,null,null,null,null,1348,1.0557640684611729]
[null,null,null,null,null,1349,1.0779418643622276]
[null,null,null,null,null,1350,1.0740513830588063]
[null,null,null,null,null,1351,1.0215045156303584]
[null,null,null,null,null,1352,1.0867927928806758]
[null,null,null,null,null,1353,1.0473612069384686]
[null,null,null,null,null,1354,1.0591599986604237]
[null,null,null,null,null,1355,1.0835722365925835]
[null,null,null,null,null,1356,1.0537894384718929]
[null,null,null,null,null,1357,1.089598560574949]
[null,null,null,null,null,1358,1.0726383566049507]
[null,null,null,null,null,1359,1.0527733647959918]
[null,null,null,null,null,1360,1.082827313479152]
[null,null,null,null,null,1361,1.0316106223503554]
[null,null,null,null,null,1362,1.0897488563500257]
[null,null,null,null,null,1363,1.106359365693121]
[null,null,null,null,null,1364,1.0730848479167234]
[null,null,null,null,null,1365,1.0638574522183932]
[null,null,null,null,null,1366,1.0852266814183225]
[null,null,null,null,null,1367,1.071575127980573]
[null,null,null,null,null,1368,1.0913317284445778]
[null,null,null,null,null,1369,1.0543969259155406]
[null,null,null,null,null,1370,1.0357168248010309]
[null,null,null,null,null,1371,1.0569666322153541]
[null,null,null,null,null,1372,1.0530475271886945]
[null,null,null,null,null,1373,1.0977264596838043]
[null,null,null,null,null,1374,1.1126231239517292]
[null,null,null,null,null,1375,1.0600455364404153]
[null,null,null,null,null,1376,1.0528442863695053]
[null,null,null,null,null,1377,1.1341858690905624]
[null,null,null,null,null,1378,1.0696674656967808]
[null,null,null,null,null,1379,1.0517939013968753]
[null,null,null,null,null,1380,1.080569985606612]
[null,null,null,null,null,1381,1.0868146615506944]
[null,null,null,null,null,1382,1.045810665114651]
[null,null,null,null,null,1383,1.0781094304525518]
[null,null,null,null,null,1384,1.0374129528225113]
[null,null,null,null,null,1385,1.1052015847747647]
[null,null,null,null,null,1386,1.072474442077374]
[null,null,null,null,null,1387,1.1131054062909684]
[null,null,null,null,null,1388,1.0511476333696406]
[null,null,null,null,null,1389,1.0785409550599816]
[null,null,null,null,null,1390,1.0788852822016175]
[null,null,null,null,null,1391,1.0974066366956357]
[null,null,null,null,null,1392,1.0715854195143186]
[null,null,null,null,null,1393,1.0902092619087307]
[null,null,null,null,null,1394,1.0813647973258296]
[null,null,null,null,null,1395,1.1163536459376013]
[null,null,null,null,null,1396,1.0568397405980379]
[null,null,null,null,null,1397,1.0858239536782088]
[null,null,null,null,null,1398,1.0844001424036496]
[null,null,null,null,null,1399,1.0849986616129565]
[null,null,null,null,null,1400,1.0979482395275677]
[null,null,null,null,null,1401,1.0664249191419122]
[null,null,null,null,null,1402,1.0712937670642868]
[null,null,null,null,null,1403,1.0912293637593968]
[null,null,null,null,null,1404,1.0664025886987902]
[null,null,null,null,null,1405,1.0556995047419788]
[null,null,null,null,null,1406,1.0861195599973144]
[null,null,null,null,null,1407,1.0547739068459008]
[null,null,null,null,null,1408,1.0706233565279146]
[null,null,null,null,null,1409,1.0905319636528306]
[null,null,null,null,null,1410,{"$f":"EXP($B$11-0.5*$B$10^2)+$B$10*_xlfn.NORM.S.INV(RAND())","v":1.0819053291385885}]
[null,null,null,null,null,1411,1.0683176569408599]
[null,null,null,null,null,1412,1.1160673920206949]
[null,null,null,null,null,1413,1.0763479129114015]
[null,null,null,null,null,1414,1.0956187450798072]
[null,null,null,null,null,1415,1.0915339913508593]
[null,null,null,null,null,1416,1.0757887130748802]
[null,null,null,null,null,1417,1.0785951093237074]
[null,null,null,null,null,1418,1.1120632792577434]
[null,null,null,null,null,1419,1.0665101117891802]
[null,null,null,null,null,1420,1.1050673521995791]
[null,null,null,null,null,1421,1.0548705907988896]
[null,null,null,null,null,1422,1.0708271381089318]
[null,null,null,null,null,1423,1.0865682594208386]
[null,null,null,null,null,1424,1.0789366837981478]
[null,null,null,null,null,1425,1.0713521153257386]
[null,null,null,null,null,1426,1.0765707887560292]
[null,null,null,null,null,1427,1.0435795971694719]
[null,null,null,null,null,1428,1.1090336799039129]
[null,null,null,null,null,1429,1.0781128124956734]
[null,null,null,null,null,1430,1.0852486229420801]
[null,null,null,null,null,1431,1.0701769569807489]
[null,null,null,null,null,1432,1.0648635309249286]
[null,null,null,null,null,1433,1.0769880167044736]
[null,null,null,null,null,1434,1.0973496964113594]
[null,null,null,null,null,1435,1.1016433318432484]
[null,null,null,null,null,1436,1.0667985189614932]
[null,null,null,null,null,1437,1.0798850298327707]
[null,null,null,null,null,1438,1.0959547115819859]
[null,null,null,null,null,1439,1.0744981358077363]
[null,null,null,null,null,1440,1.0490048019916001]
[null,null,null,null,null,1441,1.070272915663014]
[null,null,null,null,null,1442,1.066445329198785]
[null,null,null,null,null,1443,1.0879676317991336]
[null,null,null,null,null,1444,1.0699516007853171]
[null,null,null,null,null,1445,1.080185675780067]
[null,null,null,null,null,1446,1.0945292568795302]
[null,null,null,null,null,1447,1.07820608509488]
[null,null,null,null,null,1448,1.0805731679823987]
[null,null,null,null,null,1449,1.0438193318277722]
[null,null,null,null,null,1450,1.0391288376302754]
[null,null,null,null,null,1451,1.0805303311734678]
[null,null,null,null,null,1452,1.0849895326240999]
[null,null,null,null,null,1453,1.0502253500482643]
[null,null,null,null,null,1454,1.0779099477760865]
[null,null,null,null,null,1455,1.0806775360940244]
[null,null,null,null,null,1456,1.0411607976435302]
[null,null,null,null,null,1457,1.0883868351244563]
[null,null,null,null,null,1458,1.0755511164218305]
[null,null,null,null,null,1459,1.0921830557421168]
[null,null,null,null,null,1460,1.0457937767541043]
[null,null,null,null,null,1461,1.1072449253649399]
[null,null,null,null,null,1462,1.0804957534964872]
[null,null,null,null,null,1463,1.0606869762608333]
[null,null,null,null,null,1464,1.1075717413924606]
[null,null,null,null,null,1465,1.0720595069909531]
[null,null,null,null,null,1466,1.0866588429073711]
[null,null,null,null,null,1467,1.0650491501215127]
[null,null,null,null,null,1468,1.0616214780250541]
[null,null,null,null,null,1469,1.0897155459319361]
[null,null,null,null,null,1470,1.0637782918081149]
[null,null,null,null,null,1471,1.0401673508963729]
[null,null,null,null,null,1472,1.1053704323985842]
[null,null,null,null,null,1473,1.0629126432440767]
[null,null,null,null,null,1474,{"$f":"EXP($B$11-0.5*$B$10^2)+$B$10*_xlfn.NORM.S.INV(RAND())","v":1.062136353307499}]
[null,null,null,null,null,1475,1.0678590706079845]
[null,null,null,null,null,1476,1.0787446571911634]
[null,null,null,null,null,1477,1.0170455644366467]
[null,null,null,null,null,1478,1.0780687507574238]
[null,null,null,null,null,1479,1.0821924026148264]
[null,null,null,null,null,1480,1.0685089031887645]
[null,null,null,null,null,1481,1.0793373855505763]
[null,null,null,null,null,1482,1.1053025143943671]
[null,null,null,null,null,1483,1.0683861578010652]
[null,null,null,null,null,1484,1.0851551841928735]
[null,null,null,null,null,1485,1.0717323669350312]
[null,null,null,null,null,1486,1.0827824164791815]
[null,null,null,null,null,1487,1.0584297383462073]
[null,null,null,null,null,1488,1.0537462376583642]
[null,null,null,null,null,1489,1.1201871248397777]
[null,null,null,null,null,1490,1.0893577391790459]
[null,null,null,null,null,1491,1.0849537407122702]
[null,null,null,null,null,1492,1.0958846442200565]
[null,null,null,null,null,1493,1.0631860348772399]
[null,null,null,null,null,1494,1.0708771908421222]
[null,null,null,null,null,1495,1.0400466195030531]
[null,null,null,null,null,1496,1.037707180624259]
[null,null,null,null,null,1497,1.0726087056820941]
[null,null,null,null,null,1498,1.0870525729240468]
[null,null,null,null,null,1499,1.0688466401724661]
[null,null,null,null,null,1500,1.0644371362956933]
[null,null,null,null,null,1501,1.0807840691050328]
[null,null,null,null,null,1502,1.0906442760951287]
[null,null,null,null,null,1503,1.0893194604915746]
[null,null,null,null,null,1504,1.0571308574891651]
[null,null,null,null,null,1505,1.0611378338809785]
[null,null,null,null,null,1506,1.0529627789232412]
[null,null,null,null,null,1507,1.1077258059011243]
[null,null,null,null,null,1508,1.0906087073957595]
[null,null,null,null,null,1509,1.105017394222084]
[null,null,null,null,null,1510,1.0727307445691874]
[null,null,null,null,null,1511,1.0714137176238441]
[null,null,null,null,null,1512,1.0863637151844785]
[null,null,null,null,null,1513,1.079802853208683]
[null,null,null,null,null,1514,1.0344795101526563]
[null,null,null,null,null,1515,1.0671591572986674]
[null,null,null,null,null,1516,1.0824418760237691]
[null,null,null,null,null,1517,1.0619655607204286]
[null,null,null,null,null,1518,1.0821850195348155]
[null,null,null,null,null,1519,1.0582676771010029]
[null,null,null,null,null,1520,1.0826437861147256]
[null,null,null,null,null,1521,1.0716071483637655]
[null,null,null,null,null,1522,1.0777314875843045]
[null,null,null,null,null,1523,1.0853379736638229]
[null,null,null,null,null,1524,1.0624436773160513]
[null,null,null,null,null,1525,1.0956237953527097]
[null,null,null,null,null,1526,1.0468794940779924]
[null,null,null,null,null,1527,1.0766101879833254]
[null,null,null,null,null,1528,1.0725485916239605]
[null,null,null,null,null,1529,1.0696477972065415]
[null,null,null,null,null,1530,1.0987188290143324]
[null,null,null,null,null,1531,1.0345484452927158]
[null,null,null,null,null,1532,1.0563708839496331]
[null,null,null,null,null,1533,1.0831552012211618]
[null,null,null,null,null,1534,1.0673898805840343]
[null,null,null,null,null,1535,1.0419661292713986]
[null,null,null,null,null,1536,1.0778714443920909]
[null,null,null,null,null,1537,1.0647327446748636]
[null,null,null,null,null,1538,{"$f":"EXP($B$11-0.5*$B$10^2)+$B$10*_xlfn.NORM.S.INV(RAND())","v":1.035014093559439}]
[null,null,null,null,null,1539,1.1014252066635444]
[null,null,null,null,null,1540,1.0731931479908121]
[null,null,null,null,null,1541,1.1060035520728115]
[null,null,null,null,null,1542,1.0909981298380014]
[null,null,null,null,null,1543,1.0929019987956916]
[null,null,null,null,null,1544,1.0974573500509519]
[null,null,null,null,null,1545,1.0747425136692896]
[null,null,null,null,null,1546,1.1121585204855409]
[null,null,null,null,null,1547,1.079149477714562]
[null,null,null,null,null,1548,1.1022535470789947]
[null,null,null,null,null,1549,1.0933220038322276]
[null,null,null,null,null,1550,1.1134083822090535]
[null,null,null,null,null,1551,1.0984687160258111]
[null,null,null,null,null,1552,1.0724793089082136]
[null,null,null,null,null,1553,1.0649126757054836]
[null,null,null,null,null,1554,1.1013118042225019]
[null,null,null,null,null,1555,1.0904254059634217]
[null,null,null,null,null,1556,1.0774771034865822]
[null,null,null,null,null,1557,1.0730485722432455]
[null,null,null,null,null,1558,1.097608880341256]
[null,null,null,null,null,1559,1.0508696184954649]
[null,null,null,null,null,1560,1.1103243672558181]
[null,null,null,null,null,1561,1.0827486553831049]
[null,null,null,null,null,1562,1.0749059947148185]
[null,null,null,null,null,1563,1.0665347405263843]
[null,null,null,null,null,1564,1.0824767416637564]
[null,null,null,null,null,1565,1.0869022440718941]
[null,null,null,null,null,1566,1.0633947794456016]
[null,null,null,null,null,1567,1.0727216788833613]
[null,null,null,null,null,1568,1.0990554047349415]
[null,null,null,null,null,1569,1.0620636604974096]
[null,null,null,null,null,1570,1.0582983659164831]
[null,null,null,null,null,1571,1.0500324779433381]
[null,null,null,null,null,1572,1.0980323856107574]
[null,null,null,null,null,1573,1.0497367476750914]
[null,null,null,null,null,1574,1.0746596233951853]
[null,null,null,null,null,1575,1.1203435499139716]
[null,null,null,null,null,1576,1.0601154290775565]
[null,null,null,null,null,1577,1.0506059534258776]
[null,null,null,null,null,1578,1.0815433527314113]
[null,null,null,null,null,1579,1.1067646485212292]
[null,null,null,null,null,1580,1.0541799107862455]
[null,null,null,null,null,1581,1.1024912624033065]
[null,null,null,null,null,1582,1.0847212840994336]
[null,null,null,null,null,1583,1.082574260390317]
[null,null,null,null,null,1584,1.0709089427668685]
[null,null,null,null,null,1585,1.0669511548237884]
[null,null,null,null,null,1586,1.0472600630794711]
[null,null,null,null,null,1587,1.0532370836833838]
[null,null,null,null,null,1588,1.0607639189624054]
[null,null,null,null,null,1589,1.0804040296000208]
[null,null,null,null,null,1590,1.0910175572579117]
[null,null,null,null,null,1591,1.0752733308109055]
[null,null,null,null,null,1592,1.1006137954322686]
[null,null,null,null,null,1593,1.0563498855496882]
[null,null,null,null,null,1594,1.0618622660730452]
[null,null,null,null,null,1595,1.0908876268912615]
[null,null,null,null,null,1596,1.084487583248066]
[null,null,null,null,null,1597,1.0312367932784565]
[null,null,null,null,null,1598,1.1109688155571609]
[null,null,null,null,null,1599,1.1106258380897176]
[null,null,null,null,null,1600,1.085987324905183]
[null,null,null,null,null,1601,1.1069612019082211]
[null,null,null,null,null,1602,{"$f":"EXP($B$11-0.5*$B$10^2)+$B$10*_xlfn.NORM.S.INV(RAND())","v":1.0983706204010613}]
[null,null,null,null,null,1603,1.0701530396306935]
[null,null,null,null,null,1604,1.0758601213215013]
[null,null,null,null,null,1605,1.0980687703385954]
[null,null,null,null,null,1606,1.0677843922223225]
[null,null,null,null,null,1607,1.0632623457289321]
[null,null,null,null,null,1608,1.1279906604953831]
[null,null,null,null,null,1609,1.0684551460765932]
[null,null,null,null,null,1610,1.0515583219763605]
[null,null,null,null,null,1611,1.0671839389277171]
[null,null,null,null,null,1612,1.0766020137724268]
[null,null,null,null,null,1613,1.0788589099553445]
[null,null,null,null,null,1614,1.0771754671936851]
[null,null,null,null,null,1615,1.0546054763628789]
[null,null,null,null,null,1616,1.082543768495815]
[null,null,null,null,null,1617,1.0802597728762044]
[null,null,null,null,null,1618,1.0614177727189449]
[null,null,null,null,null,1619,1.1192605268731672]
[null,null,null,null,null,1620,1.0700516543977774]
[null,null,null,null,null,1621,1.1287058114569548]
[null,null,null,null,null,1622,1.0704770902060747]
[null,null,null,null,null,1623,1.0464709148930911]
[null,null,null,null,null,1624,1.0681032940203439]
[null,null,null,null,null,1625,1.0642177330091929]
[null,null,null,null,null,1626,1.0945622319769621]
[null,null,null,null,null,1627,1.0392676047401614]
[null,null,null,null,null,1628,1.0644021970518112]
[null,null,null,null,null,1629,1.1006540392955211]
[null,null,null,null,null,1630,1.0792163860313198]
[null,null,null,null,null,1631,1.1058692696131442]
[null,null,null,null,null,1632,1.0525438731466739]
[null,null,null,null,null,1633,1.0975686938158997]
[null,null,null,null,null,1634,1.0717055529581854]
[null,null,null,null,null,1635,1.0548693927223121]
[null,null,null,null,null,1636,1.1002829080311611]
[null,null,null,null,null,1637,1.071333299707695]
[null,null,null,null,null,1638,1.0858068206798086]
[null,null,null,null,null,1639,1.1065959438972188]
[null,null,null,null,null,1640,1.0684159395682253]
[null,null,null,null,null,1641,1.0893433372343611]
[null,null,null,null,null,1642,1.0811862395591436]
[null,null,null,null,null,1643,1.0653181368456128]
[null,null,null,null,null,1644,1.0804568289019625]
[null,null,null,null,null,1645,1.0613153480166606]
[null,null,null,null,null,1646,1.0778106785049841]
[null,null,null,null,null,1647,1.110235619356424]
[null,null,null,null,null,1648,1.0868876698904426]
[null,null,null,null,null,1649,1.0669370767080468]
[null,null,null,null,null,1650,1.0776483354520763]
[null,null,null,null,null,1651,1.120113863917539]
[null,null,null,null,null,1652,1.0329104742574022]
[null,null,null,null,null,1653,1.1111218740863511]
[null,null,null,null,null,1654,1.0479935709469288]
[null,null,null,null,null,1655,1.0608029707585793]
[null,null,null,null,null,1656,1.0959539486434458]
[null,null,null,null,null,1657,1.1046047265000472]
[null,null,null,null,null,1658,1.1403527424168978]
[null,null,null,null,null,1659,1.0742441999222336]
[null,null,null,null,null,1660,1.0764090512699291]
[null,null,null,null,null,1661,1.066994516328192]
[null,null,null,null,null,1662,1.0665129976497545]
[null,null,null,null,null,1663,1.0525067566173831]
[null,null,null,null,null,1664,1.0716416787388579]
[null,null,null,null,null,1665,1.0628977602337355]
[null,null,null,null,null,1666,{"$f":"EXP($B$11-0.5*$B$10^2)+$B$10*_xlfn.NORM.S.INV(RAND())","v":1.0624596437988585}]
[null,null,null,null,null,1667,1.0727431290937199]
[null,null,null,null,null,1668,1.0894477795487498]
[null,null,null,null,null,1669,1.0597140187910905]
[null,null,null,null,null,1670,1.0701622216336553]
[null,null,null,null,null,1671,1.0694124816304382]
[null,null,null,null,null,1672,1.0667665744590153]
[null,null,null,null,null,1673,1.054637771957196]
[null,null,null,null,null,1674,1.0570597557821557]
[null,null,null,null,null,1675,1.067017060595397]
[null,null,null,null,null,1676,1.0775768825823311]
[null,null,null,null,null,1677,1.0806435621086745]
[null,null,null,null,null,1678,1.0793689052062629]
[null,null,null,null,null,1679,1.0825651626708108]
[null,null,null,null,null,1680,1.0922144705789947]
[null,null,null,null,null,1681,1.0831580461859862]
[null,null,null,null,null,1682,1.0570719523733227]
[null,null,null,null,null,1683,1.0588643791529493]
[null,null,null,null,null,1684,1.0459259824944653]
[null,null,null,null,null,1685,1.0647038308771208]
[null,null,null,null,null,1686,1.0354126487195874]
[null,null,null,null,null,1687,1.0834469069735804]
[null,null,null,null,null,1688,1.0810094435596331]
[null,null,null,null,null,1689,1.0636968031519987]
[null,null,null,null,null,1690,1.0674785689680562]
[null,null,null,null,null,1691,1.0662704687020592]
[null,null,null,null,null,1692,1.0984090524445256]
[null,null,null,null,null,1693,1.1118461612638753]
[null,null,null,null,null,1694,1.0980422179129807]
[null,null,null,null,null,1695,1.1097694283027186]
[null,null,null,null,null,1696,1.071332941220557]
[null,null,null,null,null,1697,1.0930033040490998]
[null,null,null,null,null,1698,1.0625051173426532]
[null,null,null,null,null,1699,1.0498647216324575]
[null,null,null,null,null,1700,1.066831165721936]
[null,null,null,null,null,1701,1.0747951071985447]
[null,null,null,null,null,1702,1.0832875204865993]
[null,null,null,null,null,1703,1.0724093952549711]
[null,null,null,null,null,1704,1.0588510067181718]
[null,null,null,null,null,1705,1.0603781633280978]
[null,null,null,null,null,1706,1.0547405140842199]
[null,null,null,null,null,1707,1.0682445813321197]
[null,null,null,null,null,1708,1.0606356525253136]
[null,null,null,null,null,1709,1.1033832388167351]
[null,null,null,null,null,1710,1.0809492221546679]
[null,null,null,null,null,1711,1.0759451126458499]
[null,null,null,null,null,1712,1.091029612845434]
[null,null,null,null,null,1713,1.0640566509703004]
[null,null,null,null,null,1714,1.104370242987913]
[null,null,null,null,null,1715,1.0684578986777196]
[null,null,null,null,null,1716,1.1078467595716393]
[null,null,null,null,null,1717,1.0593474269206729]
[null,null,null,null,null,1718,1.0621548414415891]
[null,null,null,null,null,1719,1.1016989878538952]
[null,null,null,null,null,1720,1.0816407679028492]
[null,null,null,null,null,1721,1.0892612622853726]
[null,null,null,null,null,1722,1.0758711231285838]
[null,null,null,null,null,1723,1.0924351949511775]
[null,null,null,null,null,1724,1.1049454576008413]
[null,null,null,null,null,1725,1.0618403924167963]
[null,null,null,null,null,1726,1.0866372449695649]
[null,null,null,null,null,1727,1.0874326397292082]
[null,null,null,null,null,1728,1.0728398572221753]
[null,null,null,null,null,1729,1.087823742134175]
[null,null,null,null,null,1730,{"$f":"EXP($B$11-0.5*$B$10^2)+$B$10*_xlfn.NORM.S.INV(RAND())","v":1.040716958071416}]
[null,null,null,null,null,1731,1.0831023052241955]
[null,null,null,null,null,1732,1.0377748145218777]
[null,null,null,null,null,1733,1.0787239951980283]
[null,null,null,null,null,1734,1.0552928012153471]
[null,null,null,null,null,1735,1.0683709848993501]
[null,null,null,null,null,1736,1.0795105713946929]
[null,null,null,null,null,1737,1.0955344786574539]
[null,null,null,null,null,1738,1.0818075416267403]
[null,null,null,null,null,1739,1.0819367461032061]
[null,null,null,null,null,1740,1.0833521022481931]
[null,null,null,null,null,1741,1.0977051342648636]
[null,null,null,null,null,1742,1.0741960910190618]
[null,null,null,null,null,1743,1.1152068304489173]
[null,null,null,null,null,1744,1.0544805041086809]
[null,null,null,null,null,1745,1.0921589514429986]
[null,null,null,null,null,1746,1.0437079783847762]
[null,null,null,null,null,1747,1.0960173448188828]
[null,null,null,null,null,1748,1.0840737176905084]
[null,null,null,null,null,1749,1.1065926632633096]
[null,null,null,null,null,1750,1.0746978863221788]
[null,null,null,null,null,1751,1.0573284053062464]
[null,null,null,null,null,1752,1.0726272628384617]
[null,null,null,null,null,1753,1.0841023077943017]
[null,null,null,null,null,1754,1.0432829245022586]
[null,null,null,null,null,1755,1.0589898715387682]
[null,null,null,null,null,1756,1.0515364019675486]
[null,null,null,null,null,1757,1.0920914888548507]
[null,null,null,null,null,1758,1.0729540910331872]
[null,null,null,null,null,1759,1.07739855853426]
[null,null,null,null,null,1760,1.072454659779571]
[null,null,null,null,null,1761,1.1028286339755395]
[null,null,null,null,null,1762,1.1117934307773163]
[null,null,null,null,null,1763,1.0373814086169484]
[null,null,null,null,null,1764,1.080239671423914]
[null,null,null,null,null,1765,1.1250207579708627]
[null,null,null,null,null,1766,1.1129138308372946]
[null,null,null,null,null,1767,1.0687355622144725]
[null,null,null,null,null,1768,1.0502220224207672]
[null,null,null,null,null,1769,1.0386661259886487]
[null,null,null,null,null,1770,1.0520262670056555]
[null,null,null,null,null,1771,1.0314710838110839]
[null,null,null,null,null,1772,1.0652413071875246]
[null,null,null,null,null,1773,1.0668023410601288]
[null,null,null,null,null,1774,1.0668684266359658]
[null,null,null,null,null,1775,1.0634071463568719]
[null,null,null,null,null,1776,1.0791355055252958]
[null,null,null,null,null,1777,1.0705097217883033]
[null,null,null,null,null,1778,1.0644570223718599]
[null,null,null,null,null,1779,1.0666465460541961]
[null,null,null,null,null,1780,1.0755923189379786]
[null,null,null,null,null,1781,1.0571355311439925]
[null,null,null,null,null,1782,1.0812750280163028]
[null,null,null,null,null,1783,1.0984904076358752]
[null,null,null,null,null,1784,1.0862656811001274]
[null,null,null,null,null,1785,1.0913528039548754]
[null,null,null,null,null,1786,1.0815733636734788]
[null,null,null,null,null,1787,1.0795011221299933]
[null,null,null,null,null,1788,1.1152322726346906]
[null,null,null,null,null,1789,1.1109325372596204]
[null,null,null,null,null,1790,1.0822186755703271]
[null,null,null,null,null,1791,1.0572535250089856]
[null,null,null,null,null,1792,1.1045941748303409]
[null,null,null,null,null,1793,1.1056418992910635]
[null,null,null,null,null,1794,{"$f":"EXP($B$11-0.5*$B$10^2)+$B$10*_xlfn.NORM.S.INV(RAND())","v":1.0869336861287251}]
[null,null,null,null,null,1795,1.1234593534144592]
[null,null,null,null,null,1796,1.0919971002779445]
[null,null,null,null,null,1797,1.0986813015024306]
[null,null,null,null,null,1798,1.0907723722045213]
[null,null,null,null,null,1799,1.0601563197044854]
[null,null,null,null,null,1800,1.0728076644491313]
[null,null,null,null,null,1801,1.094672040246663]
[null,null,null,null,null,1802,1.0643503970170305]
[null,null,null,null,null,1803,1.095077232254396]
[null,null,null,null,null,1804,1.0726381781743517]
[null,null,null,null,null,1805,1.0690837073517696]
[null,null,null,null,null,1806,1.1016068018113279]
[null,null,null,null,null,1807,1.1059663527381773]
[null,null,null,null,null,1808,1.1136228901308509]
[null,null,null,null,null,1809,1.0602655977308579]
[null,null,null,null,null,1810,1.0821144473042636]
[null,null,null,null,null,1811,1.0851729063736746]
[null,null,null,null,null,1812,1.0553805077963789]
[null,null,null,null,null,1813,1.0654177108888172]
[null,null,null,null,null,1814,1.0778429771821068]
[null,null,null,null,null,1815,1.0712999026813697]
[null,null,null,null,null,1816,1.0761957976919008]
[null,null,null,null,null,1817,1.065544395680297]
[null,null,null,null,null,1818,1.0861546261060482]
[null,null,null,null,null,1819,1.0841693349701114]
[null,null,null,null,null,1820,1.0446914914819174]
[null,null,null,null,null,1821,1.0909029136724786]
[null,null,null,null,null,1822,1.0779925101313217]
[null,null,null,null,null,1823,1.047858030815374]
[null,null,null,null,null,1824,1.0889176058134848]
[null,null,null,null,null,1825,1.137138137185296]
[null,null,null,null,null,1826,1.0512164699476445]
[null,null,null,null,null,1827,1.1004381334583662]
[null,null,null,null,null,1828,1.0384678393744105]
[null,null,null,null,null,1829,1.064751514276824]
[null,null,null,null,null,1830,1.0678794645128884]
[null,null,null,null,null,1831,1.0660739132880677]
[null,null,null,null,null,1832,1.0627957345958969]
[null,null,null,null,null,1833,1.0604877033417692]
[null,null,null,null,null,1834,1.0620088103585312]
[null,null,null,null,null,1835,1.0740299756423102]
[null,null,null,null,null,1836,1.0760348849334314]
[null,null,null,null,null,1837,1.0541847397222439]
[null,null,null,null,null,1838,1.0934248732114165]
[null,null,null,null,null,1839,1.0740084894003243]
[null,null,null,null,null,1840,1.0974569961006797]
[null,null,null,null,null,1841,1.0947506699473508]
[null,null,null,null,null,1842,1.1083745338325559]
[null,null,null,null,null,1843,1.063517709784048]
[null,null,null,null,null,1844,1.0904734567761156]
[null,null,null,null,null,1845,1.0814489956886775]
[null,null,null,null,null,1846,1.0905883965002376]
[null,null,null,null,null,1847,1.0937775593527759]
[null,null,null,null,null,1848,1.0735505467371493]
[null,null,null,null,null,1849,1.0929643850487423]
[null,null,null,null,null,1850,1.0915905946305111]
[null,null,null,null,null,1851,1.0311192122193307]
[null,null,null,null,null,1852,1.0901797506453397]
[null,null,null,null,null,1853,1.0565648519717077]
[null,null,null,null,null,1854,1.0869547178333079]
[null,null,null,null,null,1855,1.0756101278866976]
[null,null,null,null,null,1856,1.0933951333951255]
[null,null,null,null,null,1857,1.0684735934985599]
[null,null,null,null,null,1858,{"$f":"EXP($B$11-0.5*$B$10^2)+$B$10*_xlfn.NORM.S.INV(RAND())","v":1.0792058819470747}]
[null,null,null,null,null,1859,1.0688577052969412]
[null,null,null,null,null,1860,1.0833003832498991]
[null,null,null,null,null,1861,1.1120802255452551]
[null,null,null,null,null,1862,1.091336883356999]
[null,null,null,null,null,1863,1.0640607700995113]
[null,null,null,null,null,1864,1.0732397579716577]
[null,null,null,null,null,1865,1.0596869510207054]
[null,null,null,null,null,1866,1.0763910290623571]
[null,null,null,null,null,1867,1.0564622149784364]
[null,null,null,null,null,1868,1.0861568413455187]
[null,null,null,null,null,1869,1.0582887961304741]
[null,null,null,null,null,1870,1.0731891337164099]
[null,null,null,null,null,1871,1.0709718232286181]
[null,null,null,null,null,1872,1.083380008273698]
[null,null,null,null,null,1873,1.0816159013580691]
[null,null,null,null,null,1874,1.1015472240367976]
[null,null,null,null,null,1875,1.1062563873930593]
[null,null,null,null,null,1876,1.0730804048936573]
[null,null,null,null,null,1877,1.0800919807575318]
[null,null,null,null,null,1878,1.0710072994691267]
[null,null,null,null,null,1879,1.0611992565443931]
[null,null,null,null,null,1880,1.0703532802048605]
[null,null,null,null,null,1881,1.0885113404028726]
[null,null,null,null,null,1882,1.0789794908251658]
[null,null,null,null,null,1883,1.0894349077261882]
[null,null,null,null,null,1884,1.1147526526749956]
[null,null,null,null,null,1885,1.0788249768488103]
[null,null,null,null,null,1886,1.1099722766889477]
[null,null,null,null,null,1887,1.0490585560544263]
[null,null,null,null,null,1888,1.0526325810828063]
[null,null,null,null,null,1889,1.048409755027506]
[null,null,null,null,null,1890,1.0460869886810495]
[null,null,null,null,null,1891,1.0606376214423001]
[null,null,null,null,null,1892,1.064424232296254]
[null,null,null,null,null,1893,1.0506310648579731]
[null,null,null,null,null,1894,1.1013911218696724]
[null,null,null,null,null,1895,1.0697569605036898]
[null,null,null,null,null,1896,1.0624145464448354]
[null,null,null,null,null,1897,1.0510301038763368]
[null,null,null,null,null,1898,1.0389603347043408]
[null,null,null,null,null,1899,1.0823374084388671]
[null,null,null,null,null,1900,1.0740303897916168]
[null,null,null,null,null,1901,1.0440489691376711]
[null,null,null,null,null,1902,1.1071214403997414]
[null,null,null,null,null,1903,1.0721677613432337]
[null,null,null,null,null,1904,1.1033546878052822]
[null,null,null,null,null,1905,1.0725425205972945]
[null,null,null,null,null,1906,1.0951801004490516]
[null,null,null,null,null,1907,1.0938589537708321]
[null,null,null,null,null,1908,1.0663041734878858]
[null,null,null,null,null,1909,1.0829022892127358]
[null,null,null,null,null,1910,1.089527221828656]
[null,null,null,null,null,1911,1.0483571979255726]
[null,null,null,null,null,1912,1.0800860925137323]
[null,null,null,null,null,1913,1.108584697749613]
[null,null,null,null,null,1914,1.062732120421281]
[null,null,null,null,null,1915,1.0658327880185483]
[null,null,null,null,null,1916,1.0705734776874851]
[null,null,null,null,null,1917,1.0857199638313619]
[null,null,null,null,null,1918,1.0884371902553198]
[null,null,null,null,null,1919,1.1083289255111592]
[null,null,null,null,null,1920,1.0546943746509383]
[null,null,null,null,null,1921,1.0492460476224148]
[null,null,null,null,null,1922,{"$f":"EXP($B$11-0.5*$B$10^2)+$B$10*_xlfn.NORM.S.INV(RAND())","v":1.101368660645593}]
[null,null,null,null,null,1923,1.1067226740721392]
[null,null,null,null,null,1924,1.0679825300402901]
[null,null,null,null,null,1925,1.0757294147923522]
[null,null,null,null,null,1926,1.0304461388773467]
[null,null,null,null,null,1927,1.0592645890691661]
[null,null,null,null,null,1928,1.0690092360804584]
[null,null,null,null,null,1929,1.05958383976376]
[null,null,null,null,null,1930,1.0684984599027338]
[null,null,null,null,null,1931,1.0692001774548641]
[null,null,null,null,null,1932,1.0857213767626559]
[null,null,null,null,null,1933,1.0712727572206411]
[null,null,null,null,null,1934,1.074665702430774]
[null,null,null,null,null,1935,1.0638528174501598]
[null,null,null,null,null,1936,1.0950642418771714]
[null,null,null,null,null,1937,1.0789440577370804]
[null,null,null,null,null,1938,1.0972007577142193]
[null,null,null,null,null,1939,1.0673899125509807]
[null,null,null,null,null,1940,1.102651306419463]
[null,null,null,null,null,1941,1.0613997192827325]
[null,null,null,null,null,1942,1.0999633204503774]
[null,null,null,null,null,1943,1.0710229054210558]
[null,null,null,null,null,1944,1.0978857626218541]
[null,null,null,null,null,1945,1.0899971134322841]
[null,null,null,null,null,1946,1.0723303211190114]
[null,null,null,null,null,1947,1.0941754108063189]
[null,null,null,null,null,1948,1.0783135710964953]
[null,null,null,null,null,1949,1.087615254870721]
[null,null,null,null,null,1950,1.0480311240392131]
[null,null,null,null,null,1951,1.0781570011002803]
[null,null,null,null,null,1952,1.0784610720292525]
[null,null,null,null,null,1953,1.0638584279592018]
[null,null,null,null,null,1954,1.1065547915716987]
[null,null,null,null,null,1955,1.0756519295116609]
[null,null,null,null,null,1956,1.0883743392240122]
[null,null,null,null,null,1957,1.0871155493294091]
[null,null,null,null,null,1958,1.0791573062689965]
[null,null,null,null,null,1959,1.0839799070133187]
[null,null,null,null,null,1960,1.0693331054468795]
[null,null,null,null,null,1961,1.0829225239722164]
[null,null,null,null,null,1962,1.0598582083730437]
[null,null,null,null,null,1963,1.0948824573620051]
[null,null,null,null,null,1964,1.0659993792522575]
[null,null,null,null,null,1965,1.0713304166093653]
[null,null,null,null,null,1966,1.0804449671938752]
[null,null,null,null,null,1967,1.0406662441921424]
[null,null,null,null,null,1968,1.0954582700863327]
[null,null,null,null,null,1969,1.0764862795405932]
[null,null,null,null,null,1970,1.0757321777659792]
[null,null,null,null,null,1971,1.0804996803989999]
[null,null,null,null,null,1972,1.0580177793703633]
[null,null,null,null,null,1973,1.088875712352217]
[null,null,null,null,null,1974,1.0957752483132317]
[null,null,null,null,null,1975,1.0856578566365931]
[null,null,null,null,null,1976,1.0869737790049716]
[null,null,null,null,null,1977,1.0729961288832659]
[null,null,null,null,null,1978,1.064164581341422]
[null,null,null,null,null,1979,1.1025888234540941]
[null,null,null,null,null,1980,1.057375175895654]
[null,null,null,null,null,1981,1.1052637582920819]
[null,null,null,null,null,1982,1.0559057674654899]
[null,null,null,null,null,1983,1.0832660245983796]
[null,null,null,null,null,1984,1.1060570559627305]
[null,null,null,null,null,1985,1.0931932582107486]
[null,null,null,null,null,1986,{"$f":"EXP($B$11-0.5*$B$10^2)+$B$10*_xlfn.NORM.S.INV(RAND())","v":1.031236440538873}]
[null,null,null,null,null,1987,1.0754424020502495]
[null,null,null,null,null,1988,1.0981211219441485]
[null,null,null,null,null,1989,1.1009570563822064]
[null,null,null,null,null,1990,1.0913675277723016]
[null,null,null,null,null,1991,1.0874343060349885]
[null,null,null,null,null,1992,1.0951634958547882]
[null,null,null,null,null,1993,1.0556660027931057]
[null,null,null,null,null,1994,1.0728206290486462]
[null,null,null,null,null,1995,1.0499120297935969]
[null,null,null,null,null,1996,1.0916433162905097]
[null,null,null,null,null,1997,1.0856762975775724]
[null,null,null,null,null,1998,1.0811992406165334]
[null,null,null,null,null,1999,1.0901917122122331]
[null,null,null,null,null,2000,1.0603903606744427]
[null,null,null,null,null,2001,1.0880614109911642]
[null,null,null,null,null,2002,1.0746844745501793]
[null,null,null,null,null,2003,1.1235111975824934]
[null,null,null,null,null,2004,1.0652860653261669]
[null,null,null,null,null,2005,1.0811983048440923]
[null,null,null,null,null,2006,1.0442177126225136]
[null,null,null,null,null,2007,1.019870000707197]
[null,null,null,null,null,2008,1.0943046159520127]
[null,null,null,null,null,2009,1.0886406259431309]
[null,null,null,null,null,2010,1.0902093977396756]
[null,null,null,null,null,2011,1.0643231984182204]
[null,null,null,null,null,2012,1.0668131297220302]
[null,null,null,null,null,2013,1.0475629797502743]
[null,null,null,null,null,2014,1.0552920420164194]
[null,null,null,null,null,2015,1.1063773354390432]
[null,null,null,null,null,2016,1.0549799028171587]
[null,null,null,null,null,2017,1.0583455446842231]
[null,null,null,null,null,2018,1.0841769907670438]
[null,null,null,null,null,2019,1.0779353068553819]
[null,null,null,null,null,2020,1.0791879432718385]
[null,null,null,null,null,2021,1.0728690744543574]
[null,null,null,null,null,2022,1.0620019989188152]
[null,null,null,null,null,2023,1.0636873524994508]
[null,null,null,null,null,2024,1.0702850442564145]
[null,null,null,null,null,2025,1.0590128314618874]
[null,null,null,null,null,2026,1.0860510875680907]
[null,null,null,null,null,2027,1.0702042991474181]
[null,null,null,null,null,2028,1.0572864443945709]
[null,null,null,null,null,2029,1.0716822730701721]
[null,null,null,null,null,2030,1.0820163138240495]
[null,null,null,null,null,2031,1.0922343686752849]
[null,null,null,null,null,2032,1.0495585593339123]
[null,null,null,null,null,2033,1.0853760504232559]
[null,null,null,null,null,2034,1.0610087312974532]
[null,null,null,null,null,2035,1.0888072401879005]
[null,null,null,null,null,2036,1.0947410017159733]
[null,null,null,null,null,2037,1.0865447930663334]
[null,null,null,null,null,2038,1.0751005373344198]
[null,null,null,null,null,2039,1.0718981509123509]
[null,null,null,null,null,2040,1.0591531252690265]
[null,null,null,null,null,2041,1.0706126258926429]
[null,null,null,null,null,2042,1.0827075104147228]
[null,null,null,null,null,2043,1.0873651672597826]
[null,null,null,null,null,2044,1.0791911082039554]
[null,null,null,null,null,2045,1.1164791214510532]
[null,null,null,null,null,2046,1.0531371002514871]
[null,null,null,null,null,2047,1.0681179830380243]
[null,null,null,null,null,2048,1.087687277216278]
[null,null,null,null,null,2049,1.0797175250410382]
[null,null,null,null,null,2050,{"$f":"EXP($B$11-0.5*$B$10^2)+$B$10*_xlfn.NORM.S.INV(RAND())","v":1.1089539638235284}]
[null,null,null,null,null,2051,1.0958019804077819]
[null,null,null,null,null,2052,1.0985020477896534]
[null,null,null,null,null,2053,1.1228295418994563]
[null,null,null,null,null,2054,1.097160007786063]
[null,null,null,null,null,2055,1.0661801906592212]
[null,null,null,null,null,2056,1.0510898804269426]
[null,null,null,null,null,2057,1.0874328549585515]
[null,null,null,null,null,2058,1.0799580117558243]
[null,null,null,null,null,2059,1.0676168167595286]
[null,null,null,null,null,2060,1.070371653500426]
[null,null,null,null,null,2061,1.046934419282219]
[null,null,null,null,null,2062,1.0753456909855796]
[null,null,null,null,null,2063,1.066905556484909]
[null,null,null,null,null,2064,1.0876248896717682]
[null,null,null,null,null,2065,1.0717926053176845]
[null,null,null,null,null,2066,1.1299759052568248]
[null,null,null,null,null,2067,1.0933651849082093]
[null,null,null,null,null,2068,1.0929414556224253]
[null,null,null,null,null,2069,1.0837316681861993]
[null,null,null,null,null,2070,1.0883311900926071]
[null,null,null,null,null,2071,1.0526677442099321]
[null,null,null,null,null,2072,1.0605509567195046]
[null,null,null,null,null,2073,1.046873194505056]
[null,null,null,null,null,2074,1.0906210034370041]
[null,null,null,null,null,2075,1.10542161100105]
[null,null,null,null,null,2076,1.0733477590640119]
[null,null,null,null,null,2077,1.0818934896610357]
[null,null,null,null,null,2078,1.1018667304282574]
[null,null,null,null,null,2079,1.0867758741369393]
[null,null,null,null,null,2080,1.0911216668461059]
[null,null,null,null,null,2081,1.0466113309266172]
[null,null,null,null,null,2082,1.0359071546457308]
[null,null,null,null,null,2083,1.1148851819836545]
[null,null,null,null,null,2084,1.1083120411118672]
[null,null,null,null,null,2085,1.0867708757314045]
[null,null,null,null,null,2086,1.0606287201099893]
[null,null,null,null,null,2087,1.0947079638801189]
[null,null,null,null,null,2088,1.1018711759393374]
[null,null,null,null,null,2089,1.0837918842730776]
[null,null,null,null,null,2090,1.0405369335456442]
[null,null,null,null,null,2091,1.0688331415190584]
[null,null,null,null,null,2092,1.0725640090137765]
[null,null,null,null,null,2093,1.0640344740998291]
[null,null,null,null,null,2094,1.070868545404561]
[null,null,null,null,null,2095,1.0594894818126739]
[null,null,null,null,null,2096,1.0431231454638907]
[null,null,null,null,null,2097,1.0799837914571406]
[null,null,null,null,null,2098,1.0495425029490981]
[null,null,null,null,null,2099,1.0398275015846212]
[null,null,null,null,null,2100,1.0854132061509099]
[null,null,null,null,null,2101,1.0733829590500543]
[null,null,null,null,null,2102,1.0712080613290824]
[null,null,null,null,null,2103,1.0876109425376697]
[null,null,null,null,null,2104,1.0630706283083855]
[null,null,null,null,null,2105,1.0632393527963477]
[null,null,null,null,null,2106,1.082853533360417]
[null,null,null,null,null,2107,1.0488090023431931]
[null,null,null,null,null,2108,1.0640658358613959]
[null,null,null,null,null,2109,1.0485449787144712]
[null,null,null,null,null,2110,1.0925368697091871]
[null,null,null,null,null,2111,1.1005398674247782]
[null,null,null,null,null,2112,1.0638592076246871]
[null,null,null,null,null,2113,1.0647541449267737]
[null,null,null,null,null,2114,{"$f":"EXP($B$11-0.5*$B$10^2)+$B$10*_xlfn.NORM.S.INV(RAND())","v":1.0981948359465887}]
[null,null,null,null,null,2115,1.051216542804575]
[null,null,null,null,null,2116,1.108914836343321]
[null,null,null,null,null,2117,1.0960928810902655]
[null,null,null,null,null,2118,1.0564605114680743]
[null,null,null,null,null,2119,1.0738737011963742]
[null,null,null,null,null,2120,1.0792823327798864]
[null,null,null,null,null,2121,1.0803021747696617]
[null,null,null,null,null,2122,1.0356659553595366]
[null,null,null,null,null,2123,1.0759014945876872]
[null,null,null,null,null,2124,1.0738678688471153]
[null,null,null,null,null,2125,1.1069754302629302]
[null,null,null,null,null,2126,1.0952365747419073]
[null,null,null,null,null,2127,1.0783453867757551]
[null,null,null,null,null,2128,1.0809430335182981]
[null,null,null,null,null,2129,1.0906047610290146]
[null,null,null,null,null,2130,1.0675666145268408]
[null,null,null,null,null,2131,1.1200374279427874]
[null,null,null,null,null,2132,1.1008351926027311]
[null,null,null,null,null,2133,1.0897202827555317]
[null,null,null,null,null,2134,1.0621488608895915]
[null,null,null,null,null,2135,1.0706941077859504]
[null,null,null,null,null,2136,1.0861139724584643]
[null,null,null,null,null,2137,1.0829003368255887]
[null,null,null,null,null,2138,1.0612431930376893]
[null,null,null,null,null,2139,1.0646642100908521]
[null,null,null,null,null,2140,1.0600936105110979]
[null,null,null,null,null,2141,1.0790369481165634]
[null,null,null,null,null,2142,1.0773430196682638]
[null,null,null,null,null,2143,1.0438662365069007]
[null,null,null,null,null,2144,1.0916007175271021]
[null,null,null,null,null,2145,1.0551550924273854]
[null,null,null,null,null,2146,1.0771911516630508]
[null,null,null,null,null,2147,1.0370137798565764]
[null,null,null,null,null,2148,1.0842008075938616]
[null,null,null,null,null,2149,1.0690213879351615]
[null,null,null,null,null,2150,1.0512400411103524]
[null,null,null,null,null,2151,1.0626838385278898]
[null,null,null,null,null,2152,1.0675567935308499]
[null,null,null,null,null,2153,1.0924761474135454]
[null,null,null,null,null,2154,1.0804653054050919]
[null,null,null,null,null,2155,1.0914596693920322]
[null,null,null,null,null,2156,1.0448185846637374]
[null,null,null,null,null,2157,1.0821055549545362]
[null,null,null,null,null,2158,1.0790091733206395]
[null,null,null,null,null,2159,1.0759063675341176]
[null,null,null,null,null,2160,1.0771450083109693]
[null,null,null,null,null,2161,1.0785263078872371]
[null,null,null,null,null,2162,1.0576586074540668]
[null,null,null,null,null,2163,1.0983520221998939]
[null,null,null,null,null,2164,1.0689690557727158]
[null,null,null,null,null,2165,1.0916123273640554]
[null,null,null,null,null,2166,1.0988202552354145]
[null,null,null,null,null,2167,1.0938816397092761]
[null,null,null,null,null,2168,1.0843659238556298]
[null,null,null,null,null,2169,1.1142888810363938]
[null,null,null,null,null,2170,1.0719970687244864]
[null,null,null,null,null,2171,1.0785213175310975]
[null,null,null,null,null,2172,1.0778507383758802]
[null,null,null,null,null,2173,1.0708372512095476]
[null,null,null,null,null,2174,1.0933614140765404]
[null,null,null,null,null,2175,1.0604855495823873]
[null,null,null,null,null,2176,1.059449899647674]
[null,null,null,null,null,2177,1.0996799660112724]
[null,null,null,null,null,2178,{"$f":"EXP($B$11-0.5*$B$10^2)+$B$10*_xlfn.NORM.S.INV(RAND())","v":1.0977239281630298}]
[null,null,null,null,null,2179,1.0892897329714273]
[null,null,null,null,null,2180,1.0615166722234826]
[null,null,null,null,null,2181,1.068634583385458]
[null,null,null,null,null,2182,1.0808224345431412]
[null,null,null,null,null,2183,1.0933624299947937]
[null,null,null,null,null,2184,1.0799060533018441]
[null,null,null,null,null,2185,1.0815226260967656]
[null,null,null,null,null,2186,1.0867665780010556]
[null,null,null,null,null,2187,1.0689272880221132]
[null,null,null,null,null,2188,1.081737321146683]
[null,null,null,null,null,2189,1.1076589478993712]
[null,null,null,null,null,2190,1.0611496475947044]
[null,null,null,null,null,2191,1.0911979332690998]
[null,null,null,null,null,2192,1.0561448044588286]
[null,null,null,null,null,2193,1.0595318390436723]
[null,null,null,null,null,2194,1.096333765299548]
[null,null,null,null,null,2195,1.0508481827442242]
[null,null,null,null,null,2196,1.0599513536656624]
[null,null,null,null,null,2197,1.0946183027087222]
[null,null,null,null,null,2198,1.0732940632935066]
[null,null,null,null,null,2199,1.0706662092860677]
[null,null,null,null,null,2200,1.1000373716319327]
[null,null,null,null,null,2201,1.0693992446099498]
[null,null,null,null,null,2202,1.0831696275293139]
[null,null,null,null,null,2203,1.0889805101809966]
[null,null,null,null,null,2204,1.0915556280383667]
[null,null,null,null,null,2205,1.0450673349067505]
[null,null,null,null,null,2206,1.0793868430019038]
[null,null,null,null,null,2207,1.0811519913703331]
[null,null,null,null,null,2208,1.0684916883893576]
[null,null,null,null,null,2209,1.0679877596056988]
[null,null,null,null,null,2210,1.0586708278762622]
[null,null,null,null,null,2211,1.0918417375593665]
[null,null,null,null,null,2212,1.0710205672754245]
[null,null,null,null,null,2213,1.0786518777405238]
[null,null,null,null,null,2214,1.0691064997268578]
[null,null,null,null,null,2215,1.0641792261539933]
[null,null,null,null,null,2216,1.057078546658027]
[null,null,null,null,null,2217,1.0778435910002029]
[null,null,null,null,null,2218,1.0577212228803237]
[null,null,null,null,null,2219,1.0842360696580751]
[null,null,null,null,null,2220,1.0833226384711225]
[null,null,null,null,null,2221,1.0506242442773546]
[null,null,null,null,null,2222,1.075538067985141]
[null,null,null,null,null,2223,1.0764636219766328]
[null,null,null,null,null,2224,1.0756959613433061]
[null,null,null,null,null,2225,1.0914822012189467]
[null,null,null,null,null,2226,1.0920854036572942]
[null,null,null,null,null,2227,1.1077792066908905]
[null,null,null,null,null,2228,1.0878006336493597]
[null,null,null,null,null,2229,1.0960498138546062]
[null,null,null,null,null,2230,1.1184671560596868]
[null,null,null,null,null,2231,1.0761118082796155]
[null,null,null,null,null,2232,1.0639345321826268]
[null,null,null,null,null,2233,1.0752097816433785]
[null,null,null,null,null,2234,1.1032559353616829]
[null,null,null,null,null,2235,1.080061548035526]
[null,null,null,null,null,2236,1.0489817246270388]
[null,null,null,null,null,2237,1.10601472362696]
[null,null,null,null,null,2238,1.0939735531121093]
[null,null,null,null,null,2239,1.1151732743953897]
[null,null,null,null,null,2240,1.050480509175113]
[null,null,null,null,null,2241,1.064612044724742]
[null,null,null,null,null,2242,{"$f":"EXP($B$11-0.5*$B$10^2)+$B$10*_xlfn.NORM.S.INV(RAND())","v":1.0956315712863158}]
[null,null,null,null,null,2243,1.0551680371821832]
[null,null,null,null,null,2244,1.0573661605135221]
[null,null,null,null,null,2245,1.0924416300137096]
[null,null,null,null,null,2246,1.0768508908356462]
[null,null,null,null,null,2247,1.0916404449869421]
[null,null,null,null,null,2248,1.0789151895106002]
[null,null,null,null,null,2249,1.0542536285455755]
[null,null,null,null,null,2250,1.0519816985459571]
[null,null,null,null,null,2251,1.0990451040367757]
[null,null,null,null,null,2252,1.0775008754832143]
[null,null,null,null,null,2253,1.0748864416590835]
[null,null,null,null,null,2254,1.0694746251647984]
[null,null,null,null,null,2255,1.0683521508396225]
[null,null,null,null,null,2256,1.0543887875138709]
[null,null,null,null,null,2257,1.0697031105756372]
[null,null,null,null,null,2258,1.079682776428927]
[null,null,null,null,null,2259,1.0576840697890195]
[null,null,null,null,null,2260,1.0877682752369269]
[null,null,null,null,null,2261,1.0546898407623582]
[null,null,null,null,null,2262,1.0667230573391935]
[null,null,null,null,null,2263,1.0886957849450587]
[null,null,null,null,null,2264,1.0727641385907982]
[null,null,null,null,null,2265,1.0508115204722077]
[null,null,null,null,null,2266,1.070751771822354]
[null,null,null,null,null,2267,1.1005767677457903]
[null,null,null,null,null,2268,1.080676127234719]
[null,null,null,null,null,2269,1.0945816717524446]
[null,null,null,null,null,2270,1.0805023992821623]
[null,null,null,null,null,2271,1.0928471647597797]
[null,null,null,null,null,2272,1.0739598807556887]
[null,null,null,null,null,2273,1.0688459524556844]
[null,null,null,null,null,2274,1.0708139631039917]
[null,null,null,null,null,2275,1.0819322969296272]
[null,null,null,null,null,2276,1.0860540459826462]
[null,null,null,null,null,2277,1.059534631217161]
[null,null,null,null,null,2278,1.1231750347379978]
[null,null,null,null,null,2279,1.0730258875326435]
[null,null,null,null,null,2280,1.0751059564818972]
[null,null,null,null,null,2281,1.0984461131422618]
[null,null,null,null,null,2282,1.0511625805592251]
[null,null,null,null,null,2283,1.1035991081584646]
[null,null,null,null,null,2284,1.0670849209479216]
[null,null,null,null,null,2285,1.0816593735055529]
[null,null,null,null,null,2286,1.0580965188867375]
[null,null,null,null,null,2287,1.0604803435191261]
[null,null,null,null,null,2288,1.1126450909610888]
[null,null,null,null,null,2289,1.0868733034958498]
[null,null,null,null,null,2290,1.0770472635071155]
[null,null,null,null,null,2291,1.078032974416457]
[null,null,null,null,null,2292,1.0742130366887996]
[null,null,null,null,null,2293,1.0501700553903379]
[null,null,null,null,null,2294,1.057532075901332]
[null,null,null,null,null,2295,1.0725709682226323]
[null,null,null,null,null,2296,1.0978063018229987]
[null,null,null,null,null,2297,1.0725604822745172]
[null,null,null,null,null,2298,1.0601252079231223]
[null,null,null,null,null,2299,1.0747426006311396]
[null,null,null,null,null,2300,1.0692166274953614]
[null,null,null,null,null,2301,1.0813961742126807]
[null,null,null,null,null,2302,1.0787922910500853]
[null,null,null,null,null,2303,1.072388109525976]
[null,null,null,null,null,2304,1.0881290245348876]
[null,null,null,null,null,2305,1.0875288586136571]
[null,null,null,null,null,2306,{"$f":"EXP($B$11-0.5*$B$10^2)+$B$10*_xlfn.NORM.S.INV(RAND())","v":1.0537146632576526}]
[null,null,null,null,null,2307,1.0775760304431978]
[null,null,null,null,null,2308,1.1008115706985269]
[null,null,null,null,null,2309,1.0753884184806926]
[null,null,null,null,null,2310,1.0784892218670346]
[null,null,null,null,null,2311,1.09561850564874]
[null,null,null,null,null,2312,1.1059519884328077]
[null,null,null,null,null,2313,1.062408893316154]
[null,null,null,null,null,2314,1.0767849027035419]
[null,null,null,null,null,2315,1.0813835673279211]
[null,null,null,null,null,2316,1.136390853172794]
[null,null,null,null,null,2317,1.1009821579168535]
[null,null,null,null,null,2318,1.0373060978749784]
[null,null,null,null,null,2319,1.0528621889974821]
[null,null,null,null,null,2320,1.0820830089575426]
[null,null,null,null,null,2321,1.0800017254651249]
[null,null,null,null,null,2322,1.0598696591239369]
[null,null,null,null,null,2323,1.0821768865820847]
[null,null,null,null,null,2324,1.095315363435712]
[null,null,null,null,null,2325,1.1077714747813889]
[null,null,null,null,null,2326,1.068006624840647]
[null,null,null,null,null,2327,1.0836318528426054]
[null,null,null,null,null,2328,1.1060639737546492]
[null,null,null,null,null,2329,1.0612472159029673]
[null,null,null,null,null,2330,1.0581916670034655]
[null,null,null,null,null,2331,1.0554983387991719]
[null,null,null,null,null,2332,1.0498883439992204]
[null,null,null,null,null,2333,1.0592538941022758]
[null,null,null,null,null,2334,1.0616961696285303]
[null,null,null,null,null,2335,1.0687488641182605]
[null,null,null,null,null,2336,1.0750421781312571]
[null,null,null,null,null,2337,1.0697094653874473]
[null,null,null,null,null,2338,1.1007919847732643]
[null,null,null,null,null,2339,1.0768314833462624]
[null,null,null,null,null,2340,1.0815428527867179]
[null,null,null,null,null,2341,1.0627531987492418]
[null,null,null,null,null,2342,1.0643321032680584]
[null,null,null,null,null,2343,1.072367838871791]
[null,null,null,null,null,2344,1.1010240604978461]
[null,null,null,null,null,2345,1.0661705752424873]
[null,null,null,null,null,2346,1.1043369967888128]
[null,null,null,null,null,2347,1.0981785716268004]
[null,null,null,null,null,2348,1.0723940490059261]
[null,null,null,null,null,2349,1.0753075283632558]
[null,null,null,null,null,2350,1.0456158188549778]
[null,null,null,null,null,2351,1.0724091405777938]
[null,null,null,null,null,2352,1.0792062769493282]
[null,null,null,null,null,2353,1.0775919373220204]
[null,null,null,null,null,2354,1.100872778419743]
[null,null,null,null,null,2355,1.0451608106583155]
[null,null,null,null,null,2356,1.0711752317901979]
[null,null,null,null,null,2357,1.0798430968105321]
[null,null,null,null,null,2358,1.0787325953916209]
[null,null,null,null,null,2359,1.0576208237373115]
[null,null,null,null,null,2360,1.0571607199727249]
[null,null,null,null,null,2361,1.0565403166578784]
[null,null,null,null,null,2362,1.1024967004100743]
[null,null,null,null,null,2363,1.0805046969294942]
[null,null,null,null,null,2364,1.0968175808479257]
[null,null,null,null,null,2365,1.0925690995114627]
[null,null,null,null,null,2366,1.0594088608770709]
[null,null,null,null,null,2367,1.0727369324750202]
[null,null,null,null,null,2368,1.0896431440892029]
[null,null,null,null,null,2369,1.0976401997372975]
[null,null,null,null,null,2370,{"$f":"EXP($B$11-0.5*$B$10^2)+$B$10*_xlfn.NORM.S.INV(RAND())","v":1.0431581412872628}]
[null,null,null,null,null,2371,1.0968354875184956]
[null,null,null,null,null,2372,1.0742149219508759]
[null,null,null,null,null,2373,1.0620640515532007]
[null,null,null,null,null,2374,1.0848967053509968]
[null,null,null,null,null,2375,1.0805146314112002]
[null,null,null,null,null,2376,1.0934965737261555]
[null,null,null,null,null,2377,1.0369640520033059]
[null,null,null,null,null,2378,1.0854244058468361]
[null,null,null,null,null,2379,1.0649183692092323]
[null,null,null,null,null,2380,1.0939444221263661]
[null,null,null,null,null,2381,1.0775387764522841]
[null,null,null,null,null,2382,1.0799240375061316]
[null,null,null,null,null,2383,1.0912221541963913]
[null,null,null,null,null,2384,1.042523309088671]
[null,null,null,null,null,2385,1.0761032668547055]
[null,null,null,null,null,2386,1.0763944603740723]
[null,null,null,null,null,2387,1.0894667805277691]
[null,null,null,null,null,2388,1.0706492460113555]
[null,null,null,null,null,2389,1.0571292492094284]
[null,null,null,null,null,2390,1.0820062625684155]
[null,null,null,null,null,2391,1.0685647456649847]
[null,null,null,null,null,2392,1.0882392814984934]
[null,null,null,null,null,2393,1.071532678111653]
[null,null,null,null,null,2394,1.0941956305657681]
[null,null,null,null,null,2395,1.070298845811587]
[null,null,null,null,null,2396,1.0900184967747031]
[null,null,null,null,null,2397,1.0589565222265043]
[null,null,null,null,null,2398,1.0986243515025627]
[null,null,null,null,null,2399,1.1037842139616809]
[null,null,null,null,null,2400,1.0541397767331222]
[null,null,null,null,null,2401,1.0733448385157198]
[null,null,null,null,null,2402,1.0790095569161733]
[null,null,null,null,null,2403,1.0605744105297792]
[null,null,null,null,null,2404,1.0570481260215783]
[null,null,null,null,null,2405,1.0776614225820453]
[null,null,null,null,null,2406,1.0938115752809248]
[null,null,null,null,null,2407,1.112902195889133]
[null,null,null,null,null,2408,1.0557427650476352]
[null,null,null,null,null,2409,1.1018936929890659]
[null,null,null,null,null,2410,1.0905664982447543]
[null,null,null,null,null,2411,1.0580726720543672]
[null,null,null,null,null,2412,1.1060657773194591]
[null,null,null,null,null,2413,1.1211605650862246]
[null,null,null,null,null,2414,1.0635916072352032]
[null,null,null,null,null,2415,1.0996759755840964]
[null,null,null,null,null,2416,1.0585993418366186]
[null,null,null,null,null,2417,1.0714783374871748]
[null,null,null,null,null,2418,1.0833625104658313]
[null,null,null,null,null,2419,1.0753082456788472]
[null,null,null,null,null,2420,1.0688800906649969]
[null,null,null,null,null,2421,1.091830184531118]
[null,null,null,null,null,2422,1.0766201760975183]
[null,null,null,null,null,2423,1.0901235610149118]
[null,null,null,null,null,2424,1.0788094702558124]
[null,null,null,null,null,2425,1.0560107885615315]
[null,null,null,null,null,2426,1.0471073145519776]
[null,null,null,null,null,2427,1.0623239617768749]
[null,null,null,null,null,2428,1.0962415463385409]
[null,null,null,null,null,2429,1.0705025204392677]
[null,null,null,null,null,2430,1.06082201072329]
[null,null,null,null,null,2431,1.0699515048767987]
[null,null,null,null,null,2432,1.086834221323433]
[null,null,null,null,null,2433,1.0431118792856346]
[null,null,null,null,null,2434,{"$f":"EXP($B$11-0.5*$B$10^2)+$B$10*_xlfn.NORM.S.INV(RAND())","v":1.0523930917898929}]
[null,null,null,null,null,2435,1.115018177489369]
[null,null,null,null,null,2436,1.0825917028923362]
[null,null,null,null,null,2437,1.0733907051618561]
[null,null,null,null,null,2438,1.0999988494236874]
[null,null,null,null,null,2439,1.0788838997513688]
[null,null,null,null,null,2440,1.0677830365683847]
[null,null,null,null,null,2441,1.0575616215494801]
[null,null,null,null,null,2442,1.0970677347419653]
[null,null,null,null,null,2443,1.1202478798517239]
[null,null,null,null,null,2444,1.0880232129861205]
[null,null,null,null,null,2445,1.1022661105766889]
[null,null,null,null,null,2446,1.0643774747524721]
[null,null,null,null,null,2447,1.1054940353734377]
[null,null,null,null,null,2448,1.1103254696514711]
[null,null,null,null,null,2449,1.077719293116185]
[null,null,null,null,null,2450,1.0647648586826775]
[null,null,null,null,null,2451,1.0447825261892565]
[null,null,null,null,null,2452,1.1179884646671898]
[null,null,null,null,null,2453,1.0715501002377137]
[null,null,null,null,null,2454,1.0383529711700656]
[null,null,null,null,null,2455,1.0900291671068987]
[null,null,null,null,null,2456,1.071444166349202]
[null,null,null,null,null,2457,1.1053543967809822]
[null,null,null,null,null,2458,1.0862759621700773]
[null,null,null,null,null,2459,1.0904429679733076]
[null,null,null,null,null,2460,1.1237485483579754]
[null,null,null,null,null,2461,1.0673442135396312]
[null,null,null,null,null,2462,1.0884796716452292]
[null,null,null,null,null,2463,1.0575810363980036]
[null,null,null,null,null,2464,1.1066001457879975]
[null,null,null,null,null,2465,1.043213500472705]
[null,null,null,null,null,2466,1.0854978459841691]
[null,null,null,null,null,2467,1.075843070639559]
[null,null,null,null,null,2468,1.1315774960112599]
[null,null,null,null,null,2469,1.0795894845184877]
[null,null,null,null,null,2470,1.0602077486295798]
[null,null,null,null,null,2471,1.0720821696592213]
[null,null,null,null,null,2472,1.1139859379780179]
[null,null,null,null,null,2473,1.1002170750467823]
[null,null,null,null,null,2474,1.0751633595161099]
[null,null,null,null,null,2475,1.0855481822736479]
[null,null,null,null,null,2476,1.0560571459244055]
[null,null,null,null,null,2477,1.0806546017494325]
[null,null,null,null,null,2478,1.0645257984690075]
[null,null,null,null,null,2479,1.0573995764365607]
[null,null,null,null,null,2480,1.0733763864366266]
[null,null,null,null,null,2481,1.0604614062250051]
[null,null,null,null,null,2482,1.087080325075785]
[null,null,null,null,null,2483,1.0470522517718825]
[null,null,null,null,null,2484,1.0337893295497147]
[null,null,null,null,null,2485,1.0678479255266851]
[null,null,null,null,null,2486,1.0866712607800979]
[null,null,null,null,null,2487,1.0554907838321459]
[null,null,null,null,null,2488,1.0855467146257907]
[null,null,null,null,null,2489,1.0202619989460897]
[null,null,null,null,null,2490,1.1004746844248414]
[null,null,null,null,null,2491,1.0937484814242462]
[null,null,null,null,null,2492,1.072661517489788]
[null,null,null,null,null,2493,1.0581595936415693]
[null,null,null,null,null,2494,1.0644793973786968]
[null,null,null,null,null,2495,1.0679833903808618]
[null,null,null,null,null,2496,1.1065663391303699]
[null,null,null,null,null,2497,1.0966791378556777]
[null,null,null,null,null,2498,{"$f":"EXP($B$11-0.5*$B$10^2)+$B$10*_xlfn.NORM.S.INV(RAND())","v":1.1018832665368574}]
[null,null,null,null,null,2499,1.0609711144504734]
[null,null,null,null,null,2500,1.074507438903509]
[null,null,null,null,null,2501,1.1207357876192661]
[null,null,null,null,null,2502,1.1132062946450607]
[null,null,null,null,null,2503,1.0687584512015986]
[null,null,null,null,null,2504,1.0772043991023272]
[null,null,null,null,null,2505,1.0744426166750169]
[null,null,null,null,null,2506,1.1085145756377479]
[null,null,null,null,null,2507,1.0778341500286277]
[null,null,null,null,null,2508,1.07126247111224]
[null,null,null,null,null,2509,1.0634961314645879]
[null,null,null,null,null,2510,1.0475528145968989]
[null,null,null,null,null,2511,1.0847814519580854]
[null,null,null,null,null,2512,1.0691049934972812]
[null,null,null,null,null,2513,1.0684343356160073]
[null,null,null,null,null,2514,1.0876795217150064]
[null,null,null,null,null,2515,1.1056161295354638]
[null,null,null,null,null,2516,1.0665594260409563]
[null,null,null,null,null,2517,1.0651443887366716]
[null,null,null,null,null,2518,1.0678544572734534]
[null,null,null,null,null,2519,1.0769918983309439]
[null,null,null,null,null,2520,1.0771054423213795]
[null,null,null,null,null,2521,1.1276430332610781]
[null,null,null,null,null,2522,1.0895544652064593]
[null,null,null,null,null,2523,1.0738608085263748]
[null,null,null,null,null,2524,1.0827645889458459]
[null,null,null,null,null,2525,1.1121018448748665]
[null,null,null,null,null,2526,1.0926472923860118]
[null,null,null,null,null,2527,1.0953384261925696]
[null,null,null,null,null,2528,1.0630390453518559]
[null,null,null,null,null,2529,1.0587429680444564]
[null,null,null,null,null,2530,1.0564579049137557]
[null,null,null,null,null,2531,1.086592352746053]
[null,null,null,null,null,2532,1.072383247741002]
[null,null,null,null,null,2533,1.0757795367289991]
[null,null,null,null,null,2534,1.0724908473032031]
[null,null,null,null,null,2535,1.0695670267568702]
[null,null,null,null,null,2536,1.0956710565489081]
[null,null,null,null,null,2537,1.0407533811772021]
[null,null,null,null,null,2538,1.0903043589149233]
[null,null,null,null,null,2539,1.0787090743655416]
[null,null,null,null,null,2540,1.060925015450578]
[null,null,null,null,null,2541,1.0889328429187735]
[null,null,null,null,null,2542,1.0709331522674346]
[null,null,null,null,null,2543,1.0731974046470056]
[null,null,null,null,null,2544,1.047629970725551]
[null,null,null,null,null,2545,1.0724281400407674]
[null,null,null,null,null,2546,1.0552495832492574]
[null,null,null,null,null,2547,1.0899694857548063]
[null,null,null,null,null,2548,1.0507179348761306]
[null,null,null,null,null,2549,1.0664944495034261]
[null,null,null,null,null,2550,1.0721812062237794]
[null,null,null,null,null,2551,1.0790497314484166]
[null,null,null,null,null,2552,1.0944050162604471]
[null,null,null,null,null,2553,1.0861006315736927]
[null,null,null,null,null,2554,1.1075812277519645]
[null,null,null,null,null,2555,1.0994379497951188]
[null,null,null,null,null,2556,1.080428868059788]
[null,null,null,null,null,2557,1.0736147369321989]
[null,null,null,null,null,2558,1.0747412130301148]
[null,null,null,null,null,2559,1.0766148045451602]
[null,null,null,null,null,2560,1.0973338355771909]
[null,null,null,null,null,2561,1.1020137833536405]
[null,null,null,null,null,2562,{"$f":"EXP($B$11-0.5*$B$10^2)+$B$10*_xlfn.NORM.S.INV(RAND())","v":1.0597973522725961}]
[null,null,null,null,null,2563,1.0740507936930004]
[null,null,null,null,null,2564,1.0715277816458031]
[null,null,null,null,null,2565,1.0773356807352479]
[null,null,null,null,null,2566,1.0949065932831288]
[null,null,null,null,null,2567,1.120103823493477]
[null,null,null,null,null,2568,1.1092494590921473]
[null,null,null,null,null,2569,1.0895875351765463]
[null,null,null,null,null,2570,1.0865183094599669]
[null,null,null,null,null,2571,1.0899849624115612]
[null,null,null,null,null,2572,1.0869616073414778]
[null,null,null,null,null,2573,1.055430114829274]
[null,null,null,null,null,2574,1.083202422280626]
[null,null,null,null,null,2575,1.0741620931268485]
[null,null,null,null,null,2576,1.0661774978104162]
[null,null,null,null,null,2577,1.0821278022907883]
[null,null,null,null,null,2578,1.0351949467876029]
[null,null,null,null,null,2579,1.1032589359924367]
[null,null,null,null,null,2580,1.0578129674139527]
[null,null,null,null,null,2581,1.0644584206548533]
[null,null,null,null,null,2582,1.0727929080895535]
[null,null,null,null,null,2583,1.0622947371130007]
[null,null,null,null,null,2584,1.0814000214713611]
[null,null,null,null,null,2585,1.0625158687066782]
[null,null,null,null,null,2586,1.085238217358502]
[null,null,null,null,null,2587,1.0674836836032278]
[null,null,null,null,null,2588,1.0906606391279932]
[null,null,null,null,null,2589,1.0781240666504293]
[null,null,null,null,null,2590,1.0647416625791097]
[null,null,null,null,null,2591,1.0741412309236644]
[null,null,null,null,null,2592,1.0675967730513944]
[null,null,null,null,null,2593,1.0729692062221023]
[null,null,null,null,null,2594,1.0762609976841555]
[null,null,null,null,null,2595,1.0912937600150436]
[null,null,null,null,null,2596,1.0995204816120265]
[null,null,null,null,null,2597,1.0668083810985909]
[null,null,null,null,null,2598,1.0935604874770035]
[null,null,null,null,null,2599,1.0685112342393923]
[null,null,null,null,null,2600,1.0844241058672035]
[null,null,null,null,null,2601,1.083800101416871]
[null,null,null,null,null,2602,1.0432298434752392]
[null,null,null,null,null,2603,1.054546080880709]
[null,null,null,null,null,2604,1.0766013817418307]
[null,null,null,null,null,2605,1.0703295030661633]
[null,null,null,null,null,2606,1.0612880281203094]
[null,null,null,null,null,2607,1.0904034157081521]
[null,null,null,null,null,2608,1.1104670300328361]
[null,null,null,null,null,2609,1.0878862118680976]
[null,null,null,null,null,2610,1.0725362352910415]
[null,null,null,null,null,2611,1.0453734775515382]
[null,null,null,null,null,2612,1.0573526501829362]
[null,null,null,null,null,2613,1.0580982275962669]
[null,null,null,null,null,2614,1.0673244128514408]
[null,null,null,null,null,2615,1.0699041966981511]
[null,null,null,null,null,2616,1.0688683410574269]
[null,null,null,null,null,2617,1.0711467817714055]
[null,null,null,null,null,2618,1.0910539148310403]
[null,null,null,null,null,2619,1.0594599642847431]
[null,null,null,null,null,2620,1.0892368738035592]
[null,null,null,null,null,2621,1.1092093055447034]
[null,null,null,null,null,2622,1.0576834464893012]
[null,null,null,null,null,2623,1.0784258344295778]
[null,null,null,null,null,2624,1.0933157403327478]
[null,null,null,null,null,2625,1.0832509228641019]
[null,null,null,null,null,2626,{"$f":"EXP($B$11-0.5*$B$10^2)+$B$10*_xlfn.NORM.S.INV(RAND())","v":1.0635507894607508}]
[null,null,null,null,null,2627,1.1182316877378762]
[null,null,null,null,null,2628,1.0689918321607463]
[null,null,null,null,null,2629,1.094550305615011]
[null,null,null,null,null,2630,1.0746765646794487]
[null,null,null,null,null,2631,1.0520678401094747]
[null,null,null,null,null,2632,1.0665745429186326]
[null,null,null,null,null,2633,1.0650797612865976]
[null,null,null,null,null,2634,1.0763713231074581]
[null,null,null,null,null,2635,1.0757445295891819]
[null,null,null,null,null,2636,1.0985677565039198]
[null,null,null,null,null,2637,1.0806782212612032]
[null,null,null,null,null,2638,1.0934638812073623]
[null,null,null,null,null,2639,1.0474861502089918]
[null,null,null,null,null,2640,1.0996415895972143]
[null,null,null,null,null,2641,1.0900977530208436]
[null,null,null,null,null,2642,1.1101524004396475]
[null,null,null,null,null,2643,1.0468818779710602]
[null,null,null,null,null,2644,1.0740921701119985]
[null,null,null,null,null,2645,1.0572999590993557]
[null,null,null,null,null,2646,1.0681546006934761]
[null,null,null,null,null,2647,1.0738766655425731]
[null,null,null,null,null,2648,1.1000190086936064]
[null,null,null,null,null,2649,1.0795170292104261]
[null,null,null,null,null,2650,1.0761591023273072]
[null,null,null,null,null,2651,1.1173248407904941]
[null,null,null,null,null,2652,1.0736389052122699]
[null,null,null,null,null,2653,1.0647787764087759]
[null,null,null,null,null,2654,1.0940638800959122]
[null,null,null,null,null,2655,1.0772214579823602]
[null,null,null,null,null,2656,1.0952004275428076]
[null,null,null,null,null,2657,1.0882748588093825]
[null,null,null,null,null,2658,1.0736026682727007]
[null,null,null,null,null,2659,1.1051458278314712]
[null,null,null,null,null,2660,1.0764251646003846]
[null,null,null,null,null,2661,1.0679616092464606]
[null,null,null,null,null,2662,1.0534532425124108]
[null,null,null,null,null,2663,1.0818422493506592]
[null,null,null,null,null,2664,1.0751861648368179]
[null,null,null,null,null,2665,1.0637608084126899]
[null,null,null,null,null,2666,1.0542778832889708]
[null,null,null,null,null,2667,1.0447376573989064]
[null,null,null,null,null,2668,1.0750002237758334]
[null,null,null,null,null,2669,1.0336814892231452]
[null,null,null,null,null,2670,1.0894737919553448]
[null,null,null,null,null,2671,1.0601138440302549]
[null,null,null,null,null,2672,1.0653439618720433]
[null,null,null,null,null,2673,1.0849379330437436]
[null,null,null,null,null,2674,1.0564355364563107]
[null,null,null,null,null,2675,1.0932515354744787]
[null,null,null,null,null,2676,1.1041787411882944]
[null,null,null,null,null,2677,1.0942792152149241]
[null,null,null,null,null,2678,1.0343103786612957]
[null,null,null,null,null,2679,1.058650760799809]
[null,null,null,null,null,2680,1.082314031665558]
[null,null,null,null,null,2681,1.0893914592948695]
[null,null,null,null,null,2682,1.0656268518008818]
[null,null,null,null,null,2683,1.088898053603697]
[null,null,null,null,null,2684,1.0290119919154275]
[null,null,null,null,null,2685,1.0616157461231785]
[null,null,null,null,null,2686,1.0429128679943063]
[null,null,null,null,null,2687,1.0810210576216019]
[null,null,null,null,null,2688,1.0679460673320884]
[null,null,null,null,null,2689,1.0775435655075136]
[null,null,null,null,null,2690,{"$f":"EXP($B$11-0.5*$B$10^2)+$B$10*_xlfn.NORM.S.INV(RAND())","v":1.0381693113168222}]
[null,null,null,null,null,2691,1.0740237112252164]
[null,null,null,null,null,2692,1.1017648093618231]
[null,null,null,null,null,2693,1.0713267875654782]
[null,null,null,null,null,2694,1.0793098713385449]
[null,null,null,null,null,2695,1.0569291692204832]
[null,null,null,null,null,2696,1.079236224345943]
[null,null,null,null,null,2697,1.0702292599579857]
[null,null,null,null,null,2698,1.0670083277522961]
[null,null,null,null,null,2699,1.0587123297280203]
[null,null,null,null,null,2700,1.0610587139567265]
[null,null,null,null,null,2701,1.0678688595450694]
[null,null,null,null,null,2702,1.0751793281946962]
[null,null,null,null,null,2703,1.0791374594327596]
[null,null,null,null,null,2704,1.0914785403827212]
[null,null,null,null,null,2705,1.1006566217858376]
[null,null,null,null,null,2706,1.0633799973177234]
[null,null,null,null,null,2707,1.0728304703433718]
[null,null,null,null,null,2708,1.068671205453164]
[null,null,null,null,null,2709,1.0865823053190622]
[null,null,null,null,null,2710,1.0643455346553277]
[null,null,null,null,null,2711,1.058390221288025]
[null,null,null,null,null,2712,1.0937468327345752]
[null,null,null,null,null,2713,1.0621592751812672]
[null,null,null,null,null,2714,1.1370258714342341]
[null,null,null,null,null,2715,1.1067917339984303]
[null,null,null,null,null,2716,1.0669954875945065]
[null,null,null,null,null,2717,1.083655320991558]
[null,null,null,null,null,2718,1.052674475149169]
[null,null,null,null,null,2719,1.1304230135527336]
[null,null,null,null,null,2720,1.0601520267490538]
[null,null,null,null,null,2721,1.0808554519557338]
[null,null,null,null,null,2722,1.0714161802139104]
[null,null,null,null,null,2723,1.0307543873885918]
[null,null,null,null,null,2724,1.0648220376010555]
[null,null,null,null,null,2725,1.0504144877152009]
[null,null,null,null,null,2726,1.0694913778696362]
[null,null,null,null,null,2727,1.0818894597212478]
[null,null,null,null,null,2728,1.1194023810466662]
[null,null,null,null,null,2729,1.0556807036981144]
[null,null,null,null,null,2730,1.0825818283818758]
[null,null,null,null,null,2731,1.0983055180439505]
[null,null,null,null,null,2732,1.0992270203276338]
[null,null,null,null,null,2733,1.0749780307399162]
[null,null,null,null,null,2734,1.0833400937745592]
[null,null,null,null,null,2735,1.0534952561664981]
[null,null,null,null,null,2736,1.0723519942636264]
[null,null,null,null,null,2737,1.0389594705802541]
[null,null,null,null,null,2738,1.0863671215393971]
[null,null,null,null,null,2739,1.0964338885774738]
[null,null,null,null,null,2740,1.0671900764002868]
[null,null,null,null,null,2741,1.0559472134759331]
[null,null,null,null,null,2742,1.0801100899732046]
[null,null,null,null,null,2743,1.097765382689093]
[null,null,null,null,null,2744,1.0705511081253629]
[null,null,null,null,null,2745,1.0745601446333994]
[null,null,null,null,null,2746,1.0536531230968413]
[null,null,null,null,null,2747,1.069084570591283]
[null,null,null,null,null,2748,1.1133677590126301]
[null,null,null,null,null,2749,1.0758063628062795]
[null,null,null,null,null,2750,1.0901779244999326]
[null,null,null,null,null,2751,1.0515361463279889]
[null,null,null,null,null,2752,1.0339740363666132]
[null,null,null,null,null,2753,1.1087837764430861]
[null,null,null,null,null,2754,{"$f":"EXP($B$11-0.5*$B$10^2)+$B$10*_xlfn.NORM.S.INV(RAND())","v":1.0664173540472908}]
[null,null,null,null,null,2755,1.1075972556441831]
[null,null,null,null,null,2756,1.0844561168768307]
[null,null,null,null,null,2757,1.0746945254724194]
[null,null,null,null,null,2758,1.0654619512782244]
[null,null,null,null,null,2759,1.0399023988217606]
[null,null,null,null,null,2760,1.0921037066677413]
[null,null,null,null,null,2761,1.0987223806837845]
[null,null,null,null,null,2762,1.1033265365604683]
[null,null,null,null,null,2763,1.08568339542665]
[null,null,null,null,null,2764,1.0618432737006307]
[null,null,null,null,null,2765,1.0735078587311644]
[null,null,null,null,null,2766,1.0975527672278889]
[null,null,null,null,null,2767,1.0831970183656412]
[null,null,null,null,null,2768,1.0679490047969673]
[null,null,null,null,null,2769,1.0790324894660088]
[null,null,null,null,null,2770,1.0834558771144591]
[null,null,null,null,null,2771,1.0606845336572062]
[null,null,null,null,null,2772,1.0690672091087223]
[null,null,null,null,null,2773,1.0294344324548761]
[null,null,null,null,null,2774,1.0462921047066187]
[null,null,null,null,null,2775,1.0656547310358913]
[null,null,null,null,null,2776,1.0619782160640299]
[null,null,null,null,null,2777,1.0451338468620179]
[null,null,null,null,null,2778,1.068578111493697]
[null,null,null,null,null,2779,1.0512508766336883]
[null,null,null,null,null,2780,1.0907133733331524]
[null,null,null,null,null,2781,1.0514040200485293]
[null,null,null,null,null,2782,1.0945205069869208]
[null,null,null,null,null,2783,1.0563999984672188]
[null,null,null,null,null,2784,1.0608938744348191]
[null,null,null,null,null,2785,1.0460334575799408]
[null,null,null,null,null,2786,1.0517708324759132]
[null,null,null,null,null,2787,1.0736869845149855]
[null,null,null,null,null,2788,1.0871613157108455]
[null,null,null,null,null,2789,1.0733006398317766]
[null,null,null,null,null,2790,1.0862233011256843]
[null,null,null,null,null,2791,1.0952587168140622]
[null,null,null,null,null,2792,1.0428922126422242]
[null,null,null,null,null,2793,1.1010443354658401]
[null,null,null,null,null,2794,1.0731169485270702]
[null,null,null,null,null,2795,1.0522435483114159]
[null,null,null,null,null,2796,1.0980452810376]
[null,null,null,null,null,2797,1.089315386673182]
[null,null,null,null,null,2798,1.0828674174443553]
[null,null,null,null,null,2799,1.0942738345967682]
[null,null,null,null,null,2800,1.0876018528095852]
[null,null,null,null,null,2801,1.0719382107810822]
[null,null,null,null,null,2802,1.0779296272020404]
[null,null,null,null,null,2803,1.1031060607808303]
[null,null,null,null,null,2804,1.0843298194313493]
[null,null,null,null,null,2805,1.0617840691717955]
[null,null,null,null,null,2806,1.0939629203743524]
[null,null,null,null,null,2807,1.0368526282523314]
[null,null,null,null,null,2808,1.0904800492884708]
[null,null,null,null,null,2809,1.0513956940196643]
[null,null,null,null,null,2810,1.0612181784628822]
[null,null,null,null,null,2811,1.0492265133021474]
[null,null,null,null,null,2812,1.0743653469231806]
[null,null,null,null,null,2813,1.0472080444454741]
[null,null,null,null,null,2814,1.0992244183933746]
[null,null,null,null,null,2815,1.0635033692811693]
[null,null,null,null,null,2816,1.0930299972547979]
[null,null,null,null,null,2817,1.0383894285900639]
[null,null,null,null,null,2818,{"$f":"EXP($B$11-0.5*$B$10^2)+$B$10*_xlfn.NORM.S.INV(RAND())","v":1.0843731823974716}]
[null,null,null,null,null,2819,1.0661026548769947]
[null,null,null,null,null,2820,1.1371726888099956]
[null,null,null,null,null,2821,1.0617601260469298]
[null,null,null,null,null,2822,1.0877443756188829]
[null,null,null,null,null,2823,1.0905945498737322]
[null,null,null,null,null,2824,1.0936079565289496]
[null,null,null,null,null,2825,1.0657244965951689]
[null,null,null,null,null,2826,1.0426997446423958]
[null,null,null,null,null,2827,1.0799521709314965]
[null,null,null,null,null,2828,1.1097160352953774]
[null,null,null,null,null,2829,1.0254832694781701]
[null,null,null,null,null,2830,1.0700566516652461]
[null,null,null,null,null,2831,1.1023142240444692]
[null,null,null,null,null,2832,1.0425494151090648]
[null,null,null,null,null,2833,1.0825881525952559]
[null,null,null,null,null,2834,1.0572166162719059]
[null,null,null,null,null,2835,1.052847996196117]
[null,null,null,null,null,2836,1.0739259197215461]
[null,null,null,null,null,2837,1.0799769788102274]
[null,null,null,null,null,2838,1.1247498531493347]
[null,null,null,null,null,2839,1.0358916089599854]
[null,null,null,null,null,2840,1.0733658004333482]
[null,null,null,null,null,2841,1.0898821104949505]
[null,null,null,null,null,2842,1.0510259746488289]
[null,null,null,null,null,2843,1.0450263670406248]
[null,null,null,null,null,2844,1.0812837671827327]
[null,null,null,null,null,2845,1.08457618273384]
[null,null,null,null,null,2846,1.0565953972170079]
[null,null,null,null,null,2847,1.0657112183574764]
[null,null,null,null,null,2848,1.08110543041591]
[null,null,null,null,null,2849,1.0671624375819146]
[null,null,null,null,null,2850,1.0862213370112779]
[null,null,null,null,null,2851,1.0813453965070763]
[null,null,null,null,null,2852,1.0840319280680621]
[null,null,null,null,null,2853,1.086712276299757]
[null,null,null,null,null,2854,1.069441458023908]
[null,null,null,null,null,2855,1.0888383882447228]
[null,null,null,null,null,2856,1.0712783766682659]
[null,null,null,null,null,2857,1.1023774511844744]
[null,null,null,null,null,2858,1.0838154738393984]
[null,null,null,null,null,2859,1.128221106180598]
[null,null,null,null,null,2860,1.1057614721064331]
[null,null,null,null,null,2861,1.0728624602513634]
[null,null,null,null,null,2862,1.0459176459393642]
[null,null,null,null,null,2863,1.0748384155846595]
[null,null,null,null,null,2864,1.1057060507122418]
[null,null,null,null,null,2865,1.0410940079439701]
[null,null,null,null,null,2866,1.0813422264850909]
[null,null,null,null,null,2867,1.0655587058824416]
[null,null,null,null,null,2868,1.0926636895550044]
[null,null,null,null,null,2869,1.0841894829885392]
[null,null,null,null,null,2870,1.0685990545825581]
[null,null,null,null,null,2871,1.0944902380898727]
[null,null,null,null,null,2872,1.0682659238617846]
[null,null,null,null,null,2873,1.0884779184965967]
[null,null,null,null,null,2874,1.0519930466665606]
[null,null,null,null,null,2875,1.1012338315319592]
[null,null,null,null,null,2876,1.0820706778667566]
[null,null,null,null,null,2877,1.0334309989693371]
[null,null,null,null,null,2878,1.1030842071047955]
[null,null,null,null,null,2879,1.0684047140803967]
[null,null,null,null,null,2880,1.0818058499659113]
[null,null,null,null,null,2881,1.0345103695315574]
[null,null,null,null,null,2882,{"$f":"EXP($B$11-0.5*$B$10^2)+$B$10*_xlfn.NORM.S.INV(RAND())","v":1.0788529827020705}]
[null,null,null,null,null,2883,1.0982250205592161]
[null,null,null,null,null,2884,1.095087865821794]
[null,null,null,null,null,2885,1.0722784240668928]
[null,null,null,null,null,2886,1.0760249715783217]
[null,null,null,null,null,2887,1.0693654809949531]
[null,null,null,null,null,2888,1.0892784614280231]
[null,null,null,null,null,2889,1.0741557571491236]
[null,null,null,null,null,2890,1.072603525724926]
[null,null,null,null,null,2891,1.0697505459918242]
[null,null,null,null,null,2892,1.1018702951615822]
[null,null,null,null,null,2893,1.0842394437289369]
[null,null,null,null,null,2894,1.0806729653523084]
[null,null,null,null,null,2895,1.0858419846213136]
[null,null,null,null,null,2896,1.0985210593052539]
[null,null,null,null,null,2897,1.0861126294467764]
[null,null,null,null,null,2898,1.0616144660828484]
[null,null,null,null,null,2899,1.0880695353435135]
[null,null,null,null,null,2900,1.067564962126244]
[null,null,null,null,null,2901,1.0919067311756219]
[null,null,null,null,null,2902,1.1149393533401839]
[null,null,null,null,null,2903,1.0626292251409417]
[null,null,null,null,null,2904,1.0509200787761941]
[null,null,null,null,null,2905,1.076231417546583]
[null,null,null,null,null,2906,1.07718389062581]
[null,null,null,null,null,2907,1.0776129593514598]
[null,null,null,null,null,2908,1.0564163042839081]
[null,null,null,null,null,2909,1.0722540402243621]
[null,null,null,null,null,2910,1.0722794876584842]
[null,null,null,null,null,2911,1.0831569302721709]
[null,null,null,null,null,2912,1.0750023401848325]
[null,null,null,null,null,2913,1.0350699500259704]
[null,null,null,null,null,2914,1.0803418067333672]
[null,null,null,null,null,2915,1.0695208097955304]
[null,null,null,null,null,2916,1.0899350525550386]
[null,null,null,null,null,2917,1.0857468235928562]
[null,null,null,null,null,2918,1.0522256965094787]
[null,null,null,null,null,2919,1.0793035028667768]
[null,null,null,null,null,2920,1.1286124928825947]
[null,null,null,null,null,2921,1.054600495256232]
[null,null,null,null,null,2922,1.0951965900275089]
[null,null,null,null,null,2923,1.0785979779475687]
[null,null,null,null,null,2924,1.0657580091155063]
[null,null,null,null,null,2925,1.05280513123192]
[null,null,null,null,null,2926,1.0675533178711558]
[null,null,null,null,null,2927,1.1182718000906413]
[null,null,null,null,null,2928,1.0651031768129542]
[null,null,null,null,null,2929,1.0825908432395448]
[null,null,null,null,null,2930,1.0909398504845811]
[null,null,null,null,null,2931,1.0564358023949525]
[null,null,null,null,null,2932,1.0624490050638853]
[null,null,null,null,null,2933,1.0715153908188393]
[null,null,null,null,null,2934,1.059096014901683]
[null,null,null,null,null,2935,1.0403229360886297]
[null,null,null,null,null,2936,1.0979034148357711]
[null,null,null,null,null,2937,1.0779674969329893]
[null,null,null,null,null,2938,1.0848015972473446]
[null,null,null,null,null,2939,1.085702770760167]
[null,null,null,null,null,2940,1.1131320510723803]
[null,null,null,null,null,2941,1.1142466640983948]
[null,null,null,null,null,2942,1.0808913048395934]
[null,null,null,null,null,2943,1.052645374072759]
[null,null,null,null,null,2944,1.0844914213907086]
[null,null,null,null,null,2945,1.0596517400033101]
[null,null,null,null,null,2946,{"$f":"EXP($B$11-0.5*$B$10^2)+$B$10*_xlfn.NORM.S.INV(RAND())","v":1.0414197648797217}]
[null,null,null,null,null,2947,1.0835568826247344]
[null,null,null,null,null,2948,1.0811007388587601]
[null,null,null,null,null,2949,1.0889518147246406]
[null,null,null,null,null,2950,1.0749863434024929]
[null,null,null,null,null,2951,1.0654315086362662]
[null,null,null,null,null,2952,1.0704733489121714]
[null,null,null,null,null,2953,1.0661358882596323]
[null,null,null,null,null,2954,1.0875852563169617]
[null,null,null,null,null,2955,1.0770721278370965]
[null,null,null,null,null,2956,1.1218232157478354]
[null,null,null,null,null,2957,1.0474773669528732]
[null,null,null,null,null,2958,1.0726512121541392]
[null,null,null,null,null,2959,1.0782029772501458]
[null,null,null,null,null,2960,1.0711238888134234]
[null,null,null,null,null,2961,1.1057268945804406]
[null,null,null,null,null,2962,1.0724058860778558]
[null,null,null,null,null,2963,1.0548940820346857]
[null,null,null,null,null,2964,1.0537182560413596]
[null,null,null,null,null,2965,1.0889951921537893]
[null,null,null,null,null,2966,1.0974259282603382]
[null,null,null,null,null,2967,1.1011312715058981]
[null,null,null,null,null,2968,1.0702572483200679]
[null,null,null,null,null,2969,1.1066072025962728]
[null,null,null,null,null,2970,1.0619492526492136]
[null,null,null,null,null,2971,1.0928309505711997]
[null,null,null,null,null,2972,1.046268321530234]
[null,null,null,null,null,2973,1.0688712888688681]
[null,null,null,null,null,2974,1.1127283136337065]
[null,null,null,null,null,2975,1.1286768369193843]
[null,null,null,null,null,2976,1.0874409000516412]
[null,null,null,null,null,2977,1.0636771415168975]
[null,null,null,null,null,2978,1.0507515194733357]
[null,null,null,null,null,2979,1.0859573558306521]
[null,null,null,null,null,2980,1.0627691892967916]
[null,null,null,null,null,2981,1.1112734696879174]
[null,null,null,null,null,2982,1.0672242128394305]
[null,null,null,null,null,2983,1.0504373073955482]
[null,null,null,null,null,2984,1.0976210130430482]
[null,null,null,null,null,2985,1.0681851061512702]
[null,null,null,null,null,2986,1.0601412467010669]
[null,null,null,null,null,2987,1.0703023567823957]
[null,null,null,null,null,2988,1.0938407873021576]
[null,null,null,null,null,2989,1.0642627063997361]
[null,null,null,null,null,2990,1.0382702475873957]
[null,null,null,null,null,2991,1.1003403826596228]
[null,null,null,null,null,2992,1.0779199755964095]
[null,null,null,null,null,2993,1.0529094270552668]
[null,null,null,null,null,2994,1.051059874842587]
[null,null,null,null,null,2995,1.0972995092912396]
[null,null,null,null,null,2996,1.0696867657633296]
[null,null,null,null,null,2997,1.0780083410737327]
[null,null,null,null,null,2998,1.0582878248042022]
[null,null,null,null,null,2999,1.0539058514689736]
[null,null,null,null,null,3000,1.0889390387935238]
[null,null,null,null,null,3001,1.0721248951915716]
[null,null,null,null,null,3002,1.0714480586678696]
[null,null,null,null,null,3003,1.0602817673721721]
[null,null,null,null,null,3004,1.0773551631536602]
[null,null,null,null,null,3005,1.064916396384245]
[null,null,null,null,null,3006,1.0667572250289197]
[null,null,null,null,null,3007,1.0739875774862149]
[null,null,null,null,null,3008,1.0480414339298048]
[null,null,null,null,null,3009,1.0841591547743858]
[null,null,null,null,null,3010,{"$f":"EXP($B$11-0.5*$B$10^2)+$B$10*_xlfn.NORM.S.INV(RAND())","v":1.0624238668348194}]
[null,null,null,null,null,3011,1.0842367406541227]
[null,null,null,null,null,3012,1.0635899434615244]
[null,null,null,null,null,3013,1.0905687010320368]
[null,null,null,null,null,3014,1.0665893036662402]
[null,null,null,null,null,3015,1.0851601063263507]
[null,null,null,null,null,3016,1.0768253005269333]
[null,null,null,null,null,3017,1.0566185251114728]
[null,null,null,null,null,3018,1.0865009020846665]
[null,null,null,null,null,3019,1.1048898046353608]
[null,null,null,null,null,3020,1.0848365434508489]
[null,null,null,null,null,3021,1.0790451694196195]
[null,null,null,null,null,3022,1.0632772729323248]
[null,null,null,null,null,3023,1.0308361327687827]
[null,null,null,null,null,3024,1.061792681169055]
[null,null,null,null,null,3025,1.0702065061251562]
[null,null,null,null,null,3026,1.0773424414531727]
[null,null,null,null,null,3027,1.0814072567219222]
[null,null,null,null,null,3028,1.0834968954644131]
[null,null,null,null,null,3029,1.0655982082495401]
[null,null,null,null,null,3030,1.1028787838777789]
[null,null,null,null,null,3031,1.0681736140261493]
[null,null,null,null,null,3032,1.1096311692579548]
[null,null,null,null,null,3033,1.0746976681460432]
[null,null,null,null,null,3034,1.0881736680655745]
[null,null,null,null,null,3035,1.0531099114203752]
[null,null,null,null,null,3036,1.0856955406920847]
[null,null,null,null,null,3037,1.0777975204164367]
[null,null,null,null,null,3038,1.0676742081607291]
[null,null,null,null,null,3039,1.0819798946253794]
[null,null,null,null,null,3040,1.0626455771457366]
[null,null,null,null,null,3041,1.0709408299718584]
[null,null,null,null,null,3042,1.0388953163005419]
[null,null,null,null,null,3043,1.0780130971077748]
[null,null,null,null,null,3044,1.0664421783681011]
[null,null,null,null,null,3045,1.0758962223783539]
[null,null,null,null,null,3046,1.0738144513224437]
[null,null,null,null,null,3047,1.0722192136921711]
[null,null,null,null,null,3048,1.0615465244552718]
[null,null,null,null,null,3049,1.0925831409198048]
[null,null,null,null,null,3050,1.1146088482134389]
[null,null,null,null,null,3051,1.0824472462135801]
[null,null,null,null,null,3052,1.1097188181693425]
[null,null,null,null,null,3053,1.095591982897566]
[null,null,null,null,null,3054,1.0749373860824463]
[null,null,null,null,null,3055,1.072528354921757]
[null,null,null,null,null,3056,1.0872842045160738]
[null,null,null,null,null,3057,1.0654394866782064]
[null,null,null,null,null,3058,1.0835605853582706]
[null,null,null,null,null,3059,1.071503991532323]
[null,null,null,null,null,3060,1.0677382340829953]
[null,null,null,null,null,3061,1.0917460929000991]
[null,null,null,null,null,3062,1.0541977221208676]
[null,null,null,null,null,3063,1.0690399730531885]
[null,null,null,null,null,3064,1.0673201708102515]
[null,null,null,null,null,3065,1.0628522717889777]
[null,null,null,null,null,3066,1.0790578245982811]
[null,null,null,null,null,3067,1.0669215879897644]
[null,null,null,null,null,3068,1.083849697282421]
[null,null,null,null,null,3069,1.097837666770203]
[null,null,null,null,null,3070,1.0550037051890819]
[null,null,null,null,null,3071,1.1044217153631013]
[null,null,null,null,null,3072,1.0820457814506474]
[null,null,null,null,null,3073,1.0589734677330316]
[null,null,null,null,null,3074,{"$f":"EXP($B$11-0.5*$B$10^2)+$B$10*_xlfn.NORM.S.INV(RAND())","v":1.054409606375444}]
[null,null,null,null,null,3075,1.0905901272984573]
[null,null,null,null,null,3076,1.0930735137422063]
[null,null,null,null,null,3077,1.0716686921684022]
[null,null,null,null,null,3078,1.0534087250435367]
[null,null,null,null,null,3079,1.0693509134888548]
[null,null,null,null,null,3080,1.0679756447983508]
[null,null,null,null,null,3081,1.0726160131528388]
[null,null,null,null,null,3082,1.0910570365287862]
[null,null,null,null,null,3083,1.0865364996021549]
[null,null,null,null,null,3084,1.1003087592251355]
[null,null,null,null,null,3085,1.0862765809139656]
[null,null,null,null,null,3086,1.0842959608413947]
[null,null,null,null,null,3087,1.0712440264304626]
[null,null,null,null,null,3088,1.0514104112195755]
[null,null,null,null,null,3089,1.0543344039730691]
[null,null,null,null,null,3090,1.0910366972742453]
[null,null,null,null,null,3091,1.0777609604626308]
[null,null,null,null,null,3092,1.080561966212426]
[null,null,null,null,null,3093,1.0598270497816782]
[null,null,null,null,null,3094,1.0713518223217569]
[null,null,null,null,null,3095,1.100830670888105]
[null,null,null,null,null,3096,1.0705098966306348]
[null,null,null,null,null,3097,1.0419003231613924]
[null,null,null,null,null,3098,1.0658525763744471]
[null,null,null,null,null,3099,1.0798083128634524]
[null,null,null,null,null,3100,1.0681336904029854]
[null,null,null,null,null,3101,1.079851040236254]
[null,null,null,null,null,3102,1.0819831697630156]
[null,null,null,null,null,3103,1.0597511549307095]
[null,null,null,null,null,3104,1.0467019047795811]
[null,null,null,null,null,3105,1.0786472113078476]
[null,null,null,null,null,3106,1.0763588734082432]
[null,null,null,null,null,3107,1.0748063814361062]
[null,null,null,null,null,3108,1.0947589557963566]
[null,null,null,null,null,3109,1.0616133873790117]
[null,null,null,null,null,3110,1.1036813554217415]
[null,null,null,null,null,3111,1.0667029410316715]
[null,null,null,null,null,3112,1.0693258702530422]
[null,null,null,null,null,3113,1.1080409946677907]
[null,null,null,null,null,3114,1.0720955253570201]
[null,null,null,null,null,3115,1.0976017181612325]
[null,null,null,null,null,3116,1.0829800700457162]
[null,null,null,null,null,3117,1.0547240672647544]
[null,null,null,null,null,3118,1.035756109849806]
[null,null,null,null,null,3119,1.074592824608285]
[null,null,null,null,null,3120,1.1093217958642037]
[null,null,null,null,null,3121,1.0497478139381524]
[null,null,null,null,null,3122,1.0497477921160978]
[null,null,null,null,null,3123,1.0913578083676163]
[null,null,null,null,null,3124,1.10391339327366]
[null,null,null,null,null,3125,1.0892373723794186]
[null,null,null,null,null,3126,1.1076388570307396]
[null,null,null,null,null,3127,1.0787427262783209]
[null,null,null,null,null,3128,1.0876658865926876]
[null,null,null,null,null,3129,1.1105623906082804]
[null,null,null,null,null,3130,1.0890252028903487]
[null,null,null,null,null,3131,1.0678031217970647]
[null,null,null,null,null,3132,1.0626552915985426]
[null,null,null,null,null,3133,1.0664199604025235]
[null,null,null,null,null,3134,1.082979102440744]
[null,null,null,null,null,3135,1.0758582643141947]
[null,null,null,null,null,3136,1.0912200052232983]
[null,null,null,null,null,3137,1.0934359772669269]
[null,null,null,null,null,3138,{"$f":"EXP($B$11-0.5*$B$10^2)+$B$10*_xlfn.NORM.S.INV(RAND())","v":1.0704984600809198}]
[null,null,null,null,null,3139,1.0632516964336458]
[null,null,null,null,null,3140,1.0885628908447262]
[null,null,null,null,null,3141,1.0670831999582739]
[null,null,null,null,null,3142,1.1062356965902793]
[null,null,null,null,null,3143,1.0766746640980644]
[null,null,null,null,null,3144,1.0879808267266413]
[null,null,null,null,null,3145,1.075958480863219]
[null,null,null,null,null,3146,1.0584018681262959]
[null,null,null,null,null,3147,1.0733327819103651]
[null,null,null,null,null,3148,1.0976378575564447]
[null,null,null,null,null,3149,1.1037515035031753]
[null,null,null,null,null,3150,1.0817832545588959]
[null,null,null,null,null,3151,1.0685020243271746]
[null,null,null,null,null,3152,1.1013063327033981]
[null,null,null,null,null,3153,1.1082516368270665]
[null,null,null,null,null,3154,1.0700015716413622]
[null,null,null,null,null,3155,1.0783817160799667]
[null,null,null,null,null,3156,1.0797604487115753]
[null,null,null,null,null,3157,1.0783975943779183]
[null,null,null,null,null,3158,1.0559201223756014]
[null,null,null,null,null,3159,1.1087797172179372]
[null,null,null,null,null,3160,1.0488379836183048]
[null,null,null,null,null,3161,1.0341457851292477]
[null,null,null,null,null,3162,1.0577012680551507]
[null,null,null,null,null,3163,1.0852142603215627]
[null,null,null,null,null,3164,1.0471100798033373]
[null,null,null,null,null,3165,1.0523171590395111]
[null,null,null,null,null,3166,1.0469004221953815]
[null,null,null,null,null,3167,1.0894298205589614]
[null,null,null,null,null,3168,1.0742988859417848]
[null,null,null,null,null,3169,1.1377559747843744]
[null,null,null,null,null,3170,1.0621096998885939]
[null,null,null,null,null,3171,1.0608035202189292]
[null,null,null,null,null,3172,1.0921764448438838]
[null,null,null,null,null,3173,1.0721421570609775]
[null,null,null,null,null,3174,1.0758252473285639]
[null,null,null,null,null,3175,1.0708921176483437]
[null,null,null,null,null,3176,1.0621678254288658]
[null,null,null,null,null,3177,1.0772228839530456]
[null,null,null,null,null,3178,1.0894809284404385]
[null,null,null,null,null,3179,1.0473538564169638]
[null,null,null,null,null,3180,1.0643652414423086]
[null,null,null,null,null,3181,1.0716442208421164]
[null,null,null,null,null,3182,1.0734945839691488]
[null,null,null,null,null,3183,1.0178749497093711]
[null,null,null,null,null,3184,1.0778616153296383]
[null,null,null,null,null,3185,1.0547518065712131]
[null,null,null,null,null,3186,1.0695910469219443]
[null,null,null,null,null,3187,1.1284262134507905]
[null,null,null,null,null,3188,1.0953505512174542]
[null,null,null,null,null,3189,1.0610607562677223]
[null,null,null,null,null,3190,1.0404502716196538]
[null,null,null,null,null,3191,1.0843932670447538]
[null,null,null,null,null,3192,1.0599382267811159]
[null,null,null,null,null,3193,1.032329686772862]
[null,null,null,null,null,3194,1.067397707935599]
[null,null,null,null,null,3195,1.0795713371271327]
[null,null,null,null,null,3196,1.0509095286986183]
[null,null,null,null,null,3197,1.0385337047143164]
[null,null,null,null,null,3198,1.0748940607361857]
[null,null,null,null,null,3199,1.0722710364348622]
[null,null,null,null,null,3200,1.074775971960064]
[null,null,null,null,null,3201,1.028322176144342]
[null,null,null,null,null,3202,{"$f":"EXP($B$11-0.5*$B$10^2)+$B$10*_xlfn.NORM.S.INV(RAND())","v":1.1036737782477246}]
[null,null,null,null,null,3203,1.0466782616506565]
[null,null,null,null,null,3204,1.0705030526623043]
[null,null,null,null,null,3205,1.092876463184395]
[null,null,null,null,null,3206,1.0373162650196395]
[null,null,null,null,null,3207,1.1383294513765916]
[null,null,null,null,null,3208,1.0570725588138059]
[null,null,null,null,null,3209,1.0892848652243903]
[null,null,null,null,null,3210,1.0768432567238944]
[null,null,null,null,null,3211,1.066097454547223]
[null,null,null,null,null,3212,1.0764980902363028]
[null,null,null,null,null,3213,1.050470802409073]
[null,null,null,null,null,3214,1.0579805899113846]
[null,null,null,null,null,3215,1.080545258350154]
[null,null,null,null,null,3216,1.0872480011745487]
[null,null,null,null,null,3217,1.0957600581211158]
[null,null,null,null,null,3218,1.0622307369723771]
[null,null,null,null,null,3219,1.0627641666178032]
[null,null,null,null,null,3220,1.1088199207986096]
[null,null,null,null,null,3221,1.0556982500139049]
[null,null,null,null,null,3222,1.0717928257072389]
[null,null,null,null,null,3223,1.0858805822458946]
[null,null,null,null,null,3224,1.0809376509996587]
[null,null,null,null,null,3225,1.0843874589807561]
[null,null,null,null,null,3226,1.0778811996568769]
[null,null,null,null,null,3227,1.068479469594972]
[null,null,null,null,null,3228,1.1060893029070398]
[null,null,null,null,null,3229,1.0975875490878035]
[null,null,null,null,null,3230,1.0842895114425111]
[null,null,null,null,null,3231,1.0541623051330746]
[null,null,null,null,null,3232,1.0756938496321953]
[null,null,null,null,null,3233,1.0784502129622333]
[null,null,null,null,null,3234,1.0515651231703496]
[null,null,null,null,null,3235,1.0774138981148689]
[null,null,null,null,null,3236,1.0770418221671849]
[null,null,null,null,null,3237,1.0731171813325437]
[null,null,null,null,null,3238,1.0914882460715525]
[null,null,null,null,null,3239,1.0962069577834872]
[null,null,null,null,null,3240,1.0626398370204553]
[null,null,null,null,null,3241,1.1016240838023865]
[null,null,null,null,null,3242,1.0747391430336708]
[null,null,null,null,null,3243,1.0896024413996597]
[null,null,null,null,null,3244,1.074783529727674]
[null,null,null,null,null,3245,1.0940719516425603]
[null,null,null,null,null,3246,1.1010376145035581]
[null,null,null,null,null,3247,1.069905162461285]
[null,null,null,null,null,3248,1.0709270698370534]
[null,null,null,null,null,3249,1.0931951828650699]
[null,null,null,null,null,3250,1.0485638745451986]
[null,null,null,null,null,3251,1.0888282127715532]
[null,null,null,null,null,3252,1.1039210480405555]
[null,null,null,null,null,3253,1.0987409825475549]
[null,null,null,null,null,3254,1.0816208392033408]
[null,null,null,null,null,3255,1.07961691145925]
[null,null,null,null,null,3256,1.0433316410586684]
[null,null,null,null,null,3257,1.0595853596292861]
[null,null,null,null,null,3258,1.089008449465201]
[null,null,null,null,null,3259,1.0754818616011779]
[null,null,null,null,null,3260,1.042430824831319]
[null,null,null,null,null,3261,1.0803069960710294]
[null,null,null,null,null,3262,1.0694342338719063]
[null,null,null,null,null,3263,1.0828877852771528]
[null,null,null,null,null,3264,1.0642500952652427]
[null,null,null,null,null,3265,1.0955444822223788]
[null,null,null,null,null,3266,{"$f":"EXP($B$11-0.5*$B$10^2)+$B$10*_xlfn.NORM.S.INV(RAND())","v":1.0329297669405992}]
[null,null,null,null,null,3267,1.0795128212416474]
[null,null,null,null,null,3268,1.093421277129736]
[null,null,null,null,null,3269,1.0915675264779316]
[null,null,null,null,null,3270,1.1130230196609294]
[null,null,null,null,null,3271,1.1383023536345429]
[null,null,null,null,null,3272,1.0895449093658833]
[null,null,null,null,null,3273,1.0616147270823872]
[null,null,null,null,null,3274,1.0563200306229446]
[null,null,null,null,null,3275,1.0555390887068745]
[null,null,null,null,null,3276,1.0744023498635213]
[null,null,null,null,null,3277,1.0457066249963098]
[null,null,null,null,null,3278,1.0704885097290855]
[null,null,null,null,null,3279,1.05080489275056]
[null,null,null,null,null,3280,1.1052048724477312]
[null,null,null,null,null,3281,1.0652648293581994]
[null,null,null,null,null,3282,1.084000439899099]
[null,null,null,null,null,3283,1.0736531316568214]
[null,null,null,null,null,3284,1.0939716513341464]
[null,null,null,null,null,3285,1.0981187129674852]
[null,null,null,null,null,3286,1.0850405731188182]
[null,null,null,null,null,3287,1.1212583127779068]
[null,null,null,null,null,3288,1.0726482673710895]
[null,null,null,null,null,3289,1.0954889181433425]
[null,null,null,null,null,3290,1.0533398035783776]
[null,null,null,null,null,3291,1.0599902742488152]
[null,null,null,null,null,3292,1.0434678666508637]
[null,null,null,null,null,3293,1.0680665942614997]
[null,null,null,null,null,3294,1.089998943595057]
[null,null,null,null,null,3295,1.0916844325285449]
[null,null,null,null,null,3296,1.0882091701366865]
[null,null,null,null,null,3297,1.0639160332422404]
[null,null,null,null,null,3298,1.0552764554281109]
[null,null,null,null,null,3299,1.1010408795071212]
[null,null,null,null,null,3300,1.1058969529034499]
[null,null,null,null,null,3301,1.0800001515240381]
[null,null,null,null,null,3302,1.0984348966979915]
[null,null,null,null,null,3303,1.0870991297601533]
[null,null,null,null,null,3304,1.0666256077188792]
[null,null,null,null,null,3305,1.0928667198947588]
[null,null,null,null,null,3306,1.0846082145223859]
[null,null,null,null,null,3307,1.0679522869307101]
[null,null,null,null,null,3308,1.073780920496243]
[null,null,null,null,null,3309,1.1126864881899619]
[null,null,null,null,null,3310,1.0775165494164629]
[null,null,null,null,null,3311,1.1084542444536234]
[null,null,null,null,null,3312,1.0797926759596175]
[null,null,null,null,null,3313,1.0796911557826296]
[null,null,null,null,null,3314,1.0715735519787661]
[null,null,null,null,null,3315,1.1038894688665439]
[null,null,null,null,null,3316,1.1056727504034565]
[null,null,null,null,null,3317,1.0505166996728499]
[null,null,null,null,null,3318,1.0645948727360366]
[null,null,null,null,null,3319,1.0392731911108701]
[null,null,null,null,null,3320,1.0674460872196929]
[null,null,null,null,null,3321,1.0503517707719592]
[null,null,null,null,null,3322,1.0447275195118779]
[null,null,null,null,null,3323,1.0503991540303053]
[null,null,null,null,null,3324,1.0742962588784981]
[null,null,null,null,null,3325,1.0772714047476124]
[null,null,null,null,null,3326,1.0926730853422721]
[null,null,null,null,null,3327,1.0880832847786488]
[null,null,null,null,null,3328,1.0728287532430139]
[null,null,null,null,null,3329,1.1194684553152241]
[null,null,null,null,null,3330,{"$f":"EXP($B$11-0.5*$B$10^2)+$B$10*_xlfn.NORM.S.INV(RAND())","v":1.0677854818925239}]
[null,null,null,null,null,3331,1.0623844830049149]
[null,null,null,null,null,3332,1.0675875258037737]
[null,null,null,null,null,3333,1.047865710896777]
[null,null,null,null,null,3334,1.0876414091506557]
[null,null,null,null,null,3335,1.0779056975253425]
[null,null,null,null,null,3336,1.1042773192155488]
[null,null,null,null,null,3337,1.0786153330136061]
[null,null,null,null,null,3338,1.0789194479981381]
[null,null,null,null,null,3339,1.0776972466048143]
[null,null,null,null,null,3340,1.0870475308789456]
[null,null,null,null,null,3341,1.0873793675973615]
[null,null,null,null,null,3342,1.1312083386970901]
[null,null,null,null,null,3343,1.0994811780558305]
[null,null,null,null,null,3344,1.095637599705104]
[null,null,null,null,null,3345,1.0856382046026967]
[null,null,null,null,null,3346,1.0919247620033319]
[null,null,null,null,null,3347,1.0987781340020319]
[null,null,null,null,null,3348,1.0699524995749703]
[null,null,null,null,null,3349,1.0814491375960096]
[null,null,null,null,null,3350,1.071583013433133]
[null,null,null,null,null,3351,1.0976264625556491]
[null,null,null,null,null,3352,1.0922135928640764]
[null,null,null,null,null,3353,1.0577022577673389]
[null,null,null,null,null,3354,1.0595024619398785]
[null,null,null,null,null,3355,1.1013223625201554]
[null,null,null,null,null,3356,1.0703325468686922]
[null,null,null,null,null,3357,1.0836646184180372]
[null,null,null,null,null,3358,1.052433716906235]
[null,null,null,null,null,3359,1.0483509977216641]
[null,null,null,null,null,3360,1.0805645957708216]
[null,null,null,null,null,3361,1.0643823670235129]
[null,null,null,null,null,3362,1.0557312723855912]
[null,null,null,null,null,3363,1.0670597702455233]
[null,null,null,null,null,3364,1.0726459580996204]
[null,null,null,null,null,3365,1.0668467620386326]
[null,null,null,null,null,3366,1.0431630977582385]
[null,null,null,null,null,3367,1.0814824381614623]
[null,null,null,null,null,3368,1.0911905814053464]
[null,null,null,null,null,3369,1.0450193560740479]
[null,null,null,null,null,3370,1.09564186563246]
[null,null,null,null,null,3371,1.1014937555205173]
[null,null,null,null,null,3372,1.0428086928545974]
[null,null,null,null,null,3373,1.0364442648950671]
[null,null,null,null,null,3374,1.0646718511859423]
[null,null,null,null,null,3375,1.0629979572864194]
[null,null,null,null,null,3376,1.0617779221697896]
[null,null,null,null,null,3377,1.0458805351523015]
[null,null,null,null,null,3378,1.0663261067275207]
[null,null,null,null,null,3379,1.0642165798535745]
[null,null,null,null,null,3380,1.1235351196305317]
[null,null,null,null,null,3381,1.0343910816185162]
[null,null,null,null,null,3382,1.0507172729647316]
[null,null,null,null,null,3383,1.0695454682157903]
[null,null,null,null,null,3384,1.081983106594163]
[null,null,null,null,null,3385,1.0868191929317343]
[null,null,null,null,null,3386,1.0498466333809777]
[null,null,null,null,null,3387,1.0775999327867412]
[null,null,null,null,null,3388,1.0591100446589008]
[null,null,null,null,null,3389,1.1124139579082486]
[null,null,null,null,null,3390,1.0664167734025538]
[null,null,null,null,null,3391,1.0619741591575169]
[null,null,null,null,null,3392,1.0931732487787265]
[null,null,null,null,null,3393,1.0546829383246454]
[null,null,null,null,null,3394,{"$f":"EXP($B$11-0.5*$B$10^2)+$B$10*_xlfn.NORM.S.INV(RAND())","v":1.1069948115895059}]
[null,null,null,null,null,3395,1.0739153558173755]
[null,null,null,null,null,3396,1.0774063986131959]
[null,null,null,null,null,3397,1.0953287467021442]
[null,null,null,null,null,3398,1.0942343801297729]
[null,null,null,null,null,3399,1.0945888729977975]
[null,null,null,null,null,3400,1.081633923370013]
[null,null,null,null,null,3401,1.0968956515257982]
[null,null,null,null,null,3402,1.0720608394069642]
[null,null,null,null,null,3403,1.0916574083228472]
[null,null,null,null,null,3404,1.0798787106834176]
[null,null,null,null,null,3405,1.0745827260592655]
[null,null,null,null,null,3406,1.0832499525286923]
[null,null,null,null,null,3407,1.0713938259262104]
[null,null,null,null,null,3408,1.0281757278851991]
[null,null,null,null,null,3409,1.0755838055542681]
[null,null,null,null,null,3410,1.0840592109522804]
[null,null,null,null,null,3411,1.1015342224899105]
[null,null,null,null,null,3412,1.0742446660590839]
[null,null,null,null,null,3413,1.0791518456506719]
[null,null,null,null,null,3414,1.0853417481002694]
[null,null,null,null,null,3415,1.0741334198160351]
[null,null,null,null,null,3416,1.0679813587899341]
[null,null,null,null,null,3417,1.0399556907808762]
[null,null,null,null,null,3418,1.045741066611322]
[null,null,null,null,null,3419,1.087848874288508]
[null,null,null,null,null,3420,1.0532836431640986]
[null,null,null,null,null,3421,1.0795455771346401]
[null,null,null,null,null,3422,1.1174302557784104]
[null,null,null,null,null,3423,1.0607777643895704]
[null,null,null,null,null,3424,1.0442320860476768]
[null,null,null,null,null,3425,1.080642243303334]
[null,null,null,null,null,3426,1.0890682681086787]
[null,null,null,null,null,3427,1.0425823935607108]
[null,null,null,null,null,3428,1.0685350415280785]
[null,null,null,null,null,3429,1.0971877235066194]
[null,null,null,null,null,3430,1.0382290169337474]
[null,null,null,null,null,3431,1.0509452299403022]
[null,null,null,null,null,3432,1.0441974346076923]
[null,null,null,null,null,3433,1.0387372178086802]
[null,null,null,null,null,3434,1.0499133702482526]
[null,null,null,null,null,3435,1.0934329643120673]
[null,null,null,null,null,3436,1.0959153591714914]
[null,null,null,null,null,3437,1.0759549660814824]
[null,null,null,null,null,3438,1.1038343757256317]
[null,null,null,null,null,3439,1.0591988385168625]
[null,null,null,null,null,3440,1.0735384823641809]
[null,null,null,null,null,3441,1.086050455954235]
[null,null,null,null,null,3442,1.0799017119955154]
[null,null,null,null,null,3443,1.0715878767488667]
[null,null,null,null,null,3444,1.0559886862016001]
[null,null,null,null,null,3445,1.0842763536005802]
[null,null,null,null,null,3446,1.0855957862025061]
[null,null,null,null,null,3447,1.0950314965751056]
[null,null,null,null,null,3448,1.0727186091714664]
[null,null,null,null,null,3449,1.0806610930521636]
[null,null,null,null,null,3450,1.0921062506600625]
[null,null,null,null,null,3451,1.0494167256609359]
[null,null,null,null,null,3452,1.0552785059373326]
[null,null,null,null,null,3453,1.0698709612408852]
[null,null,null,null,null,3454,1.0601002565363082]
[null,null,null,null,null,3455,1.1129075191268105]
[null,null,null,null,null,3456,1.0759724251182174]
[null,null,null,null,null,3457,1.0823018216637774]
[null,null,null,null,null,3458,{"$f":"EXP($B$11-0.5*$B$10^2)+$B$10*_xlfn.NORM.S.INV(RAND())","v":1.0596780301363868}]
[null,null,null,null,null,3459,1.0966692165297975]
[null,null,null,null,null,3460,1.0860889851027369]
[null,null,null,null,null,3461,1.1054239873420904]
[null,null,null,null,null,3462,1.0529251793735162]
[null,null,null,null,null,3463,1.1136000936987605]
[null,null,null,null,null,3464,1.0627236248721519]
[null,null,null,null,null,3465,1.0993752973764437]
[null,null,null,null,null,3466,1.0687679528441354]
[null,null,null,null,null,3467,1.0867584688197485]
[null,null,null,null,null,3468,1.110319494670315]
[null,null,null,null,null,3469,1.0881462654627534]
[null,null,null,null,null,3470,1.0913747937471849]
[null,null,null,null,null,3471,1.0505745164968741]
[null,null,null,null,null,3472,1.0552466581495317]
[null,null,null,null,null,3473,1.0635768925198099]
[null,null,null,null,null,3474,1.0835821986115937]
[null,null,null,null,null,3475,1.0458994369979502]
[null,null,null,null,null,3476,1.0741085117365188]
[null,null,null,null,null,3477,1.0849009380427139]
[null,null,null,null,null,3478,1.0756663401376063]
[null,null,null,null,null,3479,1.0679508086424332]
[null,null,null,null,null,3480,1.084374151994411]
[null,null,null,null,null,3481,1.0680235183938049]
[null,null,null,null,null,3482,1.0757285555045775]
[null,null,null,null,null,3483,1.0843711874200959]
[null,null,null,null,null,3484,1.0902525554903364]
[null,null,null,null,null,3485,1.10538165973326]
[null,null,null,null,null,3486,1.0218591663067336]
[null,null,null,null,null,3487,1.075781676060575]
[null,null,null,null,null,3488,1.0757249718752866]
[null,null,null,null,null,3489,1.0876103957428616]
[null,null,null,null,null,3490,1.0587445579052339]
[null,null,null,null,null,3491,1.0941609392328244]
[null,null,null,null,null,3492,1.0847838768988463]
[null,null,null,null,null,3493,1.0613810192115491]
[null,null,null,null,null,3494,1.0985186892711352]
[null,null,null,null,null,3495,1.1029727365594189]
[null,null,null,null,null,3496,1.0712791295260642]
[null,null,null,null,null,3497,1.0612483376393158]
[null,null,null,null,null,3498,1.0647825106821296]
[null,null,null,null,null,3499,1.0445423656798909]
[null,null,null,null,null,3500,1.1110505111188231]
[null,null,null,null,null,3501,1.0943424840500893]
[null,null,null,null,null,3502,1.0888421898599725]
[null,null,null,null,null,3503,1.0600056041461605]
[null,null,null,null,null,3504,1.0791049985503618]
[null,null,null,null,null,3505,1.0514891458194118]
[null,null,null,null,null,3506,1.0658047202137269]
[null,null,null,null,null,3507,1.1036065576109872]
[null,null,null,null,null,3508,1.0755176226991858]
[null,null,null,null,null,3509,1.0517914070917729]
[null,null,null,null,null,3510,1.0791146755208934]
[null,null,null,null,null,3511,1.0733202034963609]
[null,null,null,null,null,3512,1.0585303201791687]
[null,null,null,null,null,3513,1.0891324877080009]
[null,null,null,null,null,3514,1.0502661356874963]
[null,null,null,null,null,3515,1.0853975747448865]
[null,null,null,null,null,3516,1.1004940386540802]
[null,null,null,null,null,3517,1.126554883647239]
[null,null,null,null,null,3518,1.030633409766319]
[null,null,null,null,null,3519,1.0721846170820455]
[null,null,null,null,null,3520,1.041326975152655]
[null,null,null,null,null,3521,1.0846206850408495]
[null,null,null,null,null,3522,{"$f":"EXP($B$11-0.5*$B$10^2)+$B$10*_xlfn.NORM.S.INV(RAND())","v":1.0581132250262746}]
[null,null,null,null,null,3523,1.074792887846187]
[null,null,null,null,null,3524,1.0645944775032836]
[null,null,null,null,null,3525,1.0566010585488101]
[null,null,null,null,null,3526,1.0582732693030339]
[null,null,null,null,null,3527,1.0859551349717436]
[null,null,null,null,null,3528,1.0377105178700197]
[null,null,null,null,null,3529,1.0562909884323022]
[null,null,null,null,null,3530,1.1119443324970273]
[null,null,null,null,null,3531,1.068010212589952]
[null,null,null,null,null,3532,1.0974744838926718]
[null,null,null,null,null,3533,1.062430839236796]
[null,null,null,null,null,3534,1.1179709713496817]
[null,null,null,null,null,3535,1.0965548531768363]
[null,null,null,null,null,3536,1.0883414802228799]
[null,null,null,null,null,3537,1.1045589882992743]
[null,null,null,null,null,3538,1.0862723835206138]
[null,null,null,null,null,3539,1.0808440103488284]
[null,null,null,null,null,3540,1.0930733744194354]
[null,null,null,null,null,3541,1.0657704153029082]
[null,null,null,null,null,3542,1.0806020521652402]
[null,null,null,null,null,3543,1.0672311152282485]
[null,null,null,null,null,3544,1.1041890588388419]
[null,null,null,null,null,3545,1.0612539713701974]
[null,null,null,null,null,3546,1.0971411711879298]
[null,null,null,null,null,3547,1.0614198577468035]
[null,null,null,null,null,3548,1.0771148381973374]
[null,null,null,null,null,3549,1.0597958409105819]
[null,null,null,null,null,3550,1.0973038827205335]
[null,null,null,null,null,3551,1.0899299456932257]
[null,null,null,null,null,3552,1.0601681127920444]
[null,null,null,null,null,3553,1.1135893073217116]
[null,null,null,null,null,3554,1.0556826175235698]
[null,null,null,null,null,3555,1.0715749047416687]
[null,null,null,null,null,3556,1.0934492475224631]
[null,null,null,null,null,3557,1.0827735310437543]
[null,null,null,null,null,3558,1.0948697082413423]
[null,null,null,null,null,3559,1.0875736702434755]
[null,null,null,null,null,3560,1.0582041278283953]
[null,null,null,null,null,3561,1.1058339591580801]
[null,null,null,null,null,3562,1.0932712870625656]
[null,null,null,null,null,3563,1.0370624370954531]
[null,null,null,null,null,3564,1.0675384905314711]
[null,null,null,null,null,3565,1.0999866616754705]
[null,null,null,null,null,3566,1.1014562612209122]
[null,null,null,null,null,3567,1.0911808381452301]
[null,null,null,null,null,3568,1.0832497527481391]
[null,null,null,null,null,3569,1.0790085564763257]
[null,null,null,null,null,3570,1.1032638862785618]
[null,null,null,null,null,3571,1.0892990621234078]
[null,null,null,null,null,3572,1.0704822994253089]
[null,null,null,null,null,3573,1.0632598168462042]
[null,null,null,null,null,3574,1.1126442192951906]
[null,null,null,null,null,3575,1.0504273764550511]
[null,null,null,null,null,3576,1.0709920200412704]
[null,null,null,null,null,3577,1.0614615259715074]
[null,null,null,null,null,3578,1.0911797169808519]
[null,null,null,null,null,3579,1.0658005488401423]
[null,null,null,null,null,3580,1.1076043731363974]
[null,null,null,null,null,3581,1.0670569011530222]
[null,null,null,null,null,3582,1.072741413908725]
[null,null,null,null,null,3583,1.1020036225994763]
[null,null,null,null,null,3584,1.0803764123676809]
[null,null,null,null,null,3585,1.0836682864323874]
[null,null,null,null,null,3586,{"$f":"EXP($B$11-0.5*$B$10^2)+$B$10*_xlfn.NORM.S.INV(RAND())","v":1.0630161994003076}]
[null,null,null,null,null,3587,1.1013494846539369]
[null,null,null,null,null,3588,1.0857783457159418]
[null,null,null,null,null,3589,1.0869176919731671]
[null,null,null,null,null,3590,1.082235874380109]
[null,null,null,null,null,3591,1.1077333266345462]
[null,null,null,null,null,3592,1.0618506685004125]
[null,null,null,null,null,3593,1.0362986694137883]
[null,null,null,null,null,3594,1.0203532267484718]
[null,null,null,null,null,3595,1.0685897707758789]
[null,null,null,null,null,3596,1.0889716294123419]
[null,null,null,null,null,3597,1.0768169585873373]
[null,null,null,null,null,3598,1.0710403266100612]
[null,null,null,null,null,3599,1.0516940107365293]
[null,null,null,null,null,3600,1.0818531300720764]
[null,null,null,null,null,3601,1.0795016138606812]
[null,null,null,null,null,3602,1.0609537360617822]
[null,null,null,null,null,3603,1.0754707224838032]
[null,null,null,null,null,3604,1.0845481179340797]
[null,null,null,null,null,3605,1.1147268574937776]
[null,null,null,null,null,3606,1.1045459152510899]
[null,null,null,null,null,3607,1.0852586356872893]
[null,null,null,null,null,3608,1.115181446734234]
[null,null,null,null,null,3609,1.0663677857523619]
[null,null,null,null,null,3610,1.0822862546771106]
[null,null,null,null,null,3611,1.0644594613821021]
[null,null,null,null,null,3612,1.0852249253694803]
[null,null,null,null,null,3613,1.0652257673643517]
[null,null,null,null,null,3614,1.0928715870426489]
[null,null,null,null,null,3615,1.0774338122742093]
[null,null,null,null,null,3616,1.0683107114670909]
[null,null,null,null,null,3617,1.0645857041012285]
[null,null,null,null,null,3618,1.0744222240178429]
[null,null,null,null,null,3619,1.0588080613155755]
[null,null,null,null,null,3620,1.0667980022067827]
[null,null,null,null,null,3621,1.0700376182366902]
[null,null,null,null,null,3622,1.1004954414642274]
[null,null,null,null,null,3623,1.0491868712446402]
[null,null,null,null,null,3624,1.0753087709767342]
[null,null,null,null,null,3625,1.0580315172467827]
[null,null,null,null,null,3626,1.0650309893389209]
[null,null,null,null,null,3627,1.0689782605253295]
[null,null,null,null,null,3628,1.1059404109736979]
[null,null,null,null,null,3629,1.03053921034769]
[null,null,null,null,null,3630,1.0810183956517847]
[null,null,null,null,null,3631,1.0562373647657142]
[null,null,null,null,null,3632,1.1109305264527158]
[null,null,null,null,null,3633,1.0543735910841727]
[null,null,null,null,null,3634,1.1037721288797864]
[null,null,null,null,null,3635,1.0934873032282793]
[null,null,null,null,null,3636,1.0619287525109073]
[null,null,null,null,null,3637,1.0819385223814466]
[null,null,null,null,null,3638,1.1117155029975547]
[null,null,null,null,null,3639,1.0756042560924168]
[null,null,null,null,null,3640,1.0766175666872215]
[null,null,null,null,null,3641,1.0824014922366569]
[null,null,null,null,null,3642,1.056354077965219]
[null,null,null,null,null,3643,1.098668019248686]
[null,null,null,null,null,3644,1.0874389072072492]
[null,null,null,null,null,3645,1.1078642547083026]
[null,null,null,null,null,3646,1.1014806743077092]
[null,null,null,null,null,3647,1.1366529249024657]
[null,null,null,null,null,3648,1.0908491569574306]
[null,null,null,null,null,3649,1.0794862869720969]
[null,null,null,null,null,3650,{"$f":"EXP($B$11-0.5*$B$10^2)+$B$10*_xlfn.NORM.S.INV(RAND())","v":1.083726557621886}]
[null,null,null,null,null,3651,1.0462081685446747]
[null,null,null,null,null,3652,1.1122054110776627]
[null,null,null,null,null,3653,1.0633577106050089]
[null,null,null,null,null,3654,1.0658035793719836]
[null,null,null,null,null,3655,1.0943068304876904]
[null,null,null,null,null,3656,1.0878666109800057]
[null,null,null,null,null,3657,1.0800988489667396]
[null,null,null,null,null,3658,1.0320336820381606]
[null,null,null,null,null,3659,1.0722634003517109]
[null,null,null,null,null,3660,1.0313083173457311]
[null,null,null,null,null,3661,1.0702867856466918]
[null,null,null,null,null,3662,1.0825213779813403]
[null,null,null,null,null,3663,1.0712229277550442]
[null,null,null,null,null,3664,1.0862015223236638]
[null,null,null,null,null,3665,1.0572055950027741]
[null,null,null,null,null,3666,1.0775033062717203]
[null,null,null,null,null,3667,1.0748166126310545]
[null,null,null,null,null,3668,1.0478629687038366]
[null,null,null,null,null,3669,1.0550704964281454]
[null,null,null,null,null,3670,1.08298367213039]
[null,null,null,null,null,3671,1.0678012876878855]
[null,null,null,null,null,3672,1.0388212250144553]
[null,null,null,null,null,3673,1.0875311843545719]
[null,null,null,null,null,3674,1.0735935220319321]
[null,null,null,null,null,3675,1.0590836938617789]
[null,null,null,null,null,3676,1.1183421562378142]
[null,null,null,null,null,3677,1.0425024020781644]
[null,null,null,null,null,3678,1.091965854180184]
[null,null,null,null,null,3679,1.050027287865313]
[null,null,null,null,null,3680,1.0571529193969278]
[null,null,null,null,null,3681,1.0531695965580745]
[null,null,null,null,null,3682,1.0849971981966136]
[null,null,null,null,null,3683,1.0730639169590293]
[null,null,null,null,null,3684,1.0698256102993158]
[null,null,null,null,null,3685,1.0896911365189463]
[null,null,null,null,null,3686,1.0505490039585967]
[null,null,null,null,null,3687,1.0809653541944646]
[null,null,null,null,null,3688,1.1017717974468653]
[null,null,null,null,null,3689,1.0842183651811284]
[null,null,null,null,null,3690,1.053552529612398]
[null,null,null,null,null,3691,1.0912577269459658]
[null,null,null,null,null,3692,1.0470816414875481]
[null,null,null,null,null,3693,1.0676956687320858]
[null,null,null,null,null,3694,1.0880807209821577]
[null,null,null,null,null,3695,1.0968038380731331]
[null,null,null,null,null,3696,1.0998113748905864]
[null,null,null,null,null,3697,1.0626592866058857]
[null,null,null,null,null,3698,1.0801611438828507]
[null,null,null,null,null,3699,1.0821947676376342]
[null,null,null,null,null,3700,1.0745573724686579]
[null,null,null,null,null,3701,1.0871773476699562]
[null,null,null,null,null,3702,1.0484842087111073]
[null,null,null,null,null,3703,1.0809846216541226]
[null,null,null,null,null,3704,1.0831139096193902]
[null,null,null,null,null,3705,1.0848393516443122]
[null,null,null,null,null,3706,1.0651643861702977]
[null,null,null,null,null,3707,1.0626685052489839]
[null,null,null,null,null,3708,1.1206875046550515]
[null,null,null,null,null,3709,1.0717389292427844]
[null,null,null,null,null,3710,1.0931371801961809]
[null,null,null,null,null,3711,1.0649513351767415]
[null,null,null,null,null,3712,1.0723199228020959]
[null,null,null,null,null,3713,1.0820958260855156]
[null,null,null,null,null,3714,{"$f":"EXP($B$11-0.5*$B$10^2)+$B$10*_xlfn.NORM.S.INV(RAND())","v":1.0573559800955192}]
[null,null,null,null,null,3715,1.0814313279276462]
[null,null,null,null,null,3716,1.0809411713159858]
[null,null,null,null,null,3717,1.065560635859383]
[null,null,null,null,null,3718,1.0971285942850055]
[null,null,null,null,null,3719,1.0584255105379603]
[null,null,null,null,null,3720,1.0968071744399972]
[null,null,null,null,null,3721,1.0720661325702059]
[null,null,null,null,null,3722,1.0945855906289521]
[null,null,null,null,null,3723,1.1363379804539433]
[null,null,null,null,null,3724,1.1036041955053191]
[null,null,null,null,null,3725,1.0793764045957128]
[null,null,null,null,null,3726,1.0601980761441689]
[null,null,null,null,null,3727,1.0636164394445282]
[null,null,null,null,null,3728,1.0630171865548692]
[null,null,null,null,null,3729,1.0487833305022094]
[null,null,null,null,null,3730,1.1031101623826973]
[null,null,null,null,null,3731,1.0765317976209838]
[null,null,null,null,null,3732,1.1011031465687791]
[null,null,null,null,null,3733,1.0766187985806215]
[null,null,null,null,null,3734,1.0748738333784538]
[null,null,null,null,null,3735,1.109863984109364]
[null,null,null,null,null,3736,1.0747739930228084]
[null,null,null,null,null,3737,1.0742273397644286]
[null,null,null,null,null,3738,1.0772032808395116]
[null,null,null,null,null,3739,1.0460205115339143]
[null,null,null,null,null,3740,1.0848874593332898]
[null,null,null,null,null,3741,1.0863317360558911]
[null,null,null,null,null,3742,1.0853162165494614]
[null,null,null,null,null,3743,1.0348284695745122]
[null,null,null,null,null,3744,1.0588650045474537]
[null,null,null,null,null,3745,1.0347548087301599]
[null,null,null,null,null,3746,1.0571504293225873]
[null,null,null,null,null,3747,1.0634550618169467]
[null,null,null,null,null,3748,1.0748595000301058]
[null,null,null,null,null,3749,1.0777015901582643]
[null,null,null,null,null,3750,1.0329606127637792]
[null,null,null,null,null,3751,1.0876238688385795]
[null,null,null,null,null,3752,1.1250932677195922]
[null,null,null,null,null,3753,1.0552592742846245]
[null,null,null,null,null,3754,1.0592897706118998]
[null,null,null,null,null,3755,1.0731044603824642]
[null,null,null,null,null,3756,1.0546790791800025]
[null,null,null,null,null,3757,1.077678506245201]
[null,null,null,null,null,3758,1.1351549858344381]
[null,null,null,null,null,3759,1.0564659220134349]
[null,null,null,null,null,3760,1.0873254492384632]
[null,null,null,null,null,3761,1.0776210444920045]
[null,null,null,null,null,3762,1.0557843322131197]
[null,null,null,null,null,3763,1.0564130612749643]
[null,null,null,null,null,3764,1.0766150619696722]
[null,null,null,null,null,3765,1.083237565623435]
[null,null,null,null,null,3766,1.0446188175179736]
[null,null,null,null,null,3767,1.0891980993308279]
[null,null,null,null,null,3768,1.0583600973292835]
[null,null,null,null,null,3769,1.0889078735812536]
[null,null,null,null,null,3770,1.0901017376886597]
[null,null,null,null,null,3771,1.0855782940024603]
[null,null,null,null,null,3772,1.0784995147998724]
[null,null,null,null,null,3773,1.0642013962124719]
[null,null,null,null,null,3774,1.0716684857305623]
[null,null,null,null,null,3775,1.0800389769912007]
[null,null,null,null,null,3776,1.0617319504165263]
[null,null,null,null,null,3777,1.0647159985114192]
[null,null,null,null,null,3778,{"$f":"EXP($B$11-0.5*$B$10^2)+$B$10*_xlfn.NORM.S.INV(RAND())","v":1.0989424185160213}]
[null,null,null,null,null,3779,1.0584662480842848]
[null,null,null,null,null,3780,1.115410154988139]
[null,null,null,null,null,3781,1.0746132506224992]
[null,null,null,null,null,3782,1.0483059015988614]
[null,null,null,null,null,3783,1.0626652655047306]
[null,null,null,null,null,3784,1.0801619006177376]
[null,null,null,null,null,3785,1.0862288999211134]
[null,null,null,null,null,3786,1.1081060369390932]
[null,null,null,null,null,3787,1.0903208525692112]
[null,null,null,null,null,3788,1.0754547599560587]
[null,null,null,null,null,3789,1.0907808546295041]
[null,null,null,null,null,3790,1.0697044195048373]
[null,null,null,null,null,3791,1.0802217259358216]
[null,null,null,null,null,3792,1.0859629593487943]
[null,null,null,null,null,3793,1.0603871724959517]
[null,null,null,null,null,3794,1.1059403148448907]
[null,null,null,null,null,3795,1.0700303722100037]
[null,null,null,null,null,3796,1.0844599182945895]
[null,null,null,null,null,3797,1.0775590073038892]
[null,null,null,null,null,3798,1.0631386539081835]
[null,null,null,null,null,3799,1.0685935036540928]
[null,null,null,null,null,3800,1.0450490129390202]
[null,null,null,null,null,3801,1.0870377402064326]
[null,null,null,null,null,3802,1.054649618803059]
[null,null,null,null,null,3803,1.1032721491992403]
[null,null,null,null,null,3804,1.11266619121578]
[null,null,null,null,null,3805,1.0689268040190338]
[null,null,null,null,null,3806,1.0781058467734614]
[null,null,null,null,null,3807,1.1042559232659876]
[null,null,null,null,null,3808,1.0722018351811835]
[null,null,null,null,null,3809,1.0718651829813945]
[null,null,null,null,null,3810,1.0866073674605943]
[null,null,null,null,null,3811,1.0905023836711629]
[null,null,null,null,null,3812,1.0865939364609944]
[null,null,null,null,null,3813,1.0814984182117995]
[null,null,null,null,null,3814,1.0728824149969041]
[null,null,null,null,null,3815,1.0594076822116825]
[null,null,null,null,null,3816,1.0878548674052453]
[null,null,null,null,null,3817,1.0889394992258294]
[null,null,null,null,null,3818,1.0829324890165684]
[null,null,null,null,null,3819,1.0910041504575347]
[null,null,null,null,null,3820,1.0696200353638332]
[null,null,null,null,null,3821,1.0988449539600562]
[null,null,null,null,null,3822,1.0861575619411494]
[null,null,null,null,null,3823,1.1019395879376066]
[null,null,null,null,null,3824,1.089663222144734]
[null,null,null,null,null,3825,1.1017758951139547]
[null,null,null,null,null,3826,1.0750294788600177]
[null,null,null,null,null,3827,1.0452709616980635]
[null,null,null,null,null,3828,1.1187182329266245]
[null,null,null,null,null,3829,1.0438760360570192]
[null,null,null,null,null,3830,1.1079044463278946]
[null,null,null,null,null,3831,1.0914696298684121]
[null,null,null,null,null,3832,1.0738557065175138]
[null,null,null,null,null,3833,1.0780717798452688]
[null,null,null,null,null,3834,1.0899998379456524]
[null,null,null,null,null,3835,1.0982313318340955]
[null,null,null,null,null,3836,1.0499752489924539]
[null,null,null,null,null,3837,1.0818931603772302]
[null,null,null,null,null,3838,1.0946325654687743]
[null,null,null,null,null,3839,1.1188332202984907]
[null,null,null,null,null,3840,1.0927204486347146]
[null,null,null,null,null,3841,1.073245203289243]
[null,null,null,null,null,3842,{"$f":"EXP($B$11-0.5*$B$10^2)+$B$10*_xlfn.NORM.S.INV(RAND())","v":1.0957260849523258}]
[null,null,null,null,null,3843,1.0663841959229192]
[null,null,null,null,null,3844,1.0717203022674635]
[null,null,null,null,null,3845,1.0726310032564128]
[null,null,null,null,null,3846,1.101255066843714]
[null,null,null,null,null,3847,1.0758648159903377]
[null,null,null,null,null,3848,1.0698281672680996]
[null,null,null,null,null,3849,1.0603349781612041]
[null,null,null,null,null,3850,1.0686587896410249]
[null,null,null,null,null,3851,1.0521955033233463]
[null,null,null,null,null,3852,1.0629049295894697]
[null,null,null,null,null,3853,1.0544253935169821]
[null,null,null,null,null,3854,1.0612690934006714]
[null,null,null,null,null,3855,1.0697831638339024]
[null,null,null,null,null,3856,1.1028998872237652]
[null,null,null,null,null,3857,1.0487006981567069]
[null,null,null,null,null,3858,1.0638733423591715]
[null,null,null,null,null,3859,1.1048171545820318]
[null,null,null,null,null,3860,1.0717579727161066]
[null,null,null,null,null,3861,1.0473264727758356]
[null,null,null,null,null,3862,1.0495075954062405]
[null,null,null,null,null,3863,1.0359790133549147]
[null,null,null,null,null,3864,1.0421312325609338]
[null,null,null,null,null,3865,1.0803139108282125]
[null,null,null,null,null,3866,1.0865010487686269]
[null,null,null,null,null,3867,1.0621425939053668]
[null,null,null,null,null,3868,1.0750639174907104]
[null,null,null,null,null,3869,1.0774641451544889]
[null,null,null,null,null,3870,1.0592207739459314]
[null,null,null,null,null,3871,1.0542082854734436]
[null,null,null,null,null,3872,1.0436396475153729]
[null,null,null,null,null,3873,1.0522538148871265]
[null,null,null,null,null,3874,1.0806259581631981]
[null,null,null,null,null,3875,1.0791135731116548]
[null,null,null,null,null,3876,1.061652265703307]
[null,null,null,null,null,3877,1.092089091516613]
[null,null,null,null,null,3878,1.0900229275475275]
[null,null,null,null,null,3879,1.077337226790483]
[null,null,null,null,null,3880,1.0803939510022438]
[null,null,null,null,null,3881,1.0918638438353696]
[null,null,null,null,null,3882,1.0702707007227443]
[null,null,null,null,null,3883,1.1148410237593209]
[null,null,null,null,null,3884,1.0655366566367306]
[null,null,null,null,null,3885,1.0562337033641165]
[null,null,null,null,null,3886,1.0560826750345809]
[null,null,null,null,null,3887,1.102859168044702]
[null,null,null,null,null,3888,1.0744773632754536]
[null,null,null,null,null,3889,1.0600972764504635]
[null,null,null,null,null,3890,1.1208671584892045]
[null,null,null,null,null,3891,1.0912144429508324]
[null,null,null,null,null,3892,1.0487267357199439]
[null,null,null,null,null,3893,1.036923460357992]
[null,null,null,null,null,3894,1.0774204484417536]
[null,null,null,null,null,3895,1.0894423320476698]
[null,null,null,null,null,3896,1.0468800236463016]
[null,null,null,null,null,3897,1.0805343882198986]
[null,null,null,null,null,3898,1.058010521378816]
[null,null,null,null,null,3899,1.1283214413344189]
[null,null,null,null,null,3900,1.037886423077323]
[null,null,null,null,null,3901,1.0789256598903396]
[null,null,null,null,null,3902,1.0956922812364096]
[null,null,null,null,null,3903,1.0693113704449266]
[null,null,null,null,null,3904,1.089413305524231]
[null,null,null,null,null,3905,1.061032642893853]
[null,null,null,null,null,3906,{"$f":"EXP($B$11-0.5*$B$10^2)+$B$10*_xlfn.NORM.S.INV(RAND())","v":1.0574402463755501}]
[null,null,null,null,null,3907,1.100297350578533]
[null,null,null,null,null,3908,1.0888811066149986]
[null,null,null,null,null,3909,1.0661932349770942]
[null,null,null,null,null,3910,1.0991270156890705]
[null,null,null,null,null,3911,1.0636524040467725]
[null,null,null,null,null,3912,1.0880927101358793]
[null,null,null,null,null,3913,1.0791557323745511]
[null,null,null,null,null,3914,1.1043067177948003]
[null,null,null,null,null,3915,1.0813653576488365]
[null,null,null,null,null,3916,1.1133759366890892]
[null,null,null,null,null,3917,1.0784785734114606]
[null,null,null,null,null,3918,1.0789675951820439]
[null,null,null,null,null,3919,1.0615990876407995]
[null,null,null,null,null,3920,1.0533548282983967]
[null,null,null,null,null,3921,1.0716158542935872]
[null,null,null,null,null,3922,1.0656526742241941]
[null,null,null,null,null,3923,1.0842382904272065]
[null,null,null,null,null,3924,1.1092104398881619]
[null,null,null,null,null,3925,1.0622678577180835]
[null,null,null,null,null,3926,1.0746604815834664]
[null,null,null,null,null,3927,1.1206017045150334]
[null,null,null,null,null,3928,1.1112431040966406]
[null,null,null,null,null,3929,1.0920712618773165]
[null,null,null,null,null,3930,1.0445096149485571]
[null,null,null,null,null,3931,1.1091256229933002]
[null,null,null,null,null,3932,1.077084009088993]
[null,null,null,null,null,3933,1.0567200319107672]
[null,null,null,null,null,3934,1.0982140298928256]
[null,null,null,null,null,3935,1.0585464491877807]
[null,null,null,null,null,3936,1.0887375820114529]
[null,null,null,null,null,3937,1.078848241950604]
[null,null,null,null,null,3938,1.0921769951841369]
[null,null,null,null,null,3939,1.0604752677927494]
[null,null,null,null,null,3940,1.0788456607975139]
[null,null,null,null,null,3941,1.0611750298055151]
[null,null,null,null,null,3942,1.0890672079726691]
[null,null,null,null,null,3943,1.1025699455090265]
[null,null,null,null,null,3944,1.0741118605804105]
[null,null,null,null,null,3945,1.0877748108354881]
[null,null,null,null,null,3946,1.0796967842598639]
[null,null,null,null,null,3947,1.0752977395615944]
[null,null,null,null,null,3948,1.0689362823432271]
[null,null,null,null,null,3949,1.1023258831884504]
[null,null,null,null,null,3950,1.0713754922372605]
[null,null,null,null,null,3951,1.0581084561459591]
[null,null,null,null,null,3952,1.1044929233608698]
[null,null,null,null,null,3953,1.0679987333202325]
[null,null,null,null,null,3954,1.0781022711305397]
[null,null,null,null,null,3955,1.0934195164366327]
[null,null,null,null,null,3956,1.0918451210773565]
[null,null,null,null,null,3957,1.072538830169546]
[null,null,null,null,null,3958,1.0979594140204778]
[null,null,null,null,null,3959,1.0723631360846393]
[null,null,null,null,null,3960,1.0931619098781065]
[null,null,null,null,null,3961,1.0674960925748826]
[null,null,null,null,null,3962,1.069433219174124]
[null,null,null,null,null,3963,1.0876247253658602]
[null,null,null,null,null,3964,1.084219029498269]
[null,null,null,null,null,3965,1.0374385650456459]
[null,null,null,null,null,3966,1.0764241764782954]
[null,null,null,null,null,3967,1.0759313478940684]
[null,null,null,null,null,3968,1.0862190905824267]
[null,null,null,null,null,3969,1.053351569905268]
[null,null,null,null,null,3970,{"$f":"EXP($B$11-0.5*$B$10^2)+$B$10*_xlfn.NORM.S.INV(RAND())","v":1.0889959911100628}]
[null,null,null,null,null,3971,1.0798530777134818]
[null,null,null,null,null,3972,1.0932773682551242]
[null,null,null,null,null,3973,1.1128940283017896]
[null,null,null,null,null,3974,1.0618196714067614]
[null,null,null,null,null,3975,1.0494466922851184]
[null,null,null,null,null,3976,1.0252573639359395]
[null,null,null,null,null,3977,1.09184774585301]
[null,null,null,null,null,3978,1.0455559792455993]
[null,null,null,null,null,3979,1.0812997849170212]
[null,null,null,null,null,3980,1.0583104844064848]
[null,null,null,null,null,3981,1.0985734417028752]
[null,null,null,null,null,3982,1.0818608224541832]
[null,null,null,null,null,3983,1.077937046254638]
[null,null,null,null,null,3984,1.1173276917519639]
[null,null,null,null,null,3985,1.0697640239896691]
[null,null,null,null,null,3986,1.0888268780585659]
[null,null,null,null,null,3987,1.0817061041444109]
[null,null,null,null,null,3988,1.0804148460428169]
[null,null,null,null,null,3989,1.0811223800814738]
[null,null,null,null,null,3990,1.0844327338084909]
[null,null,null,null,null,3991,1.0935952013810277]
[null,null,null,null,null,3992,1.0602529670267409]
[null,null,null,null,null,3993,1.0675370536273827]
[null,null,null,null,null,3994,1.0498699500229987]
[null,null,null,null,null,3995,1.0851303860782027]
[null,null,null,null,null,3996,1.1002003284841273]
[null,null,null,null,null,3997,1.0969607490591242]
[null,null,null,null,null,3998,1.0602647525817508]
[null,null,null,null,null,3999,1.0817628965368604]
[null,null,null,null,null,4000,1.0916022189769161]
[null,null,null,null,null,4001,1.0767627116306349]
[null,null,null,null,null,4002,1.1161190318599805]
[null,null,null,null,null,4003,1.0931366577694241]
[null,null,null,null,null,4004,1.0741975332292373]
[null,null,null,null,null,4005,1.0250405119121795]
[null,null,null,null,null,4006,1.073950679791069]
[null,null,null,null,null,4007,1.0679683912953946]
[null,null,null,null,null,4008,1.0569808143689177]
[null,null,null,null,null,4009,1.0868375975600919]
[null,null,null,null,null,4010,1.0607677013317902]
[null,null,null,null,null,4011,1.0743644656346056]
[null,null,null,null,null,4012,1.0675225534423305]
[null,null,null,null,null,4013,1.0787559802106841]
[null,null,null,null,null,4014,1.1280697583063151]
[null,null,null,null,null,4015,1.0703691292341779]
[null,null,null,null,null,4016,1.1052617585560274]
[null,null,null,null,null,4017,1.079373615083421]
[null,null,null,null,null,4018,1.0804520724998383]
[null,null,null,null,null,4019,1.07759154233086]
[null,null,null,null,null,4020,1.0689144757291638]
[null,null,null,null,null,4021,1.0638752451279672]
[null,null,null,null,null,4022,1.0658035368999343]
[null,null,null,null,null,4023,1.0895802396169216]
[null,null,null,null,null,4024,1.083572204599057]
[null,null,null,null,null,4025,1.0841614724675237]
[null,null,null,null,null,4026,1.0830554007338957]
[null,null,null,null,null,4027,1.0962839800483513]
[null,null,null,null,null,4028,1.0884873425077404]
[null,null,null,null,null,4029,1.0760127837314442]
[null,null,null,null,null,4030,1.0765489844476446]
[null,null,null,null,null,4031,1.0433899324856839]
[null,null,null,null,null,4032,1.0792960480982745]
[null,null,null,null,null,4033,1.1139364285663442]
[null,null,null,null,null,4034,{"$f":"EXP($B$11-0.5*$B$10^2)+$B$10*_xlfn.NORM.S.INV(RAND())","v":1.0451787790872464}]
[null,null,null,null,null,4035,1.0748883168769505]
[null,null,null,null,null,4036,1.0559281065873451]
[null,null,null,null,null,4037,1.1036673969093922]
[null,null,null,null,null,4038,1.0651456618555719]
[null,null,null,null,null,4039,1.1018977338249796]
[null,null,null,null,null,4040,1.0607874119998193]
[null,null,null,null,null,4041,1.0953854205117675]
[null,null,null,null,null,4042,1.0380029889251248]
[null,null,null,null,null,4043,1.0589683726857355]
[null,null,null,null,null,4044,1.1271081842424167]
[null,null,null,null,null,4045,1.1086485643922193]
[null,null,null,null,null,4046,1.089851959686889]
[null,null,null,null,null,4047,1.0398001649712725]
[null,null,null,null,null,4048,1.0521444774728061]
[null,null,null,null,null,4049,1.0645173618582318]
[null,null,null,null,null,4050,1.0931658910606479]
[null,null,null,null,null,4051,1.0642929403005803]
[null,null,null,null,null,4052,1.1018266886863268]
[null,null,null,null,null,4053,1.0851063902976468]
[null,null,null,null,null,4054,1.0621841988287004]
[null,null,null,null,null,4055,1.1389115724922945]
[null,null,null,null,null,4056,1.0766100371959124]
[null,null,null,null,null,4057,1.0491460361663436]
[null,null,null,null,null,4058,1.0716131381583058]
[null,null,null,null,null,4059,1.0610153080726932]
[null,null,null,null,null,4060,1.0591134663571509]
[null,null,null,null,null,4061,1.0696541198893204]
[null,null,null,null,null,4062,1.0809886465085943]
[null,null,null,null,null,4063,1.1086967694077594]
[null,null,null,null,null,4064,1.091331689230479]
[null,null,null,null,null,4065,1.0298718894087506]
[null,null,null,null,null,4066,1.0987504009093907]
[null,null,null,null,null,4067,1.0769398200678966]
[null,null,null,null,null,4068,1.0884098441958376]
[null,null,null,null,null,4069,1.0880488639573485]
[null,null,null,null,null,4070,1.091177237720744]
[null,null,null,null,null,4071,1.0837697752212812]
[null,null,null,null,null,4072,1.0905465750423013]
[null,null,null,null,null,4073,1.0730133937502275]
[null,null,null,null,null,4074,1.1054918797067337]
[null,null,null,null,null,4075,1.1131290260718081]
[null,null,null,null,null,4076,1.1055160301047402]
[null,null,null,null,null,4077,1.0924516828156139]
[null,null,null,null,null,4078,1.0940175668634438]
[null,null,null,null,null,4079,1.0622413541572553]
[null,null,null,null,null,4080,1.0796349436576589]
[null,null,null,null,null,4081,1.1241298568736044]
[null,null,null,null,null,4082,1.1199994138295795]
[null,null,null,null,null,4083,1.1195125740551219]
[null,null,null,null,null,4084,1.080715254852145]
[null,null,null,null,null,4085,1.0741156509289655]
[null,null,null,null,null,4086,1.0590812836844896]
[null,null,null,null,null,4087,1.0631467204192186]
[null,null,null,null,null,4088,1.0687297813501488]
[null,null,null,null,null,4089,1.0753491054012563]
[null,null,null,null,null,4090,1.0608984339295782]
[null,null,null,null,null,4091,1.0651370132974436]
[null,null,null,null,null,4092,1.0845853269555386]
[null,null,null,null,null,4093,1.0910642914821556]
[null,null,null,null,null,4094,1.0562535589738635]
[null,null,null,null,null,4095,1.0487685343615161]
[null,null,null,null,null,4096,1.0841070329161102]
[null,null,null,null,null,4097,1.0661714742783142]
[null,null,null,null,null,4098,{"$f":"EXP($B$11-0.5*$B$10^2)+$B$10*_xlfn.NORM.S.INV(RAND())","v":1.0847737866004254}]
[null,null,null,null,null,4099,1.0855843924166151]
[null,null,null,null,null,4100,1.0861547266544151]
[null,null,null,null,null,4101,1.1077425597945698]
[null,null,null,null,null,4102,1.0905485177879921]
[null,null,null,null,null,4103,1.0539191554418672]
[null,null,null,null,null,4104,1.0630439560432337]
[null,null,null,null,null,4105,1.0555793774427384]
[null,null,null,null,null,4106,1.0527371983702756]
[null,null,null,null,null,4107,1.0761633621012052]
[null,null,null,null,null,4108,1.1167095174306307]
[null,null,null,null,null,4109,1.0972776371430475]
[null,null,null,null,null,4110,1.0803012790758353]
[null,null,null,null,null,4111,1.0797544322061898]
[null,null,null,null,null,4112,1.060445065531274]
[null,null,null,null,null,4113,1.0746408574494106]
[null,null,null,null,null,4114,1.0826666439745973]
[null,null,null,null,null,4115,1.1042813368382618]
[null,null,null,null,null,4116,1.078550768344527]
[null,null,null,null,null,4117,1.0744844928495871]
[null,null,null,null,null,4118,1.0523185465686904]
[null,null,null,null,null,4119,1.0680531643521607]
[null,null,null,null,null,4120,1.0692884908845051]
[null,null,null,null,null,4121,1.1066090829644768]
[null,null,null,null,null,4122,1.0410898535177187]
[null,null,null,null,null,4123,1.076309012903649]
[null,null,null,null,null,4124,1.0886693539412071]
[null,null,null,null,null,4125,1.0562474360143399]
[null,null,null,null,null,4126,1.1128377893489918]
[null,null,null,null,null,4127,1.074693519925213]
[null,null,null,null,null,4128,1.0738868627184159]
[null,null,null,null,null,4129,1.0540981537288729]
[null,null,null,null,null,4130,1.0416876077532928]
[null,null,null,null,null,4131,1.0768222390956548]
[null,null,null,null,null,4132,1.0683093160556476]
[null,null,null,null,null,4133,1.0974323143667311]
[null,null,null,null,null,4134,1.067732317788578]
[null,null,null,null,null,4135,1.0389009238661799]
[null,null,null,null,null,4136,1.0754129492587619]
[null,null,null,null,null,4137,1.088157815647641]
[null,null,null,null,null,4138,1.0570570149335539]
[null,null,null,null,null,4139,1.0926365975540415]
[null,null,null,null,null,4140,1.0413487279506217]
[null,null,null,null,null,4141,1.1139497820109348]
[null,null,null,null,null,4142,1.0619781666364607]
[null,null,null,null,null,4143,1.0926335035695121]
[null,null,null,null,null,4144,1.0650664720257017]
[null,null,null,null,null,4145,1.0483309793049864]
[null,null,null,null,null,4146,1.0924794411037475]
[null,null,null,null,null,4147,1.0737550544032313]
[null,null,null,null,null,4148,1.0584991714297873]
[null,null,null,null,null,4149,1.0640549164386932]
[null,null,null,null,null,4150,1.069187519251392]
[null,null,null,null,null,4151,1.09213389094164]
[null,null,null,null,null,4152,1.0922524532009146]
[null,null,null,null,null,4153,1.0391587910506401]
[null,null,null,null,null,4154,1.0894517174387852]
[null,null,null,null,null,4155,1.0658255006382313]
[null,null,null,null,null,4156,1.0699983644253701]
[null,null,null,null,null,4157,1.091022760279434]
[null,null,null,null,null,4158,1.0921861770248755]
[null,null,null,null,null,4159,1.0947356009944094]
[null,null,null,null,null,4160,1.0696005636226418]
[null,null,null,null,null,4161,1.101118208196358]
[null,null,null,null,null,4162,{"$f":"EXP($B$11-0.5*$B$10^2)+$B$10*_xlfn.NORM.S.INV(RAND())","v":1.0954722102254961}]
[null,null,null,null,null,4163,1.0452568127593098]
[null,null,null,null,null,4164,1.0638749327656574]
[null,null,null,null,null,4165,1.0542390485172282]
[null,null,null,null,null,4166,1.0955245516384604]
[null,null,null,null,null,4167,1.0865763784337648]
[null,null,null,null,null,4168,1.0493364133362029]
[null,null,null,null,null,4169,1.0819649340091821]
[null,null,null,null,null,4170,1.0994988606871139]
[null,null,null,null,null,4171,1.1118816703221943]
[null,null,null,null,null,4172,1.044577975894174]
[null,null,null,null,null,4173,1.0480750455830701]
[null,null,null,null,null,4174,1.0612848571124132]
[null,null,null,null,null,4175,1.0753658120601124]
[null,null,null,null,null,4176,1.0884385831165515]
[null,null,null,null,null,4177,1.0642504767801664]
[null,null,null,null,null,4178,1.0824907095632683]
[null,null,null,null,null,4179,1.1013636724809148]
[null,null,null,null,null,4180,1.0683018577675429]
[null,null,null,null,null,4181,1.1126107642746312]
[null,null,null,null,null,4182,1.0440875325944059]
[null,null,null,null,null,4183,1.0820644584772201]
[null,null,null,null,null,4184,1.074580221598624]
[null,null,null,null,null,4185,1.0401538943150015]
[null,null,null,null,null,4186,1.0630508901577276]
[null,null,null,null,null,4187,1.0719362357061433]
[null,null,null,null,null,4188,1.1111747776402954]
[null,null,null,null,null,4189,1.0925306847622431]
[null,null,null,null,null,4190,1.0777665033468875]
[null,null,null,null,null,4191,1.0688617892643688]
[null,null,null,null,null,4192,1.0726277636258761]
[null,null,null,null,null,4193,1.0780669739994149]
[null,null,null,null,null,4194,1.0493071749838887]
[null,null,null,null,null,4195,1.084395076508601]
[null,null,null,null,null,4196,1.0810081099441484]
[null,null,null,null,null,4197,1.0692806621249356]
[null,null,null,null,null,4198,1.0828685164997771]
[null,null,null,null,null,4199,1.0813156300780804]
[null,null,null,null,null,4200,1.0769255874105037]
[null,null,null,null,null,4201,1.0614150600190884]
[null,null,null,null,null,4202,1.0964060800432993]
[null,null,null,null,null,4203,1.1087058823262423]
[null,null,null,null,null,4204,1.0771643457897959]
[null,null,null,null,null,4205,1.0858882519372126]
[null,null,null,null,null,4206,1.0860769725359167]
[null,null,null,null,null,4207,1.0869825796519161]
[null,null,null,null,null,4208,1.0856917334371425]
[null,null,null,null,null,4209,1.0479036247621984]
[null,null,null,null,null,4210,1.1017269358437407]
[null,null,null,null,null,4211,1.0688920523429506]
[null,null,null,null,null,4212,1.0374769052227042]
[null,null,null,null,null,4213,1.114919389511686]
[null,null,null,null,null,4214,1.0556726894905959]
[null,null,null,null,null,4215,1.0623320958571669]
[null,null,null,null,null,4216,1.0782443237242347]
[null,null,null,null,null,4217,1.0517193567613095]
[null,null,null,null,null,4218,1.056278662429988]
[null,null,null,null,null,4219,1.0625253491212712]
[null,null,null,null,null,4220,1.0910050002343437]
[null,null,null,null,null,4221,1.1036075501156739]
[null,null,null,null,null,4222,1.0450800735655641]
[null,null,null,null,null,4223,1.0590985888644109]
[null,null,null,null,null,4224,1.0868703772491835]
[null,null,null,null,null,4225,1.0762727095122229]
[null,null,null,null,null,4226,{"$f":"EXP($B$11-0.5*$B$10^2)+$B$10*_xlfn.NORM.S.INV(RAND())","v":1.0729293621323892}]
[null,null,null,null,null,4227,1.0756498643705119]
[null,null,null,null,null,4228,1.0864159150451969]
[null,null,null,null,null,4229,1.0832732397713905]
[null,null,null,null,null,4230,1.0614989545467264]
[null,null,null,null,null,4231,1.0694608517906947]
[null,null,null,null,null,4232,1.0880338872264412]
[null,null,null,null,null,4233,1.0704987727414719]
[null,null,null,null,null,4234,1.0923818561106908]
[null,null,null,null,null,4235,1.0691832912789421]
[null,null,null,null,null,4236,1.0572338903626]
[null,null,null,null,null,4237,1.0382723722603164]
[null,null,null,null,null,4238,1.0425847851010774]
[null,null,null,null,null,4239,1.0687912317409358]
[null,null,null,null,null,4240,1.0701626957908401]
[null,null,null,null,null,4241,1.0508075115893569]
[null,null,null,null,null,4242,1.0950773596299435]
[null,null,null,null,null,4243,1.1050922014216373]
[null,null,null,null,null,4244,1.0876662183603161]
[null,null,null,null,null,4245,1.0995742041110155]
[null,null,null,null,null,4246,1.106026633022116]
[null,null,null,null,null,4247,1.0863944207461202]
[null,null,null,null,null,4248,1.0645495821852637]
[null,null,null,null,null,4249,1.0405530751242309]
[null,null,null,null,null,4250,1.082496010774898]
[null,null,null,null,null,4251,1.0495640492817606]
[null,null,null,null,null,4252,1.0722962213982616]
[null,null,null,null,null,4253,1.0508489176616118]
[null,null,null,null,null,4254,1.0540619606372041]
[null,null,null,null,null,4255,1.0776223517300301]
[null,null,null,null,null,4256,1.086565904398253]
[null,null,null,null,null,4257,1.0724875513443748]
[null,null,null,null,null,4258,1.110330548950426]
[null,null,null,null,null,4259,1.1028860637118887]
[null,null,null,null,null,4260,1.069811390173284]
[null,null,null,null,null,4261,1.0762191129407086]
[null,null,null,null,null,4262,1.0630682429574672]
[null,null,null,null,null,4263,1.1084826415619715]
[null,null,null,null,null,4264,1.0898158216346427]
[null,null,null,null,null,4265,1.0815632081727016]
[null,null,null,null,null,4266,1.0851975597617205]
[null,null,null,null,null,4267,1.0648280118554172]
[null,null,null,null,null,4268,1.1139197060156669]
[null,null,null,null,null,4269,1.1070350461348522]
[null,null,null,null,null,4270,1.0839567646180981]
[null,null,null,null,null,4271,1.0884174160090458]
[null,null,null,null,null,4272,1.0807359439626829]
[null,null,null,null,null,4273,1.1021453886399395]
[null,null,null,null,null,4274,1.0790805025244818]
[null,null,null,null,null,4275,1.0533597114357369]
[null,null,null,null,null,4276,1.089022357379583]
[null,null,null,null,null,4277,1.0959926745115209]
[null,null,null,null,null,4278,1.0898496464305349]
[null,null,null,null,null,4279,1.0549135751645462]
[null,null,null,null,null,4280,1.0995883910696389]
[null,null,null,null,null,4281,1.0360136569524598]
[null,null,null,null,null,4282,1.074892454096432]
[null,null,null,null,null,4283,1.0758231551169983]
[null,null,null,null,null,4284,1.0623594699121193]
[null,null,null,null,null,4285,1.029638922018159]
[null,null,null,null,null,4286,1.0360862065177479]
[null,null,null,null,null,4287,1.0834145299327538]
[null,null,null,null,null,4288,1.0534725626703854]
[null,null,null,null,null,4289,1.0639316133377827]
[null,null,null,null,null,4290,{"$f":"EXP($B$11-0.5*$B$10^2)+$B$10*_xlfn.NORM.S.INV(RAND())","v":1.0757282415511153}]
[null,null,null,null,null,4291,1.0904207152294894]
[null,null,null,null,null,4292,1.0677156322789998]
[null,null,null,null,null,4293,1.0897539026670475]
[null,null,null,null,null,4294,1.0651090359440443]
[null,null,null,null,null,4295,1.0818480524685956]
[null,null,null,null,null,4296,1.0597181349115865]
[null,null,null,null,null,4297,1.0315393375739221]
[null,null,null,null,null,4298,1.0869868441453376]
[null,null,null,null,null,4299,1.0687650270837947]
[null,null,null,null,null,4300,1.065900968521172]
[null,null,null,null,null,4301,1.1038028969191112]
[null,null,null,null,null,4302,1.0841122266954768]
[null,null,null,null,null,4303,1.1057904063680162]
[null,null,null,null,null,4304,1.0693370771164397]
[null,null,null,null,null,4305,1.0700053071498259]
[null,null,null,null,null,4306,1.0591693077099762]
[null,null,null,null,null,4307,1.0871033088104196]
[null,null,null,null,null,4308,1.0896259975905087]
[null,null,null,null,null,4309,1.058792587835423]
[null,null,null,null,null,4310,1.0402592820071868]
[null,null,null,null,null,4311,1.0673180908737041]
[null,null,null,null,null,4312,1.0696294326368887]
[null,null,null,null,null,4313,1.0836718991856995]
[null,null,null,null,null,4314,1.0332652738830499]
[null,null,null,null,null,4315,1.0497532535701775]
[null,null,null,null,null,4316,1.0728741396155821]
[null,null,null,null,null,4317,1.0676825141217685]
[null,null,null,null,null,4318,1.106755114666075]
[null,null,null,null,null,4319,1.1036632728887901]
[null,null,null,null,null,4320,1.0667863280625149]
[null,null,null,null,null,4321,1.0612560391637769]
[null,null,null,null,null,4322,1.076636792283586]
[null,null,null,null,null,4323,1.1041212848605415]
[null,null,null,null,null,4324,1.1034548546003236]
[null,null,null,null,null,4325,1.0657495818143692]
[null,null,null,null,null,4326,1.0463017653089679]
[null,null,null,null,null,4327,1.0778182530160227]
[null,null,null,null,null,4328,1.1013692108827819]
[null,null,null,null,null,4329,1.0574920848565819]
[null,null,null,null,null,4330,1.0532876908124991]
[null,null,null,null,null,4331,1.0522794291037889]
[null,null,null,null,null,4332,1.1018284542315286]
[null,null,null,null,null,4333,1.0523422629301153]
[null,null,null,null,null,4334,1.036167373398805]
[null,null,null,null,null,4335,1.085593979547681]
[null,null,null,null,null,4336,1.0585098083525462]
[null,null,null,null,null,4337,1.1236982724803859]
[null,null,null,null,null,4338,1.0916192846888368]
[null,null,null,null,null,4339,1.0698979816528567]
[null,null,null,null,null,4340,1.0980104177895142]
[null,null,null,null,null,4341,1.0514507282231318]
[null,null,null,null,null,4342,1.0611843776667871]
[null,null,null,null,null,4343,1.0768300198665737]
[null,null,null,null,null,4344,1.1072559710365453]
[null,null,null,null,null,4345,1.0512547664836145]
[null,null,null,null,null,4346,1.0864585986928945]
[null,null,null,null,null,4347,1.1045517798604381]
[null,null,null,null,null,4348,1.0734767995553864]
[null,null,null,null,null,4349,1.0807168120689423]
[null,null,null,null,null,4350,1.0493365782933948]
[null,null,null,null,null,4351,1.0933319241305246]
[null,null,null,null,null,4352,1.0694929750444457]
[null,null,null,null,null,4353,1.0931926112417583]
[null,null,null,null,null,4354,{"$f":"EXP($B$11-0.5*$B$10^2)+$B$10*_xlfn.NORM.S.INV(RAND())","v":1.0386046743274229}]
[null,null,null,null,null,4355,1.0812596306670514]
[null,null,null,null,null,4356,1.0529292407771538]
[null,null,null,null,null,4357,1.0730003797454528]
[null,null,null,null,null,4358,1.085814056973424]
[null,null,null,null,null,4359,1.0997802797092779]
[null,null,null,null,null,4360,1.081538974834634]
[null,null,null,null,null,4361,1.0991945788730955]
[null,null,null,null,null,4362,1.0675480395925161]
[null,null,null,null,null,4363,1.0727694692165852]
[null,null,null,null,null,4364,1.0940817008508406]
[null,null,null,null,null,4365,1.0974870027225621]
[null,null,null,null,null,4366,1.0805024639012817]
[null,null,null,null,null,4367,1.10009021124638]
[null,null,null,null,null,4368,1.0645225398852125]
[null,null,null,null,null,4369,1.0613440333456625]
[null,null,null,null,null,4370,1.0900722474581748]
[null,null,null,null,null,4371,1.0540715565343544]
[null,null,null,null,null,4372,1.0600378737855167]
[null,null,null,null,null,4373,1.0948017561847989]
[null,null,null,null,null,4374,1.081781424298353]
[null,null,null,null,null,4375,1.060937228482095]
[null,null,null,null,null,4376,1.079454318162469]
[null,null,null,null,null,4377,1.1144470091216625]
[null,null,null,null,null,4378,1.0903900480690292]
[null,null,null,null,null,4379,1.0725394656387011]
[null,null,null,null,null,4380,1.0437302042438421]
[null,null,null,null,null,4381,1.0889067130777546]
[null,null,null,null,null,4382,1.0412681435508448]
[null,null,null,null,null,4383,1.0830053728290603]
[null,null,null,null,null,4384,1.0804692554705699]
[null,null,null,null,null,4385,1.0903773935926715]
[null,null,null,null,null,4386,1.0939905859068435]
[null,null,null,null,null,4387,1.0568690978560364]
[null,null,null,null,null,4388,1.0994192129797742]
[null,null,null,null,null,4389,1.0831025430430685]
[null,null,null,null,null,4390,1.0997957679858466]
[null,null,null,null,null,4391,1.0789680973724394]
[null,null,null,null,null,4392,1.0670684440248552]
[null,null,null,null,null,4393,1.0442531886389492]
[null,null,null,null,null,4394,1.0687557238028973]
[null,null,null,null,null,4395,1.0637238034596028]
[null,null,null,null,null,4396,1.0913790892821766]
[null,null,null,null,null,4397,1.0900628683871911]
[null,null,null,null,null,4398,1.064097212387771]
[null,null,null,null,null,4399,1.0570047217525429]
[null,null,null,null,null,4400,1.0747271153727638]
[null,null,null,null,null,4401,1.0797309230749568]
[null,null,null,null,null,4402,1.0352614704569578]
[null,null,null,null,null,4403,1.0902032034433051]
[null,null,null,null,null,4404,1.0600936910337251]
[null,null,null,null,null,4405,1.0753150139544272]
[null,null,null,null,null,4406,1.0913795119741929]
[null,null,null,null,null,4407,1.0753718513928188]
[null,null,null,null,null,4408,1.0693223629439936]
[null,null,null,null,null,4409,1.0592625372262137]
[null,null,null,null,null,4410,1.0782663632060474]
[null,null,null,null,null,4411,1.1004009887185777]
[null,null,null,null,null,4412,1.076016584144095]
[null,null,null,null,null,4413,1.0656949176252122]
[null,null,null,null,null,4414,1.0408063156798764]
[null,null,null,null,null,4415,1.0711956971703342]
[null,null,null,null,null,4416,1.0359877359785619]
[null,null,null,null,null,4417,1.0719386578016177]
[null,null,null,null,null,4418,{"$f":"EXP($B$11-0.5*$B$10^2)+$B$10*_xlfn.NORM.S.INV(RAND())","v":1.0704494336059278}]
[null,null,null,null,null,4419,1.0667425339508658]
[null,null,null,null,null,4420,1.1002464311189344]
[null,null,null,null,null,4421,1.0817853510473572]
[null,null,null,null,null,4422,1.1012035716192221]
[null,null,null,null,null,4423,1.0686426787541521]
[null,null,null,null,null,4424,1.0767438954796078]
[null,null,null,null,null,4425,1.0871638980324694]
[null,null,null,null,null,4426,1.0979302744633728]
[null,null,null,null,null,4427,1.1030099664201134]
[null,null,null,null,null,4428,1.0755476762882346]
[null,null,null,null,null,4429,1.080201197997545]
[null,null,null,null,null,4430,1.0828785372154772]
[null,null,null,null,null,4431,1.0705545994878416]
[null,null,null,null,null,4432,1.0589250751479125]
[null,null,null,null,null,4433,1.0794102940668366]
[null,null,null,null,null,4434,1.0676494200694957]
[null,null,null,null,null,4435,1.0656824720653215]
[null,null,null,null,null,4436,1.0869619729031115]
[null,null,null,null,null,4437,1.1119777046218253]
[null,null,null,null,null,4438,1.0350229983959183]
[null,null,null,null,null,4439,1.083584559175744]
[null,null,null,null,null,4440,1.0437947804281795]
[null,null,null,null,null,4441,1.0844122149094595]
[null,null,null,null,null,4442,1.0878214788011289]
[null,null,null,null,null,4443,1.0492037354483366]
[null,null,null,null,null,4444,1.0489034742294787]
[null,null,null,null,null,4445,1.0593016651138965]
[null,null,null,null,null,4446,1.0988401160385366]
[null,null,null,null,null,4447,1.0630925134577998]
[null,null,null,null,null,4448,1.0402891878452909]
[null,null,null,null,null,4449,1.0597304976452018]
[null,null,null,null,null,4450,1.0640774528479504]
[null,null,null,null,null,4451,1.0644717427875516]
[null,null,null,null,null,4452,1.0875744624518606]
[null,null,null,null,null,4453,1.0693143739490389]
[null,null,null,null,null,4454,1.0705945722833998]
[null,null,null,null,null,4455,1.0533847992913905]
[null,null,null,null,null,4456,1.0406333627226672]
[null,null,null,null,null,4457,1.1035824031899863]
[null,null,null,null,null,4458,1.0743236709269373]
[null,null,null,null,null,4459,1.0637158591113232]
[null,null,null,null,null,4460,1.0657432890588694]
[null,null,null,null,null,4461,1.1196640921472332]
[null,null,null,null,null,4462,1.0464694965201882]
[null,null,null,null,null,4463,1.1046470100757568]
[null,null,null,null,null,4464,1.0964081867730262]
[null,null,null,null,null,4465,1.0634503891682676]
[null,null,null,null,null,4466,1.0455175471709415]
[null,null,null,null,null,4467,1.0530839540916241]
[null,null,null,null,null,4468,1.0624643904772544]
[null,null,null,null,null,4469,1.0880612406740335]
[null,null,null,null,null,4470,1.0568797270144177]
[null,null,null,null,null,4471,1.1150404192389916]
[null,null,null,null,null,4472,1.0786984393084551]
[null,null,null,null,null,4473,1.0700434550593323]
[null,null,null,null,null,4474,1.0767019771510724]
[null,null,null,null,null,4475,1.04718072209587]
[null,null,null,null,null,4476,1.0539510851335334]
[null,null,null,null,null,4477,1.0840859147069593]
[null,null,null,null,null,4478,1.0661715195213144]
[null,null,null,null,null,4479,1.0649209556495487]
[null,null,null,null,null,4480,1.0846003552209378]
[null,null,null,null,null,4481,1.0782111335708795]
[null,null,null,null,null,4482,{"$f":"EXP($B$11-0.5*$B$10^2)+$B$10*_xlfn.NORM.S.INV(RAND())","v":1.0648625802654337}]
[null,null,null,null,null,4483,1.0633065872255503]
[null,null,null,null,null,4484,1.0740238160841293]
[null,null,null,null,null,4485,1.075742265319479]
[null,null,null,null,null,4486,1.0774694705098318]
[null,null,null,null,null,4487,1.0669531918185988]
[null,null,null,null,null,4488,1.0992054101860289]
[null,null,null,null,null,4489,1.093660322339141]
[null,null,null,null,null,4490,1.0874526647208833]
[null,null,null,null,null,4491,1.0922251443982161]
[null,null,null,null,null,4492,1.0986527057260442]
[null,null,null,null,null,4493,1.0966774146703695]
[null,null,null,null,null,4494,1.0525823029939638]
[null,null,null,null,null,4495,1.0374411447831728]
[null,null,null,null,null,4496,1.0856144993888319]
[null,null,null,null,null,4497,1.0822854195492175]
[null,null,null,null,null,4498,1.0841414894032988]
[null,null,null,null,null,4499,1.1087732787896933]
[null,null,null,null,null,4500,1.0560529188175327]
[null,null,null,null,null,4501,1.0979484868829992]
[null,null,null,null,null,4502,1.0776444895602468]
[null,null,null,null,null,4503,1.1089215998678417]
[null,null,null,null,null,4504,1.0850996374983748]
[null,null,null,null,null,4505,1.0840791102439657]
[null,null,null,null,null,4506,1.0935616117991791]
[null,null,null,null,null,4507,1.0625875892464931]
[null,null,null,null,null,4508,1.0740385668361225]
[null,null,null,null,null,4509,1.0588298536278391]
[null,null,null,null,null,4510,1.1027708692249374]
[null,null,null,null,null,4511,1.0670142871984969]
[null,null,null,null,null,4512,1.0546368662265591]
[null,null,null,null,null,4513,1.0966967255272444]
[null,null,null,null,null,4514,1.0931309348626137]
[null,null,null,null,null,4515,1.0895885591697705]
[null,null,null,null,null,4516,1.0898116765697772]
[null,null,null,null,null,4517,1.0629467762891771]
[null,null,null,null,null,4518,1.1119671694802618]
[null,null,null,null,null,4519,1.0896642997486774]
[null,null,null,null,null,4520,1.0789566993621189]
[null,null,null,null,null,4521,1.0713016072458466]
[null,null,null,null,null,4522,1.0491550849859197]
[null,null,null,null,null,4523,1.0905451185316419]
[null,null,null,null,null,4524,1.1042907597888454]
[null,null,null,null,null,4525,1.0747855832373505]
[null,null,null,null,null,4526,1.072361031876524]
[null,null,null,null,null,4527,1.0794583142959444]
[null,null,null,null,null,4528,1.081885253449109]
[null,null,null,null,null,4529,1.1080633602460666]
[null,null,null,null,null,4530,1.0514422100269825]
[null,null,null,null,null,4531,1.0755808750800495]
[null,null,null,null,null,4532,1.0886237615245189]
[null,null,null,null,null,4533,1.0853090170277127]
[null,null,null,null,null,4534,1.079157802105744]
[null,null,null,null,null,4535,1.0879947773222842]
[null,null,null,null,null,4536,1.089874755288103]
[null,null,null,null,null,4537,1.0924135691497865]
[null,null,null,null,null,4538,1.0714340064033165]
[null,null,null,null,null,4539,1.078332328263967]
[null,null,null,null,null,4540,1.1204980980050943]
[null,null,null,null,null,4541,1.0399853319589853]
[null,null,null,null,null,4542,1.0915308188395914]
[null,null,null,null,null,4543,1.0861150873108849]
[null,null,null,null,null,4544,1.1057007434992956]
[null,null,null,null,null,4545,1.1038465200686547]
[null,null,null,null,null,4546,{"$f":"EXP($B$11-0.5*$B$10^2)+$B$10*_xlfn.NORM.S.INV(RAND())","v":1.0995497752622743}]
[null,null,null,null,null,4547,1.0861299278313523]
[null,null,null,null,null,4548,1.0799049847413102]
[null,null,null,null,null,4549,1.0545797308573794]
[null,null,null,null,null,4550,1.0852526298627387]
[null,null,null,null,null,4551,1.06149118411706]
[null,null,null,null,null,4552,1.0936450667094384]
[null,null,null,null,null,4553,1.0910930941446673]
[null,null,null,null,null,4554,1.0560071892775473]
[null,null,null,null,null,4555,1.0940067697583455]
[null,null,null,null,null,4556,1.0750873641441443]
[null,null,null,null,null,4557,1.089821865266382]
[null,null,null,null,null,4558,1.0655035610085239]
[null,null,null,null,null,4559,1.1122605374098971]
[null,null,null,null,null,4560,1.0945278272698649]
[null,null,null,null,null,4561,1.066853151648228]
[null,null,null,null,null,4562,1.0961410307341644]
[null,null,null,null,null,4563,1.0569491396508726]
[null,null,null,null,null,4564,1.0746279629637578]
[null,null,null,null,null,4565,1.0554010821502413]
[null,null,null,null,null,4566,1.0742453194471926]
[null,null,null,null,null,4567,1.0926461943503927]
[null,null,null,null,null,4568,1.0688250719386145]
[null,null,null,null,null,4569,1.0877823178918162]
[null,null,null,null,null,4570,1.0939465552790859]
[null,null,null,null,null,4571,1.1036751660514277]
[null,null,null,null,null,4572,1.0689168502522701]
[null,null,null,null,null,4573,1.093975444256271]
[null,null,null,null,null,4574,1.0875720810155001]
[null,null,null,null,null,4575,1.1036382102437499]
[null,null,null,null,null,4576,1.0627449958609312]
[null,null,null,null,null,4577,1.1038761460882027]
[null,null,null,null,null,4578,1.0562688799427824]
[null,null,null,null,null,4579,1.116130758175782]
[null,null,null,null,null,4580,1.073614016480366]
[null,null,null,null,null,4581,1.0643885921107388]
[null,null,null,null,null,4582,1.0723250544872758]
[null,null,null,null,null,4583,1.0900153855442256]
[null,null,null,null,null,4584,1.0683212169689333]
[null,null,null,null,null,4585,1.0781856615624668]
[null,null,null,null,null,4586,1.0995777631970101]
[null,null,null,null,null,4587,1.0697713227377259]
[null,null,null,null,null,4588,1.0707803552865611]
[null,null,null,null,null,4589,1.0790534061414294]
[null,null,null,null,null,4590,1.0718448152813789]
[null,null,null,null,null,4591,1.1017353036024489]
[null,null,null,null,null,4592,1.1352452292878179]
[null,null,null,null,null,4593,1.0827041051157595]
[null,null,null,null,null,4594,1.1046451548571974]
[null,null,null,null,null,4595,1.0698267945118842]
[null,null,null,null,null,4596,1.0764875786074366]
[null,null,null,null,null,4597,1.1026040968501956]
[null,null,null,null,null,4598,1.0991596265824126]
[null,null,null,null,null,4599,1.0690194955221104]
[null,null,null,null,null,4600,1.0752848372562571]
[null,null,null,null,null,4601,1.0630907162505236]
[null,null,null,null,null,4602,1.0726154644472108]
[null,null,null,null,null,4603,1.1148150885943036]
[null,null,null,null,null,4604,1.0704730234068891]
[null,null,null,null,null,4605,1.0978024584470067]
[null,null,null,null,null,4606,1.0691842425557745]
[null,null,null,null,null,4607,1.0721499792090408]
[null,null,null,null,null,4608,1.0639751190346947]
[null,null,null,null,null,4609,1.1073642388358065]
[null,null,null,null,null,4610,{"$f":"EXP($B$11-0.5*$B$10^2)+$B$10*_xlfn.NORM.S.INV(RAND())","v":1.0427541101210724}]
[null,null,null,null,null,4611,1.0623756141935994]
[null,null,null,null,null,4612,1.0756911338102888]
[null,null,null,null,null,4613,1.049797084743503]
[null,null,null,null,null,4614,1.0996779956229923]
[null,null,null,null,null,4615,1.0811056168625257]
[null,null,null,null,null,4616,1.0486357703457385]
[null,null,null,null,null,4617,1.073096593885571]
[null,null,null,null,null,4618,1.0943240643195669]
[null,null,null,null,null,4619,1.0537634464385965]
[null,null,null,null,null,4620,1.0949782613046615]
[null,null,null,null,null,4621,1.0433255834638715]
[null,null,null,null,null,4622,1.0900123414966978]
[null,null,null,null,null,4623,1.0881689020523369]
[null,null,null,null,null,4624,1.0884652975324063]
[null,null,null,null,null,4625,1.0785989442426445]
[null,null,null,null,null,4626,1.079608141638712]
[null,null,null,null,null,4627,1.0871882752057449]
[null,null,null,null,null,4628,1.0524403731034939]
[null,null,null,null,null,4629,1.0503530547401085]
[null,null,null,null,null,4630,1.1084772508239875]
[null,null,null,null,null,4631,1.0674235034548474]
[null,null,null,null,null,4632,1.0862502226712973]
[null,null,null,null,null,4633,1.0777604521058031]
[null,null,null,null,null,4634,1.0803693829412795]
[null,null,null,null,null,4635,1.0683508747881905]
[null,null,null,null,null,4636,1.1017404485685593]
[null,null,null,null,null,4637,1.0821956423636108]
[null,null,null,null,null,4638,1.0675361334105982]
[null,null,null,null,null,4639,1.0989445348116818]
[null,null,null,null,null,4640,1.0947353384694556]
[null,null,null,null,null,4641,1.0672304688208529]
[null,null,null,null,null,4642,1.0712794354659239]
[null,null,null,null,null,4643,1.0487666036005563]
[null,null,null,null,null,4644,1.0767183478999303]
[null,null,null,null,null,4645,1.0948601006213894]
[null,null,null,null,null,4646,1.0449005036452546]
[null,null,null,null,null,4647,1.1189134971993158]
[null,null,null,null,null,4648,1.0372224682382019]
[null,null,null,null,null,4649,1.0710577250139486]
[null,null,null,null,null,4650,1.1238242872816815]
[null,null,null,null,null,4651,1.07353339149227]
[null,null,null,null,null,4652,1.0591858626223816]
[null,null,null,null,null,4653,1.0837686901707224]
[null,null,null,null,null,4654,1.055470100239176]
[null,null,null,null,null,4655,1.0886180029185504]
[null,null,null,null,null,4656,1.0888336425187455]
[null,null,null,null,null,4657,1.1041380839467769]
[null,null,null,null,null,4658,1.0543309422494209]
[null,null,null,null,null,4659,1.0397337180731143]
[null,null,null,null,null,4660,1.0855748209354741]
[null,null,null,null,null,4661,1.0769802443347964]
[null,null,null,null,null,4662,1.0452139657956905]
[null,null,null,null,null,4663,1.0843927715182065]
[null,null,null,null,null,4664,1.0865466257249465]
[null,null,null,null,null,4665,1.0591377321106672]
[null,null,null,null,null,4666,1.0798265350556842]
[null,null,null,null,null,4667,1.065867533119367]
[null,null,null,null,null,4668,1.0401657707724412]
[null,null,null,null,null,4669,1.0989425869333018]
[null,null,null,null,null,4670,1.0939053569565897]
[null,null,null,null,null,4671,1.0516163361419417]
[null,null,null,null,null,4672,1.0981107288159406]
[null,null,null,null,null,4673,1.073115032311591]
[null,null,null,null,null,4674,{"$f":"EXP($B$11-0.5*$B$10^2)+$B$10*_xlfn.NORM.S.INV(RAND())","v":1.0481115282186588}]
[null,null,null,null,null,4675,1.0585577576652081]
[null,null,null,null,null,4676,1.0745227309225469]
[null,null,null,null,null,4677,1.1053067000390628]
[null,null,null,null,null,4678,1.0772312475171708]
[null,null,null,null,null,4679,1.0741667587779258]
[null,null,null,null,null,4680,1.0647789049955008]
[null,null,null,null,null,4681,1.057669947319156]
[null,null,null,null,null,4682,1.07499610270352]
[null,null,null,null,null,4683,1.0731930484622425]
[null,null,null,null,null,4684,1.0812102345337777]
[null,null,null,null,null,4685,1.0853420040192345]
[null,null,null,null,null,4686,1.1010573557330749]
[null,null,null,null,null,4687,1.0609236592903453]
[null,null,null,null,null,4688,1.0828760589347886]
[null,null,null,null,null,4689,1.0767973079923361]
[null,null,null,null,null,4690,1.0722381753775334]
[null,null,null,null,null,4691,1.0755209526258784]
[null,null,null,null,null,4692,1.0579187040539846]
[null,null,null,null,null,4693,1.0786910891099739]
[null,null,null,null,null,4694,1.0739914217519451]
[null,null,null,null,null,4695,1.0965028432788637]
[null,null,null,null,null,4696,1.0612405264590399]
[null,null,null,null,null,4697,1.0627409326315276]
[null,null,null,null,null,4698,1.0872980020715077]
[null,null,null,null,null,4699,1.0985637624226428]
[null,null,null,null,null,4700,1.0425152141445837]
[null,null,null,null,null,4701,1.1040718967259984]
[null,null,null,null,null,4702,1.0953061537875199]
[null,null,null,null,null,4703,1.0819556873893179]
[null,null,null,null,null,4704,1.030595839887755]
[null,null,null,null,null,4705,1.1014368702702917]
[null,null,null,null,null,4706,1.0844308653842543]
[null,null,null,null,null,4707,1.0826794738782131]
[null,null,null,null,null,4708,1.0881581522316106]
[null,null,null,null,null,4709,1.0557618930247514]
[null,null,null,null,null,4710,1.057760492792571]
[null,null,null,null,null,4711,1.091827271725643]
[null,null,null,null,null,4712,1.061594731928585]
[null,null,null,null,null,4713,1.0992374436080696]
[null,null,null,null,null,4714,1.0314098398622122]
[null,null,null,null,null,4715,1.0961519354579048]
[null,null,null,null,null,4716,1.0690499766642507]
[null,null,null,null,null,4717,1.070103351171158]
[null,null,null,null,null,4718,1.0599279483627408]
[null,null,null,null,null,4719,1.1048911753904336]
[null,null,null,null,null,4720,1.0778457151406029]
[null,null,null,null,null,4721,1.0895285962080314]
[null,null,null,null,null,4722,1.0759009276016418]
[null,null,null,null,null,4723,1.0759445890279835]
[null,null,null,null,null,4724,1.1071850794825444]
[null,null,null,null,null,4725,1.096421752844728]
[null,null,null,null,null,4726,1.0550944820291153]
[null,null,null,null,null,4727,1.0527795112183997]
[null,null,null,null,null,4728,1.0877403782439425]
[null,null,null,null,null,4729,1.0601190829641451]
[null,null,null,null,null,4730,1.084554954621844]
[null,null,null,null,null,4731,1.0710912257497118]
[null,null,null,null,null,4732,1.0933646397427359]
[null,null,null,null,null,4733,1.0539914648829862]
[null,null,null,null,null,4734,1.0761253319568651]
[null,null,null,null,null,4735,1.0706055058491899]
[null,null,null,null,null,4736,1.0835023412014608]
[null,null,null,null,null,4737,1.1111280521265723]
[null,null,null,null,null,4738,{"$f":"EXP($B$11-0.5*$B$10^2)+$B$10*_xlfn.NORM.S.INV(RAND())","v":1.0937501852029894}]
[null,null,null,null,null,4739,1.0617299840802603]
[null,null,null,null,null,4740,1.0762914774804944]
[null,null,null,null,null,4741,1.0708378293797245]
[null,null,null,null,null,4742,1.0613719691747212]
[null,null,null,null,null,4743,1.0620006086693017]
[null,null,null,null,null,4744,1.0877933250473764]
[null,null,null,null,null,4745,1.0011478485540071]
[null,null,null,null,null,4746,1.1385866447668236]
[null,null,null,null,null,4747,1.0369856878782366]
[null,null,null,null,null,4748,1.0702679428594424]
[null,null,null,null,null,4749,1.0818077935190533]
[null,null,null,null,null,4750,1.1144977538810799]
[null,null,null,null,null,4751,1.0829431515115993]
[null,null,null,null,null,4752,1.0335995995763925]
[null,null,null,null,null,4753,1.0692456551331619]
[null,null,null,null,null,4754,1.1149896390049165]
[null,null,null,null,null,4755,1.0965457921557236]
[null,null,null,null,null,4756,1.0623501662634862]
[null,null,null,null,null,4757,1.0758158530675022]
[null,null,null,null,null,4758,1.0483530743571634]
[null,null,null,null,null,4759,1.0715517774546597]
[null,null,null,null,null,4760,1.0815044484847212]
[null,null,null,null,null,4761,1.0916582977465732]
[null,null,null,null,null,4762,1.0682386661767587]
[null,null,null,null,null,4763,1.0742715739207924]
[null,null,null,null,null,4764,1.0798458620066602]
[null,null,null,null,null,4765,1.1069533916887933]
[null,null,null,null,null,4766,1.0722478452198907]
[null,null,null,null,null,4767,1.1036118490589142]
[null,null,null,null,null,4768,1.0653248945854075]
[null,null,null,null,null,4769,1.0597464836217418]
[null,null,null,null,null,4770,1.1159449793870249]
[null,null,null,null,null,4771,1.0838752383196171]
[null,null,null,null,null,4772,1.0943175892857764]
[null,null,null,null,null,4773,1.0182812300613431]
[null,null,null,null,null,4774,1.0853224976880287]
[null,null,null,null,null,4775,1.0373610248961365]
[null,null,null,null,null,4776,1.0744979647059092]
[null,null,null,null,null,4777,1.0771550993739509]
[null,null,null,null,null,4778,1.0826312005470897]
[null,null,null,null,null,4779,1.0617941521864764]
[null,null,null,null,null,4780,1.1178553570177034]
[null,null,null,null,null,4781,1.0567676981956924]
[null,null,null,null,null,4782,1.0712267694342454]
[null,null,null,null,null,4783,1.0939455423534845]
[null,null,null,null,null,4784,1.0826987202367053]
[null,null,null,null,null,4785,1.0675997450157901]
[null,null,null,null,null,4786,1.0437133148522302]
[null,null,null,null,null,4787,1.0758309539964934]
[null,null,null,null,null,4788,1.0649688522876002]
[null,null,null,null,null,4789,1.054803590198049]
[null,null,null,null,null,4790,1.0559640872479161]
[null,null,null,null,null,4791,1.090660777527122]
[null,null,null,null,null,4792,1.0935084718559953]
[null,null,null,null,null,4793,1.046547933304784]
[null,null,null,null,null,4794,1.091568001291171]
[null,null,null,null,null,4795,1.0847460925479968]
[null,null,null,null,null,4796,1.0497837655338795]
[null,null,null,null,null,4797,1.0941791641853467]
[null,null,null,null,null,4798,1.0560985377385179]
[null,null,null,null,null,4799,1.0775426260476906]
[null,null,null,null,null,4800,1.0707130245317296]
[null,null,null,null,null,4801,1.0463140876991162]
[null,null,null,null,null,4802,{"$f":"EXP($B$11-0.5*$B$10^2)+$B$10*_xlfn.NORM.S.INV(RAND())","v":1.0981319732915458}]
[null,null,null,null,null,4803,1.0767851986242729]
[null,null,null,null,null,4804,1.0739873944011344]
[null,null,null,null,null,4805,1.1060002238439823]
[null,null,null,null,null,4806,1.0839917301366802]
[null,null,null,null,null,4807,1.0857905622621704]
[null,null,null,null,null,4808,1.0786793674419028]
[null,null,null,null,null,4809,1.0633897067508695]
[null,null,null,null,null,4810,1.102101520890199]
[null,null,null,null,null,4811,1.0922981998592833]
[null,null,null,null,null,4812,1.0573244786581657]
[null,null,null,null,null,4813,1.0781120368433399]
[null,null,null,null,null,4814,1.083550035166057]
[null,null,null,null,null,4815,1.0562918735570244]
[null,null,null,null,null,4816,1.0899812299642715]
[null,null,null,null,null,4817,1.0860139843932972]
[null,null,null,null,null,4818,1.0802231779039464]
[null,null,null,null,null,4819,1.0705130323171412]
[null,null,null,null,null,4820,1.0946738826819933]
[null,null,null,null,null,4821,1.0444056646635484]
[null,null,null,null,null,4822,1.0440964480741772]
[null,null,null,null,null,4823,1.066515641950438]
[null,null,null,null,null,4824,1.0527444289219396]
[null,null,null,null,null,4825,1.0352353589689018]
[null,null,null,null,null,4826,1.0804261484140381]
[null,null,null,null,null,4827,1.0884275216682793]
[null,null,null,null,null,4828,1.0514816587266376]
[null,null,null,null,null,4829,1.0781762573042546]
[null,null,null,null,null,4830,1.0767945094289075]
[null,null,null,null,null,4831,1.0860694365176098]
[null,null,null,null,null,4832,1.0776488464036695]
[null,null,null,null,null,4833,1.1036306705678587]
[null,null,null,null,null,4834,1.1034834325522569]
[null,null,null,null,null,4835,1.0530496157689706]
[null,null,null,null,null,4836,1.0940412711768255]
[null,null,null,null,null,4837,1.0603747854675833]
[null,null,null,null,null,4838,1.0950951460062939]
[null,null,null,null,null,4839,1.0777683971562999]
[null,null,null,null,null,4840,1.1029340385909026]
[null,null,null,null,null,4841,1.056643829227488]
[null,null,null,null,null,4842,1.0807363450939786]
[null,null,null,null,null,4843,1.077521217301592]
[null,null,null,null,null,4844,1.0433521520387998]
[null,null,null,null,null,4845,1.0902187602882536]
[null,null,null,null,null,4846,1.0744892663951429]
[null,null,null,null,null,4847,1.0970961061794422]
[null,null,null,null,null,4848,1.0739569564282705]
[null,null,null,null,null,4849,1.0670162100781668]
[null,null,null,null,null,4850,1.072573009578329]
[null,null,null,null,null,4851,1.0666589168221399]
[null,null,null,null,null,4852,1.1140584499832726]
[null,null,null,null,null,4853,1.0807942296136528]
[null,null,null,null,null,4854,1.0962998478838031]
[null,null,null,null,null,4855,1.0824820471716434]
[null,null,null,null,null,4856,1.0629441598226819]
[null,null,null,null,null,4857,1.0781051754789943]
[null,null,null,null,null,4858,1.0752333865490078]
[null,null,null,null,null,4859,1.1006210359731228]
[null,null,null,null,null,4860,1.0881255098447915]
[null,null,null,null,null,4861,1.064817288478312]
[null,null,null,null,null,4862,1.095693204739981]
[null,null,null,null,null,4863,1.0856820841689525]
[null,null,null,null,null,4864,1.0521377647663452]
[null,null,null,null,null,4865,1.079822937052862]
[null,null,null,null,null,4866,{"$f":"EXP($B$11-0.5*$B$10^2)+$B$10*_xlfn.NORM.S.INV(RAND())","v":1.0689357480262462}]
[null,null,null,null,null,4867,1.0914716985289723]
[null,null,null,null,null,4868,1.0826902694798941]
[null,null,null,null,null,4869,1.0722202803023186]
[null,null,null,null,null,4870,1.0608442357336412]
[null,null,null,null,null,4871,1.0582436148222036]
[null,null,null,null,null,4872,1.0681754648044026]
[null,null,null,null,null,4873,1.0465209663084702]
[null,null,null,null,null,4874,1.0743194786160535]
[null,null,null,null,null,4875,1.0574104370143933]
[null,null,null,null,null,4876,1.0737356688391204]
[null,null,null,null,null,4877,1.0874909811869367]
[null,null,null,null,null,4878,1.0950224152381338]
[null,null,null,null,null,4879,1.0967768399896463]
[null,null,null,null,null,4880,1.0639050935711649]
[null,null,null,null,null,4881,1.0785525447677973]
[null,null,null,null,null,4882,1.0725615761008946]
[null,null,null,null,null,4883,1.0995361240403756]
[null,null,null,null,null,4884,1.0570673922675886]
[null,null,null,null,null,4885,1.0992215651312225]
[null,null,null,null,null,4886,1.047508094978751]
[null,null,null,null,null,4887,1.0649064043864418]
[null,null,null,null,null,4888,1.0643537509402896]
[null,null,null,null,null,4889,1.0850963020286315]
[null,null,null,null,null,4890,1.0904818887301095]
[null,null,null,null,null,4891,1.0974419424253081]
[null,null,null,null,null,4892,1.087378827948484]
[null,null,null,null,null,4893,1.0610161496627062]
[null,null,null,null,null,4894,1.071775888577766]
[null,null,null,null,null,4895,1.0968464274021272]
[null,null,null,null,null,4896,1.0760498745230838]
[null,null,null,null,null,4897,1.04165506345819]
[null,null,null,null,null,4898,1.0803083050952016]
[null,null,null,null,null,4899,1.0526001257293374]
[null,null,null,null,null,4900,1.0589117560132391]
[null,null,null,null,null,4901,1.0671757868046217]
[null,null,null,null,null,4902,1.0461279087996265]
[null,null,null,null,null,4903,1.0494319886155852]
[null,null,null,null,null,4904,1.0601815365034006]
[null,null,null,null,null,4905,1.0847866553046988]
[null,null,null,null,null,4906,1.0571609236634134]
[null,null,null,null,null,4907,1.0683810159092804]
[null,null,null,null,null,4908,1.0915639276698228]
[null,null,null,null,null,4909,1.0755923246250712]
[null,null,null,null,null,4910,1.0760787087816428]
[null,null,null,null,null,4911,1.1121203387070728]
[null,null,null,null,null,4912,1.0985193831178044]
[null,null,null,null,null,4913,1.0718525721099139]
[null,null,null,null,null,4914,1.0356609247619475]
[null,null,null,null,null,4915,1.0825965764394281]
[null,null,null,null,null,4916,1.0599211069269749]
[null,null,null,null,null,4917,1.0645097813432329]
[null,null,null,null,null,4918,1.0836928687967304]
[null,null,null,null,null,4919,1.0881583899460354]
[null,null,null,null,null,4920,1.1062104665766235]
[null,null,null,null,null,4921,1.0703523321671657]
[null,null,null,null,null,4922,1.0451627227769027]
[null,null,null,null,null,4923,1.063805899232108]
[null,null,null,null,null,4924,1.0685540491280061]
[null,null,null,null,null,4925,1.0453642549193907]
[null,null,null,null,null,4926,1.057314566321649]
[null,null,null,null,null,4927,1.0862243914511813]
[null,null,null,null,null,4928,1.0807683786579156]
[null,null,null,null,null,4929,1.0922517285352467]
[null,null,null,null,null,4930,{"$f":"EXP($B$11-0.5*$B$10^2)+$B$10*_xlfn.NORM.S.INV(RAND())","v":1.0950212538980513}]
[null,null,null,null,null,4931,1.09554203137355]
[null,null,null,null,null,4932,1.1069876191064345]
[null,null,null,null,null,4933,1.0678088039907725]
[null,null,null,null,null,4934,1.0718673684949929]
[null,null,null,null,null,4935,1.0715178099207252]
[null,null,null,null,null,4936,1.0207263660787453]
[null,null,null,null,null,4937,1.091786944829471]
[null,null,null,null,null,4938,1.0836603517390595]
[null,null,null,null,null,4939,1.0756781365918535]
[null,null,null,null,null,4940,1.0821534551278329]
[null,null,null,null,null,4941,1.046118069106418]
[null,null,null,null,null,4942,1.0864684129180375]
[null,null,null,null,null,4943,1.0726392176586319]
[null,null,null,null,null,4944,1.0614735660697978]
[null,null,null,null,null,4945,1.070476264678522]
[null,null,null,null,null,4946,1.0716667871767935]
[null,null,null,null,null,4947,1.0709026769167009]
[null,null,null,null,null,4948,1.0620930844893988]
[null,null,null,null,null,4949,1.0721552828547081]
[null,null,null,null,null,4950,1.064717626201384]
[null,null,null,null,null,4951,1.0896768775462859]
[null,null,null,null,null,4952,1.0814284541672126]
[null,null,null,null,null,4953,1.0816594608361287]
[null,null,null,null,null,4954,1.1158052638954687]
[null,null,null,null,null,4955,1.067308201129284]
[null,null,null,null,null,4956,1.0760463064591024]
[null,null,null,null,null,4957,1.0835029052604328]
[null,null,null,null,null,4958,1.0917483956412484]
[null,null,null,null,null,4959,1.0578091661016802]
[null,null,null,null,null,4960,1.0758468192000337]
[null,null,null,null,null,4961,1.082972244056096]
[null,null,null,null,null,4962,1.1029728983797333]
[null,null,null,null,null,4963,1.0660582318796881]
[null,null,null,null,null,4964,1.0790805680551621]
[null,null,null,null,null,4965,1.0938230689179618]
[null,null,null,null,null,4966,1.0808222201728128]
[null,null,null,null,null,4967,1.1050407461864575]
[null,null,null,null,null,4968,1.0897179228107539]
[null,null,null,null,null,4969,1.0748495760630878]
[null,null,null,null,null,4970,1.098541850913632]
[null,null,null,null,null,4971,1.1185572678393441]
[null,null,null,null,null,4972,1.0811832939691113]
[null,null,null,null,null,4973,1.0615250228015354]
[null,null,null,null,null,4974,1.0871428887742511]
[null,null,null,null,null,4975,1.0774015625295952]
[null,null,null,null,null,4976,1.0566774796744829]
[null,null,null,null,null,4977,1.0425184925539845]
[null,null,null,null,null,4978,1.06758003490299]
[null,null,null,null,null,4979,1.0528284099943757]
[null,null,null,null,null,4980,1.0636502150226508]
[null,null,null,null,null,4981,1.0759799501683027]
[null,null,null,null,null,4982,1.06726651420969]
[null,null,null,null,null,4983,1.0872349493598166]
[null,null,null,null,null,4984,1.0555902479755601]
[null,null,null,null,null,4985,1.0859455618882468]
[null,null,null,null,null,4986,1.0390784526581802]
[null,null,null,null,null,4987,1.075330224314357]
[null,null,null,null,null,4988,1.0932815290349152]
[null,null,null,null,null,4989,1.0950587028790193]
[null,null,null,null,null,4990,1.0944789938132615]
[null,null,null,null,null,4991,1.0780653461351999]
[null,null,null,null,null,4992,1.0969887472230335]
[null,null,null,null,null,4993,1.0771008402126019]
[null,null,null,null,null,4994,{"$f":"EXP($B$11-0.5*$B$10^2)+$B$10*_xlfn.NORM.S.INV(RAND())","v":1.0733224109274828}]
[null,null,null,null,null,4995,1.0650945299657952]
[null,null,null,null,null,4996,1.0978400391928758]
[null,null,null,null,null,4997,1.0399108040639169]
[null,null,null,null,null,4998,1.0575806525730935]
[null,null,null,null,null,4999,1.0548993769754862]
[null,null,null,null,null,5000,1.0819679831791988]
[null,null,null,null,null,5001,1.082843937503194]
[null,null,null,null,null,5002,1.0563956433708168]
[null,null,null,null,null,5003,1.0515317691295247]
[null,null,null,null,null,5004,1.0801013693802783]
[null,null,null,null,null,5005,1.1020531598884082]
[null,null,null,null,null,5006,1.1010285239873188]
[null,null,null,null,null,5007,1.065661978179169]
[null,null,null,null,null,5008,1.0604791197301577]
[null,null,null,null,null,5009,1.0716622233972308]
[null,null,null,null,null,5010,1.0790440423874368]
[null,null,null,null,null,5011,1.0974550321413168]
[null,null,null,null,null,5012,1.0936013921858072]
[null,null,null,null,null,5013,1.0881713731501745]
[null,null,null,null,null,5014,1.0661918798921057]
[null,null,null,null,null,5015,1.0731793800657872]
[null,null,null,null,null,5016,1.0772812757231229]
[null,null,null,null,null,5017,1.1033005236620552]
[null,null,null,null,null,5018,1.0853364225102577]
[null,null,null,null,null,5019,1.074991617694647]
[null,null,null,null,null,5020,1.0707547266861777]
[null,null,null,null,null,5021,1.0894804621709628]
[null,null,null,null,null,5022,1.0539801060637117]
[null,null,null,null,null,5023,1.0822513474905613]
[null,null,null,null,null,5024,1.1007559787188239]
[null,null,null,null,null,5025,1.0677054734793292]
[null,null,null,null,null,5026,1.0770633391694018]
[null,null,null,null,null,5027,1.0846712580141795]
[null,null,null,null,null,5028,1.0580299500988097]
[null,null,null,null,null,5029,1.0912985393192607]
[null,null,null,null,null,5030,1.071926074218976]
[null,null,null,null,null,5031,1.0854575646140208]
[null,null,null,null,null,5032,1.0493244540343498]
[null,null,null,null,null,5033,1.0311936990596886]
[null,null,null,null,null,5034,1.0597190371453817]
[null,null,null,null,null,5035,1.0760037393649249]
[null,null,null,null,null,5036,1.0561554973927665]
[null,null,null,null,null,5037,1.0795190741884753]
[null,null,null,null,null,5038,1.1324601425798366]
[null,null,null,null,null,5039,1.1081292423128459]
[null,null,null,null,null,5040,1.0844479190184639]
[null,null,null,null,null,5041,1.075505189264591]
[null,null,null,null,null,5042,1.0785982825068472]
[null,null,null,null,null,5043,1.0612409390794018]
[null,null,null,null,null,5044,1.037594395822276]
[null,null,null,null,null,5045,1.0751527253518882]
[null,null,null,null,null,5046,1.1037787723692847]
[null,null,null,null,null,5047,1.0719473088821339]
[null,null,null,null,null,5048,1.0795469881728155]
[null,null,null,null,null,5049,1.0599522410636775]
[null,null,null,null,null,5050,1.0469719439590996]
[null,null,null,null,null,5051,1.0780188598796072]
[null,null,null,null,null,5052,1.0572035526959567]
[null,null,null,null,null,5053,1.0536106176217113]
[null,null,null,null,null,5054,1.1108481147834375]
[null,null,null,null,null,5055,1.0619957613875091]
[null,null,null,null,null,5056,1.1006300668119955]
[null,null,null,null,null,5057,1.0771108689365585]
[null,null,null,null,null,5058,{"$f":"EXP($B$11-0.5*$B$10^2)+$B$10*_xlfn.NORM.S.INV(RAND())","v":1.0771899581693436}]
[null,null,null,null,null,5059,1.0758753932211005]
[null,null,null,null,null,5060,1.0741570411819232]
[null,null,null,null,null,5061,1.0840677867472803]
[null,null,null,null,null,5062,1.1010181706380069]
[null,null,null,null,null,5063,1.0445077628048385]
[null,null,null,null,null,5064,1.0740092926227591]
[null,null,null,null,null,5065,1.0724720676350223]
[null,null,null,null,null,5066,1.0599345582881559]
[null,null,null,null,null,5067,1.0653072228765286]
[null,null,null,null,null,5068,1.0730058244047529]
[null,null,null,null,null,5069,1.0879740236782818]
[null,null,null,null,null,5070,1.0866837370950526]
[null,null,null,null,null,5071,1.0938917246201394]
[null,null,null,null,null,5072,1.0752929565167706]
[null,null,null,null,null,5073,1.1040565310415347]
[null,null,null,null,null,5074,1.0780116864119993]
[null,null,null,null,null,5075,1.0846824590185418]
[null,null,null,null,null,5076,1.0877853902392416]
[null,null,null,null,null,5077,1.094368740830951]
[null,null,null,null,null,5078,1.1106638510531621]
[null,null,null,null,null,5079,1.0910187080077396]
[null,null,null,null,null,5080,1.0780666997503294]
[null,null,null,null,null,5081,1.0628626197603155]
[null,null,null,null,null,5082,1.0721967357496014]
[null,null,null,null,null,5083,1.0866616755115002]
[null,null,null,null,null,5084,1.085821686316309]
[null,null,null,null,null,5085,1.0392417231404192]
[null,null,null,null,null,5086,1.0624389295129808]
[null,null,null,null,null,5087,1.0631839187244392]
[null,null,null,null,null,5088,1.0467096401391489]
[null,null,null,null,null,5089,1.0650858283348335]
[null,null,null,null,null,5090,1.0611932508026503]
[null,null,null,null,null,5091,1.1119276364365493]
[null,null,null,null,null,5092,1.0720165753569322]
[null,null,null,null,null,5093,1.0680741425104447]
[null,null,null,null,null,5094,1.0740032728239306]
[null,null,null,null,null,5095,1.0610579696887135]
[null,null,null,null,null,5096,1.075076446304694]
[null,null,null,null,null,5097,1.1090161084328327]
[null,null,null,null,null,5098,1.0793297244538078]
[null,null,null,null,null,5099,1.0833908296190586]
[null,null,null,null,null,5100,1.0578309934247463]
[null,null,null,null,null,5101,1.0411124890953245]
[null,null,null,null,null,5102,1.0286337945895028]
[null,null,null,null,null,5103,1.0812617159576408]
[null,null,null,null,null,5104,1.0956564209220774]
[null,null,null,null,null,5105,1.0583272425165451]
[null,null,null,null,null,5106,1.0941643922656283]
[null,null,null,null,null,5107,1.0729368940659996]
[null,null,null,null,null,5108,1.0903844110038701]
[null,null,null,null,null,5109,1.0542164181955858]
[null,null,null,null,null,5110,1.0951813964633139]
[null,null,null,null,null,5111,1.0628738310107395]
[null,null,null,null,null,5112,1.0792956860630052]
[null,null,null,null,null,5113,1.067395953275641]
[null,null,null,null,null,5114,1.0734690860909206]
[null,null,null,null,null,5115,1.0653967451230451]
[null,null,null,null,null,5116,1.0988084695415388]
[null,null,null,null,null,5117,1.0927846260692178]
[null,null,null,null,null,5118,1.1024309407679602]
[null,null,null,null,null,5119,1.0610484747350228]
[null,null,null,null,null,5120,1.0381937124729435]
[null,null,null,null,null,5121,1.0839258547960369]
[null,null,null,null,null,5122,{"$f":"EXP($B$11-0.5*$B$10^2)+$B$10*_xlfn.NORM.S.INV(RAND())","v":1.0766132017170591}]
[null,null,null,null,null,5123,1.058839016609799]
[null,null,null,null,null,5124,1.0754835440370154]
[null,null,null,null,null,5125,1.0861838338747545]
[null,null,null,null,null,5126,1.0565353782834681]
[null,null,null,null,null,5127,1.0683116433616078]
[null,null,null,null,null,5128,1.0718841783932067]
[null,null,null,null,null,5129,1.0389947693985497]
[null,null,null,null,null,5130,1.0452201197962347]
[null,null,null,null,null,5131,1.0648814084329068]
[null,null,null,null,null,5132,1.0675136513202668]
[null,null,null,null,null,5133,1.0909456256174315]
[null,null,null,null,null,5134,1.1142978269406518]
[null,null,null,null,null,5135,1.0541500919943818]
[null,null,null,null,null,5136,1.0797239477321501]
[null,null,null,null,null,5137,1.0773134355997604]
[null,null,null,null,null,5138,1.0812048718159519]
[null,null,null,null,null,5139,1.1159057515993331]
[null,null,null,null,null,5140,1.0642435845520974]
[null,null,null,null,null,5141,1.0867373849461006]
[null,null,null,null,null,5142,1.0968923750318957]
[null,null,null,null,null,5143,1.0777847385010859]
[null,null,null,null,null,5144,1.1017223851498028]
[null,null,null,null,null,5145,1.1032722209114605]
[null,null,null,null,null,5146,1.109445872212699]
[null,null,null,null,null,5147,1.0854782222755974]
[null,null,null,null,null,5148,1.0744284000248472]
[null,null,null,null,null,5149,1.0874434583932342]
[null,null,null,null,null,5150,1.0694857895482697]
[null,null,null,null,null,5151,1.0668894515834744]
[null,null,null,null,null,5152,1.0794625498420745]
[null,null,null,null,null,5153,1.1016448224362863]
[null,null,null,null,null,5154,1.0619315488850836]
[null,null,null,null,null,5155,1.0836707484254933]
[null,null,null,null,null,5156,1.065812590476485]
[null,null,null,null,null,5157,1.0641838806405792]
[null,null,null,null,null,5158,1.0617118379669763]
[null,null,null,null,null,5159,1.0742623940733018]
[null,null,null,null,null,5160,1.0919993689351031]
[null,null,null,null,null,5161,1.092152543057008]
[null,null,null,null,null,5162,1.0671651260834796]
[null,null,null,null,null,5163,1.1158770303805055]
[null,null,null,null,null,5164,1.1007446125776015]
[null,null,null,null,null,5165,1.0614355466105418]
[null,null,null,null,null,5166,1.0849736306759887]
[null,null,null,null,null,5167,1.0540656056835194]
[null,null,null,null,null,5168,1.1154389294383444]
[null,null,null,null,null,5169,1.0971448233336283]
[null,null,null,null,null,5170,1.0450493710964965]
[null,null,null,null,null,5171,1.0880303251638717]
[null,null,null,null,null,5172,1.0598516454431106]
[null,null,null,null,null,5173,1.078701282809349]
[null,null,null,null,null,5174,1.0714871525862812]
[null,null,null,null,null,5175,1.0904513505631701]
[null,null,null,null,null,5176,1.0666526779918999]
[null,null,null,null,null,5177,1.078134554871677]
[null,null,null,null,null,5178,1.0848585256129615]
[null,null,null,null,null,5179,1.0805419084947838]
[null,null,null,null,null,5180,1.0620974702441504]
[null,null,null,null,null,5181,1.0618347162615058]
[null,null,null,null,null,5182,1.0647138767483657]
[null,null,null,null,null,5183,1.0762849258242635]
[null,null,null,null,null,5184,1.0731979484230703]
[null,null,null,null,null,5185,1.088393849412264]
[null,null,null,null,null,5186,{"$f":"EXP($B$11-0.5*$B$10^2)+$B$10*_xlfn.NORM.S.INV(RAND())","v":1.0429660863343972}]
[null,null,null,null,null,5187,1.0765344141215878]
[null,null,null,null,null,5188,1.0547760497261442]
[null,null,null,null,null,5189,1.0974985993988782]
[null,null,null,null,null,5190,1.0611661434394877]
[null,null,null,null,null,5191,1.1152438775001234]
[null,null,null,null,null,5192,1.1230411624551615]
[null,null,null,null,null,5193,1.0859067392734529]
[null,null,null,null,null,5194,1.0727512139313806]
[null,null,null,null,null,5195,1.0872250052157677]
[null,null,null,null,null,5196,1.079355564754874]
[null,null,null,null,null,5197,1.0810202555776083]
[null,null,null,null,null,5198,1.0478446029852673]
[null,null,null,null,null,5199,1.0982518078519001]
[null,null,null,null,null,5200,1.0867913596695826]
[null,null,null,null,null,5201,1.0481173717773045]
[null,null,null,null,null,5202,1.0707129831081301]
[null,null,null,null,null,5203,1.0440785394087269]
[null,null,null,null,null,5204,1.0903454938434995]
[null,null,null,null,null,5205,1.0362199436752]
[null,null,null,null,null,5206,1.0791113723133734]
[null,null,null,null,null,5207,1.0476245961411284]
[null,null,null,null,null,5208,1.0793917412102374]
[null,null,null,null,null,5209,1.083720540029002]
[null,null,null,null,null,5210,1.0933493524822546]
[null,null,null,null,null,5211,1.085595709962959]
[null,null,null,null,null,5212,1.0451036796397348]
[null,null,null,null,null,5213,1.1056439261494548]
[null,null,null,null,null,5214,1.1015849822454957]
[null,null,null,null,null,5215,1.0559770388730105]
[null,null,null,null,null,5216,1.0864742408607646]
[null,null,null,null,null,5217,1.0902942319610494]
[null,null,null,null,null,5218,1.0763565274978748]
[null,null,null,null,null,5219,1.0872882258810004]
[null,null,null,null,null,5220,1.0967011349635007]
[null,null,null,null,null,5221,1.100165459121597]
[null,null,null,null,null,5222,1.0859745598845523]
[null,null,null,null,null,5223,1.0422417002108642]
[null,null,null,null,null,5224,1.1149685518110322]
[null,null,null,null,null,5225,1.0705138446321416]
[null,null,null,null,null,5226,1.0804012727456016]
[null,null,null,null,null,5227,1.0872302671307121]
[null,null,null,null,null,5228,1.0973740945297354]
[null,null,null,null,null,5229,1.0620910041668972]
[null,null,null,null,null,5230,1.0759328007167475]
[null,null,null,null,null,5231,1.0725110985956186]
[null,null,null,null,null,5232,1.0668914074146014]
[null,null,null,null,null,5233,1.0608298407378813]
[null,null,null,null,null,5234,1.0978392666215746]
[null,null,null,null,null,5235,1.0996762383436927]
[null,null,null,null,null,5236,1.092628915102795]
[null,null,null,null,null,5237,1.0827890165455614]
[null,null,null,null,null,5238,1.0472283496551358]
[null,null,null,null,null,5239,1.1177647547713263]
[null,null,null,null,null,5240,1.0637334586128426]
[null,null,null,null,null,5241,1.0715807600125291]
[null,null,null,null,null,5242,1.0822382497894882]
[null,null,null,null,null,5243,1.0606334988772561]
[null,null,null,null,null,5244,1.063351686366881]
[null,null,null,null,null,5245,1.0777993239928125]
[null,null,null,null,null,5246,1.1007086395993897]
[null,null,null,null,null,5247,1.0525039527594748]
[null,null,null,null,null,5248,1.0699947585661347]
[null,null,null,null,null,5249,1.0559153471263836]
[null,null,null,null,null,5250,{"$f":"EXP($B$11-0.5*$B$10^2)+$B$10*_xlfn.NORM.S.INV(RAND())","v":1.0737429045797549}]
[null,null,null,null,null,5251,1.072506792820483]
[null,null,null,null,null,5252,1.0853607211364447]
[null,null,null,null,null,5253,1.0757440701155394]
[null,null,null,null,null,5254,1.085298527431527]
[null,null,null,null,null,5255,1.0659350978500348]
[null,null,null,null,null,5256,1.068337209457662]
[null,null,null,null,null,5257,1.0484445940924907]
[null,null,null,null,null,5258,1.0804350192717513]
[null,null,null,null,null,5259,1.0905265189125208]
[null,null,null,null,null,5260,1.113180021715825]
[null,null,null,null,null,5261,1.0604337688729353]
[null,null,null,null,null,5262,1.1103918591129682]
[null,null,null,null,null,5263,1.0895563614112391]
[null,null,null,null,null,5264,1.0822609280451057]
[null,null,null,null,null,5265,1.0955391638263132]
[null,null,null,null,null,5266,1.0840988907391949]
[null,null,null,null,null,5267,1.0817056270429857]
[null,null,null,null,null,5268,1.0752255967028626]
[null,null,null,null,null,5269,1.0495870730447128]
[null,null,null,null,null,5270,1.0927681387492501]
[null,null,null,null,null,5271,1.0785369876441995]
[null,null,null,null,null,5272,1.0869121766053473]
[null,null,null,null,null,5273,1.0703748883806841]
[null,null,null,null,null,5274,1.0970045389652521]
[null,null,null,null,null,5275,1.0642505145173875]
[null,null,null,null,null,5276,1.1313832195680291]
[null,null,null,null,null,5277,1.0645247097648938]
[null,null,null,null,null,5278,1.0712336671433054]
[null,null,null,null,null,5279,1.1036767461389363]
[null,null,null,null,null,5280,1.0345988671351738]
[null,null,null,null,null,5281,1.05830427576263]
[null,null,null,null,null,5282,1.0771160569964042]
[null,null,null,null,null,5283,1.068884724420391]
[null,null,null,null,null,5284,1.063822960449551]
[null,null,null,null,null,5285,1.0575162046501341]
[null,null,null,null,null,5286,1.1192762358200903]
[null,null,null,null,null,5287,1.0838720918543663]
[null,null,null,null,null,5288,1.1144604544397547]
[null,null,null,null,null,5289,1.1077860103286534]
[null,null,null,null,null,5290,1.0722002580525869]
[null,null,null,null,null,5291,1.0626959277402377]
[null,null,null,null,null,5292,1.0957902233477252]
[null,null,null,null,null,5293,1.0600812868731249]
[null,null,null,null,null,5294,1.0988596848638839]
[null,null,null,null,null,5295,1.0658497858361644]
[null,null,null,null,null,5296,1.0532389744168176]
[null,null,null,null,null,5297,1.0812453671127635]
[null,null,null,null,null,5298,1.0600487084282191]
[null,null,null,null,null,5299,1.0989965660085976]
[null,null,null,null,null,5300,1.069785960516878]
[null,null,null,null,null,5301,1.060100839074152]
[null,null,null,null,null,5302,1.0730677265163957]
[null,null,null,null,null,5303,1.0544409429746222]
[null,null,null,null,null,5304,1.0532897945889184]
[null,null,null,null,null,5305,1.076907116118053]
[null,null,null,null,null,5306,1.0550613576097754]
[null,null,null,null,null,5307,1.0843680560247655]
[null,null,null,null,null,5308,1.0962470552379679]
[null,null,null,null,null,5309,1.0885576388953124]
[null,null,null,null,null,5310,1.0482184473298515]
[null,null,null,null,null,5311,1.0839549506095396]
[null,null,null,null,null,5312,1.0815556494829308]
[null,null,null,null,null,5313,1.0859284739972801]
[null,null,null,null,null,5314,{"$f":"EXP($B$11-0.5*$B$10^2)+$B$10*_xlfn.NORM.S.INV(RAND())","v":1.0446803480673115}]
[null,null,null,null,null,5315,1.0833237189163187]
[null,null,null,null,null,5316,1.0682529759158885]
[null,null,null,null,null,5317,1.0819993818605196]
[null,null,null,null,null,5318,1.055842871871536]
[null,null,null,null,null,5319,1.0887423834454268]
[null,null,null,null,null,5320,1.0774698942167547]
[null,null,null,null,null,5321,1.0819967887414743]
[null,null,null,null,null,5322,1.1027974994025946]
[null,null,null,null,null,5323,1.1243714341846371]
[null,null,null,null,null,5324,1.0785395167062479]
[null,null,null,null,null,5325,1.0900517634813449]
[null,null,null,null,null,5326,1.0864335635268041]
[null,null,null,null,null,5327,1.0959682931678185]
[null,null,null,null,null,5328,1.0802532880798876]
[null,null,null,null,null,5329,1.1035902510784332]
[null,null,null,null,null,5330,1.106719735101825]
[null,null,null,null,null,5331,1.0656959798334424]
[null,null,null,null,null,5332,1.0321185020301293]
[null,null,null,null,null,5333,1.0689776101309638]
[null,null,null,null,null,5334,1.1065055328814735]
[null,null,null,null,null,5335,1.0374881838474783]
[null,null,null,null,null,5336,1.1028239925766183]
[null,null,null,null,null,5337,1.0422446418458802]
[null,null,null,null,null,5338,1.1160984017514302]
[null,null,null,null,null,5339,1.1081824883998908]
[null,null,null,null,null,5340,1.0899426010089595]
[null,null,null,null,null,5341,1.0679957791798242]
[null,null,null,null,null,5342,1.0852601406889595]
[null,null,null,null,null,5343,1.0433551213733347]
[null,null,null,null,null,5344,1.0499270268271206]
[null,null,null,null,null,5345,1.0689954704157232]
[null,null,null,null,null,5346,1.0841609829813967]
[null,null,null,null,null,5347,1.070725235882479]
[null,null,null,null,null,5348,1.0531567847949601]
[null,null,null,null,null,5349,1.0772892047328779]
[null,null,null,null,null,5350,1.0846803104174325]
[null,null,null,null,null,5351,1.0864890191109067]
[null,null,null,null,null,5352,1.0776582653484617]
[null,null,null,null,null,5353,1.0863130245151578]
[null,null,null,null,null,5354,1.069647062894026]
[null,null,null,null,null,5355,1.0544557218911084]
[null,null,null,null,null,5356,1.069582690537265]
[null,null,null,null,null,5357,1.0710499761538912]
[null,null,null,null,null,5358,1.0555383927036255]
[null,null,null,null,null,5359,1.0550615833612247]
[null,null,null,null,null,5360,1.0959952060199256]
[null,null,null,null,null,5361,1.0513678252368472]
[null,null,null,null,null,5362,1.08588484525818]
[null,null,null,null,null,5363,1.1152744034181261]
[null,null,null,null,null,5364,1.0922777610269696]
[null,null,null,null,null,5365,1.1168254280589442]
[null,null,null,null,null,5366,1.0683499583881237]
[null,null,null,null,null,5367,1.0629812991560481]
[null,null,null,null,null,5368,1.0822992574286512]
[null,null,null,null,null,5369,1.0808199493259478]
[null,null,null,null,null,5370,1.082252593031223]
[null,null,null,null,null,5371,1.0855286606135037]
[null,null,null,null,null,5372,1.1028883733702448]
[null,null,null,null,null,5373,1.0710136998243152]
[null,null,null,null,null,5374,1.0546336509750889]
[null,null,null,null,null,5375,1.0739614411019793]
[null,null,null,null,null,5376,1.0764548316231612]
[null,null,null,null,null,5377,1.0861037604125334]
[null,null,null,null,null,5378,{"$f":"EXP($B$11-0.5*$B$10^2)+$B$10*_xlfn.NORM.S.INV(RAND())","v":1.0708077906821947}]
[null,null,null,null,null,5379,1.0726316165556717]
[null,null,null,null,null,5380,1.068246593424635]
[null,null,null,null,null,5381,1.0948352131851378]
[null,null,null,null,null,5382,1.0692573511511598]
[null,null,null,null,null,5383,1.0885833279666521]
[null,null,null,null,null,5384,1.0468691566853749]
[null,null,null,null,null,5385,1.1149698201172149]
[null,null,null,null,null,5386,1.0503614352112531]
[null,null,null,null,null,5387,1.1056705563085514]
[null,null,null,null,null,5388,1.0830761845288457]
[null,null,null,null,null,5389,1.0692155746420273]
[null,null,null,null,null,5390,1.0779481681086136]
[null,null,null,null,null,5391,1.0594777732136484]
[null,null,null,null,null,5392,1.0476038251615545]
[null,null,null,null,null,5393,1.1065922821935124]
[null,null,null,null,null,5394,1.0861550663633519]
[null,null,null,null,null,5395,1.0860295351123634]
[null,null,null,null,null,5396,1.1018730420096046]
[null,null,null,null,null,5397,1.0784189248141856]
[null,null,null,null,null,5398,1.0873131795931006]
[null,null,null,null,null,5399,1.0687113414334861]
[null,null,null,null,null,5400,1.1028375443386609]
[null,null,null,null,null,5401,1.1060230608960522]
[null,null,null,null,null,5402,1.0601031517940331]
[null,null,null,null,null,5403,1.0612838017034509]
[null,null,null,null,null,5404,1.105126593875597]
[null,null,null,null,null,5405,1.0876431504613582]
[null,null,null,null,null,5406,1.0636078378505673]
[null,null,null,null,null,5407,1.0710370375176348]
[null,null,null,null,null,5408,1.0923432584097377]
[null,null,null,null,null,5409,1.083951343012403]
[null,null,null,null,null,5410,1.0864702606109646]
[null,null,null,null,null,5411,1.0892324984102821]
[null,null,null,null,null,5412,1.1026861871858704]
[null,null,null,null,null,5413,1.0834211784870036]
[null,null,null,null,null,5414,1.07434113038019]
[null,null,null,null,null,5415,1.059398577874644]
[null,null,null,null,null,5416,1.0558737365522588]
[null,null,null,null,null,5417,1.0968617125764553]
[null,null,null,null,null,5418,1.0768681655138206]
[null,null,null,null,null,5419,1.052810080653795]
[null,null,null,null,null,5420,1.0751288734632876]
[null,null,null,null,null,5421,1.103173168038629]
[null,null,null,null,null,5422,1.0319050828514642]
[null,null,null,null,null,5423,1.0413428043159794]
[null,null,null,null,null,5424,1.0932445172333711]
[null,null,null,null,null,5425,1.0308063496299822]
[null,null,null,null,null,5426,1.0653491534834836]
[null,null,null,null,null,5427,1.0241649654259268]
[null,null,null,null,null,5428,1.0756688740351652]
[null,null,null,null,null,5429,1.0634973373863219]
[null,null,null,null,null,5430,1.0613627478826313]
[null,null,null,null,null,5431,1.064838856501493]
[null,null,null,null,null,5432,1.0784664974384097]
[null,null,null,null,null,5433,1.0711685724798983]
[null,null,null,null,null,5434,1.101684642872236]
[null,null,null,null,null,5435,1.0954560919871514]
[null,null,null,null,null,5436,1.0620215448092005]
[null,null,null,null,null,5437,1.0613761748910768]
[null,null,null,null,null,5438,1.1020989288495713]
[null,null,null,null,null,5439,1.0646523343976093]
[null,null,null,null,null,5440,1.0577604153008648]
[null,null,null,null,null,5441,1.0572403828069672]
[null,null,null,null,null,5442,{"$f":"EXP($B$11-0.5*$B$10^2)+$B$10*_xlfn.NORM.S.INV(RAND())","v":1.0496541634065564}]
[null,null,null,null,null,5443,1.0648952296983196]
[null,null,null,null,null,5444,1.0481726116692283]
[null,null,null,null,null,5445,1.0550671754658785]
[null,null,null,null,null,5446,1.103158803838626]
[null,null,null,null,null,5447,1.0921789635249173]
[null,null,null,null,null,5448,1.0724124115484444]
[null,null,null,null,null,5449,1.0717219516115066]
[null,null,null,null,null,5450,1.0860642710452157]
[null,null,null,null,null,5451,1.0755295861656451]
[null,null,null,null,null,5452,1.0211224367604974]
[null,null,null,null,null,5453,1.0690208727086741]
[null,null,null,null,null,5454,1.0637342921321284]
[null,null,null,null,null,5455,1.0767680194137876]
[null,null,null,null,null,5456,1.1059069337137233]
[null,null,null,null,null,5457,1.092417704934705]
[null,null,null,null,null,5458,1.0281252172414672]
[null,null,null,null,null,5459,1.0910804955187952]
[null,null,null,null,null,5460,1.0790715495775378]
[null,null,null,null,null,5461,1.0897874807606749]
[null,null,null,null,null,5462,1.0918679448015303]
[null,null,null,null,null,5463,1.0603890332211547]
[null,null,null,null,null,5464,1.1067780466969674]
[null,null,null,null,null,5465,1.0753407576329381]
[null,null,null,null,null,5466,1.0666091844196186]
[null,null,null,null,null,5467,1.0305337581641516]
[null,null,null,null,null,5468,1.0505249593645294]
[null,null,null,null,null,5469,1.0717911839040717]
[null,null,null,null,null,5470,1.094146761185228]
[null,null,null,null,null,5471,1.0622020681284381]
[null,null,null,null,null,5472,1.0757336636535619]
[null,null,null,null,null,5473,1.0636206669727843]
[null,null,null,null,null,5474,1.0686323311771455]
[null,null,null,null,null,5475,1.1058873768469955]
[null,null,null,null,null,5476,1.0789489813580304]
[null,null,null,null,null,5477,1.0896386974851981]
[null,null,null,null,null,5478,1.1008218543707333]
[null,null,null,null,null,5479,1.0859991405371288]
[null,null,null,null,null,5480,1.0629964037153914]
[null,null,null,null,null,5481,1.0748103438881413]
[null,null,null,null,null,5482,1.0920221984842873]
[null,null,null,null,null,5483,1.1097390759152683]
[null,null,null,null,null,5484,1.1137918872570793]
[null,null,null,null,null,5485,1.0879233950379668]
[null,null,null,null,null,5486,1.120572499535416]
[null,null,null,null,null,5487,1.0709053627603651]
[null,null,null,null,null,5488,1.0806379404111595]
[null,null,null,null,null,5489,1.0601625387398297]
[null,null,null,null,null,5490,1.0639769458468729]
[null,null,null,null,null,5491,1.0839349708075776]
[null,null,null,null,null,5492,1.0923682516097426]
[null,null,null,null,null,5493,1.0584248335553266]
[null,null,null,null,null,5494,1.0433893912915193]
[null,null,null,null,null,5495,1.0823457216348411]
[null,null,null,null,null,5496,1.049934598904873]
[null,null,null,null,null,5497,1.077127943174262]
[null,null,null,null,null,5498,1.1045876525086973]
[null,null,null,null,null,5499,1.0769686202098214]
[null,null,null,null,null,5500,1.0900482626573693]
[null,null,null,null,null,5501,1.0925705458917803]
[null,null,null,null,null,5502,1.0794896040473356]
[null,null,null,null,null,5503,1.0683692141513712]
[null,null,null,null,null,5504,1.0873594840828875]
[null,null,null,null,null,5505,1.0791191075618505]
[null,null,null,null,null,5506,{"$f":"EXP($B$11-0.5*$B$10^2)+$B$10*_xlfn.NORM.S.INV(RAND())","v":1.076675554807951}]
[null,null,null,null,null,5507,1.1215209420164185]
[null,null,null,null,null,5508,1.0582479702357006]
[null,null,null,null,null,5509,1.0748334509566568]
[null,null,null,null,null,5510,1.0631546882682936]
[null,null,null,null,null,5511,1.0672991798357843]
[null,null,null,null,null,5512,1.0813602579370791]
[null,null,null,null,null,5513,1.0600816904071586]
[null,null,null,null,null,5514,1.0600898979418709]
[null,null,null,null,null,5515,1.0760614921886715]
[null,null,null,null,null,5516,1.1064187948317177]
[null,null,null,null,null,5517,1.0736154757045169]
[null,null,null,null,null,5518,1.0721730040677826]
[null,null,null,null,null,5519,1.0740627153665612]
[null,null,null,null,null,5520,1.0917690121144821]
[null,null,null,null,null,5521,1.0833612475450825]
[null,null,null,null,null,5522,1.0323456058358489]
[null,null,null,null,null,5523,1.0405895109691305]
[null,null,null,null,null,5524,1.0803346092011983]
[null,null,null,null,null,5525,1.0723135902736414]
[null,null,null,null,null,5526,1.0832210001140672]
[null,null,null,null,null,5527,1.0683614829743484]
[null,null,null,null,null,5528,1.0703135364093757]
[null,null,null,null,null,5529,1.0972980723976222]
[null,null,null,null,null,5530,1.0856927800420624]
[null,null,null,null,null,5531,1.0982674261017971]
[null,null,null,null,null,5532,1.0792112638953921]
[null,null,null,null,null,5533,1.0694343578000185]
[null,null,null,null,null,5534,1.0637083641539067]
[null,null,null,null,null,5535,1.0686180938094154]
[null,null,null,null,null,5536,1.1274171365385901]
[null,null,null,null,null,5537,1.0946499638748357]
[null,null,null,null,null,5538,1.0832222957386555]
[null,null,null,null,null,5539,1.0524063303906144]
[null,null,null,null,null,5540,1.0445449326642429]
[null,null,null,null,null,5541,1.0844074223415749]
[null,null,null,null,null,5542,1.0707471819922065]
[null,null,null,null,null,5543,1.0705256773347611]
[null,null,null,null,null,5544,1.0473633022705766]
[null,null,null,null,null,5545,1.1036912262688767]
[null,null,null,null,null,5546,1.0880537092921898]
[null,null,null,null,null,5547,1.0671626934227805]
[null,null,null,null,null,5548,1.0733324278403089]
[null,null,null,null,null,5549,1.0946488062149757]
[null,null,null,null,null,5550,1.0574727130178512]
[null,null,null,null,null,5551,1.0303127655436946]
[null,null,null,null,null,5552,1.1114496707193748]
[null,null,null,null,null,5553,1.0773616426554971]
[null,null,null,null,null,5554,1.0689269329677806]
[null,null,null,null,null,5555,1.1050994295539147]
[null,null,null,null,null,5556,1.0935569420638673]
[null,null,null,null,null,5557,1.0724233240575969]
[null,null,null,null,null,5558,1.0756892492732983]
[null,null,null,null,null,5559,1.0912332174021473]
[null,null,null,null,null,5560,1.0879255336514728]
[null,null,null,null,null,5561,1.0913189326754813]
[null,null,null,null,null,5562,1.0521900213617716]
[null,null,null,null,null,5563,1.0585456162435611]
[null,null,null,null,null,5564,1.0872931163099564]
[null,null,null,null,null,5565,1.0741726215407448]
[null,null,null,null,null,5566,1.0945300126815685]
[null,null,null,null,null,5567,1.099103455447386]
[null,null,null,null,null,5568,1.062290849216343]
[null,null,null,null,null,5569,1.0657796430477793]
[null,null,null,null,null,5570,{"$f":"EXP($B$11-0.5*$B$10^2)+$B$10*_xlfn.NORM.S.INV(RAND())","v":1.0856592718128952}]
[null,null,null,null,null,5571,1.0635890930619785]
[null,null,null,null,null,5572,1.0932088135279412]
[null,null,null,null,null,5573,1.0841438503525156]
[null,null,null,null,null,5574,1.0933822991928073]
[null,null,null,null,null,5575,1.0758080512883943]
[null,null,null,null,null,5576,1.0682796192635975]
[null,null,null,null,null,5577,1.105062001806671]
[null,null,null,null,null,5578,1.045589437072167]
[null,null,null,null,null,5579,1.1056725690938036]
[null,null,null,null,null,5580,1.1154377698772795]
[null,null,null,null,null,5581,1.0911831788441229]
[null,null,null,null,null,5582,1.0437837309486153]
[null,null,null,null,null,5583,1.0436363858522038]
[null,null,null,null,null,5584,1.0669413491868998]
[null,null,null,null,null,5585,1.0707243814644807]
[null,null,null,null,null,5586,1.0801976663626238]
[null,null,null,null,null,5587,1.0312773388940102]
[null,null,null,null,null,5588,1.0411565038970432]
[null,null,null,null,null,5589,1.093828810986047]
[null,null,null,null,null,5590,1.0730684030473512]
[null,null,null,null,null,5591,1.0287791587638335]
[null,null,null,null,null,5592,1.084534240506011]
[null,null,null,null,null,5593,1.0826554231396242]
[null,null,null,null,null,5594,1.0691250345857046]
[null,null,null,null,null,5595,1.1015186770242633]
[null,null,null,null,null,5596,1.0645537765999344]
[null,null,null,null,null,5597,1.0867111585715661]
[null,null,null,null,null,5598,1.1125323553873914]
[null,null,null,null,null,5599,1.0745765104686746]
[null,null,null,null,null,5600,1.0660867117062758]
[null,null,null,null,null,5601,1.0911750698126423]
[null,null,null,null,null,5602,1.0761648265757668]
[null,null,null,null,null,5603,1.0659028816545419]
[null,null,null,null,null,5604,1.1246703772788957]
[null,null,null,null,null,5605,1.0774651399018218]
[null,null,null,null,null,5606,1.0632117164858055]
[null,null,null,null,null,5607,1.0695015328441886]
[null,null,null,null,null,5608,1.1053262884630495]
[null,null,null,null,null,5609,1.0750569586487952]
[null,null,null,null,null,5610,1.1074590054640869]
[null,null,null,null,null,5611,1.1140357222769777]
[null,null,null,null,null,5612,1.0901308162013663]
[null,null,null,null,null,5613,1.0772615259152376]
[null,null,null,null,null,5614,1.0472207143907755]
[null,null,null,null,null,5615,1.1066204272394606]
[null,null,null,null,null,5616,1.0874433956318501]
[null,null,null,null,null,5617,1.1226972601137357]
[null,null,null,null,null,5618,1.0582194058325993]
[null,null,null,null,null,5619,1.042991362210024]
[null,null,null,null,null,5620,1.1222302593237958]
[null,null,null,null,null,5621,1.0710282364918604]
[null,null,null,null,null,5622,1.0791089179933462]
[null,null,null,null,null,5623,1.0633247783592239]
[null,null,null,null,null,5624,1.0731806246818907]
[null,null,null,null,null,5625,1.0898111734342606]
[null,null,null,null,null,5626,1.0975909333365543]
[null,null,null,null,null,5627,1.067536866418386]
[null,null,null,null,null,5628,1.0576592999492209]
[null,null,null,null,null,5629,1.0513590043324152]
[null,null,null,null,null,5630,1.0367458619465217]
[null,null,null,null,null,5631,1.0855260509400886]
[null,null,null,null,null,5632,1.0507481061298503]
[null,null,null,null,null,5633,1.0657485605310004]
[null,null,null,null,null,5634,{"$f":"EXP($B$11-0.5*$B$10^2)+$B$10*_xlfn.NORM.S.INV(RAND())","v":1.0758281063033484}]
[null,null,null,null,null,5635,1.0613562120694369]
[null,null,null,null,null,5636,1.068180452163398]
[null,null,null,null,null,5637,1.1063220707590553]
[null,null,null,null,null,5638,1.0831919292467314]
[null,null,null,null,null,5639,1.0894039606892389]
[null,null,null,null,null,5640,1.0948409624078315]
[null,null,null,null,null,5641,1.114451957629063]
[null,null,null,null,null,5642,1.0412751023717874]
[null,null,null,null,null,5643,1.0941456639481968]
[null,null,null,null,null,5644,1.0869021850220724]
[null,null,null,null,null,5645,1.0857691741775686]
[null,null,null,null,null,5646,1.0641858782133959]
[null,null,null,null,null,5647,1.0816802898032085]
[null,null,null,null,null,5648,1.0721891648036119]
[null,null,null,null,null,5649,1.1066785819792886]
[null,null,null,null,null,5650,1.0274883668132047]
[null,null,null,null,null,5651,1.0677879793512617]
[null,null,null,null,null,5652,1.0715795953078742]
[null,null,null,null,null,5653,1.094043229808654]
[null,null,null,null,null,5654,1.0412339318768409]
[null,null,null,null,null,5655,1.0871848190593438]
[null,null,null,null,null,5656,1.0870068764661471]
[null,null,null,null,null,5657,1.0710350676725273]
[null,null,null,null,null,5658,1.0831645709167532]
[null,null,null,null,null,5659,1.099429124753128]
[null,null,null,null,null,5660,1.047685622122561]
[null,null,null,null,null,5661,1.0923123556212044]
[null,null,null,null,null,5662,1.1226548986973597]
[null,null,null,null,null,5663,1.08916943336961]
[null,null,null,null,null,5664,1.089037397187135]
[null,null,null,null,null,5665,1.0986162778900239]
[null,null,null,null,null,5666,1.0504774205222629]
[null,null,null,null,null,5667,1.1190370122891491]
[null,null,null,null,null,5668,1.0658595647439895]
[null,null,null,null,null,5669,1.0460186409608256]
[null,null,null,null,null,5670,1.0958993548311271]
[null,null,null,null,null,5671,1.116045185208032]
[null,null,null,null,null,5672,1.0488730222008844]
[null,null,null,null,null,5673,1.0793398503999703]
[null,null,null,null,null,5674,1.0856020189676188]
[null,null,null,null,null,5675,1.1084298933308514]
[null,null,null,null,null,5676,1.0487638407339508]
[null,null,null,null,null,5677,1.0511700614006421]
[null,null,null,null,null,5678,1.0518569880824959]
[null,null,null,null,null,5679,1.0741942822697392]
[null,null,null,null,null,5680,1.1049133084288054]
[null,null,null,null,null,5681,1.081112217655616]
[null,null,null,null,null,5682,1.0777746045870615]
[null,null,null,null,null,5683,1.0897753005566237]
[null,null,null,null,null,5684,1.0726603947000348]
[null,null,null,null,null,5685,1.0511856269951294]
[null,null,null,null,null,5686,1.0606717354638588]
[null,null,null,null,null,5687,1.0898772618141821]
[null,null,null,null,null,5688,1.0855034453563839]
[null,null,null,null,null,5689,1.0736389708459715]
[null,null,null,null,null,5690,1.0845726649894984]
[null,null,null,null,null,5691,1.0832755887375993]
[null,null,null,null,null,5692,1.0754088513186337]
[null,null,null,null,null,5693,1.0944137873251503]
[null,null,null,null,null,5694,1.0621722984522219]
[null,null,null,null,null,5695,1.0714974447739114]
[null,null,null,null,null,5696,1.0935076154555188]
[null,null,null,null,null,5697,1.0955164926526135]
[null,null,null,null,null,5698,{"$f":"EXP($B$11-0.5*$B$10^2)+$B$10*_xlfn.NORM.S.INV(RAND())","v":1.1135482271143113}]
[null,null,null,null,null,5699,1.0555716327829876]
[null,null,null,null,null,5700,1.100703953381591]
[null,null,null,null,null,5701,1.1086796296377799]
[null,null,null,null,null,5702,1.1103820797402302]
[null,null,null,null,null,5703,1.0681304252543931]
[null,null,null,null,null,5704,1.0746275283208775]
[null,null,null,null,null,5705,1.0889653389396694]
[null,null,null,null,null,5706,1.0891716518496874]
[null,null,null,null,null,5707,1.0687249420754821]
[null,null,null,null,null,5708,1.0635745156114467]
[null,null,null,null,null,5709,1.0297099421590474]
[null,null,null,null,null,5710,1.0730269886525017]
[null,null,null,null,null,5711,1.1038172984924006]
[null,null,null,null,null,5712,1.0521341993773758]
[null,null,null,null,null,5713,1.0881058084980639]
[null,null,null,null,null,5714,1.0363490198469816]
[null,null,null,null,null,5715,1.0873706093832705]
[null,null,null,null,null,5716,1.0856529403570534]
[null,null,null,null,null,5717,1.08272266335006]
[null,null,null,null,null,5718,1.108945530339321]
[null,null,null,null,null,5719,1.0507857948320265]
[null,null,null,null,null,5720,1.0628541207882189]
[null,null,null,null,null,5721,1.0943428909851169]
[null,null,null,null,null,5722,1.0727189480474046]
[null,null,null,null,null,5723,1.0554016437673224]
[null,null,null,null,null,5724,1.0649217766170183]
[null,null,null,null,null,5725,1.091267875009635]
[null,null,null,null,null,5726,1.0710077915016838]
[null,null,null,null,null,5727,1.0512688532413768]
[null,null,null,null,null,5728,1.0847482947266107]
[null,null,null,null,null,5729,1.0538877842329823]
[null,null,null,null,null,5730,1.054322740701751]
[null,null,null,null,null,5731,1.0698455202955355]
[null,null,null,null,null,5732,1.07344891562467]
[null,null,null,null,null,5733,1.0915011888423063]
[null,null,null,null,null,5734,1.0495972115764596]
[null,null,null,null,null,5735,1.0659432048420356]
[null,null,null,null,null,5736,1.0830863859919733]
[null,null,null,null,null,5737,1.0684257121811189]
[null,null,null,null,null,5738,1.0911708998536906]
[null,null,null,null,null,5739,1.0834752141621753]
[null,null,null,null,null,5740,1.0539004543089554]
[null,null,null,null,null,5741,1.0447292290703447]
[null,null,null,null,null,5742,1.0588084159985263]
[null,null,null,null,null,5743,1.0524312345128588]
[null,null,null,null,null,5744,1.0691936709528123]
[null,null,null,null,null,5745,1.0971638430494968]
[null,null,null,null,null,5746,1.1104018157490889]
[null,null,null,null,null,5747,1.0783539352519824]
[null,null,null,null,null,5748,1.0490551821187368]
[null,null,null,null,null,5749,1.0770750262791187]
[null,null,null,null,null,5750,1.0768469513177374]
[null,null,null,null,null,5751,1.0674645741731372]
[null,null,null,null,null,5752,1.0616919272684364]
[null,null,null,null,null,5753,1.0825558974007905]
[null,null,null,null,null,5754,1.0369467860654122]
[null,null,null,null,null,5755,1.0594583491514222]
[null,null,null,null,null,5756,1.0755507072287758]
[null,null,null,null,null,5757,1.0558047466554195]
[null,null,null,null,null,5758,1.0949808567160839]
[null,null,null,null,null,5759,1.0949837525498949]
[null,null,null,null,null,5760,1.0740739063956659]
[null,null,null,null,null,5761,1.0764375909329531]
[null,null,null,null,null,5762,{"$f":"EXP($B$11-0.5*$B$10^2)+$B$10*_xlfn.NORM.S.INV(RAND())","v":1.102348777388185}]
[null,null,null,null,null,5763,1.0424838471133926]
[null,null,null,null,null,5764,1.0760884263021704]
[null,null,null,null,null,5765,1.0789937092945614]
[null,null,null,null,null,5766,1.0597039589449264]
[null,null,null,null,null,5767,1.0716637074342303]
[null,null,null,null,null,5768,1.0870350907976938]
[null,null,null,null,null,5769,1.1125885690475017]
[null,null,null,null,null,5770,1.0895578209016765]
[null,null,null,null,null,5771,1.0768528717061383]
[null,null,null,null,null,5772,1.1042790534955076]
[null,null,null,null,null,5773,1.0356477140828977]
[null,null,null,null,null,5774,1.0716603458010949]
[null,null,null,null,null,5775,1.0457646920386912]
[null,null,null,null,null,5776,1.0642433986749]
[null,null,null,null,null,5777,1.0642464653146055]
[null,null,null,null,null,5778,1.0752828484880412]
[null,null,null,null,null,5779,1.0518024146877794]
[null,null,null,null,null,5780,1.029868500494874]
[null,null,null,null,null,5781,1.0635654505819678]
[null,null,null,null,null,5782,1.0670693563501488]
[null,null,null,null,null,5783,1.0656447308072086]
[null,null,null,null,null,5784,1.0864080453433433]
[null,null,null,null,null,5785,1.0689605945538077]
[null,null,null,null,null,5786,1.0695220514327943]
[null,null,null,null,null,5787,1.0522561054984589]
[null,null,null,null,null,5788,1.0619342126298528]
[null,null,null,null,null,5789,1.0588139293004879]
[null,null,null,null,null,5790,1.0835646773030778]
[null,null,null,null,null,5791,1.0515640927401242]
[null,null,null,null,null,5792,1.0567012713924]
[null,null,null,null,null,5793,1.0443738114158982]
[null,null,null,null,null,5794,1.0631500762186739]
[null,null,null,null,null,5795,1.0536572541070004]
[null,null,null,null,null,5796,1.0723321709994456]
[null,null,null,null,null,5797,1.0658983898956118]
[null,null,null,null,null,5798,1.0772169754548797]
[null,null,null,null,null,5799,1.0653235625546207]
[null,null,null,null,null,5800,1.0966561809302016]
[null,null,null,null,null,5801,1.1014851556665028]
[null,null,null,null,null,5802,1.114293337859884]
[null,null,null,null,null,5803,1.0991704824776074]
[null,null,null,null,null,5804,1.0872685166597884]
[null,null,null,null,null,5805,1.0900115602573139]
[null,null,null,null,null,5806,1.0846004851216746]
[null,null,null,null,null,5807,1.0799958118218993]
[null,null,null,null,null,5808,1.053557977432835]
[null,null,null,null,null,5809,1.0772680406533264]
[null,null,null,null,null,5810,1.0784864835014822]
[null,null,null,null,null,5811,1.0932378605037907]
[null,null,null,null,null,5812,1.0659957631258237]
[null,null,null,null,null,5813,1.077152206935702]
[null,null,null,null,null,5814,1.0872203267587532]
[null,null,null,null,null,5815,1.0882013562260853]
[null,null,null,null,null,5816,1.0855553258873769]
[null,null,null,null,null,5817,1.0765401015949876]
[null,null,null,null,null,5818,1.0899297648989881]
[null,null,null,null,null,5819,1.0980623304543315]
[null,null,null,null,null,5820,1.0799763170237955]
[null,null,null,null,null,5821,1.1070430306862642]
[null,null,null,null,null,5822,1.0667284078904056]
[null,null,null,null,null,5823,1.0496821883027925]
[null,null,null,null,null,5824,1.111570745692632]
[null,null,null,null,null,5825,1.0780227645466671]
[null,null,null,null,null,5826,{"$f":"EXP($B$11-0.5*$B$10^2)+$B$10*_xlfn.NORM.S.INV(RAND())","v":1.0626698338311706}]
[null,null,null,null,null,5827,1.0868157921967583]
[null,null,null,null,null,5828,1.0486706875127734]
[null,null,null,null,null,5829,1.0975768938257495]
[null,null,null,null,null,5830,1.0735522408611113]
[null,null,null,null,null,5831,1.0494165528460146]
[null,null,null,null,null,5832,1.0266931830525106]
[null,null,null,null,null,5833,1.0664527615488488]
[null,null,null,null,null,5834,1.1033494974476901]
[null,null,null,null,null,5835,1.0535312001705508]
[null,null,null,null,null,5836,1.0660994473397047]
[null,null,null,null,null,5837,1.0834772381660798]
[null,null,null,null,null,5838,1.0724893306126351]
[null,null,null,null,null,5839,1.0660780573083624]
[null,null,null,null,null,5840,1.0593820073628635]
[null,null,null,null,null,5841,1.0886511521621542]
[null,null,null,null,null,5842,1.0897391730319532]
[null,null,null,null,null,5843,1.0776045000745007]
[null,null,null,null,null,5844,1.0888147486216317]
[null,null,null,null,null,5845,1.099446522276472]
[null,null,null,null,null,5846,1.097046260492611]
[null,null,null,null,null,5847,1.0790196091185467]
[null,null,null,null,null,5848,1.0959036959045607]
[null,null,null,null,null,5849,1.0456952060544518]
[null,null,null,null,null,5850,1.0657890934416296]
[null,null,null,null,null,5851,1.0967259889974803]
[null,null,null,null,null,5852,1.0813484628055767]
[null,null,null,null,null,5853,1.0747758615492995]
[null,null,null,null,null,5854,1.0497779012743145]
[null,null,null,null,null,5855,1.0677168047606529]
[null,null,null,null,null,5856,1.0675614321794147]
[null,null,null,null,null,5857,1.0548521303782425]
[null,null,null,null,null,5858,1.1096073127895847]
[null,null,null,null,null,5859,1.0757671234277604]
[null,null,null,null,null,5860,1.0832968796319709]
[null,null,null,null,null,5861,1.0466355943910075]
[null,null,null,null,null,5862,1.0936110126086533]
[null,null,null,null,null,5863,1.0780647804819388]
[null,null,null,null,null,5864,1.0910056979745562]
[null,null,null,null,null,5865,1.0794341666694469]
[null,null,null,null,null,5866,1.0771085214210754]
[null,null,null,null,null,5867,1.0874615050448544]
[null,null,null,null,null,5868,1.0675103893444495]
[null,null,null,null,null,5869,1.0521786765022882]
[null,null,null,null,null,5870,1.069482445638805]
[null,null,null,null,null,5871,1.0571586241487057]
[null,null,null,null,null,5872,1.0660037276253418]
[null,null,null,null,null,5873,1.0774202287966808]
[null,null,null,null,null,5874,1.0912163857862593]
[null,null,null,null,null,5875,1.0717802430584893]
[null,null,null,null,null,5876,1.0628112262953182]
[null,null,null,null,null,5877,1.0463291611597343]
[null,null,null,null,null,5878,1.0771300095161047]
[null,null,null,null,null,5879,1.0758606624976774]
[null,null,null,null,null,5880,1.0651584705685935]
[null,null,null,null,null,5881,1.0559088056962234]
[null,null,null,null,null,5882,1.0520382196479345]
[null,null,null,null,null,5883,1.0927400373846365]
[null,null,null,null,null,5884,1.1066412725316452]
[null,null,null,null,null,5885,1.0351118369958008]
[null,null,null,null,null,5886,1.1013692623964444]
[null,null,null,null,null,5887,1.049777348856737]
[null,null,null,null,null,5888,1.0866133788905077]
[null,null,null,null,null,5889,1.0621944236445255]
[null,null,null,null,null,5890,{"$f":"EXP($B$11-0.5*$B$10^2)+$B$10*_xlfn.NORM.S.INV(RAND())","v":1.0712715211726394}]
[null,null,null,null,null,5891,1.0962583650271716]
[null,null,null,null,null,5892,1.0824386653497116]
[null,null,null,null,null,5893,1.053754632697868]
[null,null,null,null,null,5894,1.0803077759639554]
[null,null,null,null,null,5895,1.0665216132922144]
[null,null,null,null,null,5896,1.0814074420122386]
[null,null,null,null,null,5897,1.0807752341068426]
[null,null,null,null,null,5898,1.0744195865732324]
[null,null,null,null,null,5899,1.0500808270068311]
[null,null,null,null,null,5900,1.0633783639515604]
[null,null,null,null,null,5901,1.061971297716674]
[null,null,null,null,null,5902,1.057219219000477]
[null,null,null,null,null,5903,1.0717802350523753]
[null,null,null,null,null,5904,1.0774355239094078]
[null,null,null,null,null,5905,1.0891669983287642]
[null,null,null,null,null,5906,1.0685629634655405]
[null,null,null,null,null,5907,1.0745314636108108]
[null,null,null,null,null,5908,1.072522203085766]
[null,null,null,null,null,5909,1.0493733947842283]
[null,null,null,null,null,5910,1.0869110359549394]
[null,null,null,null,null,5911,1.1016389343725255]
[null,null,null,null,null,5912,1.0585611248911191]
[null,null,null,null,null,5913,1.0716613232991303]
[null,null,null,null,null,5914,1.0714943147928926]
[null,null,null,null,null,5915,1.0786265596735611]
[null,null,null,null,null,5916,1.0994389371757032]
[null,null,null,null,null,5917,1.0571303743908045]
[null,null,null,null,null,5918,1.0581323650091909]
[null,null,null,null,null,5919,1.0695990449472954]
[null,null,null,null,null,5920,1.0746847973013185]
[null,null,null,null,null,5921,1.123252731010665]
[null,null,null,null,null,5922,1.121055696590757]
[null,null,null,null,null,5923,1.0548439430871543]
[null,null,null,null,null,5924,1.0580718640495519]
[null,null,null,null,null,5925,1.0428792448569717]
[null,null,null,null,null,5926,1.057046010152122]
[null,null,null,null,null,5927,1.047687430725009]
[null,null,null,null,null,5928,1.0805875233809381]
[null,null,null,null,null,5929,1.0839048466275425]
[null,null,null,null,null,5930,1.1037268903201589]
[null,null,null,null,null,5931,1.1161352168930121]
[null,null,null,null,null,5932,1.1003977429841478]
[null,null,null,null,null,5933,1.0615455690981965]
[null,null,null,null,null,5934,1.0798144978716535]
[null,null,null,null,null,5935,1.0813962861868296]
[null,null,null,null,null,5936,1.1357309538308038]
[null,null,null,null,null,5937,1.0622859810908856]
[null,null,null,null,null,5938,1.0596716789800076]
[null,null,null,null,null,5939,1.0665729040800866]
[null,null,null,null,null,5940,1.0884426812608523]
[null,null,null,null,null,5941,1.077774834539436]
[null,null,null,null,null,5942,1.0992880658792301]
[null,null,null,null,null,5943,1.0863756965132991]
[null,null,null,null,null,5944,1.0891696702245512]
[null,null,null,null,null,5945,1.0620522215136978]
[null,null,null,null,null,5946,1.0580562801943671]
[null,null,null,null,null,5947,1.09177356115625]
[null,null,null,null,null,5948,1.0870063255699345]
[null,null,null,null,null,5949,1.0439858123623007]
[null,null,null,null,null,5950,1.0793847593441221]
[null,null,null,null,null,5951,1.0996706213348124]
[null,null,null,null,null,5952,1.0843143643826041]
[null,null,null,null,null,5953,1.0594437898511324]
[null,null,null,null,null,5954,{"$f":"EXP($B$11-0.5*$B$10^2)+$B$10*_xlfn.NORM.S.INV(RAND())","v":1.084823252955095}]
[null,null,null,null,null,5955,1.1003911678365452]
[null,null,null,null,null,5956,1.0792816269198999]
[null,null,null,null,null,5957,1.0766127339067915]
[null,null,null,null,null,5958,1.0585789821433715]
[null,null,null,null,null,5959,1.0840250286633397]
[null,null,null,null,null,5960,1.0546906167402654]
[null,null,null,null,null,5961,1.0471218134058442]
[null,null,null,null,null,5962,1.0561251799651812]
[null,null,null,null,null,5963,1.1012761728003861]
[null,null,null,null,null,5964,1.0948315654926533]
[null,null,null,null,null,5965,1.0727621202107849]
[null,null,null,null,null,5966,1.0750811054453611]
[null,null,null,null,null,5967,1.0776841943718269]
[null,null,null,null,null,5968,1.0962861880118149]
[null,null,null,null,null,5969,1.065600502376012]
[null,null,null,null,null,5970,1.0886274107121368]
[null,null,null,null,null,5971,1.0712868432188869]
[null,null,null,null,null,5972,1.0656751858057529]
[null,null,null,null,null,5973,1.0990044151558416]
[null,null,null,null,null,5974,1.0768272936934247]
[null,null,null,null,null,5975,1.0827896262523582]
[null,null,null,null,null,5976,1.0884975000033721]
[null,null,null,null,null,5977,1.0565593515578353]
[null,null,null,null,null,5978,1.0756274343100716]
[null,null,null,null,null,5979,1.0821405140171416]
[null,null,null,null,null,5980,1.0755644466330918]
[null,null,null,null,null,5981,1.0637903531831812]
[null,null,null,null,null,5982,1.091015292521633]
[null,null,null,null,null,5983,1.0821402358754804]
[null,null,null,null,null,5984,1.0863644726153492]
[null,null,null,null,null,5985,1.0563831326637909]
[null,null,null,null,null,5986,1.0667832099597436]
[null,null,null,null,null,5987,1.0675586716330636]
[null,null,null,null,null,5988,1.0843421938235196]
[null,null,null,null,null,5989,1.0920030250229191]
[null,null,null,null,null,5990,1.0802829009766481]
[null,null,null,null,null,5991,1.0781343488748305]
[null,null,null,null,null,5992,1.0800930805187752]
[null,null,null,null,null,5993,1.0766469659747608]
[null,null,null,null,null,5994,1.0703564286516436]
[null,null,null,null,null,5995,1.0859338204551472]
[null,null,null,null,null,5996,1.0687612806088358]
[null,null,null,null,null,5997,1.0839477105708402]
[null,null,null,null,null,5998,1.0791661754710165]
[null,null,null,null,null,5999,1.043253838918307]
[null,null,null,null,null,6000,1.1067199316649454]
[null,null,null,null,null,6001,1.112636584364135]
[null,null,null,null,null,6002,1.1087811500522211]
[null,null,null,null,null,6003,1.1036670221492473]
[null,null,null,null,null,6004,1.0780658235002061]
[null,null,null,null,null,6005,1.0583128607186261]
[null,null,null,null,null,6006,1.0636643877247651]
[null,null,null,null,null,6007,1.1134431773550124]
[null,null,null,null,null,6008,1.0609650082962294]
[null,null,null,null,null,6009,1.10391874298379]
[null,null,null,null,null,6010,1.0939333563578695]
[null,null,null,null,null,6011,1.0864373303286294]
[null,null,null,null,null,6012,1.0817982851391543]
[null,null,null,null,null,6013,1.0922863324182734]
[null,null,null,null,null,6014,1.0907692660113661]
[null,null,null,null,null,6015,1.0931936956216632]
[null,null,null,null,null,6016,1.0977208130118594]
[null,null,null,null,null,6017,1.0829224653945158]
[null,null,null,null,null,6018,{"$f":"EXP($B$11-0.5*$B$10^2)+$B$10*_xlfn.NORM.S.INV(RAND())","v":1.0648579055635445}]
[null,null,null,null,null,6019,1.0796495022613479]
[null,null,null,null,null,6020,1.0855758634696997]
[null,null,null,null,null,6021,1.0650472451171313]
[null,null,null,null,null,6022,1.0579408163179533]
[null,null,null,null,null,6023,1.0777065367283361]
[null,null,null,null,null,6024,1.0684974797363544]
[null,null,null,null,null,6025,1.0939971734871576]
[null,null,null,null,null,6026,1.0771638686413982]
[null,null,null,null,null,6027,1.0747796899348352]
[null,null,null,null,null,6028,1.0823577151470556]
[null,null,null,null,null,6029,1.0577225000771509]
[null,null,null,null,null,6030,1.028127694373328]
[null,null,null,null,null,6031,1.073824749850316]
[null,null,null,null,null,6032,1.0534911639246836]
[null,null,null,null,null,6033,1.0775556236953043]
[null,null,null,null,null,6034,1.0842882147913326]
[null,null,null,null,null,6035,1.0781033728746974]
[null,null,null,null,null,6036,1.0792562125886516]
[null,null,null,null,null,6037,1.0602121744230273]
[null,null,null,null,null,6038,1.0678639052140269]
[null,null,null,null,null,6039,1.0650746286771515]
[null,null,null,null,null,6040,1.1187817303873973]
[null,null,null,null,null,6041,1.0437202968860695]
[null,null,null,null,null,6042,1.0428172257548145]
[null,null,null,null,null,6043,1.087273689252217]
[null,null,null,null,null,6044,1.1016981353943405]
[null,null,null,null,null,6045,1.1203110233894717]
[null,null,null,null,null,6046,1.0962787188314997]
[null,null,null,null,null,6047,1.0500802811771512]
[null,null,null,null,null,6048,1.0649774604074733]
[null,null,null,null,null,6049,1.0680092601165239]
[null,null,null,null,null,6050,1.0720249573925438]
[null,null,null,null,null,6051,1.1011377534148128]
[null,null,null,null,null,6052,1.1451845872924999]
[null,null,null,null,null,6053,1.0906022827973616]
[null,null,null,null,null,6054,1.0943184368147689]
[null,null,null,null,null,6055,1.033853652582309]
[null,null,null,null,null,6056,1.0704711616741736]
[null,null,null,null,null,6057,1.107824453719525]
[null,null,null,null,null,6058,1.0708558702723447]
[null,null,null,null,null,6059,1.0584190018711928]
[null,null,null,null,null,6060,1.1177374331148666]
[null,null,null,null,null,6061,1.0710095073504298]
[null,null,null,null,null,6062,0.98922019967339048]
[null,null,null,null,null,6063,1.085174650331779]
[null,null,null,null,null,6064,1.0808058703329484]
[null,null,null,null,null,6065,1.0600414575784618]
[null,null,null,null,null,6066,1.0785974950804047]
[null,null,null,null,null,6067,1.0562259810224985]
[null,null,null,null,null,6068,1.0460778331113925]
[null,null,null,null,null,6069,1.0444142727903198]
[null,null,null,null,null,6070,1.0816850865715326]
[null,null,null,null,null,6071,1.1296409252533204]
[null,null,null,null,null,6072,1.1039446322200863]
[null,null,null,null,null,6073,1.0613538676233225]
[null,null,null,null,null,6074,1.0895487163365161]
[null,null,null,null,null,6075,1.0734883774132669]
[null,null,null,null,null,6076,1.0873741809202955]
[null,null,null,null,null,6077,1.0485092882544407]
[null,null,null,null,null,6078,1.0516494786161501]
[null,null,null,null,null,6079,1.0691054651746501]
[null,null,null,null,null,6080,1.0601738836808159]
[null,null,null,null,null,6081,1.1026675094298646]
[null,null,null,null,null,6082,{"$f":"EXP($B$11-0.5*$B$10^2)+$B$10*_xlfn.NORM.S.INV(RAND())","v":1.0812261964887335}]
[null,null,null,null,null,6083,1.0593669916166029]
[null,null,null,null,null,6084,1.1008522360299797]
[null,null,null,null,null,6085,1.0719945098379375]
[null,null,null,null,null,6086,1.0576469794803474]
[null,null,null,null,null,6087,1.0651241767299175]
[null,null,null,null,null,6088,1.0832573911580095]
[null,null,null,null,null,6089,1.1055569411853499]
[null,null,null,null,null,6090,1.0958738570174502]
[null,null,null,null,null,6091,1.1040537163827127]
[null,null,null,null,null,6092,1.0623463929662993]
[null,null,null,null,null,6093,1.004203790079796]
[null,null,null,null,null,6094,1.0881834826092542]
[null,null,null,null,null,6095,1.0755339934428871]
[null,null,null,null,null,6096,1.1068524116083234]
[null,null,null,null,null,6097,1.0796836693939427]
[null,null,null,null,null,6098,1.0967431243365393]
[null,null,null,null,null,6099,1.0799455741791362]
[null,null,null,null,null,6100,1.0722571088616903]
[null,null,null,null,null,6101,1.06409526070059]
[null,null,null,null,null,6102,1.0695572847682411]
[null,null,null,null,null,6103,1.0707399285953458]
[null,null,null,null,null,6104,1.0730825699500777]
[null,null,null,null,null,6105,1.0720435506541042]
[null,null,null,null,null,6106,1.0818778236659241]
[null,null,null,null,null,6107,1.048933863315834]
[null,null,null,null,null,6108,1.086058168154397]
[null,null,null,null,null,6109,1.0833871155149359]
[null,null,null,null,null,6110,1.094734683710072]
[null,null,null,null,null,6111,1.0494099652160558]
[null,null,null,null,null,6112,1.0574763458483369]
[null,null,null,null,null,6113,1.0958246005209527]
[null,null,null,null,null,6114,1.0604794887860289]
[null,null,null,null,null,6115,1.0728901408885068]
[null,null,null,null,null,6116,1.0785342540233589]
[null,null,null,null,null,6117,1.0994394506840675]
[null,null,null,null,null,6118,1.0480731930766076]
[null,null,null,null,null,6119,1.0707207645881383]
[null,null,null,null,null,6120,1.0746718335529908]
[null,null,null,null,null,6121,1.0570443986233076]
[null,null,null,null,null,6122,1.0360008123437499]
[null,null,null,null,null,6123,1.1123382760371432]
[null,null,null,null,null,6124,1.0545703779383504]
[null,null,null,null,null,6125,1.0908735528919191]
[null,null,null,null,null,6126,1.0648303600568623]
[null,null,null,null,null,6127,1.1013871579334944]
[null,null,null,null,null,6128,1.0650200321763534]
[null,null,null,null,null,6129,1.0760135667085193]
[null,null,null,null,null,6130,1.0517449888707275]
[null,null,null,null,null,6131,1.0538970031118935]
[null,null,null,null,null,6132,1.0800337317867283]
[null,null,null,null,null,6133,1.0447398514014576]
[null,null,null,null,null,6134,1.077451863753816]
[null,null,null,null,null,6135,1.0604008244835221]
[null,null,null,null,null,6136,1.0933786520922659]
[null,null,null,null,null,6137,1.0354768037094024]
[null,null,null,null,null,6138,1.1004401081972996]
[null,null,null,null,null,6139,1.0673916184146257]
[null,null,null,null,null,6140,1.0757201825782121]
[null,null,null,null,null,6141,1.1013898692479285]
[null,null,null,null,null,6142,1.0851220029163573]
[null,null,null,null,null,6143,1.0332918471230896]
[null,null,null,null,null,6144,1.0958364331871449]
[null,null,null,null,null,6145,1.0578497325868537]
[null,null,null,null,null,6146,{"$f":"EXP($B$11-0.5*$B$10^2)+$B$10*_xlfn.NORM.S.INV(RAND())","v":1.071566819907745}]
[null,null,null,null,null,6147,1.0444911665786265]
[null,null,null,null,null,6148,1.0608969452011916]
[null,null,null,null,null,6149,1.0967246554931416]
[null,null,null,null,null,6150,1.0338696654192918]
[null,null,null,null,null,6151,1.0708562086810332]
[null,null,null,null,null,6152,1.1046315239034978]
[null,null,null,null,null,6153,1.105227443278457]
[null,null,null,null,null,6154,1.0892406303260873]
[null,null,null,null,null,6155,1.0819924678816484]
[null,null,null,null,null,6156,1.0746047609406875]
[null,null,null,null,null,6157,1.0590764000284407]
[null,null,null,null,null,6158,1.0705109575702569]
[null,null,null,null,null,6159,1.0641064605273958]
[null,null,null,null,null,6160,1.079763583531961]
[null,null,null,null,null,6161,1.0871561519214756]
[null,null,null,null,null,6162,1.0550882132293538]
[null,null,null,null,null,6163,1.0460759233847967]
[null,null,null,null,null,6164,1.0738421630698911]
[null,null,null,null,null,6165,1.0792754196358876]
[null,null,null,null,null,6166,1.0830646910977675]
[null,null,null,null,null,6167,1.065842853975326]
[null,null,null,null,null,6168,1.0753271773090574]
[null,null,null,null,null,6169,1.051066686592383]
[null,null,null,null,null,6170,1.0839386712677048]
[null,null,null,null,null,6171,1.0940297280678424]
[null,null,null,null,null,6172,1.0639488681044902]
[null,null,null,null,null,6173,1.0626812876215594]
[null,null,null,null,null,6174,1.0909596973013103]
[null,null,null,null,null,6175,1.0509327180604153]
[null,null,null,null,null,6176,1.0588356859063142]
[null,null,null,null,null,6177,1.1086511361996403]
[null,null,null,null,null,6178,1.1466031542483743]
[null,null,null,null,null,6179,1.108220135373293]
[null,null,null,null,null,6180,1.0524442450678626]
[null,null,null,null,null,6181,1.0576205317735072]
[null,null,null,null,null,6182,1.0436269134246261]
[null,null,null,null,null,6183,1.0756658591551482]
[null,null,null,null,null,6184,1.0583181551204284]
[null,null,null,null,null,6185,1.1133719796074431]
[null,null,null,null,null,6186,1.0535427549222858]
[null,null,null,null,null,6187,1.0979336084792803]
[null,null,null,null,null,6188,1.052819249255573]
[null,null,null,null,null,6189,1.1113654893100422]
[null,null,null,null,null,6190,1.0677552943026343]
[null,null,null,null,null,6191,1.0902469755962128]
[null,null,null,null,null,6192,1.0733397151313226]
[null,null,null,null,null,6193,1.0825797391568606]
[null,null,null,null,null,6194,1.1008419401342653]
[null,null,null,null,null,6195,1.0781091451299352]
[null,null,null,null,null,6196,1.0596503761800959]
[null,null,null,null,null,6197,1.0943506230976026]
[null,null,null,null,null,6198,1.0693830402724911]
[null,null,null,null,null,6199,1.0594302777745783]
[null,null,null,null,null,6200,1.0745710630199901]
[null,null,null,null,null,6201,1.0587249970111376]
[null,null,null,null,null,6202,1.0751665007499758]
[null,null,null,null,null,6203,1.0984436909977748]
[null,null,null,null,null,6204,1.1116596807955834]
[null,null,null,null,null,6205,1.0948846931703635]
[null,null,null,null,null,6206,1.111738270142707]
[null,null,null,null,null,6207,1.089273249481636]
[null,null,null,null,null,6208,1.0471759533375076]
[null,null,null,null,null,6209,1.0700747404584787]
[null,null,null,null,null,6210,{"$f":"EXP($B$11-0.5*$B$10^2)+$B$10*_xlfn.NORM.S.INV(RAND())","v":1.0900690719244823}]
[null,null,null,null,null,6211,1.0837775635395901]
[null,null,null,null,null,6212,1.0876905223427806]
[null,null,null,null,null,6213,1.0676522583810482]
[null,null,null,null,null,6214,1.0892208887457708]
[null,null,null,null,null,6215,1.0746723037804431]
[null,null,null,null,null,6216,1.1206411831225225]
[null,null,null,null,null,6217,1.0438400177674478]
[null,null,null,null,null,6218,1.0734443749297315]
[null,null,null,null,null,6219,1.0643136602638998]
[null,null,null,null,null,6220,1.0764116144137046]
[null,null,null,null,null,6221,1.0728814971799365]
[null,null,null,null,null,6222,1.1088771723468236]
[null,null,null,null,null,6223,1.053618589745251]
[null,null,null,null,null,6224,1.0679026565133332]
[null,null,null,null,null,6225,1.1153751121570923]
[null,null,null,null,null,6226,1.0746145376312923]
[null,null,null,null,null,6227,1.0625155512551143]
[null,null,null,null,null,6228,1.0595892410951746]
[null,null,null,null,null,6229,1.0698075489342953]
[null,null,null,null,null,6230,1.0438264833170086]
[null,null,null,null,null,6231,1.072875450242702]
[null,null,null,null,null,6232,1.0705593583708339]
[null,null,null,null,null,6233,1.0550188517356989]
[null,null,null,null,null,6234,1.0556120453846096]
[null,null,null,null,null,6235,1.0734854060693007]
[null,null,null,null,null,6236,1.0881129735892276]
[null,null,null,null,null,6237,1.0809992339142185]
[null,null,null,null,null,6238,1.091898211484168]
[null,null,null,null,null,6239,1.1211351920565573]
[null,null,null,null,null,6240,1.0680456568096801]
[null,null,null,null,null,6241,1.0783564441099851]
[null,null,null,null,null,6242,1.0382548545009394]
[null,null,null,null,null,6243,1.0712128575595408]
[null,null,null,null,null,6244,1.113985648005632]
[null,null,null,null,null,6245,1.1060830060362203]
[null,null,null,null,null,6246,1.0829042683725922]
[null,null,null,null,null,6247,1.0822537142150235]
[null,null,null,null,null,6248,1.0804490145448324]
[null,null,null,null,null,6249,1.0780490432420642]
[null,null,null,null,null,6250,1.1012114501689994]
[null,null,null,null,null,6251,1.0716070582218555]
[null,null,null,null,null,6252,1.0571244911539346]
[null,null,null,null,null,6253,1.0744750097929374]
[null,null,null,null,null,6254,1.0924854447427346]
[null,null,null,null,null,6255,1.0899761291475654]
[null,null,null,null,null,6256,1.0626308259774255]
[null,null,null,null,null,6257,1.0682071061093208]
[null,null,null,null,null,6258,1.0940914446682604]
[null,null,null,null,null,6259,1.0432327285208822]
[null,null,null,null,null,6260,1.0748303088730049]
[null,null,null,null,null,6261,1.0727416682833284]
[null,null,null,null,null,6262,1.0812732903176829]
[null,null,null,null,null,6263,1.0917903147337213]
[null,null,null,null,null,6264,1.0617985426793073]
[null,null,null,null,null,6265,1.0639542277866108]
[null,null,null,null,null,6266,1.0988935754303346]
[null,null,null,null,null,6267,1.0799766882147199]
[null,null,null,null,null,6268,1.0930360078130139]
[null,null,null,null,null,6269,1.0873817631991516]
[null,null,null,null,null,6270,1.0896713406839915]
[null,null,null,null,null,6271,1.0702139943810078]
[null,null,null,null,null,6272,1.0706623873512096]
[null,null,null,null,null,6273,1.0745845633111162]
[null,null,null,null,null,6274,{"$f":"EXP($B$11-0.5*$B$10^2)+$B$10*_xlfn.NORM.S.INV(RAND())","v":1.0847608112944584}]
[null,null,null,null,null,6275,1.0540000460946193]
[null,null,null,null,null,6276,1.0959648687529995]
[null,null,null,null,null,6277,1.0704094952021059]
[null,null,null,null,null,6278,1.1224567215792249]
[null,null,null,null,null,6279,1.0843033088594036]
[null,null,null,null,null,6280,1.08029608071576]
[null,null,null,null,null,6281,1.0688951288886062]
[null,null,null,null,null,6282,1.0959252612432533]
[null,null,null,null,null,6283,1.0600239280004711]
[null,null,null,null,null,6284,1.1046351935576375]
[null,null,null,null,null,6285,1.0809114919206742]
[null,null,null,null,null,6286,1.0619806995754175]
[null,null,null,null,null,6287,1.0518897698099023]
[null,null,null,null,null,6288,1.0543727474343703]
[null,null,null,null,null,6289,1.0679051968577842]
[null,null,null,null,null,6290,1.0507477783988]
[null,null,null,null,null,6291,1.0636629859474427]
[null,null,null,null,null,6292,1.1058737923850657]
[null,null,null,null,null,6293,1.0952058753277885]
[null,null,null,null,null,6294,1.0672669130193519]
[null,null,null,null,null,6295,1.0689629001902301]
[null,null,null,null,null,6296,1.065680392068121]
[null,null,null,null,null,6297,1.0615114793163449]
[null,null,null,null,null,6298,1.0806396357439101]
[null,null,null,null,null,6299,1.0733912523437426]
[null,null,null,null,null,6300,1.0902971298914488]
[null,null,null,null,null,6301,1.0608773281456403]
[null,null,null,null,null,6302,1.0919907081203224]
[null,null,null,null,null,6303,1.0876417655129744]
[null,null,null,null,null,6304,1.1015120030815762]
[null,null,null,null,null,6305,1.0538080831786083]
[null,null,null,null,null,6306,1.0889550116989792]
[null,null,null,null,null,6307,1.0622845065739583]
[null,null,null,null,null,6308,1.1021195734428575]
[null,null,null,null,null,6309,1.0695945016876429]
[null,null,null,null,null,6310,1.0875850462114722]
[null,null,null,null,null,6311,1.0610960339402882]
[null,null,null,null,null,6312,1.0931604582382117]
[null,null,null,null,null,6313,1.0936915083535881]
[null,null,null,null,null,6314,1.0891032141692749]
[null,null,null,null,null,6315,1.0760044745730859]
[null,null,null,null,null,6316,1.0797967612004999]
[null,null,null,null,null,6317,1.0927503778374383]
[null,null,null,null,null,6318,1.0766020048977141]
[null,null,null,null,null,6319,1.0550954683609943]
[null,null,null,null,null,6320,1.0877466336715773]
[null,null,null,null,null,6321,1.0999911694515649]
[null,null,null,null,null,6322,1.0561494223406176]
[null,null,null,null,null,6323,1.0709689062885532]
[null,null,null,null,null,6324,1.0784826586546885]
[null,null,null,null,null,6325,1.0918529603611313]
[null,null,null,null,null,6326,1.0901394332690251]
[null,null,null,null,null,6327,1.039499539335599]
[null,null,null,null,null,6328,1.0811868935574995]
[null,null,null,null,null,6329,1.047360271077264]
[null,null,null,null,null,6330,1.0370692695868984]
[null,null,null,null,null,6331,1.0820085445609489]
[null,null,null,null,null,6332,1.0828511368331288]
[null,null,null,null,null,6333,1.08351359417621]
[null,null,null,null,null,6334,1.0760475315830662]
[null,null,null,null,null,6335,1.0931799211545972]
[null,null,null,null,null,6336,1.1071102833846682]
[null,null,null,null,null,6337,1.0733838064467023]
[null,null,null,null,null,6338,{"$f":"EXP($B$11-0.5*$B$10^2)+$B$10*_xlfn.NORM.S.INV(RAND())","v":1.0760572513128681}]
[null,null,null,null,null,6339,1.0986315655063128]
[null,null,null,null,null,6340,1.044723949971863]
[null,null,null,null,null,6341,1.0945688013633386]
[null,null,null,null,null,6342,1.0843005520778568]
[null,null,null,null,null,6343,1.0596707806570482]
[null,null,null,null,null,6344,1.1045341356103966]
[null,null,null,null,null,6345,1.0852263002868638]
[null,null,null,null,null,6346,1.0875906690883526]
[null,null,null,null,null,6347,1.057510638232217]
[null,null,null,null,null,6348,1.1131510584464199]
[null,null,null,null,null,6349,1.0880440221351604]
[null,null,null,null,null,6350,1.0802255589582288]
[null,null,null,null,null,6351,1.0697537618837902]
[null,null,null,null,null,6352,1.1011007595047337]
[null,null,null,null,null,6353,1.061711947300402]
[null,null,null,null,null,6354,1.0517818779715524]
[null,null,null,null,null,6355,1.1000086534094979]
[null,null,null,null,null,6356,1.065835619984516]
[null,null,null,null,null,6357,1.077747183153406]
[null,null,null,null,null,6358,1.0673800428627818]
[null,null,null,null,null,6359,1.0896635704250921]
[null,null,null,null,null,6360,1.0910437953028684]
[null,null,null,null,null,6361,1.0495056038453969]
[null,null,null,null,null,6362,1.0777707496799831]
[null,null,null,null,null,6363,1.0733419102438928]
[null,null,null,null,null,6364,1.095338258679917]
[null,null,null,null,null,6365,1.1092209928305012]
[null,null,null,null,null,6366,1.0701923717698878]
[null,null,null,null,null,6367,1.092034729659914]
[null,null,null,null,null,6368,1.102521226198423]
[null,null,null,null,null,6369,1.0848419788102217]
[null,null,null,null,null,6370,1.0533430294513522]
[null,null,null,null,null,6371,1.0547056998561226]
[null,null,null,null,null,6372,1.0902708788896252]
[null,null,null,null,null,6373,1.0356261842942043]
[null,null,null,null,null,6374,1.0817177344150144]
[null,null,null,null,null,6375,1.11690967434192]
[null,null,null,null,null,6376,1.0614204815444714]
[null,null,null,null,null,6377,1.1169123717914489]
[null,null,null,null,null,6378,1.0760862864125551]
[null,null,null,null,null,6379,1.1050046071966138]
[null,null,null,null,null,6380,1.0991679010658542]
[null,null,null,null,null,6381,1.0632286593455504]
[null,null,null,null,null,6382,1.1022193928531274]
[null,null,null,null,null,6383,1.0554440156893716]
[null,null,null,null,null,6384,1.0573922772528508]
[null,null,null,null,null,6385,1.0779270738626026]
[null,null,null,null,null,6386,1.0698889739695676]
[null,null,null,null,null,6387,1.067847806448905]
[null,null,null,null,null,6388,1.1025588106184732]
[null,null,null,null,null,6389,1.1086318663353132]
[null,null,null,null,null,6390,1.0509874065923739]
[null,null,null,null,null,6391,1.0692868643586131]
[null,null,null,null,null,6392,1.0798188217238367]
[null,null,null,null,null,6393,1.0473763217454204]
[null,null,null,null,null,6394,1.056211740555788]
[null,null,null,null,null,6395,1.0715316043529259]
[null,null,null,null,null,6396,1.0827190336201036]
[null,null,null,null,null,6397,1.0945970335245383]
[null,null,null,null,null,6398,1.1049322601075278]
[null,null,null,null,null,6399,1.0658713363183661]
[null,null,null,null,null,6400,1.0770677107629505]
[null,null,null,null,null,6401,1.1093095959703434]
[null,null,null,null,null,6402,{"$f":"EXP($B$11-0.5*$B$10^2)+$B$10*_xlfn.NORM.S.INV(RAND())","v":1.095723439447772}]
[null,null,null,null,null,6403,1.0736302461305871]
[null,null,null,null,null,6404,1.0910341957120431]
[null,null,null,null,null,6405,1.0757837140139268]
[null,null,null,null,null,6406,1.0706327447853852]
[null,null,null,null,null,6407,1.0897244125578529]
[null,null,null,null,null,6408,1.0769796899025177]
[null,null,null,null,null,6409,1.0805255994453764]
[null,null,null,null,null,6410,1.1018960600650574]
[null,null,null,null,null,6411,1.0518488500841063]
[null,null,null,null,null,6412,1.1056785556551398]
[null,null,null,null,null,6413,1.0783178962723237]
[null,null,null,null,null,6414,1.0499899052320976]
[null,null,null,null,null,6415,1.091032581297487]
[null,null,null,null,null,6416,1.0885296449818533]
[null,null,null,null,null,6417,1.0794495292820827]
[null,null,null,null,null,6418,1.075733533843513]
[null,null,null,null,null,6419,1.0804109130262765]
[null,null,null,null,null,6420,1.0892885914675323]
[null,null,null,null,null,6421,1.1236944191776663]
[null,null,null,null,null,6422,1.0763723498571354]
[null,null,null,null,null,6423,1.1047123396026843]
[null,null,null,null,null,6424,1.1121979498758661]
[null,null,null,null,null,6425,1.0752980265936922]
[null,null,null,null,null,6426,1.0382633127102678]
[null,null,null,null,null,6427,1.0480779145599828]
[null,null,null,null,null,6428,1.0678251749220153]
[null,null,null,null,null,6429,1.0868581270814357]
[null,null,null,null,null,6430,1.0896513020399861]
[null,null,null,null,null,6431,1.0753346806127952]
[null,null,null,null,null,6432,1.0822645575020737]
[null,null,null,null,null,6433,1.0871836351403901]
[null,null,null,null,null,6434,1.063776513885351]
[null,null,null,null,null,6435,1.0577791811076265]
[null,null,null,null,null,6436,1.0559087613064226]
[null,null,null,null,null,6437,1.061805107940595]
[null,null,null,null,null,6438,1.0994886209721666]
[null,null,null,null,null,6439,1.0886002188284409]
[null,null,null,null,null,6440,1.0784446626255038]
[null,null,null,null,null,6441,1.1021504885744475]
[null,null,null,null,null,6442,1.0704148024552909]
[null,null,null,null,null,6443,1.1198387620103505]
[null,null,null,null,null,6444,1.0936356713511604]
[null,null,null,null,null,6445,1.0890682949094412]
[null,null,null,null,null,6446,1.0899287609991113]
[null,null,null,null,null,6447,1.0778068738396429]
[null,null,null,null,null,6448,1.0867332416772195]
[null,null,null,null,null,6449,1.0985993043805486]
[null,null,null,null,null,6450,1.099678515406332]
[null,null,null,null,null,6451,1.0951818173198802]
[null,null,null,null,null,6452,1.0503958765504171]
[null,null,null,null,null,6453,1.1006991007166165]
[null,null,null,null,null,6454,1.1050336864055732]
[null,null,null,null,null,6455,1.0988286786073669]
[null,null,null,null,null,6456,1.0878081815230172]
[null,null,null,null,null,6457,1.0703659990829839]
[null,null,null,null,null,6458,1.0770025524145213]
[null,null,null,null,null,6459,1.0704139688182137]
[null,null,null,null,null,6460,1.0927943119303469]
[null,null,null,null,null,6461,1.0533610938998161]
[null,null,null,null,null,6462,1.0746502984028226]
[null,null,null,null,null,6463,1.0789943245932923]
[null,null,null,null,null,6464,1.0951946996873081]
[null,null,null,null,null,6465,1.0686535989731156]
[null,null,null,null,null,6466,{"$f":"EXP($B$11-0.5*$B$10^2)+$B$10*_xlfn.NORM.S.INV(RAND())","v":1.0949120657766487}]
[null,null,null,null,null,6467,1.0739055234982937]
[null,null,null,null,null,6468,1.0512692158461916]
[null,null,null,null,null,6469,1.0712154969705741]
[null,null,null,null,null,6470,1.1017550540423016]
[null,null,null,null,null,6471,1.0801060467715182]
[null,null,null,null,null,6472,1.0819899021916812]
[null,null,null,null,null,6473,1.0795465835893356]
[null,null,null,null,null,6474,1.0694183100731278]
[null,null,null,null,null,6475,1.0422547533015309]
[null,null,null,null,null,6476,1.0782348032064504]
[null,null,null,null,null,6477,1.0971844272165572]
[null,null,null,null,null,6478,1.04452603903129]
[null,null,null,null,null,6479,1.0595225732253832]
[null,null,null,null,null,6480,1.079462466378964]
[null,null,null,null,null,6481,1.0993460764465921]
[null,null,null,null,null,6482,1.0533690143703192]
[null,null,null,null,null,6483,1.0610323149008261]
[null,null,null,null,null,6484,1.044948962411113]
[null,null,null,null,null,6485,1.0702656230362475]
[null,null,null,null,null,6486,1.0880102084916738]
[null,null,null,null,null,6487,1.0844186342017186]
[null,null,null,null,null,6488,1.0939057166377506]
[null,null,null,null,null,6489,1.094969578371237]
[null,null,null,null,null,6490,1.1287736211828159]
[null,null,null,null,null,6491,1.0656992019309819]
[null,null,null,null,null,6492,1.0972269776754302]
[null,null,null,null,null,6493,1.0701391324668144]
[null,null,null,null,null,6494,1.0913251429968427]
[null,null,null,null,null,6495,1.110471456250115]
[null,null,null,null,null,6496,1.0999723814638425]
[null,null,null,null,null,6497,1.0997472176269016]
[null,null,null,null,null,6498,1.1224314288930586]
[null,null,null,null,null,6499,1.0917039145733198]
[null,null,null,null,null,6500,1.1060395727847323]
[null,null,null,null,null,6501,1.0930389209724332]
[null,null,null,null,null,6502,1.1088589320943678]
[null,null,null,null,null,6503,1.1091718739251257]
[null,null,null,null,null,6504,1.0637234184361819]
[null,null,null,null,null,6505,1.0870031098400355]
[null,null,null,null,null,6506,1.0857232382801745]
[null,null,null,null,null,6507,1.0546139863222193]
[null,null,null,null,null,6508,1.0866082239286026]
[null,null,null,null,null,6509,1.0801579214797097]
[null,null,null,null,null,6510,1.0503249657480458]
[null,null,null,null,null,6511,1.0554763435507484]
[null,null,null,null,null,6512,1.070626616091237]
[null,null,null,null,null,6513,1.0855556904119286]
[null,null,null,null,null,6514,1.0729649432239829]
[null,null,null,null,null,6515,1.1117480043041594]
[null,null,null,null,null,6516,1.08532580358021]
[null,null,null,null,null,6517,1.0703329234314967]
[null,null,null,null,null,6518,1.0790630005342239]
[null,null,null,null,null,6519,1.0992395270795998]
[null,null,null,null,null,6520,1.0658342072549969]
[null,null,null,null,null,6521,1.0461712584326031]
[null,null,null,null,null,6522,1.072429438517855]
[null,null,null,null,null,6523,1.0807090338218939]
[null,null,null,null,null,6524,1.0645675618149921]
[null,null,null,null,null,6525,1.1203882612035712]
[null,null,null,null,null,6526,1.1101594960139372]
[null,null,null,null,null,6527,1.0730424722413456]
[null,null,null,null,null,6528,1.086960160639723]
[null,null,null,null,null,6529,1.0926777361132474]
[null,null,null,null,null,6530,{"$f":"EXP($B$11-0.5*$B$10^2)+$B$10*_xlfn.NORM.S.INV(RAND())","v":1.0927412219136197}]
[null,null,null,null,null,6531,1.0627590136258933]
[null,null,null,null,null,6532,1.0691616533017321]
[null,null,null,null,null,6533,1.0949381979516339]
[null,null,null,null,null,6534,1.0991226493412694]
[null,null,null,null,null,6535,1.0644364293844155]
[null,null,null,null,null,6536,1.0823146506490939]
[null,null,null,null,null,6537,1.0755377160923481]
[null,null,null,null,null,6538,1.095872988564224]
[null,null,null,null,null,6539,1.0809950589388073]
[null,null,null,null,null,6540,1.0318794583494477]
[null,null,null,null,null,6541,1.0893548668950417]
[null,null,null,null,null,6542,1.068049342395188]
[null,null,null,null,null,6543,1.0601916860074925]
[null,null,null,null,null,6544,1.0836811538514342]
[null,null,null,null,null,6545,1.0589173891502452]
[null,null,null,null,null,6546,1.0651753944088083]
[null,null,null,null,null,6547,1.059760695754342]
[null,null,null,null,null,6548,1.1072767199772757]
[null,null,null,null,null,6549,1.0549553891155541]
[null,null,null,null,null,6550,1.0696170356365406]
[null,null,null,null,null,6551,1.0901886190675945]
[null,null,null,null,null,6552,1.1257605685811518]
[null,null,null,null,null,6553,1.0802239103579627]
[null,null,null,null,null,6554,1.081283740490117]
[null,null,null,null,null,6555,1.0900821230275797]
[null,null,null,null,null,6556,1.0579837486521297]
[null,null,null,null,null,6557,1.0808881380265374]
[null,null,null,null,null,6558,1.0880430002118138]
[null,null,null,null,null,6559,1.0959699948716881]
[null,null,null,null,null,6560,1.102664497715748]
[null,null,null,null,null,6561,1.075163063903529]
[null,null,null,null,null,6562,1.0973484983300081]
[null,null,null,null,null,6563,1.0312522991785302]
[null,null,null,null,null,6564,1.0851788269542333]
[null,null,null,null,null,6565,1.0879531068536314]
[null,null,null,null,null,6566,1.0484418941689098]
[null,null,null,null,null,6567,1.0418909625634072]
[null,null,null,null,null,6568,1.0690206911048024]
[null,null,null,null,null,6569,1.0651677458428679]
[null,null,null,null,null,6570,1.0706640338614952]
[null,null,null,null,null,6571,1.0447957267318932]
[null,null,null,null,null,6572,1.0666917990692117]
[null,null,null,null,null,6573,1.0558602965088968]
[null,null,null,null,null,6574,1.0996689901733738]
[null,null,null,null,null,6575,1.1011149042810495]
[null,null,null,null,null,6576,1.0402562076118727]
[null,null,null,null,null,6577,1.1091155912216506]
[null,null,null,null,null,6578,1.0592848798647512]
[null,null,null,null,null,6579,1.0864479145703223]
[null,null,null,null,null,6580,1.095655339905935]
[null,null,null,null,null,6581,1.0708641191216459]
[null,null,null,null,null,6582,1.0796772797369463]
[null,null,null,null,null,6583,1.0870202469737182]
[null,null,null,null,null,6584,1.1119098183895084]
[null,null,null,null,null,6585,1.0774187712015619]
[null,null,null,null,null,6586,1.0833250535705237]
[null,null,null,null,null,6587,1.0586407253032115]
[null,null,null,null,null,6588,1.0620544883656833]
[null,null,null,null,null,6589,1.0661024045460363]
[null,null,null,null,null,6590,1.0481073328404051]
[null,null,null,null,null,6591,1.0452050927037819]
[null,null,null,null,null,6592,1.0414989561713401]
[null,null,null,null,null,6593,1.0867924211424214]
[null,null,null,null,null,6594,{"$f":"EXP($B$11-0.5*$B$10^2)+$B$10*_xlfn.NORM.S.INV(RAND())","v":1.0784436689921697}]
[null,null,null,null,null,6595,1.0322583776550169]
[null,null,null,null,null,6596,1.0584321306242988]
[null,null,null,null,null,6597,1.0763430454795564]
[null,null,null,null,null,6598,1.0225741433693021]
[null,null,null,null,null,6599,1.0845618893337066]
[null,null,null,null,null,6600,1.0811079200507487]
[null,null,null,null,null,6601,1.1012381855339524]
[null,null,null,null,null,6602,1.0867301294461043]
[null,null,null,null,null,6603,1.1132567537311566]
[null,null,null,null,null,6604,1.0597257507156987]
[null,null,null,null,null,6605,1.0864677837698282]
[null,null,null,null,null,6606,1.0588794462828792]
[null,null,null,null,null,6607,1.068224723665155]
[null,null,null,null,null,6608,1.0770343926900205]
[null,null,null,null,null,6609,1.0828732728766162]
[null,null,null,null,null,6610,1.0676302793461228]
[null,null,null,null,null,6611,1.0843938254572982]
[null,null,null,null,null,6612,1.0938582972919093]
[null,null,null,null,null,6613,1.0383100490183856]
[null,null,null,null,null,6614,1.0638080186044672]
[null,null,null,null,null,6615,1.041355868158359]
[null,null,null,null,null,6616,1.0393657232853928]
[null,null,null,null,null,6617,1.0666677190742688]
[null,null,null,null,null,6618,1.10479457812964]
[null,null,null,null,null,6619,1.0546493604155913]
[null,null,null,null,null,6620,1.0990074361624569]
[null,null,null,null,null,6621,1.1035432801741816]
[null,null,null,null,null,6622,1.1044197270461398]
[null,null,null,null,null,6623,1.0563730537122709]
[null,null,null,null,null,6624,1.0656481224687229]
[null,null,null,null,null,6625,1.0865230352584219]
[null,null,null,null,null,6626,1.0962299547684269]
[null,null,null,null,null,6627,1.0735470731787258]
[null,null,null,null,null,6628,1.0564598281993383]
[null,null,null,null,null,6629,1.0675088641651187]
[null,null,null,null,null,6630,1.0634631692294103]
[null,null,null,null,null,6631,1.138326523603302]
[null,null,null,null,null,6632,1.107305113467391]
[null,null,null,null,null,6633,1.0914897424508205]
[null,null,null,null,null,6634,1.0755011695777701]
[null,null,null,null,null,6635,1.0683118323741008]
[null,null,null,null,null,6636,1.0751945397911393]
[null,null,null,null,null,6637,1.023865009463603]
[null,null,null,null,null,6638,1.0828816451077565]
[null,null,null,null,null,6639,1.0598777613404751]
[null,null,null,null,null,6640,1.0937538256391497]
[null,null,null,null,null,6641,1.0564971260141942]
[null,null,null,null,null,6642,1.0719208757487724]
[null,null,null,null,null,6643,1.1127272259328864]
[null,null,null,null,null,6644,1.0907294647339447]
[null,null,null,null,null,6645,1.0652468597961706]
[null,null,null,null,null,6646,1.1225770504009114]
[null,null,null,null,null,6647,1.1045036246668325]
[null,null,null,null,null,6648,1.0726378613961358]
[null,null,null,null,null,6649,1.1317843649606072]
[null,null,null,null,null,6650,1.0781267166442112]
[null,null,null,null,null,6651,1.0840282391887066]
[null,null,null,null,null,6652,1.0883418150268369]
[null,null,null,null,null,6653,1.0835088664871884]
[null,null,null,null,null,6654,1.0514682794431562]
[null,null,null,null,null,6655,1.0796385789315159]
[null,null,null,null,null,6656,1.0730028671855323]
[null,null,null,null,null,6657,1.0694657243935515]
[null,null,null,null,null,6658,{"$f":"EXP($B$11-0.5*$B$10^2)+$B$10*_xlfn.NORM.S.INV(RAND())","v":1.096699300852306}]
[null,null,null,null,null,6659,1.054832445499706]
[null,null,null,null,null,6660,1.091193766856829]
[null,null,null,null,null,6661,1.0910083791003427]
[null,null,null,null,null,6662,1.1069048453637071]
[null,null,null,null,null,6663,1.074558379341171]
[null,null,null,null,null,6664,1.0905084699485739]
[null,null,null,null,null,6665,1.0625962654469756]
[null,null,null,null,null,6666,1.0746905474892063]
[null,null,null,null,null,6667,1.0887077244064332]
[null,null,null,null,null,6668,1.0798925882886019]
[null,null,null,null,null,6669,1.0522837810579335]
[null,null,null,null,null,6670,1.0625592862966651]
[null,null,null,null,null,6671,1.0925539606620851]
[null,null,null,null,null,6672,1.0664671482775054]
[null,null,null,null,null,6673,1.0688819114878167]
[null,null,null,null,null,6674,1.0735922113500247]
[null,null,null,null,null,6675,1.0965983088388902]
[null,null,null,null,null,6676,1.050799513269572]
[null,null,null,null,null,6677,1.0681322605606001]
[null,null,null,null,null,6678,1.0580982820698119]
[null,null,null,null,null,6679,1.1021942344690487]
[null,null,null,null,null,6680,1.0870944829787954]
[null,null,null,null,null,6681,1.0818718478879803]
[null,null,null,null,null,6682,1.0949501387364706]
[null,null,null,null,null,6683,1.1017379845081159]
[null,null,null,null,null,6684,1.0939496740731427]
[null,null,null,null,null,6685,1.0602939347425024]
[null,null,null,null,null,6686,1.0982791821379501]
[null,null,null,null,null,6687,1.1014918481739222]
[null,null,null,null,null,6688,1.0916233429270592]
[null,null,null,null,null,6689,1.1085119183089847]
[null,null,null,null,null,6690,1.0582085187758852]
[null,null,null,null,null,6691,1.0448033822217853]
[null,null,null,null,null,6692,1.0785959216884282]
[null,null,null,null,null,6693,1.0550897193367343]
[null,null,null,null,null,6694,1.0542189665236938]
[null,null,null,null,null,6695,1.0705264085215771]
[null,null,null,null,null,6696,1.0760180634687841]
[null,null,null,null,null,6697,1.1183419001816139]
[null,null,null,null,null,6698,1.0683396373255463]
[null,null,null,null,null,6699,1.1116492773984232]
[null,null,null,null,null,6700,1.0664691555493668]
[null,null,null,null,null,6701,1.0426944558700477]
[null,null,null,null,null,6702,1.0804719000255807]
[null,null,null,null,null,6703,1.0867075322062643]
[null,null,null,null,null,6704,1.0658013215912059]
[null,null,null,null,null,6705,1.0639954869691217]
[null,null,null,null,null,6706,1.0509811871760792]
[null,null,null,null,null,6707,1.0985927619185794]
[null,null,null,null,null,6708,1.0437483776785836]
[null,null,null,null,null,6709,1.1208553349290724]
[null,null,null,null,null,6710,1.0811565137489365]
[null,null,null,null,null,6711,1.0668026741497028]
[null,null,null,null,null,6712,1.0459431696406967]
[null,null,null,null,null,6713,1.070350488998463]
[null,null,null,null,null,6714,1.0784197065584633]
[null,null,null,null,null,6715,1.0660926246748754]
[null,null,null,null,null,6716,1.0787596751621464]
[null,null,null,null,null,6717,1.0792480629468559]
[null,null,null,null,null,6718,1.1063037630248622]
[null,null,null,null,null,6719,1.0834405335872257]
[null,null,null,null,null,6720,1.0796620930138243]
[null,null,null,null,null,6721,1.0435492390618522]
[null,null,null,null,null,6722,{"$f":"EXP($B$11-0.5*$B$10^2)+$B$10*_xlfn.NORM.S.INV(RAND())","v":1.086932142473829}]
[null,null,null,null,null,6723,1.0892487939959561]
[null,null,null,null,null,6724,1.0679597636068259]
[null,null,null,null,null,6725,1.0683097485739399]
[null,null,null,null,null,6726,1.0535097241846878]
[null,null,null,null,null,6727,1.0723399596041829]
[null,null,null,null,null,6728,1.0745555273657446]
[null,null,null,null,null,6729,1.0620648629597516]
[null,null,null,null,null,6730,1.0780854303036405]
[null,null,null,null,null,6731,1.0383790137639342]
[null,null,null,null,null,6732,1.0570689560660282]
[null,null,null,null,null,6733,1.0771241318831948]
[null,null,null,null,null,6734,1.0650103431262665]
[null,null,null,null,null,6735,1.0997878592850334]
[null,null,null,null,null,6736,1.036702112348153]
[null,null,null,null,null,6737,1.117666077552437]
[null,null,null,null,null,6738,1.0857362981930179]
[null,null,null,null,null,6739,1.1011871860430704]
[null,null,null,null,null,6740,1.0930170607164951]
[null,null,null,null,null,6741,1.0698276935683309]
[null,null,null,null,null,6742,1.082865841459814]
[null,null,null,null,null,6743,1.0047575334160941]
[null,null,null,null,null,6744,1.0949005433765517]
[null,null,null,null,null,6745,1.0523731338504407]
[null,null,null,null,null,6746,1.1008252045126259]
[null,null,null,null,null,6747,1.0884675936782944]
[null,null,null,null,null,6748,1.0970389931344284]
[null,null,null,null,null,6749,1.0482747368563015]
[null,null,null,null,null,6750,1.0167644380442333]
[null,null,null,null,null,6751,1.0371901363425191]
[null,null,null,null,null,6752,1.0947377327245784]
[null,null,null,null,null,6753,1.1074524909439032]
[null,null,null,null,null,6754,1.0786895836047912]
[null,null,null,null,null,6755,1.0296486092726833]
[null,null,null,null,null,6756,1.087009593095708]
[null,null,null,null,null,6757,1.0579446813815723]
[null,null,null,null,null,6758,1.0868784456226839]
[null,null,null,null,null,6759,1.0733588374294367]
[null,null,null,null,null,6760,1.0815646189608963]
[null,null,null,null,null,6761,1.0626567560883788]
[null,null,null,null,null,6762,1.0716509092590452]
[null,null,null,null,null,6763,1.0877517551234273]
[null,null,null,null,null,6764,1.0743424630617999]
[null,null,null,null,null,6765,1.0389449727830169]
[null,null,null,null,null,6766,1.0879387457200482]
[null,null,null,null,null,6767,1.0901487066691617]
[null,null,null,null,null,6768,1.0710985115904952]
[null,null,null,null,null,6769,1.0771975495324824]
[null,null,null,null,null,6770,1.0941072110068506]
[null,null,null,null,null,6771,1.1158110330040121]
[null,null,null,null,null,6772,1.0544509830375888]
[null,null,null,null,null,6773,1.094613639540978]
[null,null,null,null,null,6774,1.0680968098078103]
[null,null,null,null,null,6775,1.0484697135154075]
[null,null,null,null,null,6776,1.1008380903901132]
[null,null,null,null,null,6777,1.0695609303562237]
[null,null,null,null,null,6778,1.0622487961486062]
[null,null,null,null,null,6779,1.0817819609610346]
[null,null,null,null,null,6780,1.0541989461439227]
[null,null,null,null,null,6781,1.0486169894250605]
[null,null,null,null,null,6782,1.0855711452184904]
[null,null,null,null,null,6783,1.1130726121661561]
[null,null,null,null,null,6784,1.0659434128777929]
[null,null,null,null,null,6785,1.0903411025853587]
[null,null,null,null,null,6786,{"$f":"EXP($B$11-0.5*$B$10^2)+$B$10*_xlfn.NORM.S.INV(RAND())","v":1.0643293439262569}]
[null,null,null,null,null,6787,1.0631849960215425]
[null,null,null,null,null,6788,1.0995661141855306]
[null,null,null,null,null,6789,1.0809643781296627]
[null,null,null,null,null,6790,1.0926665741208872]
[null,null,null,null,null,6791,1.0368159206266492]
[null,null,null,null,null,6792,1.0616078000679867]
[null,null,null,null,null,6793,1.1009561215700343]
[null,null,null,null,null,6794,1.0562060423532587]
[null,null,null,null,null,6795,1.0983160843024191]
[null,null,null,null,null,6796,1.076401499162998]
[null,null,null,null,null,6797,1.0609525971406972]
[null,null,null,null,null,6798,1.0715415864767854]
[null,null,null,null,null,6799,1.0443680558929362]
[null,null,null,null,null,6800,1.049838677242021]
[null,null,null,null,null,6801,1.0754101760013859]
[null,null,null,null,null,6802,1.0510749867438114]
[null,null,null,null,null,6803,1.049117282668842]
[null,null,null,null,null,6804,1.0895079810274393]
[null,null,null,null,null,6805,1.0709838141007288]
[null,null,null,null,null,6806,1.0635065607706926]
[null,null,null,null,null,6807,1.0645052901625411]
[null,null,null,null,null,6808,1.0950832202107599]
[null,null,null,null,null,6809,1.078315281511506]
[null,null,null,null,null,6810,1.0789716822065192]
[null,null,null,null,null,6811,1.0916246384759725]
[null,null,null,null,null,6812,1.0800824311877151]
[null,null,null,null,null,6813,1.0844405372432799]
[null,null,null,null,null,6814,1.0675226783091702]
[null,null,null,null,null,6815,1.0996870745007474]
[null,null,null,null,null,6816,1.0661128820966497]
[null,null,null,null,null,6817,1.106567710110381]
[null,null,null,null,null,6818,1.0758688416170099]
[null,null,null,null,null,6819,1.0497354611439751]
[null,null,null,null,null,6820,1.0938990209217736]
[null,null,null,null,null,6821,1.0888228119695003]
[null,null,null,null,null,6822,1.0593642339542371]
[null,null,null,null,null,6823,1.098799555330138]
[null,null,null,null,null,6824,1.1133192987716694]
[null,null,null,null,null,6825,1.0790839592058081]
[null,null,null,null,null,6826,1.0878367407752023]
[null,null,null,null,null,6827,1.0808686352475345]
[null,null,null,null,null,6828,1.0413079296289793]
[null,null,null,null,null,6829,1.1001173172910099]
[null,null,null,null,null,6830,1.0803956291230568]
[null,null,null,null,null,6831,1.0761438564892492]
[null,null,null,null,null,6832,1.059430045850448]
[null,null,null,null,null,6833,1.0719651518159257]
[null,null,null,null,null,6834,1.0778268866954264]
[null,null,null,null,null,6835,1.0622336169193851]
[null,null,null,null,null,6836,1.0824228617781897]
[null,null,null,null,null,6837,1.0793547381756146]
[null,null,null,null,null,6838,1.0613662768784287]
[null,null,null,null,null,6839,1.0537055089265346]
[null,null,null,null,null,6840,1.0228652652844323]
[null,null,null,null,null,6841,1.1028338534121866]
[null,null,null,null,null,6842,1.0476362750605022]
[null,null,null,null,null,6843,1.0590431573319536]
[null,null,null,null,null,6844,1.058355305562058]
[null,null,null,null,null,6845,1.0518510691233214]
[null,null,null,null,null,6846,1.068843517304243]
[null,null,null,null,null,6847,1.0957841886461186]
[null,null,null,null,null,6848,1.0617945277482903]
[null,null,null,null,null,6849,1.0725117033303491]
[null,null,null,null,null,6850,{"$f":"EXP($B$11-0.5*$B$10^2)+$B$10*_xlfn.NORM.S.INV(RAND())","v":1.0764749007191834}]
[null,null,null,null,null,6851,1.0665926505946812]
[null,null,null,null,null,6852,1.0776220936243954]
[null,null,null,null,null,6853,1.0827905405223848]
[null,null,null,null,null,6854,1.0865890299365324]
[null,null,null,null,null,6855,1.0091468911929289]
[null,null,null,null,null,6856,1.0703191914219186]
[null,null,null,null,null,6857,1.1015025501704447]
[null,null,null,null,null,6858,1.0658123433518687]
[null,null,null,null,null,6859,1.0752027877434196]
[null,null,null,null,null,6860,1.0811784753777778]
[null,null,null,null,null,6861,1.0423443570050737]
[null,null,null,null,null,6862,1.0877617848142638]
[null,null,null,null,null,6863,1.0724613799844203]
[null,null,null,null,null,6864,1.0462491918535723]
[null,null,null,null,null,6865,1.0607255616458666]
[null,null,null,null,null,6866,1.0413696993364836]
[null,null,null,null,null,6867,1.0931944656890433]
[null,null,null,null,null,6868,1.0803756192351937]
[null,null,null,null,null,6869,1.108823162880161]
[null,null,null,null,null,6870,1.1089966739922172]
[null,null,null,null,null,6871,1.0890720526619213]
[null,null,null,null,null,6872,1.0729947941479363]
[null,null,null,null,null,6873,1.0862265027454876]
[null,null,null,null,null,6874,1.0803763215137374]
[null,null,null,null,null,6875,1.0595983642124496]
[null,null,null,null,null,6876,1.0568633482432066]
[null,null,null,null,null,6877,1.0396525722691967]
[null,null,null,null,null,6878,1.1022165540027404]
[null,null,null,null,null,6879,1.0886973264867661]
[null,null,null,null,null,6880,1.1157054073292727]
[null,null,null,null,null,6881,1.0845572018121146]
[null,null,null,null,null,6882,1.0899934752900966]
[null,null,null,null,null,6883,1.0666531290859442]
[null,null,null,null,null,6884,1.0821872887778521]
[null,null,null,null,null,6885,1.1026080336019777]
[null,null,null,null,null,6886,1.0578783731516255]
[null,null,null,null,null,6887,1.0664441725618143]
[null,null,null,null,null,6888,1.0521639759562171]
[null,null,null,null,null,6889,1.0489869402766256]
[null,null,null,null,null,6890,1.0894964874721993]
[null,null,null,null,null,6891,1.0653844578315208]
[null,null,null,null,null,6892,1.089390899511036]
[null,null,null,null,null,6893,1.0418455173877601]
[null,null,null,null,null,6894,1.0640783489697521]
[null,null,null,null,null,6895,1.0798799072918221]
[null,null,null,null,null,6896,1.0828493129903722]
[null,null,null,null,null,6897,1.0904019110278809]
[null,null,null,null,null,6898,1.0549184657771644]
[null,null,null,null,null,6899,1.1133280276323101]
[null,null,null,null,null,6900,1.0921788833887056]
[null,null,null,null,null,6901,1.0321708903177917]
[null,null,null,null,null,6902,1.0482562746421755]
[null,null,null,null,null,6903,1.0999617416182599]
[null,null,null,null,null,6904,1.0467654501853769]
[null,null,null,null,null,6905,1.096085073206402]
[null,null,null,null,null,6906,1.1049242737661402]
[null,null,null,null,null,6907,1.0619631252836876]
[null,null,null,null,null,6908,1.0925002440115636]
[null,null,null,null,null,6909,1.0766050343416873]
[null,null,null,null,null,6910,1.0920991167342924]
[null,null,null,null,null,6911,1.1165589909633675]
[null,null,null,null,null,6912,1.0965149902317224]
[null,null,null,null,null,6913,1.0824628872510151]
[null,null,null,null,null,6914,{"$f":"EXP($B$11-0.5*$B$10^2)+$B$10*_xlfn.NORM.S.INV(RAND())","v":1.0557574516920958}]
[null,null,null,null,null,6915,1.0850986664246203]
[null,null,null,null,null,6916,1.0646276021759482]
[null,null,null,null,null,6917,1.0628987749683716]
[null,null,null,null,null,6918,1.0503390079932469]
[null,null,null,null,null,6919,1.0853375449360527]
[null,null,null,null,null,6920,1.0339095811310712]
[null,null,null,null,null,6921,1.0985597304136459]
[null,null,null,null,null,6922,1.0767422694823183]
[null,null,null,null,null,6923,1.0744248273609169]
[null,null,null,null,null,6924,1.0941087196609611]
[null,null,null,null,null,6925,1.0676897822638147]
[null,null,null,null,null,6926,1.0605496639395016]
[null,null,null,null,null,6927,1.0770571258161445]
[null,null,null,null,null,6928,1.0721461446168872]
[null,null,null,null,null,6929,1.0896194657115867]
[null,null,null,null,null,6930,1.0945436166164244]
[null,null,null,null,null,6931,1.0747450828871994]
[null,null,null,null,null,6932,1.0745677878578161]
[null,null,null,null,null,6933,1.0719802738530277]
[null,null,null,null,null,6934,1.0750579397118141]
[null,null,null,null,null,6935,1.0611377409163611]
[null,null,null,null,null,6936,1.0960567712884524]
[null,null,null,null,null,6937,1.047744738407451]
[null,null,null,null,null,6938,1.0962533846274851]
[null,null,null,null,null,6939,1.0871578916698934]
[null,null,null,null,null,6940,1.0558318732668839]
[null,null,null,null,null,6941,1.0729226528916356]
[null,null,null,null,null,6942,1.0731582354074805]
[null,null,null,null,null,6943,1.0486900964130934]
[null,null,null,null,null,6944,1.0573525531327219]
[null,null,null,null,null,6945,1.0599960890387519]
[null,null,null,null,null,6946,1.0687460434121927]
[null,null,null,null,null,6947,1.0562515887163555]
[null,null,null,null,null,6948,1.0665340302642587]
[null,null,null,null,null,6949,1.0822560192157991]
[null,null,null,null,null,6950,1.0634507329432961]
[null,null,null,null,null,6951,1.0489801378989152]
[null,null,null,null,null,6952,1.0736207851295119]
[null,null,null,null,null,6953,1.0979078120770007]
[null,null,null,null,null,6954,1.0696964657420105]
[null,null,null,null,null,6955,1.0858273813702974]
[null,null,null,null,null,6956,1.0917806125907803]
[null,null,null,null,null,6957,1.0855990073685524]
[null,null,null,null,null,6958,1.0849749575050303]
[null,null,null,null,null,6959,1.0660700543461332]
[null,null,null,null,null,6960,1.0891750780976994]
[null,null,null,null,null,6961,1.0986662619923442]
[null,null,null,null,null,6962,1.0364115148508288]
[null,null,null,null,null,6963,1.0721633725471622]
[null,null,null,null,null,6964,1.0624249086973268]
[null,null,null,null,null,6965,1.0635684267903476]
[null,null,null,null,null,6966,1.0724290835071169]
[null,null,null,null,null,6967,1.082925674828372]
[null,null,null,null,null,6968,1.0801194894414954]
[null,null,null,null,null,6969,1.0653652270925429]
[null,null,null,null,null,6970,1.0853738865327851]
[null,null,null,null,null,6971,1.0841742034215127]
[null,null,null,null,null,6972,1.0789977701479001]
[null,null,null,null,null,6973,1.0554677634274381]
[null,null,null,null,null,6974,1.0459333860029152]
[null,null,null,null,null,6975,1.1069434343871518]
[null,null,null,null,null,6976,1.1061509501553175]
[null,null,null,null,null,6977,1.0786608252077334]
[null,null,null,null,null,6978,{"$f":"EXP($B$11-0.5*$B$10^2)+$B$10*_xlfn.NORM.S.INV(RAND())","v":1.0754296147147262}]
[null,null,null,null,null,6979,1.0868703278132219]
[null,null,null,null,null,6980,1.0886442449014304]
[null,null,null,null,null,6981,1.0593127411537002]
[null,null,null,null,null,6982,1.0847033146220033]
[null,null,null,null,null,6983,1.0620227846903194]
[null,null,null,null,null,6984,1.0622878719874074]
[null,null,null,null,null,6985,1.1047078536553028]
[null,null,null,null,null,6986,1.1114464092981353]
[null,null,null,null,null,6987,1.0755869196915004]
[null,null,null,null,null,6988,1.0651654720406845]
[null,null,null,null,null,6989,1.0689727706576326]
[null,null,null,null,null,6990,1.0663326351936295]
[null,null,null,null,null,6991,1.0889323196659213]
[null,null,null,null,null,6992,1.0774167082832278]
[null,null,null,null,null,6993,1.081779851620446]
[null,null,null,null,null,6994,1.083605688340648]
[null,null,null,null,null,6995,1.0787920175376402]
[null,null,null,null,null,6996,1.0768232693369963]
[null,null,null,null,null,6997,1.0578839059967362]
[null,null,null,null,null,6998,1.0636965091741994]
[null,null,null,null,null,6999,1.0714163883747005]
[null,null,null,null,null,7000,1.0756398436092078]
[null,null,null,null,null,7001,1.0807266468831873]
[null,null,null,null,null,7002,1.011787915514698]
[null,null,null,null,null,7003,1.0730203924513211]
[null,null,null,null,null,7004,1.0964554878071249]
[null,null,null,null,null,7005,1.0800191525590164]
[null,null,null,null,null,7006,1.0757490968954018]
[null,null,null,null,null,7007,1.1327168799874061]
[null,null,null,null,null,7008,1.0662738552477538]
[null,null,null,null,null,7009,1.0590452098333292]
[null,null,null,null,null,7010,1.0718677535955801]
[null,null,null,null,null,7011,1.0306572326422148]
[null,null,null,null,null,7012,1.0778220476949316]
[null,null,null,null,null,7013,1.090690325672647]
[null,null,null,null,null,7014,1.05085171586135]
[null,null,null,null,null,7015,1.1088272518913931]
[null,null,null,null,null,7016,1.0740992375456904]
[null,null,null,null,null,7017,1.0707950028908566]
[null,null,null,null,null,7018,1.07002535618906]
[null,null,null,null,null,7019,1.1204208274668299]
[null,null,null,null,null,7020,1.0826203562593288]
[null,null,null,null,null,7021,1.0741740907360033]
[null,null,null,null,null,7022,1.0950189587313959]
[null,null,null,null,null,7023,1.054251823083594]
[null,null,null,null,null,7024,1.0613188864485934]
[null,null,null,null,null,7025,1.0713696514273305]
[null,null,null,null,null,7026,1.0522602338953915]
[null,null,null,null,null,7027,1.0913224170181224]
[null,null,null,null,null,7028,1.077556841661979]
[null,null,null,null,null,7029,1.0600216907199087]
[null,null,null,null,null,7030,1.0958674875504748]
[null,null,null,null,null,7031,1.0864137811119152]
[null,null,null,null,null,7032,1.067512788080841]
[null,null,null,null,null,7033,1.070456826262032]
[null,null,null,null,null,7034,1.0647767597138285]
[null,null,null,null,null,7035,1.0658351897492992]
[null,null,null,null,null,7036,1.0730106833985684]
[null,null,null,null,null,7037,1.0618350838679089]
[null,null,null,null,null,7038,1.08248188090818]
[null,null,null,null,null,7039,1.1256287119066155]
[null,null,null,null,null,7040,1.1129164875513138]
[null,null,null,null,null,7041,1.0753894174314227]
[null,null,null,null,null,7042,{"$f":"EXP($B$11-0.5*$B$10^2)+$B$10*_xlfn.NORM.S.INV(RAND())","v":1.078652866102918}]
[null,null,null,null,null,7043,1.0359079663180248]
[null,null,null,null,null,7044,1.0875990649626164]
[null,null,null,null,null,7045,1.0676750680371745]
[null,null,null,null,null,7046,1.0783625545253648]
[null,null,null,null,null,7047,1.0760219278315795]
[null,null,null,null,null,7048,1.1220001801227071]
[null,null,null,null,null,7049,1.1120879108792938]
[null,null,null,null,null,7050,1.0998167429941916]
[null,null,null,null,null,7051,1.0870575807458092]
[null,null,null,null,null,7052,1.1029582780166705]
[null,null,null,null,null,7053,1.0868923750812642]
[null,null,null,null,null,7054,1.0750870439634668]
[null,null,null,null,null,7055,1.0818936169860729]
[null,null,null,null,null,7056,1.0740075796652131]
[null,null,null,null,null,7057,1.0473957585017952]
[null,null,null,null,null,7058,1.0932243291658614]
[null,null,null,null,null,7059,1.0663622542570117]
[null,null,null,null,null,7060,1.0635653268402609]
[null,null,null,null,null,7061,1.0499945200411458]
[null,null,null,null,null,7062,1.0686751372284473]
[null,null,null,null,null,7063,1.0739758133398651]
[null,null,null,null,null,7064,1.0886616334443897]
[null,null,null,null,null,7065,1.065247632847983]
[null,null,null,null,null,7066,1.1114679506963876]
[null,null,null,null,null,7067,1.1096531122581652]
[null,null,null,null,null,7068,1.0910532062816765]
[null,null,null,null,null,7069,1.0847239208745958]
[null,null,null,null,null,7070,1.0971380468467877]
[null,null,null,null,null,7071,1.0625720556661777]
[null,null,null,null,null,7072,1.072454151225815]
[null,null,null,null,null,7073,1.0563166666659733]
[null,null,null,null,null,7074,1.0642886976774912]
[null,null,null,null,null,7075,1.1043728149654086]
[null,null,null,null,null,7076,1.0739262458561718]
[null,null,null,null,null,7077,1.0839253676317702]
[null,null,null,null,null,7078,1.0429253316736056]
[null,null,null,null,null,7079,1.0930792163471954]
[null,null,null,null,null,7080,1.1038673848032068]
[null,null,null,null,null,7081,1.093826423501018]
[null,null,null,null,null,7082,1.0723822392669438]
[null,null,null,null,null,7083,1.0934081650291039]
[null,null,null,null,null,7084,1.0697975007056117]
[null,null,null,null,null,7085,1.110023241272591]
[null,null,null,null,null,7086,1.0758872773201944]
[null,null,null,null,null,7087,1.0619421096297976]
[null,null,null,null,null,7088,1.0659091645948449]
[null,null,null,null,null,7089,1.0661750710270752]
[null,null,null,null,null,7090,1.0900163544227204]
[null,null,null,null,null,7091,1.0706125575378831]
[null,null,null,null,null,7092,1.0712965981607427]
[null,null,null,null,null,7093,1.0833807257701611]
[null,null,null,null,null,7094,1.0634908060975168]
[null,null,null,null,null,7095,1.0861825782647494]
[null,null,null,null,null,7096,1.0861955027365486]
[null,null,null,null,null,7097,1.0817181688079014]
[null,null,null,null,null,7098,1.0762811773099488]
[null,null,null,null,null,7099,1.0859450776443862]
[null,null,null,null,null,7100,1.0796678469389203]
[null,null,null,null,null,7101,1.0883150373685879]
[null,null,null,null,null,7102,1.1060718665769895]
[null,null,null,null,null,7103,1.0427215900881699]
[null,null,null,null,null,7104,1.0807940425645934]
[null,null,null,null,null,7105,1.0752003542696476]
[null,null,null,null,null,7106,{"$f":"EXP($B$11-0.5*$B$10^2)+$B$10*_xlfn.NORM.S.INV(RAND())","v":1.07671388567696}]
[null,null,null,null,null,7107,1.0818563065736702]
[null,null,null,null,null,7108,1.0768940062524714]
[null,null,null,null,null,7109,1.0596710360347164]
[null,null,null,null,null,7110,1.07344864377407]
[null,null,null,null,null,7111,1.0588854362233484]
[null,null,null,null,null,7112,1.0576610040174175]
[null,null,null,null,null,7113,1.0760558570947178]
[null,null,null,null,null,7114,1.0932842888221481]
[null,null,null,null,null,7115,1.0805708183858556]
[null,null,null,null,null,7116,1.0984836526772259]
[null,null,null,null,null,7117,1.0510168572307044]
[null,null,null,null,null,7118,1.0602494122857804]
[null,null,null,null,null,7119,1.1031505183478072]
[null,null,null,null,null,7120,1.0781464051170602]
[null,null,null,null,null,7121,1.0727655085568966]
[null,null,null,null,null,7122,1.0629459351304218]
[null,null,null,null,null,7123,1.0648822549524537]
[null,null,null,null,null,7124,1.0877644611705655]
[null,null,null,null,null,7125,1.0711616921486966]
[null,null,null,null,null,7126,1.0709573958926768]
[null,null,null,null,null,7127,1.1071729105699617]
[null,null,null,null,null,7128,1.0268733838949589]
[null,null,null,null,null,7129,1.0822164755491306]
[null,null,null,null,null,7130,1.0861916252560035]
[null,null,null,null,null,7131,1.0914423357339542]
[null,null,null,null,null,7132,1.1155125883624673]
[null,null,null,null,null,7133,1.0814750051166708]
[null,null,null,null,null,7134,1.0680526907126608]
[null,null,null,null,null,7135,1.042059146876019]
[null,null,null,null,null,7136,1.1011694959524756]
[null,null,null,null,null,7137,1.0726947193819161]
[null,null,null,null,null,7138,1.0683207823614116]
[null,null,null,null,null,7139,1.0751335711125634]
[null,null,null,null,null,7140,1.0657987575890975]
[null,null,null,null,null,7141,1.1081481575289269]
[null,null,null,null,null,7142,1.0727405780056647]
[null,null,null,null,null,7143,1.05585859307164]
[null,null,null,null,null,7144,1.0871138808690826]
[null,null,null,null,null,7145,1.0833010856758813]
[null,null,null,null,null,7146,1.0729074769325244]
[null,null,null,null,null,7147,1.0646905411026293]
[null,null,null,null,null,7148,1.1174109097033122]
[null,null,null,null,null,7149,1.0669883121916885]
[null,null,null,null,null,7150,1.0727640108316974]
[null,null,null,null,null,7151,1.0707069860020206]
[null,null,null,null,null,7152,1.0255405809214797]
[null,null,null,null,null,7153,1.0707213238930768]
[null,null,null,null,null,7154,1.0762425869058723]
[null,null,null,null,null,7155,1.0577920734998263]
[null,null,null,null,null,7156,1.0734624254289709]
[null,null,null,null,null,7157,1.0853412914804688]
[null,null,null,null,null,7158,1.0655548067323826]
[null,null,null,null,null,7159,1.1048961994146271]
[null,null,null,null,null,7160,1.0476053956218507]
[null,null,null,null,null,7161,1.0689264717783125]
[null,null,null,null,null,7162,1.0973176538657783]
[null,null,null,null,null,7163,1.0974700755430482]
[null,null,null,null,null,7164,1.0767473138714208]
[null,null,null,null,null,7165,1.0935874186003463]
[null,null,null,null,null,7166,1.0699358631522522]
[null,null,null,null,null,7167,1.0739332415947378]
[null,null,null,null,null,7168,1.05035855423861]
[null,null,null,null,null,7169,1.0787451280418474]
[null,null,null,null,null,7170,{"$f":"EXP($B$11-0.5*$B$10^2)+$B$10*_xlfn.NORM.S.INV(RAND())","v":1.0687214270612746}]
[null,null,null,null,null,7171,1.0739835728817122]
[null,null,null,null,null,7172,1.0939473549332281]
[null,null,null,null,null,7173,1.0746446954314706]
[null,null,null,null,null,7174,1.0681359719252752]
[null,null,null,null,null,7175,1.0539562507289084]
[null,null,null,null,null,7176,1.0929601133079363]
[null,null,null,null,null,7177,1.0912159739836971]
[null,null,null,null,null,7178,1.0565636974011854]
[null,null,null,null,null,7179,1.0780092789531497]
[null,null,null,null,null,7180,1.1014160563325013]
[null,null,null,null,null,7181,1.064812446057086]
[null,null,null,null,null,7182,1.0309908638057026]
[null,null,null,null,null,7183,1.0713881466105335]
[null,null,null,null,null,7184,1.0899676970463332]
[null,null,null,null,null,7185,1.0697932784479545]
[null,null,null,null,null,7186,1.0620700104963057]
[null,null,null,null,null,7187,1.0788059801463616]
[null,null,null,null,null,7188,1.0839456293603196]
[null,null,null,null,null,7189,1.0562245105692716]
[null,null,null,null,null,7190,1.0617564211671506]
[null,null,null,null,null,7191,1.1003870267273443]
[null,null,null,null,null,7192,1.0955891229727188]
[null,null,null,null,null,7193,1.0922747602033189]
[null,null,null,null,null,7194,1.1236327687208054]
[null,null,null,null,null,7195,1.1082781995680624]
[null,null,null,null,null,7196,1.0298068435170122]
[null,null,null,null,null,7197,1.1017325253887502]
[null,null,null,null,null,7198,1.0930252235915421]
[null,null,null,null,null,7199,1.137600245851865]
[null,null,null,null,null,7200,1.1008771019566814]
[null,null,null,null,null,7201,1.1054526205948014]
[null,null,null,null,null,7202,1.1011610547868409]
[null,null,null,null,null,7203,1.0680399709990942]
[null,null,null,null,null,7204,1.0490873659871893]
[null,null,null,null,null,7205,1.0809282919361054]
[null,null,null,null,null,7206,1.0469155228697895]
[null,null,null,null,null,7207,1.1007215274288173]
[null,null,null,null,null,7208,1.0735577922388446]
[null,null,null,null,null,7209,1.0629254591534756]
[null,null,null,null,null,7210,1.0947820950378044]
[null,null,null,null,null,7211,1.0733795739912091]
[null,null,null,null,null,7212,1.1022580823043344]
[null,null,null,null,null,7213,1.1241819772461168]
[null,null,null,null,null,7214,1.0618007575023258]
[null,null,null,null,null,7215,1.1225011464066195]
[null,null,null,null,null,7216,1.0733661562611954]
[null,null,null,null,null,7217,1.068254009814396]
[null,null,null,null,null,7218,1.0716721272832779]
[null,null,null,null,null,7219,1.0960188404155904]
[null,null,null,null,null,7220,1.0744333361911806]
[null,null,null,null,null,7221,1.0581070121628751]
[null,null,null,null,null,7222,1.0919931882303429]
[null,null,null,null,null,7223,1.092430043052449]
[null,null,null,null,null,7224,1.0653621220786931]
[null,null,null,null,null,7225,1.0954717953088642]
[null,null,null,null,null,7226,1.0848053025766595]
[null,null,null,null,null,7227,1.0244804613112135]
[null,null,null,null,null,7228,1.0759430875397928]
[null,null,null,null,null,7229,1.0745659900180444]
[null,null,null,null,null,7230,1.1045708808957302]
[null,null,null,null,null,7231,1.0634387634554956]
[null,null,null,null,null,7232,1.0706721377915147]
[null,null,null,null,null,7233,1.0948174489878235]
[null,null,null,null,null,7234,{"$f":"EXP($B$11-0.5*$B$10^2)+$B$10*_xlfn.NORM.S.INV(RAND())","v":1.0917865852172228}]
[null,null,null,null,null,7235,1.0651986749444147]
[null,null,null,null,null,7236,1.1055825589012067]
[null,null,null,null,null,7237,1.0736452686237026]
[null,null,null,null,null,7238,1.0834973015011355]
[null,null,null,null,null,7239,1.0801498720608342]
[null,null,null,null,null,7240,1.03466763827412]
[null,null,null,null,null,7241,1.073216601769708]
[null,null,null,null,null,7242,1.1061896830871967]
[null,null,null,null,null,7243,1.0970513426626729]
[null,null,null,null,null,7244,1.1087085978612241]
[null,null,null,null,null,7245,1.0818181912142972]
[null,null,null,null,null,7246,1.0605514795753055]
[null,null,null,null,null,7247,1.0957532507282453]
[null,null,null,null,null,7248,1.0684943290959514]
[null,null,null,null,null,7249,1.0872794353866326]
[null,null,null,null,null,7250,1.0743238332663323]
[null,null,null,null,null,7251,1.046062934233736]
[null,null,null,null,null,7252,1.0981960330005018]
[null,null,null,null,null,7253,1.0692705813888659]
[null,null,null,null,null,7254,1.0496215396264876]
[null,null,null,null,null,7255,1.0732736689461368]
[null,null,null,null,null,7256,1.0922258782117626]
[null,null,null,null,null,7257,1.1103501610597979]
[null,null,null,null,null,7258,1.0766808906124834]
[null,null,null,null,null,7259,1.0759725915150102]
[null,null,null,null,null,7260,1.0805860149659565]
[null,null,null,null,null,7261,1.0507665366621262]
[null,null,null,null,null,7262,1.1083341336313726]
[null,null,null,null,null,7263,1.0796359802944173]
[null,null,null,null,null,7264,1.0699425240693941]
[null,null,null,null,null,7265,1.0759381710908005]
[null,null,null,null,null,7266,1.0976001111544345]
[null,null,null,null,null,7267,1.0841482297225711]
[null,null,null,null,null,7268,1.0806367007974902]
[null,null,null,null,null,7269,1.0678787411144228]
[null,null,null,null,null,7270,1.0768496722473113]
[null,null,null,null,null,7271,1.0469081700464054]
[null,null,null,null,null,7272,1.0837690914799252]
[null,null,null,null,null,7273,1.0848086412659919]
[null,null,null,null,null,7274,1.1063396781818464]
[null,null,null,null,null,7275,1.1215277208068111]
[null,null,null,null,null,7276,1.0503530735958124]
[null,null,null,null,null,7277,1.0687360004136222]
[null,null,null,null,null,7278,1.0856214825068105]
[null,null,null,null,null,7279,1.0782057392102498]
[null,null,null,null,null,7280,1.0812165482589069]
[null,null,null,null,null,7281,1.1054195677918817]
[null,null,null,null,null,7282,1.1111839787344235]
[null,null,null,null,null,7283,1.0614489047811686]
[null,null,null,null,null,7284,1.1185140977167103]
[null,null,null,null,null,7285,1.0856639604373857]
[null,null,null,null,null,7286,1.0873366811865228]
[null,null,null,null,null,7287,1.0712571952852366]
[null,null,null,null,null,7288,1.0585796856318106]
[null,null,null,null,null,7289,1.090861994576261]
[null,null,null,null,null,7290,1.0856775178624576]
[null,null,null,null,null,7291,1.036664209556927]
[null,null,null,null,null,7292,1.1073874841820974]
[null,null,null,null,null,7293,1.0426331364611088]
[null,null,null,null,null,7294,1.0855655551553383]
[null,null,null,null,null,7295,1.0413421832993126]
[null,null,null,null,null,7296,1.1092774126493774]
[null,null,null,null,null,7297,1.1011174048842927]
[null,null,null,null,null,7298,{"$f":"EXP($B$11-0.5*$B$10^2)+$B$10*_xlfn.NORM.S.INV(RAND())","v":1.0786769306663371}]
[null,null,null,null,null,7299,1.064656862480331]
[null,null,null,null,null,7300,1.0736884769291286]
[null,null,null,null,null,7301,1.0835347990033468]
[null,null,null,null,null,7302,1.0660979229059366]
[null,null,null,null,null,7303,1.0655764040169198]
[null,null,null,null,null,7304,1.054187062483452]
[null,null,null,null,null,7305,1.0743836941977289]
[null,null,null,null,null,7306,1.093174823695616]
[null,null,null,null,null,7307,1.0958200833588758]
[null,null,null,null,null,7308,1.0676208965111529]
[null,null,null,null,null,7309,1.0913291226516937]
[null,null,null,null,null,7310,1.0512518835576774]
[null,null,null,null,null,7311,1.0516143879461277]
[null,null,null,null,null,7312,1.0766033588440314]
[null,null,null,null,null,7313,1.0584409009302602]
[null,null,null,null,null,7314,1.0982067617585891]
[null,null,null,null,null,7315,1.0950777400988898]
[null,null,null,null,null,7316,1.0997575415936665]
[null,null,null,null,null,7317,1.0684131973079831]
[null,null,null,null,null,7318,1.0958290897536078]
[null,null,null,null,null,7319,1.0707587888609924]
[null,null,null,null,null,7320,1.0957766152637514]
[null,null,null,null,null,7321,1.0852338217056472]
[null,null,null,null,null,7322,1.0697546825796362]
[null,null,null,null,null,7323,1.0742077090991633]
[null,null,null,null,null,7324,1.1070765410043351]
[null,null,null,null,null,7325,1.0842921654511009]
[null,null,null,null,null,7326,1.0943926171748499]
[null,null,null,null,null,7327,1.0519458935554753]
[null,null,null,null,null,7328,1.092536940685918]
[null,null,null,null,null,7329,1.1164278400360823]
[null,null,null,null,null,7330,1.0400176233850027]
[null,null,null,null,null,7331,1.0717746742568408]
[null,null,null,null,null,7332,1.0825563663890256]
[null,null,null,null,null,7333,1.0413925911442288]
[null,null,null,null,null,7334,1.0809444123902183]
[null,null,null,null,null,7335,1.0776120167869663]
[null,null,null,null,null,7336,1.0497399379805352]
[null,null,null,null,null,7337,1.0956338802897909]
[null,null,null,null,null,7338,1.0838935360721778]
[null,null,null,null,null,7339,1.0727857753920884]
[null,null,null,null,null,7340,1.0532512059158494]
[null,null,null,null,null,7341,1.0396543635977082]
[null,null,null,null,null,7342,1.0486561027217305]
[null,null,null,null,null,7343,1.0817616996047663]
[null,null,null,null,null,7344,1.1078052160220968]
[null,null,null,null,null,7345,1.072306842893022]
[null,null,null,null,null,7346,1.0743109043599368]
[null,null,null,null,null,7347,1.0254945919073635]
[null,null,null,null,null,7348,1.0724493592582471]
[null,null,null,null,null,7349,1.0893964244319014]
[null,null,null,null,null,7350,1.0698243881451504]
[null,null,null,null,null,7351,1.0834059272916348]
[null,null,null,null,null,7352,1.0831971241420733]
[null,null,null,null,null,7353,1.0804110829959648]
[null,null,null,null,null,7354,1.0473261393147892]
[null,null,null,null,null,7355,1.0964748796441739]
[null,null,null,null,null,7356,1.0851301210958153]
[null,null,null,null,null,7357,1.0615735988317072]
[null,null,null,null,null,7358,1.063771407599011]
[null,null,null,null,null,7359,1.0660425252751677]
[null,null,null,null,null,7360,1.0790119630948309]
[null,null,null,null,null,7361,1.0854195101370265]
[null,null,null,null,null,7362,{"$f":"EXP($B$11-0.5*$B$10^2)+$B$10*_xlfn.NORM.S.INV(RAND())","v":1.074770132105346}]
[null,null,null,null,null,7363,1.0877159539704255]
[null,null,null,null,null,7364,1.0948381137237972]
[null,null,null,null,null,7365,1.0900337196173646]
[null,null,null,null,null,7366,1.0835228964863177]
[null,null,null,null,null,7367,1.0619644331327658]
[null,null,null,null,null,7368,1.1103876762765865]
[null,null,null,null,null,7369,1.0930934907641896]
[null,null,null,null,null,7370,1.0585723561975449]
[null,null,null,null,null,7371,1.0620473432068802]
[null,null,null,null,null,7372,1.0446361346951254]
[null,null,null,null,null,7373,1.0949339866379522]
[null,null,null,null,null,7374,1.0704729706306508]
[null,null,null,null,null,7375,1.1132938506648709]
[null,null,null,null,null,7376,1.0594368400320924]
[null,null,null,null,null,7377,1.076282001730503]
[null,null,null,null,null,7378,1.0724503930587757]
[null,null,null,null,null,7379,1.0592291798843125]
[null,null,null,null,null,7380,1.0676646085742927]
[null,null,null,null,null,7381,1.073174447697907]
[null,null,null,null,null,7382,1.0569132812675712]
[null,null,null,null,null,7383,1.0618543573377832]
[null,null,null,null,null,7384,1.0814459202894862]
[null,null,null,null,null,7385,1.084715244153551]
[null,null,null,null,null,7386,1.0522494648538041]
[null,null,null,null,null,7387,1.0491410758376314]
[null,null,null,null,null,7388,1.043863701605257]
[null,null,null,null,null,7389,1.1148469115430144]
[null,null,null,null,null,7390,1.070688601513492]
[null,null,null,null,null,7391,1.0917698589520342]
[null,null,null,null,null,7392,1.076202316777799]
[null,null,null,null,null,7393,1.0996875612196677]
[null,null,null,null,null,7394,1.0948436449977565]
[null,null,null,null,null,7395,1.0667949066451554]
[null,null,null,null,null,7396,1.0796369944791466]
[null,null,null,null,null,7397,1.0654921095966248]
[null,null,null,null,null,7398,1.0765908731029386]
[null,null,null,null,null,7399,1.1043075747023086]
[null,null,null,null,null,7400,1.0548681611739839]
[null,null,null,null,null,7401,1.0834746474379611]
[null,null,null,null,null,7402,1.0470976482804459]
[null,null,null,null,null,7403,1.0943130782498398]
[null,null,null,null,null,7404,1.0870245208735536]
[null,null,null,null,null,7405,1.0928646719947879]
[null,null,null,null,null,7406,1.0443651940880729]
[null,null,null,null,null,7407,1.078640631680589]
[null,null,null,null,null,7408,1.0864034652926386]
[null,null,null,null,null,7409,1.0526088722457003]
[null,null,null,null,null,7410,1.0802106323631315]
[null,null,null,null,null,7411,1.0626592964816928]
[null,null,null,null,null,7412,1.0673000985517753]
[null,null,null,null,null,7413,1.0576978687456522]
[null,null,null,null,null,7414,1.1256428954428837]
[null,null,null,null,null,7415,1.0995211818155974]
[null,null,null,null,null,7416,1.0514662988582619]
[null,null,null,null,null,7417,1.0720099870422373]
[null,null,null,null,null,7418,1.1171132659486915]
[null,null,null,null,null,7419,1.0651860340438397]
[null,null,null,null,null,7420,1.082617288156563]
[null,null,null,null,null,7421,1.0490867052837443]
[null,null,null,null,null,7422,1.1039288925491402]
[null,null,null,null,null,7423,1.0570786409819195]
[null,null,null,null,null,7424,1.0773473318010831]
[null,null,null,null,null,7425,1.0872124731272061]
[null,null,null,null,null,7426,{"$f":"EXP($B$11-0.5*$B$10^2)+$B$10*_xlfn.NORM.S.INV(RAND())","v":1.0733487147779226}]
[null,null,null,null,null,7427,1.0886967067891835]
[null,null,null,null,null,7428,1.1094810140337934]
[null,null,null,null,null,7429,1.0972259552700152]
[null,null,null,null,null,7430,1.0754032510253395]
[null,null,null,null,null,7431,1.0665670633966537]
[null,null,null,null,null,7432,1.0468551206458745]
[null,null,null,null,null,7433,1.083210611669404]
[null,null,null,null,null,7434,1.0768282427644043]
[null,null,null,null,null,7435,1.0828079436344182]
[null,null,null,null,null,7436,1.0950141989158353]
[null,null,null,null,null,7437,1.0825649201268801]
[null,null,null,null,null,7438,1.0821642119666639]
[null,null,null,null,null,7439,1.0863384818989195]
[null,null,null,null,null,7440,1.0990158840931243]
[null,null,null,null,null,7441,1.0810805884166799]
[null,null,null,null,null,7442,1.0793976401584691]
[null,null,null,null,null,7443,1.082982782213362]
[null,null,null,null,null,7444,1.0868041587033321]
[null,null,null,null,null,7445,1.0720022669627642]
[null,null,null,null,null,7446,1.0663629424466798]
[null,null,null,null,null,7447,1.0618362825269414]
[null,null,null,null,null,7448,1.0958730683163016]
[null,null,null,null,null,7449,1.0929086573085276]
[null,null,null,null,null,7450,1.1261572341338912]
[null,null,null,null,null,7451,1.0510365437329878]
[null,null,null,null,null,7452,1.0409486457795238]
[null,null,null,null,null,7453,1.0743837707751898]
[null,null,null,null,null,7454,1.0906517809735501]
[null,null,null,null,null,7455,1.0648420156088765]
[null,null,null,null,null,7456,1.077451885577293]
[null,null,null,null,null,7457,1.0627167055536348]
[null,null,null,null,null,7458,1.0810074096730198]
[null,null,null,null,null,7459,1.0580080632512858]
[null,null,null,null,null,7460,1.103318205683784]
[null,null,null,null,null,7461,1.0991335426976347]
[null,null,null,null,null,7462,1.0536655523441949]
[null,null,null,null,null,7463,1.0824287993095825]
[null,null,null,null,null,7464,1.0582720912907326]
[null,null,null,null,null,7465,1.078554949795927]
[null,null,null,null,null,7466,1.0584845558260503]
[null,null,null,null,null,7467,1.0791900469869595]
[null,null,null,null,null,7468,1.0736762125095725]
[null,null,null,null,null,7469,1.0459837842378237]
[null,null,null,null,null,7470,1.056844545496695]
[null,null,null,null,null,7471,1.0565024861738639]
[null,null,null,null,null,7472,1.0424524803105994]
[null,null,null,null,null,7473,1.1348302807138546]
[null,null,null,null,null,7474,1.099469738941427]
[null,null,null,null,null,7475,1.0761972769688861]
[null,null,null,null,null,7476,1.0782897252341848]
[null,null,null,null,null,7477,1.0632330195727335]
[null,null,null,null,null,7478,1.1496738081138709]
[null,null,null,null,null,7479,1.1021891452122701]
[null,null,null,null,null,7480,1.1081234842288208]
[null,null,null,null,null,7481,1.1044149974089306]
[null,null,null,null,null,7482,1.0454245554676942]
[null,null,null,null,null,7483,1.0391835655543533]
[null,null,null,null,null,7484,1.0594206170300879]
[null,null,null,null,null,7485,1.0827917545162453]
[null,null,null,null,null,7486,1.0552200584673779]
[null,null,null,null,null,7487,1.08127270327192]
[null,null,null,null,null,7488,1.077674161139442]
[null,null,null,null,null,7489,1.0552309951199008]
[null,null,null,null,null,7490,{"$f":"EXP($B$11-0.5*$B$10^2)+$B$10*_xlfn.NORM.S.INV(RAND())","v":1.0568664998387016}]
[null,null,null,null,null,7491,1.0736604004358643]
[null,null,null,null,null,7492,1.0488825681169416]
[null,null,null,null,null,7493,1.0757862928700712]
[null,null,null,null,null,7494,1.0708497416873028]
[null,null,null,null,null,7495,1.0713708988842441]
[null,null,null,null,null,7496,1.0447565474175342]
[null,null,null,null,null,7497,1.053370724720426]
[null,null,null,null,null,7498,1.0952437790863179]
[null,null,null,null,null,7499,1.0460566712406594]
[null,null,null,null,null,7500,1.060068470791657]
[null,null,null,null,null,7501,1.0463967554983775]
[null,null,null,null,null,7502,1.0706883500311326]
[null,null,null,null,null,7503,1.0610300779747768]
[null,null,null,null,null,7504,1.091397746664184]
[null,null,null,null,null,7505,1.0509017181779632]
[null,null,null,null,null,7506,1.1130327986885762]
[null,null,null,null,null,7507,1.0741467893463996]
[null,null,null,null,null,7508,1.0691685145595411]
[null,null,null,null,null,7509,1.1074635194446971]
[null,null,null,null,null,7510,1.0390594249250151]
[null,null,null,null,null,7511,1.0803109351381075]
[null,null,null,null,null,7512,1.1045175106345839]
[null,null,null,null,null,7513,1.0758493795769135]
[null,null,null,null,null,7514,1.1163673773081288]
[null,null,null,null,null,7515,1.0875924293731996]
[null,null,null,null,null,7516,1.0826367055324133]
[null,null,null,null,null,7517,1.0718133318247542]
[null,null,null,null,null,7518,1.1161089573122713]
[null,null,null,null,null,7519,1.0624511728450736]
[null,null,null,null,null,7520,1.0737353062925996]
[null,null,null,null,null,7521,1.0791235180966872]
[null,null,null,null,null,7522,1.0714297296672721]
[null,null,null,null,null,7523,1.0730614974280139]
[null,null,null,null,null,7524,1.0638111942259449]
[null,null,null,null,null,7525,1.0416541952522824]
[null,null,null,null,null,7526,1.047784063578032]
[null,null,null,null,null,7527,1.084781875105669]
[null,null,null,null,null,7528,1.0704710205346317]
[null,null,null,null,null,7529,1.0669497362767004]
[null,null,null,null,null,7530,1.0575779815154907]
[null,null,null,null,null,7531,1.0788814571315937]
[null,null,null,null,null,7532,1.1065682687859746]
[null,null,null,null,null,7533,1.0475585309670057]
[null,null,null,null,null,7534,1.0718099585661287]
[null,null,null,null,null,7535,1.0617309286955336]
[null,null,null,null,null,7536,1.1048645935523504]
[null,null,null,null,null,7537,1.0806257676563167]
[null,null,null,null,null,7538,1.1119931469477922]
[null,null,null,null,null,7539,1.0870218696326137]
[null,null,null,null,null,7540,1.1096478636415017]
[null,null,null,null,null,7541,1.1068867216307254]
[null,null,null,null,null,7542,1.1008738395952864]
[null,null,null,null,null,7543,1.0708971923790511]
[null,null,null,null,null,7544,1.0407607788531044]
[null,null,null,null,null,7545,1.0877396703473008]
[null,null,null,null,null,7546,1.0734288488555093]
[null,null,null,null,null,7547,1.0578237332721896]
[null,null,null,null,null,7548,1.0629290992467662]
[null,null,null,null,null,7549,1.0746158882920791]
[null,null,null,null,null,7550,1.0426550933568473]
[null,null,null,null,null,7551,1.0658857730204605]
[null,null,null,null,null,7552,1.0750185344874308]
[null,null,null,null,null,7553,1.0539021299159022]
[null,null,null,null,null,7554,{"$f":"EXP($B$11-0.5*$B$10^2)+$B$10*_xlfn.NORM.S.INV(RAND())","v":1.0490621804572546}]
[null,null,null,null,null,7555,1.0670770965582907]
[null,null,null,null,null,7556,1.0648103588119464]
[null,null,null,null,null,7557,1.0601434233777824]
[null,null,null,null,null,7558,1.0682908198466732]
[null,null,null,null,null,7559,1.0751836680734217]
[null,null,null,null,null,7560,1.1334536248151661]
[null,null,null,null,null,7561,1.0810264476236353]
[null,null,null,null,null,7562,1.0861608028774086]
[null,null,null,null,null,7563,1.0938062865644453]
[null,null,null,null,null,7564,1.0945632004417742]
[null,null,null,null,null,7565,1.0776587009813283]
[null,null,null,null,null,7566,1.0881667406553281]
[null,null,null,null,null,7567,1.0641925321321739]
[null,null,null,null,null,7568,1.0823334297284801]
[null,null,null,null,null,7569,1.061774844616679]
[null,null,null,null,null,7570,1.0771406414804434]
[null,null,null,null,null,7571,1.057107321737603]
[null,null,null,null,null,7572,1.0727665570689469]
[null,null,null,null,null,7573,1.0395730209630303]
[null,null,null,null,null,7574,1.0569733744114294]
[null,null,null,null,null,7575,1.0832101464167698]
[null,null,null,null,null,7576,1.0591154738354465]
[null,null,null,null,null,7577,1.0612479862964053]
[null,null,null,null,null,7578,1.0945548850132241]
[null,null,null,null,null,7579,1.1024454949238611]
[null,null,null,null,null,7580,1.0592936291104122]
[null,null,null,null,null,7581,1.0853285026613841]
[null,null,null,null,null,7582,1.0568515205481863]
[null,null,null,null,null,7583,1.0553355916683447]
[null,null,null,null,null,7584,1.0638532206595728]
[null,null,null,null,null,7585,1.0974229242053259]
[null,null,null,null,null,7586,1.063422745525527]
[null,null,null,null,null,7587,1.0716524920184434]
[null,null,null,null,null,7588,1.0830470209295768]
[null,null,null,null,null,7589,1.0570181582996288]
[null,null,null,null,null,7590,1.1001435281963519]
[null,null,null,null,null,7591,1.0769922524831486]
[null,null,null,null,null,7592,1.0785793963051249]
[null,null,null,null,null,7593,1.0311301110104065]
[null,null,null,null,null,7594,1.05149145708921]
[null,null,null,null,null,7595,1.0827972909653314]
[null,null,null,null,null,7596,1.084925210376116]
[null,null,null,null,null,7597,1.090780336476747]
[null,null,null,null,null,7598,1.0819511444242047]
[null,null,null,null,null,7599,1.0725265072513359]
[null,null,null,null,null,7600,1.0594742030617075]
[null,null,null,null,null,7601,1.0803106754685086]
[null,null,null,null,null,7602,1.0474672317039613]
[null,null,null,null,null,7603,1.0857658921261786]
[null,null,null,null,null,7604,1.1163909202460205]
[null,null,null,null,null,7605,1.0324840913936795]
[null,null,null,null,null,7606,1.1006175284783946]
[null,null,null,null,null,7607,1.0600573148434622]
[null,null,null,null,null,7608,1.0959181308273795]
[null,null,null,null,null,7609,1.0869705799039149]
[null,null,null,null,null,7610,1.0390745209907952]
[null,null,null,null,null,7611,1.097878603055592]
[null,null,null,null,null,7612,1.053632065157285]
[null,null,null,null,null,7613,1.0997126072586529]
[null,null,null,null,null,7614,1.1041722414853856]
[null,null,null,null,null,7615,1.0649376022392121]
[null,null,null,null,null,7616,1.038503388024651]
[null,null,null,null,null,7617,1.1185884771964034]
[null,null,null,null,null,7618,{"$f":"EXP($B$11-0.5*$B$10^2)+$B$10*_xlfn.NORM.S.INV(RAND())","v":1.0572965486182149}]
[null,null,null,null,null,7619,1.0944500202818082]
[null,null,null,null,null,7620,1.0746588107527653]
[null,null,null,null,null,7621,1.0648305391613777]
[null,null,null,null,null,7622,1.061163936276172]
[null,null,null,null,null,7623,1.1062348715999455]
[null,null,null,null,null,7624,1.0837977658178151]
[null,null,null,null,null,7625,1.0560836527776798]
[null,null,null,null,null,7626,1.0457874410392067]
[null,null,null,null,null,7627,1.0948478834631883]
[null,null,null,null,null,7628,1.0825788047624492]
[null,null,null,null,null,7629,1.0689942334427129]
[null,null,null,null,null,7630,1.1063389516768836]
[null,null,null,null,null,7631,1.0833736293096157]
[null,null,null,null,null,7632,1.0445358133123237]
[null,null,null,null,null,7633,1.0676696033048494]
[null,null,null,null,null,7634,1.098600475872068]
[null,null,null,null,null,7635,1.0806014509753283]
[null,null,null,null,null,7636,1.0648189202412184]
[null,null,null,null,null,7637,1.0992187496686558]
[null,null,null,null,null,7638,1.0281482385841905]
[null,null,null,null,null,7639,1.0533097463336467]
[null,null,null,null,null,7640,1.0780791633892266]
[null,null,null,null,null,7641,1.0762232733928652]
[null,null,null,null,null,7642,1.062290132256188]
[null,null,null,null,null,7643,1.0871554312631899]
[null,null,null,null,null,7644,1.0917258120900279]
[null,null,null,null,null,7645,1.1016728145735684]
[null,null,null,null,null,7646,1.0641616258510493]
[null,null,null,null,null,7647,1.0556946393913846]
[null,null,null,null,null,7648,1.1061023990337824]
[null,null,null,null,null,7649,1.0846093503952821]
[null,null,null,null,null,7650,1.0857386278581256]
[null,null,null,null,null,7651,1.0759670222515181]
[null,null,null,null,null,7652,1.0650244234547179]
[null,null,null,null,null,7653,1.1037824203724833]
[null,null,null,null,null,7654,1.0889020795216533]
[null,null,null,null,null,7655,1.060420199762707]
[null,null,null,null,null,7656,1.0627517279248424]
[null,null,null,null,null,7657,1.0779068709002522]
[null,null,null,null,null,7658,1.0909873466521611]
[null,null,null,null,null,7659,1.0777338613435969]
[null,null,null,null,null,7660,1.0882389914175974]
[null,null,null,null,null,7661,1.0617359250263319]
[null,null,null,null,null,7662,1.0717617651210716]
[null,null,null,null,null,7663,1.0819765198577325]
[null,null,null,null,null,7664,1.0639412187765034]
[null,null,null,null,null,7665,1.0317438646449346]
[null,null,null,null,null,7666,1.0644406258802541]
[null,null,null,null,null,7667,1.0734302433043676]
[null,null,null,null,null,7668,1.0677958498164837]
[null,null,null,null,null,7669,1.0677961794346189]
[null,null,null,null,null,7670,1.0625732584648322]
[null,null,null,null,null,7671,1.0468313362978636]
[null,null,null,null,null,7672,1.0808540373038222]
[null,null,null,null,null,7673,1.0738377997514996]
[null,null,null,null,null,7674,1.075127056908175]
[null,null,null,null,null,7675,1.0658454281160019]
[null,null,null,null,null,7676,1.0484214207834788]
[null,null,null,null,null,7677,1.0981644864039644]
[null,null,null,null,null,7678,1.1053742391015537]
[null,null,null,null,null,7679,1.0788941466304447]
[null,null,null,null,null,7680,1.0910328113696923]
[null,null,null,null,null,7681,1.0507571489095364]
[null,null,null,null,null,7682,{"$f":"EXP($B$11-0.5*$B$10^2)+$B$10*_xlfn.NORM.S.INV(RAND())","v":1.0419127057541633}]
[null,null,null,null,null,7683,1.0575812787084693]
[null,null,null,null,null,7684,1.0843985401776792]
[null,null,null,null,null,7685,1.0590354066636825]
[null,null,null,null,null,7686,1.0760224606252531]
[null,null,null,null,null,7687,1.0856241312894681]
[null,null,null,null,null,7688,1.0812153788979721]
[null,null,null,null,null,7689,1.0790519280812867]
[null,null,null,null,null,7690,1.0968308979661863]
[null,null,null,null,null,7691,1.0796289952554445]
[null,null,null,null,null,7692,1.0649804622320909]
[null,null,null,null,null,7693,1.0973259174423853]
[null,null,null,null,null,7694,1.0592581504901026]
[null,null,null,null,null,7695,1.090517402367841]
[null,null,null,null,null,7696,1.0620479613330416]
[null,null,null,null,null,7697,1.0377656449813677]
[null,null,null,null,null,7698,1.0985934197813711]
[null,null,null,null,null,7699,1.072931760536453]
[null,null,null,null,null,7700,1.0744086808750086]
[null,null,null,null,null,7701,1.0894741411457334]
[null,null,null,null,null,7702,1.0710967097166777]
[null,null,null,null,null,7703,1.0466809314807921]
[null,null,null,null,null,7704,1.0476814494926663]
[null,null,null,null,null,7705,1.0553742061316764]
[null,null,null,null,null,7706,1.0720536085760914]
[null,null,null,null,null,7707,1.0748877582994274]
[null,null,null,null,null,7708,1.0885154555860856]
[null,null,null,null,null,7709,1.0743161303710578]
[null,null,null,null,null,7710,1.0601329935243997]
[null,null,null,null,null,7711,1.051249578364519]
[null,null,null,null,null,7712,1.1182671181572601]
[null,null,null,null,null,7713,1.0761136824472277]
[null,null,null,null,null,7714,1.0532724369398045]
[null,null,null,null,null,7715,1.1004789644230644]
[null,null,null,null,null,7716,1.0794453187511661]
[null,null,null,null,null,7717,1.0752366594559337]
[null,null,null,null,null,7718,1.0616726884838259]
[null,null,null,null,null,7719,1.0527202935864604]
[null,null,null,null,null,7720,1.0772022913335053]
[null,null,null,null,null,7721,1.0880232959313474]
[null,null,null,null,null,7722,1.0596129262210134]
[null,null,null,null,null,7723,1.0407493048044847]
[null,null,null,null,null,7724,1.0488057748002206]
[null,null,null,null,null,7725,1.0781898720120555]
[null,null,null,null,null,7726,1.0706322922413687]
[null,null,null,null,null,7727,1.0625792354352439]
[null,null,null,null,null,7728,1.1180774248831733]
[null,null,null,null,null,7729,1.1211181728006714]
[null,null,null,null,null,7730,1.0764519720956389]
[null,null,null,null,null,7731,1.060537576332772]
[null,null,null,null,null,7732,1.0478947303073385]
[null,null,null,null,null,7733,1.0376693908643915]
[null,null,null,null,null,7734,1.0334537893602416]
[null,null,null,null,null,7735,1.0936744750793199]
[null,null,null,null,null,7736,1.0849891372047571]
[null,null,null,null,null,7737,1.0718037392721469]
[null,null,null,null,null,7738,1.0843500713563823]
[null,null,null,null,null,7739,1.0832129094858016]
[null,null,null,null,null,7740,1.0429862006731745]
[null,null,null,null,null,7741,1.0850217486025013]
[null,null,null,null,null,7742,1.0532213670591644]
[null,null,null,null,null,7743,1.0567571136695721]
[null,null,null,null,null,7744,1.0587239459832851]
[null,null,null,null,null,7745,1.0927083125202011]
[null,null,null,null,null,7746,{"$f":"EXP($B$11-0.5*$B$10^2)+$B$10*_xlfn.NORM.S.INV(RAND())","v":1.0969419471134236}]
[null,null,null,null,null,7747,1.0615122399361376]
[null,null,null,null,null,7748,1.0801117032505911]
[null,null,null,null,null,7749,1.0729320981725616]
[null,null,null,null,null,7750,1.0724634408074005]
[null,null,null,null,null,7751,1.110090239222512]
[null,null,null,null,null,7752,1.0752182702210036]
[null,null,null,null,null,7753,1.0601495070385012]
[null,null,null,null,null,7754,1.0696786244153611]
[null,null,null,null,null,7755,1.063742940192403]
[null,null,null,null,null,7756,1.0854190145002733]
[null,null,null,null,null,7757,1.0716369898801121]
[null,null,null,null,null,7758,1.0987247953083885]
[null,null,null,null,null,7759,1.0968967997915477]
[null,null,null,null,null,7760,1.0701063377068021]
[null,null,null,null,null,7761,1.0363416775570058]
[null,null,null,null,null,7762,1.0500724397577812]
[null,null,null,null,null,7763,1.1085200086378013]
[null,null,null,null,null,7764,1.0788722113317968]
[null,null,null,null,null,7765,1.0828801855602253]
[null,null,null,null,null,7766,1.1066535362245273]
[null,null,null,null,null,7767,1.0858530307446552]
[null,null,null,null,null,7768,1.09366422799436]
[null,null,null,null,null,7769,1.0914253526314075]
[null,null,null,null,null,7770,1.0820051668627273]
[null,null,null,null,null,7771,1.0923005480302002]
[null,null,null,null,null,7772,1.0500374995764481]
[null,null,null,null,null,7773,1.0640153856962524]
[null,null,null,null,null,7774,1.0770752923683213]
[null,null,null,null,null,7775,1.0887461454715859]
[null,null,null,null,null,7776,1.0591060697598043]
[null,null,null,null,null,7777,1.0473111244841233]
[null,null,null,null,null,7778,1.084480354908905]
[null,null,null,null,null,7779,1.0994334241601358]
[null,null,null,null,null,7780,1.0443133976039261]
[null,null,null,null,null,7781,1.0836395749265706]
[null,null,null,null,null,7782,1.1001648695853936]
[null,null,null,null,null,7783,1.0440070600122011]
[null,null,null,null,null,7784,1.0503101617208315]
[null,null,null,null,null,7785,1.1020980420191284]
[null,null,null,null,null,7786,1.0426740565620785]
[null,null,null,null,null,7787,1.0780237913827162]
[null,null,null,null,null,7788,1.0728820003162984]
[null,null,null,null,null,7789,1.0801423263989689]
[null,null,null,null,null,7790,1.0772697037852386]
[null,null,null,null,null,7791,1.0924886127789948]
[null,null,null,null,null,7792,1.0834418903097482]
[null,null,null,null,null,7793,1.107059865885947]
[null,null,null,null,null,7794,1.0615224548239293]
[null,null,null,null,null,7795,1.0941128577230188]
[null,null,null,null,null,7796,1.0681910247089312]
[null,null,null,null,null,7797,1.0630978770885888]
[null,null,null,null,null,7798,1.0554657779057728]
[null,null,null,null,null,7799,1.0801276797970254]
[null,null,null,null,null,7800,1.0402132428989797]
[null,null,null,null,null,7801,1.0823272914895481]
[null,null,null,null,null,7802,1.0492884525359287]
[null,null,null,null,null,7803,1.0560212852003386]
[null,null,null,null,null,7804,1.0979248324072914]
[null,null,null,null,null,7805,1.0584699115366325]
[null,null,null,null,null,7806,1.0613511810991341]
[null,null,null,null,null,7807,1.1096373282524923]
[null,null,null,null,null,7808,1.073535291086029]
[null,null,null,null,null,7809,1.078305856552515]
[null,null,null,null,null,7810,{"$f":"EXP($B$11-0.5*$B$10^2)+$B$10*_xlfn.NORM.S.INV(RAND())","v":1.0728031833103011}]
[null,null,null,null,null,7811,1.0720240374615149]
[null,null,null,null,null,7812,1.0878940911434687]
[null,null,null,null,null,7813,1.0933849388496175]
[null,null,null,null,null,7814,1.0848090233844656]
[null,null,null,null,null,7815,1.0829553449141109]
[null,null,null,null,null,7816,1.0921422879977234]
[null,null,null,null,null,7817,1.0918147612822799]
[null,null,null,null,null,7818,1.0663899072490231]
[null,null,null,null,null,7819,1.079259532530161]
[null,null,null,null,null,7820,1.082051287564364]
[null,null,null,null,null,7821,1.0721511047121344]
[null,null,null,null,null,7822,1.0751816334835123]
[null,null,null,null,null,7823,1.0898679530343884]
[null,null,null,null,null,7824,1.0575352394503224]
[null,null,null,null,null,7825,1.0649312372162394]
[null,null,null,null,null,7826,1.0783492235948682]
[null,null,null,null,null,7827,1.0689291352148353]
[null,null,null,null,null,7828,1.0615758272350053]
[null,null,null,null,null,7829,1.072269603534183]
[null,null,null,null,null,7830,1.0644042957442854]
[null,null,null,null,null,7831,1.1166476041980218]
[null,null,null,null,null,7832,1.0832046872081367]
[null,null,null,null,null,7833,1.0765123638156948]
[null,null,null,null,null,7834,1.0796793718101836]
[null,null,null,null,null,7835,1.0719413827022588]
[null,null,null,null,null,7836,1.0955812949084771]
[null,null,null,null,null,7837,1.069968342721592]
[null,null,null,null,null,7838,1.1071148721833353]
[null,null,null,null,null,7839,1.0544608955254211]
[null,null,null,null,null,7840,1.082021429529042]
[null,null,null,null,null,7841,1.1548752873059678]
[null,null,null,null,null,7842,1.040253619175725]
[null,null,null,null,null,7843,1.0403183578760051]
[null,null,null,null,null,7844,1.0993586276684251]
[null,null,null,null,null,7845,1.0703554906031649]
[null,null,null,null,null,7846,1.0584770404052679]
[null,null,null,null,null,7847,1.0780493645114515]
[null,null,null,null,null,7848,1.0855497668543412]
[null,null,null,null,null,7849,1.0506323480716571]
[null,null,null,null,null,7850,1.0865813895577729]
[null,null,null,null,null,7851,1.0891098789673497]
[null,null,null,null,null,7852,1.0901407036742239]
[null,null,null,null,null,7853,1.0624392704404524]
[null,null,null,null,null,7854,1.0768286667813578]
[null,null,null,null,null,7855,1.1053140414823255]
[null,null,null,null,null,7856,1.0724964309092271]
[null,null,null,null,null,7857,1.0881938896070391]
[null,null,null,null,null,7858,1.0564704984497564]
[null,null,null,null,null,7859,1.0741857495382092]
[null,null,null,null,null,7860,1.0753231682213837]
[null,null,null,null,null,7861,1.0931776552658252]
[null,null,null,null,null,7862,1.0431398412881749]
[null,null,null,null,null,7863,1.05258465768132]
[null,null,null,null,null,7864,1.0388160229127739]
[null,null,null,null,null,7865,1.0669074735951454]
[null,null,null,null,null,7866,1.1029328630780393]
[null,null,null,null,null,7867,1.0721589774653186]
[null,null,null,null,null,7868,1.0741219619296181]
[null,null,null,null,null,7869,1.0518890883374534]
[null,null,null,null,null,7870,1.0905255186876988]
[null,null,null,null,null,7871,1.0433512395045252]
[null,null,null,null,null,7872,1.0832338492540481]
[null,null,null,null,null,7873,1.0451505480512264]
[null,null,null,null,null,7874,{"$f":"EXP($B$11-0.5*$B$10^2)+$B$10*_xlfn.NORM.S.INV(RAND())","v":1.0495357666881837}]
[null,null,null,null,null,7875,1.0628949060159056]
[null,null,null,null,null,7876,1.065592059030064]
[null,null,null,null,null,7877,1.059469317378545]
[null,null,null,null,null,7878,1.1049672658567771]
[null,null,null,null,null,7879,1.0697936937018566]
[null,null,null,null,null,7880,1.0576805810345644]
[null,null,null,null,null,7881,1.0788479143364471]
[null,null,null,null,null,7882,1.1062473965082307]
[null,null,null,null,null,7883,1.0996192431325917]
[null,null,null,null,null,7884,1.1101799488840303]
[null,null,null,null,null,7885,1.0220212647590432]
[null,null,null,null,null,7886,1.0847363756062909]
[null,null,null,null,null,7887,1.0990843513043584]
[null,null,null,null,null,7888,1.0623727815141846]
[null,null,null,null,null,7889,1.1030170876474492]
[null,null,null,null,null,7890,1.0366739184858871]
[null,null,null,null,null,7891,1.0813032708113397]
[null,null,null,null,null,7892,1.0715290289145902]
[null,null,null,null,null,7893,1.0642235902889323]
[null,null,null,null,null,7894,1.0834385284727599]
[null,null,null,null,null,7895,1.0768893507593142]
[null,null,null,null,null,7896,1.0775220663951799]
[null,null,null,null,null,7897,1.0581737850422128]
[null,null,null,null,null,7898,1.0756915701963321]
[null,null,null,null,null,7899,1.0990920402650655]
[null,null,null,null,null,7900,1.0677517038716222]
[null,null,null,null,null,7901,1.0529529528361847]
[null,null,null,null,null,7902,1.0777031093055196]
[null,null,null,null,null,7903,1.0859964803963138]
[null,null,null,null,null,7904,1.0814207110480316]
[null,null,null,null,null,7905,1.0656694073565767]
[null,null,null,null,null,7906,1.0929211177271663]
[null,null,null,null,null,7907,1.0633481804088811]
[null,null,null,null,null,7908,1.0495250893036538]
[null,null,null,null,null,7909,1.0430377478867929]
[null,null,null,null,null,7910,1.0750209297403728]
[null,null,null,null,null,7911,1.047392437693534]
[null,null,null,null,null,7912,1.0906865837008393]
[null,null,null,null,null,7913,1.0722232450655835]
[null,null,null,null,null,7914,1.0748982735106463]
[null,null,null,null,null,7915,1.0618742197766948]
[null,null,null,null,null,7916,1.0870929889227297]
[null,null,null,null,null,7917,1.0672076954598304]
[null,null,null,null,null,7918,1.0700761152560394]
[null,null,null,null,null,7919,1.106435125692298]
[null,null,null,null,null,7920,1.0674480250724747]
[null,null,null,null,null,7921,1.0828366315489062]
[null,null,null,null,null,7922,1.0904382863691926]
[null,null,null,null,null,7923,1.0719876227721241]
[null,null,null,null,null,7924,1.0736215641576734]
[null,null,null,null,null,7925,1.0989588666778556]
[null,null,null,null,null,7926,1.0737288362160755]
[null,null,null,null,null,7927,1.0833603383930306]
[null,null,null,null,null,7928,1.0998968430346143]
[null,null,null,null,null,7929,1.0497898191364978]
[null,null,null,null,null,7930,1.096973412962803]
[null,null,null,null,null,7931,1.0830102366821466]
[null,null,null,null,null,7932,1.0784727194648349]
[null,null,null,null,null,7933,1.0786218049369061]
[null,null,null,null,null,7934,1.1208422114948766]
[null,null,null,null,null,7935,1.0930876329983155]
[null,null,null,null,null,7936,1.109146881123237]
[null,null,null,null,null,7937,1.0636967845920073]
[null,null,null,null,null,7938,{"$f":"EXP($B$11-0.5*$B$10^2)+$B$10*_xlfn.NORM.S.INV(RAND())","v":1.0926919271665945}]
[null,null,null,null,null,7939,1.0871425335535638]
[null,null,null,null,null,7940,1.0343744178221599]
[null,null,null,null,null,7941,1.0840951448483906]
[null,null,null,null,null,7942,1.0687678736609114]
[null,null,null,null,null,7943,1.0716735383573062]
[null,null,null,null,null,7944,1.0808771022687871]
[null,null,null,null,null,7945,1.0660577317333582]
[null,null,null,null,null,7946,1.091048137432389]
[null,null,null,null,null,7947,1.1011146762092143]
[null,null,null,null,null,7948,1.0817540452437275]
[null,null,null,null,null,7949,1.0909509045473307]
[null,null,null,null,null,7950,1.0859613024297396]
[null,null,null,null,null,7951,1.1184483135093004]
[null,null,null,null,null,7952,1.0693134261011916]
[null,null,null,null,null,7953,1.0711982063564545]
[null,null,null,null,null,7954,1.0724791672972298]
[null,null,null,null,null,7955,1.0637919508184024]
[null,null,null,null,null,7956,1.1017117293927676]
[null,null,null,null,null,7957,1.0752122754210294]
[null,null,null,null,null,7958,1.0713787612819454]
[null,null,null,null,null,7959,1.0964573137989635]
[null,null,null,null,null,7960,1.0610101619147869]
[null,null,null,null,null,7961,1.1028662446547113]
[null,null,null,null,null,7962,1.0969237009874702]
[null,null,null,null,null,7963,1.0405512696467332]
[null,null,null,null,null,7964,1.0779808120721153]
[null,null,null,null,null,7965,1.0766247302165226]
[null,null,null,null,null,7966,1.0817921111400677]
[null,null,null,null,null,7967,1.0771056852314251]
[null,null,null,null,null,7968,1.0923702954159287]
[null,null,null,null,null,7969,1.0529986523080663]
[null,null,null,null,null,7970,1.0782554097725718]
[null,null,null,null,null,7971,1.0843553434895272]
[null,null,null,null,null,7972,1.1022807429181951]
[null,null,null,null,null,7973,1.0517940698489894]
[null,null,null,null,null,7974,1.0523501940237681]
[null,null,null,null,null,7975,1.0514888373118716]
[null,null,null,null,null,7976,1.0432277124674694]
[null,null,null,null,null,7977,1.0586487795482558]
[null,null,null,null,null,7978,1.0736187142397584]
[null,null,null,null,null,7979,1.0735591041546553]
[null,null,null,null,null,7980,1.0926302178289569]
[null,null,null,null,null,7981,1.0706159742229286]
[null,null,null,null,null,7982,1.0730440853562802]
[null,null,null,null,null,7983,1.0626032259067688]
[null,null,null,null,null,7984,1.0854796567243263]
[null,null,null,null,null,7985,1.0713375914566774]
[null,null,null,null,null,7986,1.0776654852240795]
[null,null,null,null,null,7987,1.0550474151555389]
[null,null,null,null,null,7988,1.0536446784614251]
[null,null,null,null,null,7989,1.0609828468144713]
[null,null,null,null,null,7990,1.0464054253286001]
[null,null,null,null,null,7991,1.0768918754649179]
[null,null,null,null,null,7992,1.0369004165128264]
[null,null,null,null,null,7993,1.1133442954779553]
[null,null,null,null,null,7994,1.0889470993464547]
[null,null,null,null,null,7995,1.075293420721227]
[null,null,null,null,null,7996,1.0976717131633913]
[null,null,null,null,null,7997,1.0785552775205087]
[null,null,null,null,null,7998,1.0523524333508749]
[null,null,null,null,null,7999,1.0926942030819566]
[null,null,null,null,null,8000,1.0613755634453506]
[null,null,null,null,null,8001,1.0688226260480684]
[null,null,null,null,null,8002,{"$f":"EXP($B$11-0.5*$B$10^2)+$B$10*_xlfn.NORM.S.INV(RAND())","v":1.0721306168821036}]
[null,null,null,null,null,8003,1.0666024696383922]
[null,null,null,null,null,8004,1.0931068076056436]
[null,null,null,null,null,8005,1.0668579392607078]
[null,null,null,null,null,8006,1.054605725372169]
[null,null,null,null,null,8007,1.0693793797978424]
[null,null,null,null,null,8008,1.0283300879446398]
[null,null,null,null,null,8009,1.0793158549566719]
[null,null,null,null,null,8010,1.0781284852517767]
[null,null,null,null,null,8011,1.076220756599725]
[null,null,null,null,null,8012,1.1120522553017671]
[null,null,null,null,null,8013,1.0693808698718428]
[null,null,null,null,null,8014,1.0311372828853158]
[null,null,null,null,null,8015,1.0876963876183074]
[null,null,null,null,null,8016,1.0976717180000966]
[null,null,null,null,null,8017,1.0734300899014013]
[null,null,null,null,null,8018,1.091905775081222]
[null,null,null,null,null,8019,1.0394116331648662]
[null,null,null,null,null,8020,1.0489575611135382]
[null,null,null,null,null,8021,1.0826229500972264]
[null,null,null,null,null,8022,1.0724171813243137]
[null,null,null,null,null,8023,1.0834202400557444]
[null,null,null,null,null,8024,1.0542414200011412]
[null,null,null,null,null,8025,1.0627278699249743]
[null,null,null,null,null,8026,1.0864106777896114]
[null,null,null,null,null,8027,1.0776570715071443]
[null,null,null,null,null,8028,1.0626678038541033]
[null,null,null,null,null,8029,1.0782888454260982]
[null,null,null,null,null,8030,1.0711211104184257]
[null,null,null,null,null,8031,1.0656393192203388]
[null,null,null,null,null,8032,1.0857879074788475]
[null,null,null,null,null,8033,1.0604948194092252]
[null,null,null,null,null,8034,1.0310972983556426]
[null,null,null,null,null,8035,1.0819053327147974]
[null,null,null,null,null,8036,1.090509890530069]
[null,null,null,null,null,8037,1.0794578644307724]
[null,null,null,null,null,8038,1.0969137547183527]
[null,null,null,null,null,8039,1.0803619749092299]
[null,null,null,null,null,8040,1.0591385961681774]
[null,null,null,null,null,8041,1.1012368573056175]
[null,null,null,null,null,8042,1.0412840158244481]
[null,null,null,null,null,8043,1.0751034895237295]
[null,null,null,null,null,8044,1.0915539231961955]
[null,null,null,null,null,8045,1.1149419798659306]
[null,null,null,null,null,8046,1.0710258296608233]
[null,null,null,null,null,8047,1.0510474320078467]
[null,null,null,null,null,8048,1.09380026617568]
[null,null,null,null,null,8049,1.0668789878578959]
[null,null,null,null,null,8050,1.0855316651421163]
[null,null,null,null,null,8051,1.0619649778273719]
[null,null,null,null,null,8052,1.0812656107441954]
[null,null,null,null,null,8053,1.0578269986601756]
[null,null,null,null,null,8054,1.0769369921162502]
[null,null,null,null,null,8055,1.0894775464633066]
[null,null,null,null,null,8056,1.0663836606730515]
[null,null,null,null,null,8057,1.105104749761241]
[null,null,null,null,null,8058,1.0969444130406794]
[null,null,null,null,null,8059,1.0759318516467282]
[null,null,null,null,null,8060,1.0796902242469411]
[null,null,null,null,null,8061,1.0531387792935969]
[null,null,null,null,null,8062,1.0884518621214851]
[null,null,null,null,null,8063,1.1056151100511062]
[null,null,null,null,null,8064,1.0923024108879267]
[null,null,null,null,null,8065,1.0830059422053382]
[null,null,null,null,null,8066,{"$f":"EXP($B$11-0.5*$B$10^2)+$B$10*_xlfn.NORM.S.INV(RAND())","v":1.0943653710600525}]
[null,null,null,null,null,8067,1.1028514630632977]
[null,null,null,null,null,8068,1.0669860543959055]
[null,null,null,null,null,8069,1.0587458041134412]
[null,null,null,null,null,8070,1.0577872187144648]
[null,null,null,null,null,8071,1.0732586705948075]
[null,null,null,null,null,8072,1.0882737707807082]
[null,null,null,null,null,8073,1.0925430497392907]
[null,null,null,null,null,8074,1.0627286351974459]
[null,null,null,null,null,8075,1.0845742095633371]
[null,null,null,null,null,8076,1.0623410902262598]
[null,null,null,null,null,8077,1.0374893622504695]
[null,null,null,null,null,8078,1.1013202298851505]
[null,null,null,null,null,8079,1.0694667767169141]
[null,null,null,null,null,8080,1.0788430114951943]
[null,null,null,null,null,8081,1.0538854466067697]
[null,null,null,null,null,8082,1.0833706245565529]
[null,null,null,null,null,8083,1.0786220709824339]
[null,null,null,null,null,8084,1.0604687800564288]
[null,null,null,null,null,8085,1.0845059360490903]
[null,null,null,null,null,8086,1.0562038062476273]
[null,null,null,null,null,8087,1.0939619932025362]
[null,null,null,null,null,8088,1.0938595901408474]
[null,null,null,null,null,8089,1.1142427019781165]
[null,null,null,null,null,8090,1.0702803567632255]
[null,null,null,null,null,8091,1.1201770911200364]
[null,null,null,null,null,8092,1.1195361478550143]
[null,null,null,null,null,8093,1.0653999393057179]
[null,null,null,null,null,8094,1.0896629177292969]
[null,null,null,null,null,8095,1.0913248723209183]
[null,null,null,null,null,8096,1.0763559973911263]
[null,null,null,null,null,8097,1.1053397585541971]
[null,null,null,null,null,8098,1.0727527109201245]
[null,null,null,null,null,8099,1.1033317059132954]
[null,null,null,null,null,8100,1.0413865352729339]
[null,null,null,null,null,8101,1.0599020368151479]
[null,null,null,null,null,8102,1.1091947387895169]
[null,null,null,null,null,8103,1.0472916229448934]
[null,null,null,null,null,8104,1.0633543399304579]
[null,null,null,null,null,8105,1.0652471402301826]
[null,null,null,null,null,8106,1.0873760820477354]
[null,null,null,null,null,8107,1.0441395468752841]
[null,null,null,null,null,8108,1.1055631393471539]
[null,null,null,null,null,8109,1.0924622726870987]
[null,null,null,null,null,8110,1.0668277617899351]
[null,null,null,null,null,8111,1.0979053142117585]
[null,null,null,null,null,8112,1.0860983042244223]
[null,null,null,null,null,8113,1.0742582711903512]
[null,null,null,null,null,8114,1.0976401405550138]
[null,null,null,null,null,8115,1.0418238048097919]
[null,null,null,null,null,8116,1.0852361183827131]
[null,null,null,null,null,8117,1.0972352432324302]
[null,null,null,null,null,8118,1.1052763500901706]
[null,null,null,null,null,8119,1.0512095988843513]
[null,null,null,null,null,8120,1.0941487810384327]
[null,null,null,null,null,8121,1.0746033463529172]
[null,null,null,null,null,8122,1.0740650437490136]
[null,null,null,null,null,8123,1.080718273332828]
[null,null,null,null,null,8124,1.054525376181813]
[null,null,null,null,null,8125,1.0785285164047351]
[null,null,null,null,null,8126,1.0607706770766547]
[null,null,null,null,null,8127,1.0781169749605044]
[null,null,null,null,null,8128,1.0820909445487508]
[null,null,null,null,null,8129,1.08550820329593]
[null,null,null,null,null,8130,{"$f":"EXP($B$11-0.5*$B$10^2)+$B$10*_xlfn.NORM.S.INV(RAND())","v":1.0568004856071351}]
[null,null,null,null,null,8131,1.0595722748397021]
[null,null,null,null,null,8132,1.1164930449157067]
[null,null,null,null,null,8133,1.089625585233339]
[null,null,null,null,null,8134,1.0938679336863022]
[null,null,null,null,null,8135,1.1237605788183711]
[null,null,null,null,null,8136,1.0842501034454288]
[null,null,null,null,null,8137,1.0318898846971123]
[null,null,null,null,null,8138,1.0946694272614892]
[null,null,null,null,null,8139,1.1118678299206004]
[null,null,null,null,null,8140,1.1011129874417265]
[null,null,null,null,null,8141,1.0756258418324987]
[null,null,null,null,null,8142,1.0896828729674146]
[null,null,null,null,null,8143,1.0693003049742178]
[null,null,null,null,null,8144,1.1109119937029071]
[null,null,null,null,null,8145,1.0717993837580662]
[null,null,null,null,null,8146,1.0643194471838364]
[null,null,null,null,null,8147,1.0831921050832127]
[null,null,null,null,null,8148,1.0618340402680833]
[null,null,null,null,null,8149,1.0675157686613332]
[null,null,null,null,null,8150,1.0895768385043474]
[null,null,null,null,null,8151,1.0700367167484064]
[null,null,null,null,null,8152,1.0761114628253432]
[null,null,null,null,null,8153,1.0630340117817645]
[null,null,null,null,null,8154,1.0357847889841278]
[null,null,null,null,null,8155,1.0771404334450621]
[null,null,null,null,null,8156,1.0998857676601383]
[null,null,null,null,null,8157,1.0799277296080525]
[null,null,null,null,null,8158,1.0935620581678658]
[null,null,null,null,null,8159,1.0730894128706217]
[null,null,null,null,null,8160,1.0873309246051286]
[null,null,null,null,null,8161,1.0873634798258425]
[null,null,null,null,null,8162,1.0724728812693594]
[null,null,null,null,null,8163,1.106954610836189]
[null,null,null,null,null,8164,1.100477415835784]
[null,null,null,null,null,8165,1.0766503355644947]
[null,null,null,null,null,8166,1.0957077538233428]
[null,null,null,null,null,8167,1.1138460231013698]
[null,null,null,null,null,8168,1.0740565184774171]
[null,null,null,null,null,8169,1.0829016473894448]
[null,null,null,null,null,8170,1.0791246590012409]
[null,null,null,null,null,8171,1.1121471974821553]
[null,null,null,null,null,8172,1.0721005574736491]
[null,null,null,null,null,8173,1.0550371949003781]
[null,null,null,null,null,8174,1.0784054089543906]
[null,null,null,null,null,8175,1.0994544934146919]
[null,null,null,null,null,8176,1.0768370419884243]
[null,null,null,null,null,8177,1.104976531986926]
[null,null,null,null,null,8178,1.0976728424634516]
[null,null,null,null,null,8179,1.0589109406165993]
[null,null,null,null,null,8180,1.072856480373731]
[null,null,null,null,null,8181,1.0749672767580571]
[null,null,null,null,null,8182,1.0666752090950811]
[null,null,null,null,null,8183,1.0763258048542739]
[null,null,null,null,null,8184,1.046552212843314]
[null,null,null,null,null,8185,1.0738146815260183]
[null,null,null,null,null,8186,1.0652148209879053]
[null,null,null,null,null,8187,1.0807922750184622]
[null,null,null,null,null,8188,1.1022289995208416]
[null,null,null,null,null,8189,1.0701699383380694]
[null,null,null,null,null,8190,1.0817397930617556]
[null,null,null,null,null,8191,1.0771451159690912]
[null,null,null,null,null,8192,1.0889133429963174]
[null,null,null,null,null,8193,1.0959815783963869]
[null,null,null,null,null,8194,{"$f":"EXP($B$11-0.5*$B$10^2)+$B$10*_xlfn.NORM.S.INV(RAND())","v":1.0866030656707788}]
[null,null,null,null,null,8195,1.065048949065017]
[null,null,null,null,null,8196,1.0603324777673628]
[null,null,null,null,null,8197,1.0213007948694033]
[null,null,null,null,null,8198,1.1089374422101042]
[null,null,null,null,null,8199,1.0683106864400107]
[null,null,null,null,null,8200,1.0828923455129531]
[null,null,null,null,null,8201,1.0843252866144599]
[null,null,null,null,null,8202,1.0869555318509243]
[null,null,null,null,null,8203,1.0553950039895497]
[null,null,null,null,null,8204,1.0945171116968757]
[null,null,null,null,null,8205,1.0847111292895144]
[null,null,null,null,null,8206,1.0766293572601628]
[null,null,null,null,null,8207,1.061929808409118]
[null,null,null,null,null,8208,1.0706117603480114]
[null,null,null,null,null,8209,1.0599754071662844]
[null,null,null,null,null,8210,1.0973338074863181]
[null,null,null,null,null,8211,1.0745229137015091]
[null,null,null,null,null,8212,1.0777900353165069]
[null,null,null,null,null,8213,1.0606673887142324]
[null,null,null,null,null,8214,1.0751379411772164]
[null,null,null,null,null,8215,1.1099078857608649]
[null,null,null,null,null,8216,1.0918220699272287]
[null,null,null,null,null,8217,1.0707325682619493]
[null,null,null,null,null,8218,1.0523703773571436]
[null,null,null,null,null,8219,1.0478288422195328]
[null,null,null,null,null,8220,1.0659908758215491]
[null,null,null,null,null,8221,1.0580878620990668]
[null,null,null,null,null,8222,1.0813630303701243]
[null,null,null,null,null,8223,1.0594848117434144]
[null,null,null,null,null,8224,1.1069941265696528]
[null,null,null,null,null,8225,1.0795325108397593]
[null,null,null,null,null,8226,1.0646178815745355]
[null,null,null,null,null,8227,1.0861689005585244]
[null,null,null,null,null,8228,1.1026365417266097]
[null,null,null,null,null,8229,1.0698401634415033]
[null,null,null,null,null,8230,1.0832218486676815]
[null,null,null,null,null,8231,1.0879408236970169]
[null,null,null,null,null,8232,1.0972056014018876]
[null,null,null,null,null,8233,1.0902890473073668]
[null,null,null,null,null,8234,1.0437780655171058]
[null,null,null,null,null,8235,1.0734045280778979]
[null,null,null,null,null,8236,1.0763420567995525]
[null,null,null,null,null,8237,1.1116779514335338]
[null,null,null,null,null,8238,1.078440095108818]
[null,null,null,null,null,8239,1.0649015861608115]
[null,null,null,null,null,8240,1.0546230907266858]
[null,null,null,null,null,8241,1.0628745692226567]
[null,null,null,null,null,8242,1.0560347134248391]
[null,null,null,null,null,8243,1.0812809440137583]
[null,null,null,null,null,8244,1.0802252195031585]
[null,null,null,null,null,8245,1.0992670460890723]
[null,null,null,null,null,8246,1.0844745250679271]
[null,null,null,null,null,8247,1.0745957876575734]
[null,null,null,null,null,8248,1.0597888690999415]
[null,null,null,null,null,8249,1.1171151962545569]
[null,null,null,null,null,8250,1.0775404442022254]
[null,null,null,null,null,8251,1.0610048750134442]
[null,null,null,null,null,8252,1.0895835293983918]
[null,null,null,null,null,8253,1.0823420536331305]
[null,null,null,null,null,8254,1.0247233261855622]
[null,null,null,null,null,8255,1.0468877850277756]
[null,null,null,null,null,8256,1.0571025101095053]
[null,null,null,null,null,8257,1.0893564372999407]
[null,null,null,null,null,8258,{"$f":"EXP($B$11-0.5*$B$10^2)+$B$10*_xlfn.NORM.S.INV(RAND())","v":1.0898622598662941}]
[null,null,null,null,null,8259,1.0958986179430874]
[null,null,null,null,null,8260,1.0841184835322892]
[null,null,null,null,null,8261,1.0840416541932476]
[null,null,null,null,null,8262,1.0570944557871675]
[null,null,null,null,null,8263,1.0961229714592753]
[null,null,null,null,null,8264,1.0724921239211831]
[null,null,null,null,null,8265,1.0708357730239759]
[null,null,null,null,null,8266,1.0738147962591253]
[null,null,null,null,null,8267,1.0887700805031699]
[null,null,null,null,null,8268,1.0560125651089296]
[null,null,null,null,null,8269,1.0802322675464593]
[null,null,null,null,null,8270,1.0777199979653969]
[null,null,null,null,null,8271,1.1103429659391317]
[null,null,null,null,null,8272,1.0647693185984299]
[null,null,null,null,null,8273,1.0476440122262607]
[null,null,null,null,null,8274,1.077614568008529]
[null,null,null,null,null,8275,1.0434218103435411]
[null,null,null,null,null,8276,1.0794755545152315]
[null,null,null,null,null,8277,1.069634737705538]
[null,null,null,null,null,8278,1.0796866354176102]
[null,null,null,null,null,8279,1.0801775797482662]
[null,null,null,null,null,8280,1.0845698858296307]
[null,null,null,null,null,8281,1.0929301425700639]
[null,null,null,null,null,8282,1.0738661933410574]
[null,null,null,null,null,8283,1.0763147585638773]
[null,null,null,null,null,8284,1.0371659650789655]
[null,null,null,null,null,8285,1.0170077063099641]
[null,null,null,null,null,8286,1.0397752595212795]
[null,null,null,null,null,8287,1.0584496164672903]
[null,null,null,null,null,8288,1.0587197174706393]
[null,null,null,null,null,8289,1.0793226886314575]
[null,null,null,null,null,8290,1.0648216631319001]
[null,null,null,null,null,8291,1.0915192348428711]
[null,null,null,null,null,8292,1.1143264781595017]
[null,null,null,null,null,8293,1.0559748293173801]
[null,null,null,null,null,8294,1.0666920150489823]
[null,null,null,null,null,8295,1.0770581361771991]
[null,null,null,null,null,8296,1.0481139922088689]
[null,null,null,null,null,8297,1.0807759001271835]
[null,null,null,null,null,8298,1.0514965900251723]
[null,null,null,null,null,8299,1.0558711736291877]
[null,null,null,null,null,8300,1.065549077308845]
[null,null,null,null,null,8301,1.0939847262883791]
[null,null,null,null,null,8302,1.0706207369329435]
[null,null,null,null,null,8303,1.0806638794407777]
[null,null,null,null,null,8304,1.0798775336238409]
[null,null,null,null,null,8305,1.0681735391264346]
[null,null,null,null,null,8306,1.1015901023743073]
[null,null,null,null,null,8307,1.0878503758911635]
[null,null,null,null,null,8308,1.0774639376366852]
[null,null,null,null,null,8309,1.0549368198336766]
[null,null,null,null,null,8310,1.087272827016079]
[null,null,null,null,null,8311,1.0486634480323231]
[null,null,null,null,null,8312,1.0805079113201443]
[null,null,null,null,null,8313,1.0616181495124242]
[null,null,null,null,null,8314,1.0945166639766435]
[null,null,null,null,null,8315,1.0787951694827211]
[null,null,null,null,null,8316,1.0576873934033968]
[null,null,null,null,null,8317,1.0673089073624933]
[null,null,null,null,null,8318,1.0947532801885278]
[null,null,null,null,null,8319,1.071503389169687]
[null,null,null,null,null,8320,1.0540060670608469]
[null,null,null,null,null,8321,1.0996228931219152]
[null,null,null,null,null,8322,{"$f":"EXP($B$11-0.5*$B$10^2)+$B$10*_xlfn.NORM.S.INV(RAND())","v":1.0658166388437824}]
[null,null,null,null,null,8323,1.0743127590025965]
[null,null,null,null,null,8324,1.0525556152766771]
[null,null,null,null,null,8325,1.0947412548479898]
[null,null,null,null,null,8326,1.0622916596527303]
[null,null,null,null,null,8327,1.1038793775830911]
[null,null,null,null,null,8328,1.0800816375849194]
[null,null,null,null,null,8329,1.0881237295317197]
[null,null,null,null,null,8330,1.0694072171839526]
[null,null,null,null,null,8331,1.0734615064917405]
[null,null,null,null,null,8332,1.0795045280558415]
[null,null,null,null,null,8333,1.1176677238201236]
[null,null,null,null,null,8334,1.0682582858689473]
[null,null,null,null,null,8335,1.0104043229476325]
[null,null,null,null,null,8336,1.0632221840815541]
[null,null,null,null,null,8337,1.0908974161309479]
[null,null,null,null,null,8338,1.0876267425259296]
[null,null,null,null,null,8339,1.0811584444885298]
[null,null,null,null,null,8340,1.1081832431043788]
[null,null,null,null,null,8341,1.1208023075357159]
[null,null,null,null,null,8342,1.0361603684518792]
[null,null,null,null,null,8343,1.0813752312163583]
[null,null,null,null,null,8344,1.1229609684660964]
[null,null,null,null,null,8345,1.1109222152755798]
[null,null,null,null,null,8346,1.0547276195934172]
[null,null,null,null,null,8347,1.0405061315223791]
[null,null,null,null,null,8348,1.0509444127683203]
[null,null,null,null,null,8349,1.0857490818432207]
[null,null,null,null,null,8350,1.0543864198143762]
[null,null,null,null,null,8351,1.0453937126216311]
[null,null,null,null,null,8352,1.0675708267050426]
[null,null,null,null,null,8353,1.0822582537232641]
[null,null,null,null,null,8354,1.1099730786832489]
[null,null,null,null,null,8355,1.0508139639012197]
[null,null,null,null,null,8356,1.0626267346015039]
[null,null,null,null,null,8357,1.1030948351689727]
[null,null,null,null,null,8358,1.0513270186102008]
[null,null,null,null,null,8359,1.0709530291202187]
[null,null,null,null,null,8360,1.0869099977186463]
[null,null,null,null,null,8361,1.1009911359058699]
[null,null,null,null,null,8362,1.0498975608149801]
[null,null,null,null,null,8363,1.1053929523520856]
[null,null,null,null,null,8364,1.0563690081875596]
[null,null,null,null,null,8365,1.0881266247929196]
[null,null,null,null,null,8366,1.0690185036669053]
[null,null,null,null,null,8367,1.0927520780506719]
[null,null,null,null,null,8368,1.0917970443705873]
[null,null,null,null,null,8369,1.0715138679677989]
[null,null,null,null,null,8370,1.0612685795589347]
[null,null,null,null,null,8371,1.0633907292255946]
[null,null,null,null,null,8372,1.0731912126754375]
[null,null,null,null,null,8373,1.0701763423051285]
[null,null,null,null,null,8374,1.0686372435116722]
[null,null,null,null,null,8375,1.0930224791812566]
[null,null,null,null,null,8376,1.0836406123064364]
[null,null,null,null,null,8377,1.1141634572431549]
[null,null,null,null,null,8378,1.0574478615521474]
[null,null,null,null,null,8379,1.07477772254574]
[null,null,null,null,null,8380,1.064154099952638]
[null,null,null,null,null,8381,1.0940481344271993]
[null,null,null,null,null,8382,1.0869757968017077]
[null,null,null,null,null,8383,1.0957610145673999]
[null,null,null,null,null,8384,1.0624225260799387]
[null,null,null,null,null,8385,1.101050462253542]
[null,null,null,null,null,8386,{"$f":"EXP($B$11-0.5*$B$10^2)+$B$10*_xlfn.NORM.S.INV(RAND())","v":1.0882879480064573}]
[null,null,null,null,null,8387,1.0664505553974126]
[null,null,null,null,null,8388,1.1043937185434558]
[null,null,null,null,null,8389,1.0795949161452028]
[null,null,null,null,null,8390,1.0828249283111158]
[null,null,null,null,null,8391,1.0937743800186965]
[null,null,null,null,null,8392,1.0571930768258861]
[null,null,null,null,null,8393,1.081276310567949]
[null,null,null,null,null,8394,1.0737637127290067]
[null,null,null,null,null,8395,1.028534355843931]
[null,null,null,null,null,8396,1.0460462457453366]
[null,null,null,null,null,8397,1.0812967910223574]
[null,null,null,null,null,8398,1.0413571555494598]
[null,null,null,null,null,8399,1.1332591463035047]
[null,null,null,null,null,8400,1.0983535618242006]
[null,null,null,null,null,8401,1.0958541721108503]
[null,null,null,null,null,8402,1.051464234602733]
[null,null,null,null,null,8403,1.0933480236282775]
[null,null,null,null,null,8404,1.0886145153644202]
[null,null,null,null,null,8405,1.0938509152209965]
[null,null,null,null,null,8406,1.0688429051296968]
[null,null,null,null,null,8407,1.0942483940955219]
[null,null,null,null,null,8408,1.0292967979936523]
[null,null,null,null,null,8409,1.0773465197767043]
[null,null,null,null,null,8410,1.1236870549038716]
[null,null,null,null,null,8411,1.0898441314089748]
[null,null,null,null,null,8412,1.0926784155216132]
[null,null,null,null,null,8413,1.1118737617272076]
[null,null,null,null,null,8414,1.0760349334849844]
[null,null,null,null,null,8415,1.0479246680233774]
[null,null,null,null,null,8416,1.0973481474472686]
[null,null,null,null,null,8417,1.0762503864887778]
[null,null,null,null,null,8418,1.0907435312266014]
[null,null,null,null,null,8419,1.0608779070030823]
[null,null,null,null,null,8420,1.0900755717830213]
[null,null,null,null,null,8421,1.0485296116053198]
[null,null,null,null,null,8422,1.0822663505030972]
[null,null,null,null,null,8423,1.0950252100020625]
[null,null,null,null,null,8424,1.1147865097385752]
[null,null,null,null,null,8425,1.0646410153562631]
[null,null,null,null,null,8426,1.0627956172353781]
[null,null,null,null,null,8427,1.066390702224866]
[null,null,null,null,null,8428,1.0337048305773568]
[null,null,null,null,null,8429,1.077335801289462]
[null,null,null,null,null,8430,1.0309983646757355]
[null,null,null,null,null,8431,1.0753687094704394]
[null,null,null,null,null,8432,1.0674277155394725]
[null,null,null,null,null,8433,1.0850801466360764]
[null,null,null,null,null,8434,1.0832898718891697]
[null,null,null,null,null,8435,1.0616671121753793]
[null,null,null,null,null,8436,1.0702323803725859]
[null,null,null,null,null,8437,1.0576380821718834]
[null,null,null,null,null,8438,1.0808925164236423]
[null,null,null,null,null,8439,1.0556354466435205]
[null,null,null,null,null,8440,1.1125294093197962]
[null,null,null,null,null,8441,1.1086597926919819]
[null,null,null,null,null,8442,1.0700251206938522]
[null,null,null,null,null,8443,1.0577957426480675]
[null,null,null,null,null,8444,1.0583594176512017]
[null,null,null,null,null,8445,1.0640875460153372]
[null,null,null,null,null,8446,1.0509069633484811]
[null,null,null,null,null,8447,1.0845787563516402]
[null,null,null,null,null,8448,1.1190309093683772]
[null,null,null,null,null,8449,1.1077409458715513]
[null,null,null,null,null,8450,{"$f":"EXP($B$11-0.5*$B$10^2)+$B$10*_xlfn.NORM.S.INV(RAND())","v":1.0508811579449431}]
[null,null,null,null,null,8451,1.0549575446878838]
[null,null,null,null,null,8452,1.0630339949704708]
[null,null,null,null,null,8453,1.0720241187991779]
[null,null,null,null,null,8454,1.0604882881599438]
[null,null,null,null,null,8455,1.0939030716697602]
[null,null,null,null,null,8456,1.0739375079245952]
[null,null,null,null,null,8457,1.0631663834042928]
[null,null,null,null,null,8458,1.0866374288304559]
[null,null,null,null,null,8459,1.0779782873063322]
[null,null,null,null,null,8460,1.1159362132328583]
[null,null,null,null,null,8461,1.1025509229978097]
[null,null,null,null,null,8462,1.0427694669302796]
[null,null,null,null,null,8463,1.0726006042039049]
[null,null,null,null,null,8464,1.0816989881565797]
[null,null,null,null,null,8465,1.0736331835091375]
[null,null,null,null,null,8466,1.0644060406126934]
[null,null,null,null,null,8467,1.0625007356385996]
[null,null,null,null,null,8468,1.1025134169614903]
[null,null,null,null,null,8469,1.1148198966009593]
[null,null,null,null,null,8470,1.1172510495620731]
[null,null,null,null,null,8471,1.0635282665241585]
[null,null,null,null,null,8472,1.1115736077521152]
[null,null,null,null,null,8473,1.0727974523959534]
[null,null,null,null,null,8474,1.1035906883738626]
[null,null,null,null,null,8475,1.0831529747619102]
[null,null,null,null,null,8476,1.0840950594603331]
[null,null,null,null,null,8477,1.0638894155603653]
[null,null,null,null,null,8478,1.0401631858601996]
[null,null,null,null,null,8479,1.1168895287621963]
[null,null,null,null,null,8480,1.073625168612421]
[null,null,null,null,null,8481,1.1025094312904269]
[null,null,null,null,null,8482,1.0742171058623575]
[null,null,null,null,null,8483,1.086598727099189]
[null,null,null,null,null,8484,1.0720160863596067]
[null,null,null,null,null,8485,1.1150130721421982]
[null,null,null,null,null,8486,1.0421312516426147]
[null,null,null,null,null,8487,1.0724886039280326]
[null,null,null,null,null,8488,1.1122791386845905]
[null,null,null,null,null,8489,1.0804268354252515]
[null,null,null,null,null,8490,1.1098046151291807]
[null,null,null,null,null,8491,1.0984225629628659]
[null,null,null,null,null,8492,1.0705417770991799]
[null,null,null,null,null,8493,1.0567619966169941]
[null,null,null,null,null,8494,1.0975465199545433]
[null,null,null,null,null,8495,1.1009074515989163]
[null,null,null,null,null,8496,1.0767804990832297]
[null,null,null,null,null,8497,1.0716402256180251]
[null,null,null,null,null,8498,1.0867504372789238]
[null,null,null,null,null,8499,1.0643101530681627]
[null,null,null,null,null,8500,1.103471379385309]
[null,null,null,null,null,8501,1.0915573836668544]
[null,null,null,null,null,8502,1.0794461113775806]
[null,null,null,null,null,8503,1.0855765912398789]
[null,null,null,null,null,8504,1.0753559496186946]
[null,null,null,null,null,8505,1.0738461333484741]
[null,null,null,null,null,8506,1.0760039053792103]
[null,null,null,null,null,8507,1.0964202057123342]
[null,null,null,null,null,8508,1.0918889422168538]
[null,null,null,null,null,8509,1.0618239631937043]
[null,null,null,null,null,8510,1.0761635023291107]
[null,null,null,null,null,8511,1.0808598070074444]
[null,null,null,null,null,8512,1.0659841206634604]
[null,null,null,null,null,8513,1.1056105474261491]
[null,null,null,null,null,8514,{"$f":"EXP($B$11-0.5*$B$10^2)+$B$10*_xlfn.NORM.S.INV(RAND())","v":1.0785919983379353}]
[null,null,null,null,null,8515,1.0495495253315317]
[null,null,null,null,null,8516,1.1017376122554938]
[null,null,null,null,null,8517,1.0937672375181711]
[null,null,null,null,null,8518,1.093168917323879]
[null,null,null,null,null,8519,1.0552302645854528]
[null,null,null,null,null,8520,1.0848626221584636]
[null,null,null,null,null,8521,1.0567832209489501]
[null,null,null,null,null,8522,1.0558255727493855]
[null,null,null,null,null,8523,1.0747296923531531]
[null,null,null,null,null,8524,1.1019413039172359]
[null,null,null,null,null,8525,1.0875130141260376]
[null,null,null,null,null,8526,1.0724649816336154]
[null,null,null,null,null,8527,1.0832316985129984]
[null,null,null,null,null,8528,1.0436514925648923]
[null,null,null,null,null,8529,1.0814840898611484]
[null,null,null,null,null,8530,1.0662062108252683]
[null,null,null,null,null,8531,1.0738112413465442]
[null,null,null,null,null,8532,1.0890194431809932]
[null,null,null,null,null,8533,1.0913203147714101]
[null,null,null,null,null,8534,1.0773659127184183]
[null,null,null,null,null,8535,1.0418821853938027]
[null,null,null,null,null,8536,1.0542695750490474]
[null,null,null,null,null,8537,1.0561472042654354]
[null,null,null,null,null,8538,1.0755828075341027]
[null,null,null,null,null,8539,1.0943690682166733]
[null,null,null,null,null,8540,1.0611500388499588]
[null,null,null,null,null,8541,1.0703957436435203]
[null,null,null,null,null,8542,1.0836657769601556]
[null,null,null,null,null,8543,1.0639636899894049]
[null,null,null,null,null,8544,1.0700085260936922]
[null,null,null,null,null,8545,1.0666157901821949]
[null,null,null,null,null,8546,1.0734147539486651]
[null,null,null,null,null,8547,1.0753613113109357]
[null,null,null,null,null,8548,1.0820461267411865]
[null,null,null,null,null,8549,1.0983002296591855]
[null,null,null,null,null,8550,1.1046135194008677]
[null,null,null,null,null,8551,1.0578644892178832]
[null,null,null,null,null,8552,1.0599710269997429]
[null,null,null,null,null,8553,1.0511176176314743]
[null,null,null,null,null,8554,1.0675672031368457]
[null,null,null,null,null,8555,1.0690065115580669]
[null,null,null,null,null,8556,1.0946107454460652]
[null,null,null,null,null,8557,1.0701416725848194]
[null,null,null,null,null,8558,1.0797417422337217]
[null,null,null,null,null,8559,1.0549440842458333]
[null,null,null,null,null,8560,1.0237010516114531]
[null,null,null,null,null,8561,1.0749617543376775]
[null,null,null,null,null,8562,1.0496516576520725]
[null,null,null,null,null,8563,1.1153429028022295]
[null,null,null,null,null,8564,1.0842460555677749]
[null,null,null,null,null,8565,1.0691604555664682]
[null,null,null,null,null,8566,1.0711286459664016]
[null,null,null,null,null,8567,1.0678719490579065]
[null,null,null,null,null,8568,1.0472897719462317]
[null,null,null,null,null,8569,1.0538835876229375]
[null,null,null,null,null,8570,1.0670371528580667]
[null,null,null,null,null,8571,1.0705955228012212]
[null,null,null,null,null,8572,1.0810767252453202]
[null,null,null,null,null,8573,1.0651992252329088]
[null,null,null,null,null,8574,1.0843884707037332]
[null,null,null,null,null,8575,1.0393205267655867]
[null,null,null,null,null,8576,1.1050580091385764]
[null,null,null,null,null,8577,1.0836984183584542]
[null,null,null,null,null,8578,{"$f":"EXP($B$11-0.5*$B$10^2)+$B$10*_xlfn.NORM.S.INV(RAND())","v":1.0876928244828676}]
[null,null,null,null,null,8579,1.0598996169159489]
[null,null,null,null,null,8580,1.0942871664779468]
[null,null,null,null,null,8581,1.0768217276610588]
[null,null,null,null,null,8582,1.0688235141133462]
[null,null,null,null,null,8583,1.0861110526337387]
[null,null,null,null,null,8584,1.097573329225177]
[null,null,null,null,null,8585,1.0886029476800474]
[null,null,null,null,null,8586,1.0740673345980225]
[null,null,null,null,null,8587,1.0503466790137308]
[null,null,null,null,null,8588,1.0820957323411864]
[null,null,null,null,null,8589,1.0782804420164238]
[null,null,null,null,null,8590,1.0750065775386688]
[null,null,null,null,null,8591,1.0749183271604292]
[null,null,null,null,null,8592,1.0485270377985356]
[null,null,null,null,null,8593,1.0919367649060112]
[null,null,null,null,null,8594,1.103276811070196]
[null,null,null,null,null,8595,1.1071680607494181]
[null,null,null,null,null,8596,1.0740518462341471]
[null,null,null,null,null,8597,1.0969799126360424]
[null,null,null,null,null,8598,1.0514605815220226]
[null,null,null,null,null,8599,1.1020758232794146]
[null,null,null,null,null,8600,1.0693210772319057]
[null,null,null,null,null,8601,1.1186800987604986]
[null,null,null,null,null,8602,1.0623834124014522]
[null,null,null,null,null,8603,1.1039817646588441]
[null,null,null,null,null,8604,1.0759845345108652]
[null,null,null,null,null,8605,1.0847453964453047]
[null,null,null,null,null,8606,1.0936321782163423]
[null,null,null,null,null,8607,1.0786434887180902]
[null,null,null,null,null,8608,1.0825424409420126]
[null,null,null,null,null,8609,1.0969156228770762]
[null,null,null,null,null,8610,1.0767496014353619]
[null,null,null,null,null,8611,1.0402265002680344]
[null,null,null,null,null,8612,1.0770428345405105]
[null,null,null,null,null,8613,1.0844216718615054]
[null,null,null,null,null,8614,1.0439006397377946]
[null,null,null,null,null,8615,1.0805269866939]
[null,null,null,null,null,8616,1.0842641301790585]
[null,null,null,null,null,8617,1.0925499688588722]
[null,null,null,null,null,8618,1.0697311562112315]
[null,null,null,null,null,8619,1.1059824942162662]
[null,null,null,null,null,8620,1.0425775742219299]
[null,null,null,null,null,8621,1.0815251809708357]
[null,null,null,null,null,8622,1.0995162997742403]
[null,null,null,null,null,8623,1.0552876614421636]
[null,null,null,null,null,8624,1.0825530368454555]
[null,null,null,null,null,8625,1.1197310534337832]
[null,null,null,null,null,8626,1.0120792006939263]
[null,null,null,null,null,8627,1.0728167954022032]
[null,null,null,null,null,8628,1.0862952375604216]
[null,null,null,null,null,8629,1.0683867074185505]
[null,null,null,null,null,8630,1.0408841868277474]
[null,null,null,null,null,8631,1.0875244535869317]
[null,null,null,null,null,8632,1.0893684746884384]
[null,null,null,null,null,8633,1.0725638107006175]
[null,null,null,null,null,8634,1.0928899152190295]
[null,null,null,null,null,8635,1.0861658472992992]
[null,null,null,null,null,8636,1.0847994341001743]
[null,null,null,null,null,8637,1.0939920279004469]
[null,null,null,null,null,8638,1.0912375409498238]
[null,null,null,null,null,8639,1.0687585962623245]
[null,null,null,null,null,8640,1.115560505531966]
[null,null,null,null,null,8641,1.0725570824621826]
[null,null,null,null,null,8642,{"$f":"EXP($B$11-0.5*$B$10^2)+$B$10*_xlfn.NORM.S.INV(RAND())","v":1.0863702863781963}]
[null,null,null,null,null,8643,1.0806218769298441]
[null,null,null,null,null,8644,1.0996188044507409]
[null,null,null,null,null,8645,1.0680472861772181]
[null,null,null,null,null,8646,1.0652528263472265]
[null,null,null,null,null,8647,1.0568309441753785]
[null,null,null,null,null,8648,1.0747494618748419]
[null,null,null,null,null,8649,1.1014355112833023]
[null,null,null,null,null,8650,1.0874010954478399]
[null,null,null,null,null,8651,1.0854229723013029]
[null,null,null,null,null,8652,1.0721798173140613]
[null,null,null,null,null,8653,1.0751057012313741]
[null,null,null,null,null,8654,1.0555576858235958]
[null,null,null,null,null,8655,1.0987949971891828]
[null,null,null,null,null,8656,1.0894236866167155]
[null,null,null,null,null,8657,1.0710333888065739]
[null,null,null,null,null,8658,1.0649022817711633]
[null,null,null,null,null,8659,1.0884152195724872]
[null,null,null,null,null,8660,1.0860673616334413]
[null,null,null,null,null,8661,1.0594136199006448]
[null,null,null,null,null,8662,1.0612255572249305]
[null,null,null,null,null,8663,1.0343669869939751]
[null,null,null,null,null,8664,1.1171535026356958]
[null,null,null,null,null,8665,1.0743962912515679]
[null,null,null,null,null,8666,1.0764326341917025]
[null,null,null,null,null,8667,1.0859920744493159]
[null,null,null,null,null,8668,1.0698517108401153]
[null,null,null,null,null,8669,1.0827439071948592]
[null,null,null,null,null,8670,1.0590442965007725]
[null,null,null,null,null,8671,1.0937408721861339]
[null,null,null,null,null,8672,1.0710776445825489]
[null,null,null,null,null,8673,1.0765037563956072]
[null,null,null,null,null,8674,1.0781950861035081]
[null,null,null,null,null,8675,1.0499183609800955]
[null,null,null,null,null,8676,1.1174362024683966]
[null,null,null,null,null,8677,1.0762621233559135]
[null,null,null,null,null,8678,1.0292079308522697]
[null,null,null,null,null,8679,1.1032312158931727]
[null,null,null,null,null,8680,1.07475314950943]
[null,null,null,null,null,8681,1.0876463023577319]
[null,null,null,null,null,8682,1.0740098799578452]
[null,null,null,null,null,8683,1.0394114212022849]
[null,null,null,null,null,8684,1.0979225282952121]
[null,null,null,null,null,8685,1.1064002985359578]
[null,null,null,null,null,8686,1.0258165641826238]
[null,null,null,null,null,8687,1.0357426317724878]
[null,null,null,null,null,8688,1.0097276456824669]
[null,null,null,null,null,8689,1.0428912657910723]
[null,null,null,null,null,8690,1.131823368210819]
[null,null,null,null,null,8691,1.0453919277206916]
[null,null,null,null,null,8692,1.0610925860526892]
[null,null,null,null,null,8693,1.0588364419818415]
[null,null,null,null,null,8694,1.0885840400812405]
[null,null,null,null,null,8695,1.0609238246974695]
[null,null,null,null,null,8696,1.0774040369404072]
[null,null,null,null,null,8697,1.0868220418562204]
[null,null,null,null,null,8698,1.0981627189346748]
[null,null,null,null,null,8699,1.0981354847921583]
[null,null,null,null,null,8700,1.0643488208077796]
[null,null,null,null,null,8701,1.0861830348485555]
[null,null,null,null,null,8702,1.0549888098065412]
[null,null,null,null,null,8703,1.0777185396127866]
[null,null,null,null,null,8704,1.0676449016339491]
[null,null,null,null,null,8705,1.0393160679548881]
[null,null,null,null,null,8706,{"$f":"EXP($B$11-0.5*$B$10^2)+$B$10*_xlfn.NORM.S.INV(RAND())","v":1.1057129403087327}]
[null,null,null,null,null,8707,1.0644963855336327]
[null,null,null,null,null,8708,1.0582690199769074]
[null,null,null,null,null,8709,1.1029093456940737]
[null,null,null,null,null,8710,1.088873500285412]
[null,null,null,null,null,8711,1.107449858992454]
[null,null,null,null,null,8712,1.1226127629138429]
[null,null,null,null,null,8713,1.0919189817619102]
[null,null,null,null,null,8714,1.0762221654365245]
[null,null,null,null,null,8715,1.0887804568871922]
[null,null,null,null,null,8716,1.0798487008763891]
[null,null,null,null,null,8717,1.0607083852612451]
[null,null,null,null,null,8718,1.081172828431753]
[null,null,null,null,null,8719,1.0526680032595119]
[null,null,null,null,null,8720,1.0287783338863732]
[null,null,null,null,null,8721,1.0495845170301175]
[null,null,null,null,null,8722,1.0769145748661846]
[null,null,null,null,null,8723,1.0564655895617316]
[null,null,null,null,null,8724,1.0739886801217311]
[null,null,null,null,null,8725,1.082710575215823]
[null,null,null,null,null,8726,1.092841310644981]
[null,null,null,null,null,8727,1.0591434067135972]
[null,null,null,null,null,8728,1.0617003042087658]
[null,null,null,null,null,8729,1.0830933366957922]
[null,null,null,null,null,8730,1.0813111778799249]
[null,null,null,null,null,8731,1.0442042389698842]
[null,null,null,null,null,8732,1.0695090347999927]
[null,null,null,null,null,8733,1.0822473662957335]
[null,null,null,null,null,8734,1.0829526226958988]
[null,null,null,null,null,8735,1.0704682960156136]
[null,null,null,null,null,8736,1.0766544843679209]
[null,null,null,null,null,8737,1.0736320707018974]
[null,null,null,null,null,8738,1.0499425399040272]
[null,null,null,null,null,8739,1.0744190696552891]
[null,null,null,null,null,8740,1.056197052377889]
[null,null,null,null,null,8741,1.0742030826320474]
[null,null,null,null,null,8742,1.072885637531789]
[null,null,null,null,null,8743,1.0728663127615292]
[null,null,null,null,null,8744,1.0695072446091165]
[null,null,null,null,null,8745,1.1156598390748305]
[null,null,null,null,null,8746,1.0814167087697093]
[null,null,null,null,null,8747,1.0865131885520114]
[null,null,null,null,null,8748,1.0864234154375709]
[null,null,null,null,null,8749,1.0681198721526595]
[null,null,null,null,null,8750,1.093291562009689]
[null,null,null,null,null,8751,1.0577813350266438]
[null,null,null,null,null,8752,1.056358984288573]
[null,null,null,null,null,8753,1.1147394707821539]
[null,null,null,null,null,8754,1.0795996542526081]
[null,null,null,null,null,8755,1.0842128573418679]
[null,null,null,null,null,8756,1.0809574921252967]
[null,null,null,null,null,8757,1.0713251775897144]
[null,null,null,null,null,8758,1.1103681585977887]
[null,null,null,null,null,8759,1.0464170501870251]
[null,null,null,null,null,8760,1.1068080528565125]
[null,null,null,null,null,8761,1.0721593144290704]
[null,null,null,null,null,8762,1.0636662347561034]
[null,null,null,null,null,8763,1.0932020548181294]
[null,null,null,null,null,8764,1.0575113782262817]
[null,null,null,null,null,8765,1.1222218953402936]
[null,null,null,null,null,8766,1.0760695929455804]
[null,null,null,null,null,8767,1.0545779028267095]
[null,null,null,null,null,8768,1.1045437966070832]
[null,null,null,null,null,8769,1.0567117776531827]
[null,null,null,null,null,8770,{"$f":"EXP($B$11-0.5*$B$10^2)+$B$10*_xlfn.NORM.S.INV(RAND())","v":1.0823461902990348}]
[null,null,null,null,null,8771,1.0552517206705583]
[null,null,null,null,null,8772,1.0949680374957087]
[null,null,null,null,null,8773,1.0970749611515356]
[null,null,null,null,null,8774,1.1097326625479178]
[null,null,null,null,null,8775,1.1009604710655836]
[null,null,null,null,null,8776,1.0763523286556318]
[null,null,null,null,null,8777,1.0714853523081143]
[null,null,null,null,null,8778,1.0904785976486235]
[null,null,null,null,null,8779,1.0867349516185265]
[null,null,null,null,null,8780,1.0643780071352671]
[null,null,null,null,null,8781,1.0868390606554201]
[null,null,null,null,null,8782,1.0748237020952818]
[null,null,null,null,null,8783,1.0969160849092974]
[null,null,null,null,null,8784,1.0587486491040254]
[null,null,null,null,null,8785,1.0720639948774153]
[null,null,null,null,null,8786,1.0499432179040054]
[null,null,null,null,null,8787,1.0807131156312875]
[null,null,null,null,null,8788,1.0736378362617378]
[null,null,null,null,null,8789,1.0504421576299572]
[null,null,null,null,null,8790,1.0669295618527694]
[null,null,null,null,null,8791,1.06642171330554]
[null,null,null,null,null,8792,1.0625740215372943]
[null,null,null,null,null,8793,1.0733422575072995]
[null,null,null,null,null,8794,1.081051897323855]
[null,null,null,null,null,8795,1.0758419998023172]
[null,null,null,null,null,8796,1.0858953328682535]
[null,null,null,null,null,8797,1.0552762162260634]
[null,null,null,null,null,8798,1.0610932153412982]
[null,null,null,null,null,8799,1.0278775337324595]
[null,null,null,null,null,8800,1.0542753749917948]
[null,null,null,null,null,8801,1.1007252010463613]
[null,null,null,null,null,8802,1.0549315938429833]
[null,null,null,null,null,8803,1.0621215531756247]
[null,null,null,null,null,8804,1.0813809032006998]
[null,null,null,null,null,8805,1.0479164076805014]
[null,null,null,null,null,8806,1.0691506285218253]
[null,null,null,null,null,8807,1.0964676989123794]
[null,null,null,null,null,8808,1.0355499221747404]
[null,null,null,null,null,8809,1.0639710439332986]
[null,null,null,null,null,8810,1.0729081406190977]
[null,null,null,null,null,8811,1.0678578577047948]
[null,null,null,null,null,8812,1.0696881888027008]
[null,null,null,null,null,8813,1.0806957930861754]
[null,null,null,null,null,8814,1.087337978897557]
[null,null,null,null,null,8815,1.0554167531738192]
[null,null,null,null,null,8816,1.0972178127684298]
[null,null,null,null,null,8817,1.0349753017929253]
[null,null,null,null,null,8818,1.0775475513990487]
[null,null,null,null,null,8819,1.0732164237550426]
[null,null,null,null,null,8820,1.0798076823538725]
[null,null,null,null,null,8821,1.0461870891112208]
[null,null,null,null,null,8822,1.0726567185496694]
[null,null,null,null,null,8823,1.0723491036672499]
[null,null,null,null,null,8824,1.0824529349508947]
[null,null,null,null,null,8825,1.0685729020438588]
[null,null,null,null,null,8826,1.0713416954444863]
[null,null,null,null,null,8827,1.0613230305850587]
[null,null,null,null,null,8828,1.0798342423893241]
[null,null,null,null,null,8829,1.0618898672995092]
[null,null,null,null,null,8830,1.0738344819102561]
[null,null,null,null,null,8831,1.0711935984556371]
[null,null,null,null,null,8832,1.0717349677365582]
[null,null,null,null,null,8833,1.0432435903055668]
[null,null,null,null,null,8834,{"$f":"EXP($B$11-0.5*$B$10^2)+$B$10*_xlfn.NORM.S.INV(RAND())","v":1.0646900389240614}]
[null,null,null,null,null,8835,1.0781745391627804]
[null,null,null,null,null,8836,1.1317946447734499]
[null,null,null,null,null,8837,1.0601610538847861]
[null,null,null,null,null,8838,1.0837209540945199]
[null,null,null,null,null,8839,1.0604131714655602]
[null,null,null,null,null,8840,1.0793493110198755]
[null,null,null,null,null,8841,1.0827911986731478]
[null,null,null,null,null,8842,1.081985896173645]
[null,null,null,null,null,8843,1.0789398371759014]
[null,null,null,null,null,8844,1.0821314773782]
[null,null,null,null,null,8845,1.0470228314044276]
[null,null,null,null,null,8846,1.0660716890902586]
[null,null,null,null,null,8847,1.0683235381272178]
[null,null,null,null,null,8848,1.0685391500480814]
[null,null,null,null,null,8849,1.103549786068494]
[null,null,null,null,null,8850,1.0698835565018596]
[null,null,null,null,null,8851,1.0906544218611582]
[null,null,null,null,null,8852,1.084063466233161]
[null,null,null,null,null,8853,1.1081202137830906]
[null,null,null,null,null,8854,1.1191334470713883]
[null,null,null,null,null,8855,1.0838082584342736]
[null,null,null,null,null,8856,1.0860459954624309]
[null,null,null,null,null,8857,1.0793374428962124]
[null,null,null,null,null,8858,1.0998313119285237]
[null,null,null,null,null,8859,1.0695668559591307]
[null,null,null,null,null,8860,1.0566603442654159]
[null,null,null,null,null,8861,1.0529363277024404]
[null,null,null,null,null,8862,1.0580244402410361]
[null,null,null,null,null,8863,1.0753254559739425]
[null,null,null,null,null,8864,1.0741444901720261]
[null,null,null,null,null,8865,1.0760232596243307]
[null,null,null,null,null,8866,1.0687890749288773]
[null,null,null,null,null,8867,1.0064382827554259]
[null,null,null,null,null,8868,1.091496783647337]
[null,null,null,null,null,8869,1.0688121581632455]
[null,null,null,null,null,8870,1.091561069882881]
[null,null,null,null,null,8871,1.0714707113372379]
[null,null,null,null,null,8872,1.0630700479941266]
[null,null,null,null,null,8873,1.0577912637531002]
[null,null,null,null,null,8874,1.1250569832773039]
[null,null,null,null,null,8875,1.0708421407290025]
[null,null,null,null,null,8876,1.0624875810486609]
[null,null,null,null,null,8877,1.1100955336552025]
[null,null,null,null,null,8878,1.1042535233250343]
[null,null,null,null,null,8879,1.0397678645886494]
[null,null,null,null,null,8880,1.0889545445077047]
[null,null,null,null,null,8881,1.0665013539679371]
[null,null,null,null,null,8882,1.0567353859559334]
[null,null,null,null,null,8883,1.0461347272847568]
[null,null,null,null,null,8884,1.0327822105506708]
[null,null,null,null,null,8885,1.0780284454981945]
[null,null,null,null,null,8886,1.071333210120784]
[null,null,null,null,null,8887,1.0692248328204565]
[null,null,null,null,null,8888,1.1018881680663275]
[null,null,null,null,null,8889,1.0849567463445462]
[null,null,null,null,null,8890,1.0453866641230283]
[null,null,null,null,null,8891,1.0797303058478624]
[null,null,null,null,null,8892,1.0794534508719889]
[null,null,null,null,null,8893,1.0483571820175919]
[null,null,null,null,null,8894,1.0618345943998362]
[null,null,null,null,null,8895,1.0994987279496771]
[null,null,null,null,null,8896,1.0767610937278504]
[null,null,null,null,null,8897,1.0966151111326639]
[null,null,null,null,null,8898,{"$f":"EXP($B$11-0.5*$B$10^2)+$B$10*_xlfn.NORM.S.INV(RAND())","v":1.0827844248163654}]
[null,null,null,null,null,8899,1.0586741223525151]
[null,null,null,null,null,8900,1.0659895848146901]
[null,null,null,null,null,8901,1.1064596033108867]
[null,null,null,null,null,8902,1.1211904762829037]
[null,null,null,null,null,8903,1.0967077506150704]
[null,null,null,null,null,8904,1.0604783953139381]
[null,null,null,null,null,8905,1.0980310768888213]
[null,null,null,null,null,8906,1.062219361231352]
[null,null,null,null,null,8907,1.0743840683264854]
[null,null,null,null,null,8908,1.080691752775272]
[null,null,null,null,null,8909,1.0596774722345463]
[null,null,null,null,null,8910,1.0580441918684709]
[null,null,null,null,null,8911,1.1189887058976624]
[null,null,null,null,null,8912,1.0634858336603998]
[null,null,null,null,null,8913,1.1145928045976061]
[null,null,null,null,null,8914,1.061609152208741]
[null,null,null,null,null,8915,1.0777612034848725]
[null,null,null,null,null,8916,1.0794051641438531]
[null,null,null,null,null,8917,1.069386432151783]
[null,null,null,null,null,8918,1.101225652047185]
[null,null,null,null,null,8919,1.0412627841519178]
[null,null,null,null,null,8920,1.0518186644915184]
[null,null,null,null,null,8921,1.0605130256882225]
[null,null,null,null,null,8922,1.0937131303050198]
[null,null,null,null,null,8923,1.0722665729920478]
[null,null,null,null,null,8924,1.0854155249826805]
[null,null,null,null,null,8925,1.0890754440378017]
[null,null,null,null,null,8926,1.1039915002842038]
[null,null,null,null,null,8927,1.0868551819090664]
[null,null,null,null,null,8928,1.0677353146098236]
[null,null,null,null,null,8929,1.092656791263134]
[null,null,null,null,null,8930,1.115439898936093]
[null,null,null,null,null,8931,1.0926984091630021]
[null,null,null,null,null,8932,1.0971916136191391]
[null,null,null,null,null,8933,1.101285064931752]
[null,null,null,null,null,8934,1.1095154011455834]
[null,null,null,null,null,8935,1.0822978557453893]
[null,null,null,null,null,8936,1.0834601232960901]
[null,null,null,null,null,8937,1.0923513058344834]
[null,null,null,null,null,8938,1.05324323499869]
[null,null,null,null,null,8939,1.0999259205752316]
[null,null,null,null,null,8940,1.0609036070846003]
[null,null,null,null,null,8941,1.0632343563788882]
[null,null,null,null,null,8942,1.0882472761799979]
[null,null,null,null,null,8943,1.0835965416546294]
[null,null,null,null,null,8944,1.0701853685192353]
[null,null,null,null,null,8945,1.0575440280572181]
[null,null,null,null,null,8946,1.0896554706781831]
[null,null,null,null,null,8947,1.0762294573319706]
[null,null,null,null,null,8948,1.0435165025419781]
[null,null,null,null,null,8949,1.0517718520865562]
[null,null,null,null,null,8950,1.1134323060857458]
[null,null,null,null,null,8951,1.0596953158225375]
[null,null,null,null,null,8952,1.0895371071308]
[null,null,null,null,null,8953,1.0535017718768798]
[null,null,null,null,null,8954,1.0645604602632328]
[null,null,null,null,null,8955,1.0835495327648588]
[null,null,null,null,null,8956,1.133297878908524]
[null,null,null,null,null,8957,1.0940230660797445]
[null,null,null,null,null,8958,1.1040919473343334]
[null,null,null,null,null,8959,1.0570105967162076]
[null,null,null,null,null,8960,1.0701717643069726]
[null,null,null,null,null,8961,1.0685658110331882]
[null,null,null,null,null,8962,{"$f":"EXP($B$11-0.5*$B$10^2)+$B$10*_xlfn.NORM.S.INV(RAND())","v":1.0444683198275839}]
[null,null,null,null,null,8963,1.0817710342327669]
[null,null,null,null,null,8964,1.1069639592611327]
[null,null,null,null,null,8965,1.0963517510561138]
[null,null,null,null,null,8966,1.0480696157334111]
[null,null,null,null,null,8967,1.0500063741893602]
[null,null,null,null,null,8968,1.0690444853613472]
[null,null,null,null,null,8969,1.0741048046463624]
[null,null,null,null,null,8970,1.0789101524889082]
[null,null,null,null,null,8971,1.093684123441939]
[null,null,null,null,null,8972,1.0710218468055894]
[null,null,null,null,null,8973,1.0543530079073469]
[null,null,null,null,null,8974,1.0927739001942247]
[null,null,null,null,null,8975,1.107873733400857]
[null,null,null,null,null,8976,1.0366464829395752]
[null,null,null,null,null,8977,1.0766355210406666]
[null,null,null,null,null,8978,1.0831807315637052]
[null,null,null,null,null,8979,1.044197524158065]
[null,null,null,null,null,8980,1.1017820519729675]
[null,null,null,null,null,8981,1.0646237331628923]
[null,null,null,null,null,8982,1.1028707256865899]
[null,null,null,null,null,8983,1.0334930429081097]
[null,null,null,null,null,8984,1.0529178844651983]
[null,null,null,null,null,8985,1.0821762998461497]
[null,null,null,null,null,8986,1.1000327830154197]
[null,null,null,null,null,8987,1.0543834640211414]
[null,null,null,null,null,8988,1.0724234018120749]
[null,null,null,null,null,8989,1.0539120210237354]
[null,null,null,null,null,8990,1.0459413855505195]
[null,null,null,null,null,8991,1.085326760110408]
[null,null,null,null,null,8992,1.0431846661512081]
[null,null,null,null,null,8993,1.0876507931427697]
[null,null,null,null,null,8994,1.0998726085858643]
[null,null,null,null,null,8995,1.0715028241812663]
[null,null,null,null,null,8996,1.0631345883768379]
[null,null,null,null,null,8997,1.0968278863068175]
[null,null,null,null,null,8998,1.0940273525670023]
[null,null,null,null,null,8999,1.0590146977994241]
[null,null,null,null,null,9000,1.0751221209605817]
[null,null,null,null,null,9001,1.0883495671657131]
[null,null,null,null,null,9002,1.0657558210759905]
[null,null,null,null,null,9003,1.0711518677387708]
[null,null,null,null,null,9004,1.0658559044911826]
[null,null,null,null,null,9005,1.0788949747932259]
[null,null,null,null,null,9006,1.0804458290261809]
[null,null,null,null,null,9007,1.0768013419903277]
[null,null,null,null,null,9008,1.0532625722765465]
[null,null,null,null,null,9009,1.0842451448202728]
[null,null,null,null,null,9010,1.1120694766740182]
[null,null,null,null,null,9011,1.0629235030904389]
[null,null,null,null,null,9012,1.0501349187368576]
[null,null,null,null,null,9013,1.1332566158493247]
[null,null,null,null,null,9014,1.0477864166781901]
[null,null,null,null,null,9015,1.0487503586916163]
[null,null,null,null,null,9016,1.0917318008801511]
[null,null,null,null,null,9017,1.0587172175194051]
[null,null,null,null,null,9018,1.0767835695090868]
[null,null,null,null,null,9019,1.0812359589397327]
[null,null,null,null,null,9020,1.0771593874080394]
[null,null,null,null,null,9021,1.0557198878488927]
[null,null,null,null,null,9022,1.0762158980038663]
[null,null,null,null,null,9023,1.0812105818312967]
[null,null,null,null,null,9024,1.0714638190459205]
[null,null,null,null,null,9025,1.0690281857795167]
[null,null,null,null,null,9026,{"$f":"EXP($B$11-0.5*$B$10^2)+$B$10*_xlfn.NORM.S.INV(RAND())","v":1.0746354140015337}]
[null,null,null,null,null,9027,1.052668608866691]
[null,null,null,null,null,9028,1.0679364504684541]
[null,null,null,null,null,9029,1.0712705569545646]
[null,null,null,null,null,9030,1.0478201893591077]
[null,null,null,null,null,9031,1.0523845914699566]
[null,null,null,null,null,9032,1.0469212840386182]
[null,null,null,null,null,9033,1.0810641028625525]
[null,null,null,null,null,9034,1.0449765165514517]
[null,null,null,null,null,9035,1.1196098941909889]
[null,null,null,null,null,9036,1.0698420407578852]
[null,null,null,null,null,9037,1.1048145593747187]
[null,null,null,null,null,9038,1.0923140950780106]
[null,null,null,null,null,9039,1.0480972522153853]
[null,null,null,null,null,9040,1.0872573922309452]
[null,null,null,null,null,9041,1.0596100731511668]
[null,null,null,null,null,9042,1.0745184636117424]
[null,null,null,null,null,9043,1.1067979582212697]
[null,null,null,null,null,9044,1.0951336323458856]
[null,null,null,null,null,9045,1.0389467099117633]
[null,null,null,null,null,9046,1.0537529607626113]
[null,null,null,null,null,9047,1.0963922318884967]
[null,null,null,null,null,9048,1.0936204076952254]
[null,null,null,null,null,9049,1.0411430243192907]
[null,null,null,null,null,9050,1.0646045410959066]
[null,null,null,null,null,9051,1.0917706951146096]
[null,null,null,null,null,9052,1.0898099219184121]
[null,null,null,null,null,9053,1.079134891707771]
[null,null,null,null,null,9054,1.0980182307926252]
[null,null,null,null,null,9055,1.077259421259722]
[null,null,null,null,null,9056,1.0701448055448652]
[null,null,null,null,null,9057,1.1024234478321455]
[null,null,null,null,null,9058,1.0942405166451672]
[null,null,null,null,null,9059,1.0689906965654636]
[null,null,null,null,null,9060,1.0783454181562144]
[null,null,null,null,null,9061,1.0634772006376543]
[null,null,null,null,null,9062,1.0564677169501402]
[null,null,null,null,null,9063,1.0482004544627133]
[null,null,null,null,null,9064,1.086093439075881]
[null,null,null,null,null,9065,1.077830079457605]
[null,null,null,null,null,9066,1.0588321733781039]
[null,null,null,null,null,9067,1.0584127513414785]
[null,null,null,null,null,9068,1.1067967041078237]
[null,null,null,null,null,9069,1.0510303480435901]
[null,null,null,null,null,9070,1.0859659108187658]
[null,null,null,null,null,9071,1.0528003580652678]
[null,null,null,null,null,9072,1.0836446644184252]
[null,null,null,null,null,9073,1.0635563336329341]
[null,null,null,null,null,9074,1.097076069329425]
[null,null,null,null,null,9075,1.0915458687385888]
[null,null,null,null,null,9076,1.0846952058456552]
[null,null,null,null,null,9077,1.08773633286111]
[null,null,null,null,null,9078,1.1006555908502162]
[null,null,null,null,null,9079,1.0531388382406308]
[null,null,null,null,null,9080,1.1034556770726236]
[null,null,null,null,null,9081,1.0642906012374023]
[null,null,null,null,null,9082,1.0703630659281609]
[null,null,null,null,null,9083,1.1094742574430725]
[null,null,null,null,null,9084,1.0754881407499051]
[null,null,null,null,null,9085,1.0707249647635735]
[null,null,null,null,null,9086,1.0872465852287676]
[null,null,null,null,null,9087,1.0794919819755702]
[null,null,null,null,null,9088,1.0561354842759136]
[null,null,null,null,null,9089,1.0425052680177469]
[null,null,null,null,null,9090,{"$f":"EXP($B$11-0.5*$B$10^2)+$B$10*_xlfn.NORM.S.INV(RAND())","v":1.0932396101531445}]
[null,null,null,null,null,9091,1.0716398317285754]
[null,null,null,null,null,9092,1.0886714964033342]
[null,null,null,null,null,9093,1.0867076663913811]
[null,null,null,null,null,9094,1.0879061136985311]
[null,null,null,null,null,9095,1.0783045892318535]
[null,null,null,null,null,9096,1.0813381260718307]
[null,null,null,null,null,9097,1.0834401136691547]
[null,null,null,null,null,9098,1.0656993055568094]
[null,null,null,null,null,9099,1.0976855421431611]
[null,null,null,null,null,9100,1.1047666421188629]
[null,null,null,null,null,9101,1.0646818261697206]
[null,null,null,null,null,9102,1.0678025824370529]
[null,null,null,null,null,9103,1.0440404658330686]
[null,null,null,null,null,9104,1.1074310740254472]
[null,null,null,null,null,9105,1.0875447958095301]
[null,null,null,null,null,9106,1.0852354472197137]
[null,null,null,null,null,9107,1.0877043579458521]
[null,null,null,null,null,9108,1.0623531131354982]
[null,null,null,null,null,9109,1.0827961716939298]
[null,null,null,null,null,9110,1.0810692679938658]
[null,null,null,null,null,9111,1.0958808073547954]
[null,null,null,null,null,9112,1.0607256018493376]
[null,null,null,null,null,9113,1.0878756668106244]
[null,null,null,null,null,9114,1.1055120704617869]
[null,null,null,null,null,9115,1.0919509707300568]
[null,null,null,null,null,9116,1.0907568808750516]
[null,null,null,null,null,9117,1.0821725844769581]
[null,null,null,null,null,9118,1.0633954162542179]
[null,null,null,null,null,9119,1.0652400199334069]
[null,null,null,null,null,9120,1.1027505466936813]
[null,null,null,null,null,9121,1.073514915848556]
[null,null,null,null,null,9122,1.0762025522699974]
[null,null,null,null,null,9123,1.0618207844438561]
[null,null,null,null,null,9124,1.0856447861171228]
[null,null,null,null,null,9125,1.0744056530084873]
[null,null,null,null,null,9126,1.0666468574688686]
[null,null,null,null,null,9127,1.0672498989539123]
[null,null,null,null,null,9128,1.0846659195443897]
[null,null,null,null,null,9129,1.0603236842296471]
[null,null,null,null,null,9130,1.0821151386690409]
[null,null,null,null,null,9131,1.0781796680716724]
[null,null,null,null,null,9132,1.0555575564018114]
[null,null,null,null,null,9133,1.0651161400109519]
[null,null,null,null,null,9134,1.0259258074408355]
[null,null,null,null,null,9135,1.0586184761972213]
[null,null,null,null,null,9136,1.0903809630019328]
[null,null,null,null,null,9137,1.0994172438630334]
[null,null,null,null,null,9138,1.0748726180172248]
[null,null,null,null,null,9139,1.083813100422049]
[null,null,null,null,null,9140,1.0899609179793397]
[null,null,null,null,null,9141,1.0846085161429828]
[null,null,null,null,null,9142,1.0800347087412345]
[null,null,null,null,null,9143,1.0721087371854428]
[null,null,null,null,null,9144,1.1137947185621544]
[null,null,null,null,null,9145,1.0998263150430425]
[null,null,null,null,null,9146,1.1048886136304026]
[null,null,null,null,null,9147,1.0775706394266258]
[null,null,null,null,null,9148,1.0758109920932548]
[null,null,null,null,null,9149,1.0925403319752489]
[null,null,null,null,null,9150,1.0856072510766501]
[null,null,null,null,null,9151,1.0997582087414921]
[null,null,null,null,null,9152,1.0636206280443259]
[null,null,null,null,null,9153,1.1025835754483431]
[null,null,null,null,null,9154,{"$f":"EXP($B$11-0.5*$B$10^2)+$B$10*_xlfn.NORM.S.INV(RAND())","v":1.1069964914926729}]
[null,null,null,null,null,9155,1.0634259907496746]
[null,null,null,null,null,9156,1.0988075708099883]
[null,null,null,null,null,9157,1.0876238057407399]
[null,null,null,null,null,9158,1.0880211287610118]
[null,null,null,null,null,9159,1.0868870655156821]
[null,null,null,null,null,9160,1.0625576394908183]
[null,null,null,null,null,9161,1.0744810615949565]
[null,null,null,null,null,9162,1.1131044081837622]
[null,null,null,null,null,9163,1.0732328875970638]
[null,null,null,null,null,9164,1.0805775731279059]
[null,null,null,null,null,9165,1.0924789231078817]
[null,null,null,null,null,9166,1.0356685216082751]
[null,null,null,null,null,9167,1.1258717427756981]
[null,null,null,null,null,9168,1.0802576414476637]
[null,null,null,null,null,9169,1.0816148302729562]
[null,null,null,null,null,9170,1.052576671932735]
[null,null,null,null,null,9171,1.0594492719609896]
[null,null,null,null,null,9172,1.0793513940219301]
[null,null,null,null,null,9173,1.0973894718774897]
[null,null,null,null,null,9174,1.0913616158995747]
[null,null,null,null,null,9175,1.0678704511955015]
[null,null,null,null,null,9176,1.0562045005149538]
[null,null,null,null,null,9177,1.0852046153902617]
[null,null,null,null,null,9178,1.0804979706031912]
[null,null,null,null,null,9179,1.0884266675875107]
[null,null,null,null,null,9180,1.0419897005221121]
[null,null,null,null,null,9181,1.1325284384619627]
[null,null,null,null,null,9182,1.0948828998902063]
[null,null,null,null,null,9183,1.0762131794904015]
[null,null,null,null,null,9184,1.0803512494990923]
[null,null,null,null,null,9185,1.0735517538491859]
[null,null,null,null,null,9186,1.0769269816574218]
[null,null,null,null,null,9187,1.0602982644377918]
[null,null,null,null,null,9188,1.0921809865725129]
[null,null,null,null,null,9189,1.0762928982710962]
[null,null,null,null,null,9190,1.0950447913861738]
[null,null,null,null,null,9191,1.0964235931866071]
[null,null,null,null,null,9192,1.0447499830289897]
[null,null,null,null,null,9193,1.110348728987532]
[null,null,null,null,null,9194,1.071952230212202]
[null,null,null,null,null,9195,1.0771660573883166]
[null,null,null,null,null,9196,1.0540662052770129]
[null,null,null,null,null,9197,1.0737703523755315]
[null,null,null,null,null,9198,1.0293871494441813]
[null,null,null,null,null,9199,1.062461651937747]
[null,null,null,null,null,9200,1.1125847448694142]
[null,null,null,null,null,9201,1.0636346598117565]
[null,null,null,null,null,9202,1.0811911398730405]
[null,null,null,null,null,9203,1.0742463985324451]
[null,null,null,null,null,9204,1.0843437046304638]
[null,null,null,null,null,9205,1.1013964608845397]
[null,null,null,null,null,9206,1.0948186756717881]
[null,null,null,null,null,9207,1.0571675268671965]
[null,null,null,null,null,9208,1.1088052776815103]
[null,null,null,null,null,9209,1.0762182712567365]
[null,null,null,null,null,9210,1.0845167522576851]
[null,null,null,null,null,9211,1.0678183732590112]
[null,null,null,null,null,9212,1.079358677770234]
[null,null,null,null,null,9213,1.1012654240555113]
[null,null,null,null,null,9214,1.0433254122425504]
[null,null,null,null,null,9215,1.0768971891730619]
[null,null,null,null,null,9216,1.077643050333825]
[null,null,null,null,null,9217,1.0777518845304714]
[null,null,null,null,null,9218,{"$f":"EXP($B$11-0.5*$B$10^2)+$B$10*_xlfn.NORM.S.INV(RAND())","v":1.0324726547909726}]
[null,null,null,null,null,9219,1.1188269034153806]
[null,null,null,null,null,9220,1.0792298296041962]
[null,null,null,null,null,9221,1.0820570770630145]
[null,null,null,null,null,9222,1.0952159469690401]
[null,null,null,null,null,9223,1.0516158975924195]
[null,null,null,null,null,9224,1.0583473367031029]
[null,null,null,null,null,9225,1.0852023219139337]
[null,null,null,null,null,9226,1.0627313181119946]
[null,null,null,null,null,9227,1.070052178299191]
[null,null,null,null,null,9228,1.0318976492198362]
[null,null,null,null,null,9229,1.0778244499585414]
[null,null,null,null,null,9230,1.0392714785050583]
[null,null,null,null,null,9231,1.0618047588620347]
[null,null,null,null,null,9232,1.0706029815443834]
[null,null,null,null,null,9233,1.0718891240036958]
[null,null,null,null,null,9234,1.0707662313703599]
[null,null,null,null,null,9235,1.0630540683268181]
[null,null,null,null,null,9236,1.0655103764523985]
[null,null,null,null,null,9237,1.0694979808042908]
[null,null,null,null,null,9238,1.0721269008814558]
[null,null,null,null,null,9239,1.0753536315849475]
[null,null,null,null,null,9240,1.0824341716077381]
[null,null,null,null,null,9241,1.1156585546501612]
[null,null,null,null,null,9242,1.0688518221997194]
[null,null,null,null,null,9243,1.0741551513081942]
[null,null,null,null,null,9244,1.0518993288223708]
[null,null,null,null,null,9245,1.0749789171432509]
[null,null,null,null,null,9246,1.0581602958468166]
[null,null,null,null,null,9247,1.1193318400706243]
[null,null,null,null,null,9248,1.0641976207104842]
[null,null,null,null,null,9249,1.0852220621335846]
[null,null,null,null,null,9250,1.0828228885046578]
[null,null,null,null,null,9251,1.0843473598170184]
[null,null,null,null,null,9252,1.0923116612175148]
[null,null,null,null,null,9253,1.0723743857606298]
[null,null,null,null,null,9254,1.0867775732788341]
[null,null,null,null,null,9255,1.1087591978705906]
[null,null,null,null,null,9256,1.0536632176036342]
[null,null,null,null,null,9257,1.0923003272256468]
[null,null,null,null,null,9258,1.0806519764781375]
[null,null,null,null,null,9259,1.070659425445905]
[null,null,null,null,null,9260,1.0625613304292407]
[null,null,null,null,null,9261,1.0978606522229506]
[null,null,null,null,null,9262,1.0820910798691825]
[null,null,null,null,null,9263,1.0724506400561795]
[null,null,null,null,null,9264,1.0420045100434667]
[null,null,null,null,null,9265,1.0607662024746187]
[null,null,null,null,null,9266,1.0719252735090301]
[null,null,null,null,null,9267,1.0741237089885163]
[null,null,null,null,null,9268,1.0683174271326923]
[null,null,null,null,null,9269,1.0572408234357127]
[null,null,null,null,null,9270,1.0851560990315867]
[null,null,null,null,null,9271,1.0909558908033785]
[null,null,null,null,null,9272,1.0678360539391116]
[null,null,null,null,null,9273,1.0974331008150926]
[null,null,null,null,null,9274,1.0737171250191664]
[null,null,null,null,null,9275,1.0537094075943376]
[null,null,null,null,null,9276,1.0736315277252055]
[null,null,null,null,null,9277,1.0777841588190953]
[null,null,null,null,null,9278,1.0893550805913055]
[null,null,null,null,null,9279,1.0745155052891524]
[null,null,null,null,null,9280,1.1009285637386939]
[null,null,null,null,null,9281,1.0934202214226096]
[null,null,null,null,null,9282,{"$f":"EXP($B$11-0.5*$B$10^2)+$B$10*_xlfn.NORM.S.INV(RAND())","v":1.083447063752637}]
[null,null,null,null,null,9283,1.0717653585055686]
[null,null,null,null,null,9284,1.0908922397748773]
[null,null,null,null,null,9285,1.1015283739757504]
[null,null,null,null,null,9286,1.0658017298513123]
[null,null,null,null,null,9287,1.0760390329916194]
[null,null,null,null,null,9288,1.1078573977016208]
[null,null,null,null,null,9289,1.0584246698681883]
[null,null,null,null,null,9290,1.0900634908958207]
[null,null,null,null,null,9291,1.0623766063379549]
[null,null,null,null,null,9292,1.0760066200421787]
[null,null,null,null,null,9293,1.0770351589855334]
[null,null,null,null,null,9294,1.0434855031010981]
[null,null,null,null,null,9295,1.055716189542337]
[null,null,null,null,null,9296,1.0891361903879366]
[null,null,null,null,null,9297,1.0509628909664837]
[null,null,null,null,null,9298,1.0885263136162835]
[null,null,null,null,null,9299,1.1051206900792168]
[null,null,null,null,null,9300,1.0888848700468821]
[null,null,null,null,null,9301,1.0865746626362593]
[null,null,null,null,null,9302,1.0916235835523658]
[null,null,null,null,null,9303,1.0726226947387292]
[null,null,null,null,null,9304,1.0529662097376862]
[null,null,null,null,null,9305,1.0555779581362568]
[null,null,null,null,null,9306,1.0514389304924718]
[null,null,null,null,null,9307,1.0841646408938246]
[null,null,null,null,null,9308,1.050781504190424]
[null,null,null,null,null,9309,1.1033020574286625]
[null,null,null,null,null,9310,1.0980707515693549]
[null,null,null,null,null,9311,1.1147316708880877]
[null,null,null,null,null,9312,1.0597837428890036]
[null,null,null,null,null,9313,1.0781598617740029]
[null,null,null,null,null,9314,1.1109341088066846]
[null,null,null,null,null,9315,1.0757944447843673]
[null,null,null,null,null,9316,1.0456701721918313]
[null,null,null,null,null,9317,1.1041104007368507]
[null,null,null,null,null,9318,1.0424562706852758]
[null,null,null,null,null,9319,1.0880239183729965]
[null,null,null,null,null,9320,1.0360362577233926]
[null,null,null,null,null,9321,1.0827168970450742]
[null,null,null,null,null,9322,1.0839526617544886]
[null,null,null,null,null,9323,1.0679288195737919]
[null,null,null,null,null,9324,1.09153532366809]
[null,null,null,null,null,9325,1.0868227487139632]
[null,null,null,null,null,9326,1.0676545408560805]
[null,null,null,null,null,9327,1.0582467835750977]
[null,null,null,null,null,9328,1.0465438842878703]
[null,null,null,null,null,9329,1.0973233448044262]
[null,null,null,null,null,9330,1.097748990374505]
[null,null,null,null,null,9331,1.0545794488986631]
[null,null,null,null,null,9332,1.0488111244522864]
[null,null,null,null,null,9333,1.1073734701626943]
[null,null,null,null,null,9334,1.0609235528771166]
[null,null,null,null,null,9335,1.0791475266677548]
[null,null,null,null,null,9336,1.0821696333873871]
[null,null,null,null,null,9337,1.091564040543461]
[null,null,null,null,null,9338,1.1039021228599672]
[null,null,null,null,null,9339,1.0760127303879199]
[null,null,null,null,null,9340,1.0686566290912036]
[null,null,null,null,null,9341,1.0709512744565686]
[null,null,null,null,null,9342,1.0748792938521363]
[null,null,null,null,null,9343,1.0695937829874429]
[null,null,null,null,null,9344,1.0857525013195124]
[null,null,null,null,null,9345,1.0710603327077948]
[null,null,null,null,null,9346,{"$f":"EXP($B$11-0.5*$B$10^2)+$B$10*_xlfn.NORM.S.INV(RAND())","v":1.0747053715672594}]
[null,null,null,null,null,9347,1.0977519388768311]
[null,null,null,null,null,9348,1.0634556442507446]
[null,null,null,null,null,9349,1.0735083089094146]
[null,null,null,null,null,9350,1.0943654838812225]
[null,null,null,null,null,9351,1.069523528670246]
[null,null,null,null,null,9352,1.0649920000430984]
[null,null,null,null,null,9353,1.0805592284542738]
[null,null,null,null,null,9354,1.0728386172279774]
[null,null,null,null,null,9355,1.0926930662873255]
[null,null,null,null,null,9356,1.1109366087141739]
[null,null,null,null,null,9357,1.0414674523073149]
[null,null,null,null,null,9358,1.0598740525338621]
[null,null,null,null,null,9359,1.0808384656549623]
[null,null,null,null,null,9360,1.096063786535588]
[null,null,null,null,null,9361,1.0214353158179899]
[null,null,null,null,null,9362,1.098938427082897]
[null,null,null,null,null,9363,1.0755183329093996]
[null,null,null,null,null,9364,1.0726629171280955]
[null,null,null,null,null,9365,1.0887792072723803]
[null,null,null,null,null,9366,1.0650375178882845]
[null,null,null,null,null,9367,1.0709353156426118]
[null,null,null,null,null,9368,1.0724195407372485]
[null,null,null,null,null,9369,1.0862928906737463]
[null,null,null,null,null,9370,1.0895345463752035]
[null,null,null,null,null,9371,1.0833563742604839]
[null,null,null,null,null,9372,1.0760518784600337]
[null,null,null,null,null,9373,1.0708994355622905]
[null,null,null,null,null,9374,1.0859799475117189]
[null,null,null,null,null,9375,1.0738356234015607]
[null,null,null,null,null,9376,1.0866856524865838]
[null,null,null,null,null,9377,1.1000888387248609]
[null,null,null,null,null,9378,1.1003051231233574]
[null,null,null,null,null,9379,1.0515796337944547]
[null,null,null,null,null,9380,1.0588369482323776]
[null,null,null,null,null,9381,1.0979984615454608]
[null,null,null,null,null,9382,1.0474297308520735]
[null,null,null,null,null,9383,1.0646263025369236]
[null,null,null,null,null,9384,1.0756149686032723]
[null,null,null,null,null,9385,1.0724244415315256]
[null,null,null,null,null,9386,1.0833040666240366]
[null,null,null,null,null,9387,1.0830948443345954]
[null,null,null,null,null,9388,1.0760023597004793]
[null,null,null,null,null,9389,1.0961671613640547]
[null,null,null,null,null,9390,1.0865504014841367]
[null,null,null,null,null,9391,1.0590200176541182]
[null,null,null,null,null,9392,1.0913875836544118]
[null,null,null,null,null,9393,1.1143570676609829]
[null,null,null,null,null,9394,1.0678371829060034]
[null,null,null,null,null,9395,1.0913249054933429]
[null,null,null,null,null,9396,1.0875577460025432]
[null,null,null,null,null,9397,1.1048982644685943]
[null,null,null,null,null,9398,1.0438642023512019]
[null,null,null,null,null,9399,1.0553772018638325]
[null,null,null,null,null,9400,1.0588499973259671]
[null,null,null,null,null,9401,1.0936416107919327]
[null,null,null,null,null,9402,1.0647462211729852]
[null,null,null,null,null,9403,1.0674226959222846]
[null,null,null,null,null,9404,1.0541621806725536]
[null,null,null,null,null,9405,1.0360787797381008]
[null,null,null,null,null,9406,1.0715302951591086]
[null,null,null,null,null,9407,1.0870674021401947]
[null,null,null,null,null,9408,1.0512620753980459]
[null,null,null,null,null,9409,1.0827898989092422]
[null,null,null,null,null,9410,{"$f":"EXP($B$11-0.5*$B$10^2)+$B$10*_xlfn.NORM.S.INV(RAND())","v":1.110704467562341}]
[null,null,null,null,null,9411,1.0818000834857453]
[null,null,null,null,null,9412,1.055630439650888]
[null,null,null,null,null,9413,1.037310864900802]
[null,null,null,null,null,9414,1.0838238342578037]
[null,null,null,null,null,9415,1.0759133211996907]
[null,null,null,null,null,9416,1.0795898493576312]
[null,null,null,null,null,9417,1.0546396305831105]
[null,null,null,null,null,9418,1.0598374963638111]
[null,null,null,null,null,9419,1.075769143904433]
[null,null,null,null,null,9420,1.0651558284746785]
[null,null,null,null,null,9421,1.0962714386661123]
[null,null,null,null,null,9422,1.0429355148826165]
[null,null,null,null,null,9423,1.0374853083486462]
[null,null,null,null,null,9424,1.0700429888845888]
[null,null,null,null,null,9425,1.0746560049749467]
[null,null,null,null,null,9426,1.0696846015302528]
[null,null,null,null,null,9427,1.0561795644581184]
[null,null,null,null,null,9428,1.0864162875741343]
[null,null,null,null,null,9429,1.0782685976884516]
[null,null,null,null,null,9430,1.1040460514801882]
[null,null,null,null,null,9431,1.078107896608943]
[null,null,null,null,null,9432,1.0753580130125835]
[null,null,null,null,null,9433,1.0383292853837827]
[null,null,null,null,null,9434,1.0574643469647078]
[null,null,null,null,null,9435,1.0727001551036617]
[null,null,null,null,null,9436,1.1052122909021773]
[null,null,null,null,null,9437,1.1069695953590188]
[null,null,null,null,null,9438,1.065558668667238]
[null,null,null,null,null,9439,1.0866676019508636]
[null,null,null,null,null,9440,1.0949560746423714]
[null,null,null,null,null,9441,1.1008721033680231]
[null,null,null,null,null,9442,1.0653495374021782]
[null,null,null,null,null,9443,1.0656155995551975]
[null,null,null,null,null,9444,1.1085009065997578]
[null,null,null,null,null,9445,1.0466031437781835]
[null,null,null,null,null,9446,1.025276493401285]
[null,null,null,null,null,9447,1.0559386679897838]
[null,null,null,null,null,9448,1.0869973743702201]
[null,null,null,null,null,9449,1.110602180311826]
[null,null,null,null,null,9450,1.0790550574011977]
[null,null,null,null,null,9451,1.0898184603290579]
[null,null,null,null,null,9452,1.0487205041389778]
[null,null,null,null,null,9453,1.0892028947206998]
[null,null,null,null,null,9454,1.0422623992944779]
[null,null,null,null,null,9455,1.0566204196469091]
[null,null,null,null,null,9456,1.1032946273636248]
[null,null,null,null,null,9457,1.0902522265345012]
[null,null,null,null,null,9458,1.0994510911411479]
[null,null,null,null,null,9459,1.0560502881526599]
[null,null,null,null,null,9460,1.0300225264682765]
[null,null,null,null,null,9461,1.0504479482088613]
[null,null,null,null,null,9462,1.0490018863305621]
[null,null,null,null,null,9463,1.1143978784526758]
[null,null,null,null,null,9464,1.0889781382166688]
[null,null,null,null,null,9465,1.0549422605087868]
[null,null,null,null,null,9466,1.0448529413178753]
[null,null,null,null,null,9467,1.0785828458771112]
[null,null,null,null,null,9468,1.0645345321799871]
[null,null,null,null,null,9469,1.0927655153174236]
[null,null,null,null,null,9470,1.0766871976729027]
[null,null,null,null,null,9471,1.0450330470884464]
[null,null,null,null,null,9472,1.1017757210316905]
[null,null,null,null,null,9473,1.0783901929575406]
[null,null,null,null,null,9474,{"$f":"EXP($B$11-0.5*$B$10^2)+$B$10*_xlfn.NORM.S.INV(RAND())","v":1.065710628402974}]
[null,null,null,null,null,9475,1.0629022944031887]
[null,null,null,null,null,9476,1.1197453975506035]
[null,null,null,null,null,9477,1.0636204308120627]
[null,null,null,null,null,9478,1.0819562157668396]
[null,null,null,null,null,9479,1.0636202841556881]
[null,null,null,null,null,9480,1.0790848099733215]
[null,null,null,null,null,9481,1.0655644836324252]
[null,null,null,null,null,9482,1.1148574876981423]
[null,null,null,null,null,9483,1.0543502107572149]
[null,null,null,null,null,9484,1.0793032937225424]
[null,null,null,null,null,9485,1.0824801082099926]
[null,null,null,null,null,9486,1.0654377548151002]
[null,null,null,null,null,9487,1.1102553606420811]
[null,null,null,null,null,9488,1.1028255140224328]
[null,null,null,null,null,9489,1.078896495436479]
[null,null,null,null,null,9490,1.0687229969968053]
[null,null,null,null,null,9491,1.049799613466373]
[null,null,null,null,null,9492,1.1066060103092756]
[null,null,null,null,null,9493,1.0694436283509186]
[null,null,null,null,null,9494,1.0968303287053078]
[null,null,null,null,null,9495,1.0661147301132323]
[null,null,null,null,null,9496,1.0982180040970608]
[null,null,null,null,null,9497,1.0859435782854538]
[null,null,null,null,null,9498,1.0536784245152186]
[null,null,null,null,null,9499,1.0632823771580702]
[null,null,null,null,null,9500,1.0489737969437971]
[null,null,null,null,null,9501,1.0964914357052393]
[null,null,null,null,null,9502,1.0822408058575708]
[null,null,null,null,null,9503,1.0780558948461301]
[null,null,null,null,null,9504,1.1007816237863828]
[null,null,null,null,null,9505,1.0399758599564273]
[null,null,null,null,null,9506,1.1149630428822004]
[null,null,null,null,null,9507,1.082221423097816]
[null,null,null,null,null,9508,1.1196970439620684]
[null,null,null,null,null,9509,1.0761069864544182]
[null,null,null,null,null,9510,1.0578032342847858]
[null,null,null,null,null,9511,1.0769819380797867]
[null,null,null,null,null,9512,1.0841326284842665]
[null,null,null,null,null,9513,1.0997327940084833]
[null,null,null,null,null,9514,1.0745047374503742]
[null,null,null,null,null,9515,1.0461140571508354]
[null,null,null,null,null,9516,1.0477827160058415]
[null,null,null,null,null,9517,1.0520685979222488]
[null,null,null,null,null,9518,1.0832595426390594]
[null,null,null,null,null,9519,1.0728431271424261]
[null,null,null,null,null,9520,1.0912829769173642]
[null,null,null,null,null,9521,1.0776283758111782]
[null,null,null,null,null,9522,1.0723864842239672]
[null,null,null,null,null,9523,1.0742038174438238]
[null,null,null,null,null,9524,1.1013060093210794]
[null,null,null,null,null,9525,1.041378092914617]
[null,null,null,null,null,9526,1.0899637881399105]
[null,null,null,null,null,9527,1.0812331583460935]
[null,null,null,null,null,9528,1.0735985723998078]
[null,null,null,null,null,9529,1.0929168789461743]
[null,null,null,null,null,9530,1.0780245059135036]
[null,null,null,null,null,9531,1.0768921442531381]
[null,null,null,null,null,9532,1.0882561598969938]
[null,null,null,null,null,9533,1.0625280066676177]
[null,null,null,null,null,9534,1.0867854518884861]
[null,null,null,null,null,9535,1.0780453896884543]
[null,null,null,null,null,9536,1.0937653045571485]
[null,null,null,null,null,9537,1.0898820299708931]
[null,null,null,null,null,9538,{"$f":"EXP($B$11-0.5*$B$10^2)+$B$10*_xlfn.NORM.S.INV(RAND())","v":1.0617172700033268}]
[null,null,null,null,null,9539,1.0884515261150765]
[null,null,null,null,null,9540,1.0460500388970351]
[null,null,null,null,null,9541,1.0412857059825338]
[null,null,null,null,null,9542,1.0814296902656517]
[null,null,null,null,null,9543,1.0691995405512242]
[null,null,null,null,null,9544,1.0743803991257359]
[null,null,null,null,null,9545,1.0961013828583317]
[null,null,null,null,null,9546,1.0913871161240165]
[null,null,null,null,null,9547,1.0817612790706481]
[null,null,null,null,null,9548,1.0510183669544928]
[null,null,null,null,null,9549,1.074318192101188]
[null,null,null,null,null,9550,1.0677618689797848]
[null,null,null,null,null,9551,1.0793586650343612]
[null,null,null,null,null,9552,1.0992858958442104]
[null,null,null,null,null,9553,1.052418415826482]
[null,null,null,null,null,9554,1.060267349607092]
[null,null,null,null,null,9555,1.0807516887858564]
[null,null,null,null,null,9556,1.1156844295600872]
[null,null,null,null,null,9557,1.0951972982200286]
[null,null,null,null,null,9558,1.0708511856168899]
[null,null,null,null,null,9559,1.0864350052308454]
[null,null,null,null,null,9560,1.0307930891760191]
[null,null,null,null,null,9561,1.0995277749719778]
[null,null,null,null,null,9562,1.0636165195274581]
[null,null,null,null,null,9563,1.0476886733234669]
[null,null,null,null,null,9564,1.0593577394556468]
[null,null,null,null,null,9565,1.0523828533918738]
[null,null,null,null,null,9566,1.0611420397131446]
[null,null,null,null,null,9567,1.0860116730670801]
[null,null,null,null,null,9568,1.0643372268262024]
[null,null,null,null,null,9569,1.0471342884087309]
[null,null,null,null,null,9570,1.0999828554515598]
[null,null,null,null,null,9571,1.1030106253251748]
[null,null,null,null,null,9572,1.0512949969371164]
[null,null,null,null,null,9573,1.1135241747618492]
[null,null,null,null,null,9574,1.0747199758888921]
[null,null,null,null,null,9575,1.0543543828506177]
[null,null,null,null,null,9576,1.0585246539093067]
[null,null,null,null,null,9577,1.1031317643090013]
[null,null,null,null,null,9578,1.067863080890314]
[null,null,null,null,null,9579,1.1153692712601093]
[null,null,null,null,null,9580,1.0694713541215026]
[null,null,null,null,null,9581,1.1090816837307531]
[null,null,null,null,null,9582,1.0634930152253934]
[null,null,null,null,null,9583,1.0587874484748561]
[null,null,null,null,null,9584,1.1011230013480251]
[null,null,null,null,null,9585,1.092306802938102]
[null,null,null,null,null,9586,1.0811995206912366]
[null,null,null,null,null,9587,1.0804266742141297]
[null,null,null,null,null,9588,1.0620765927820883]
[null,null,null,null,null,9589,1.0757764644587811]
[null,null,null,null,null,9590,1.0893225574758607]
[null,null,null,null,null,9591,1.0771738478432935]
[null,null,null,null,null,9592,1.0773692167853992]
[null,null,null,null,null,9593,1.041401588735805]
[null,null,null,null,null,9594,1.0631520740414113]
[null,null,null,null,null,9595,1.0502650972951957]
[null,null,null,null,null,9596,1.1025582286299469]
[null,null,null,null,null,9597,1.0734737935725902]
[null,null,null,null,null,9598,1.0818160889104502]
[null,null,null,null,null,9599,1.0796961827605427]
[null,null,null,null,null,9600,1.0553890112147242]
[null,null,null,null,null,9601,1.082031334564709]
[null,null,null,null,null,9602,{"$f":"EXP($B$11-0.5*$B$10^2)+$B$10*_xlfn.NORM.S.INV(RAND())","v":1.0626595845366005}]
[null,null,null,null,null,9603,1.0119850070769216]
[null,null,null,null,null,9604,1.1068601661367758]
[null,null,null,null,null,9605,1.0535000354392512]
[null,null,null,null,null,9606,1.0958971465144438]
[null,null,null,null,null,9607,1.0670306571422119]
[null,null,null,null,null,9608,1.0709424178120102]
[null,null,null,null,null,9609,1.0742708993746526]
[null,null,null,null,null,9610,1.0604269242727364]
[null,null,null,null,null,9611,1.0419810449289193]
[null,null,null,null,null,9612,1.0538583235859522]
[null,null,null,null,null,9613,1.0659308412938446]
[null,null,null,null,null,9614,1.056086205063973]
[null,null,null,null,null,9615,1.0734470125511457]
[null,null,null,null,null,9616,1.0701982590735679]
[null,null,null,null,null,9617,1.0897681584503869]
[null,null,null,null,null,9618,1.0642592034437526]
[null,null,null,null,null,9619,1.0675096287890202]
[null,null,null,null,null,9620,1.0445955914033458]
[null,null,null,null,null,9621,1.0900703627796886]
[null,null,null,null,null,9622,1.0746039490646819]
[null,null,null,null,null,9623,1.0397867149495288]
[null,null,null,null,null,9624,1.1205703550555817]
[null,null,null,null,null,9625,1.0749819252585673]
[null,null,null,null,null,9626,1.062742322280372]
[null,null,null,null,null,9627,1.0810184079096123]
[null,null,null,null,null,9628,1.0394276029027303]
[null,null,null,null,null,9629,1.0789973739231065]
[null,null,null,null,null,9630,1.0703691524406311]
[null,null,null,null,null,9631,1.0471051214566456]
[null,null,null,null,null,9632,1.0906060026487732]
[null,null,null,null,null,9633,1.0818461804452197]
[null,null,null,null,null,9634,1.0734182301695436]
[null,null,null,null,null,9635,1.0718436331435792]
[null,null,null,null,null,9636,1.0658704194705482]
[null,null,null,null,null,9637,1.0726238927379432]
[null,null,null,null,null,9638,1.0659287888260767]
[null,null,null,null,null,9639,1.0499584409737739]
[null,null,null,null,null,9640,1.1129521304604419]
[null,null,null,null,null,9641,1.1134622878481599]
[null,null,null,null,null,9642,1.0602799717426918]
[null,null,null,null,null,9643,1.0814520461220944]
[null,null,null,null,null,9644,1.1054580999925143]
[null,null,null,null,null,9645,1.0911091466946057]
[null,null,null,null,null,9646,1.0729026302719984]
[null,null,null,null,null,9647,1.0706579468631954]
[null,null,null,null,null,9648,1.0896827792057076]
[null,null,null,null,null,9649,1.0921345759885546]
[null,null,null,null,null,9650,1.0826328876838611]
[null,null,null,null,null,9651,1.0741618004137499]
[null,null,null,null,null,9652,1.0948348432863573]
[null,null,null,null,null,9653,1.0876681433220414]
[null,null,null,null,null,9654,1.1183805053873159]
[null,null,null,null,null,9655,1.0708207756379802]
[null,null,null,null,null,9656,1.1017498551788021]
[null,null,null,null,null,9657,1.0531461276203991]
[null,null,null,null,null,9658,1.1101801935937263]
[null,null,null,null,null,9659,1.0535961920070773]
[null,null,null,null,null,9660,1.0603454027689303]
[null,null,null,null,null,9661,1.0810743592833769]
[null,null,null,null,null,9662,1.0791250814914366]
[null,null,null,null,null,9663,1.0824745283456036]
[null,null,null,null,null,9664,1.0859853715869077]
[null,null,null,null,null,9665,1.0846141363547273]
[null,null,null,null,null,9666,{"$f":"EXP($B$11-0.5*$B$10^2)+$B$10*_xlfn.NORM.S.INV(RAND())","v":1.0695361718396323}]
[null,null,null,null,null,9667,1.0596419986985812]
[null,null,null,null,null,9668,1.057741941653555]
[null,null,null,null,null,9669,1.0651313435510585]
[null,null,null,null,null,9670,1.0823831178900443]
[null,null,null,null,null,9671,1.0890388802413027]
[null,null,null,null,null,9672,1.096968576998897]
[null,null,null,null,null,9673,1.1054644129774012]
[null,null,null,null,null,9674,1.0232806853765786]
[null,null,null,null,null,9675,1.0707987519354982]
[null,null,null,null,null,9676,1.0667774235139935]
[null,null,null,null,null,9677,1.1094814499537813]
[null,null,null,null,null,9678,1.0660839213587616]
[null,null,null,null,null,9679,1.0670163765170828]
[null,null,null,null,null,9680,1.0674888012677166]
[null,null,null,null,null,9681,1.0799867009290043]
[null,null,null,null,null,9682,1.0537761161242871]
[null,null,null,null,null,9683,1.102145429520115]
[null,null,null,null,null,9684,1.0802960116146114]
[null,null,null,null,null,9685,1.09716068871846]
[null,null,null,null,null,9686,1.0722553234221812]
[null,null,null,null,null,9687,1.076630290079206]
[null,null,null,null,null,9688,1.0904847753943685]
[null,null,null,null,null,9689,1.0781023600907267]
[null,null,null,null,null,9690,1.0650853982423658]
[null,null,null,null,null,9691,1.08006174371938]
[null,null,null,null,null,9692,1.0977813894407069]
[null,null,null,null,null,9693,1.0780802091828687]
[null,null,null,null,null,9694,1.0776141877481402]
[null,null,null,null,null,9695,1.0578235329685299]
[null,null,null,null,null,9696,1.0760016100856142]
[null,null,null,null,null,9697,1.075596011592145]
[null,null,null,null,null,9698,1.075308053803447]
[null,null,null,null,null,9699,1.1054549335961572]
[null,null,null,null,null,9700,1.0534236798142897]
[null,null,null,null,null,9701,1.0707870342416612]
[null,null,null,null,null,9702,1.0679567115333415]
[null,null,null,null,null,9703,1.0866691372913246]
[null,null,null,null,null,9704,1.0886281575166286]
[null,null,null,null,null,9705,1.0738470541085756]
[null,null,null,null,null,9706,1.0795664408384888]
[null,null,null,null,null,9707,1.0412995554351776]
[null,null,null,null,null,9708,1.0538873394028458]
[null,null,null,null,null,9709,1.1329153204229503]
[null,null,null,null,null,9710,1.0794179752134043]
[null,null,null,null,null,9711,1.1002709533139525]
[null,null,null,null,null,9712,1.066319027480843]
[null,null,null,null,null,9713,1.0942977209777485]
[null,null,null,null,null,9714,1.0577122366901885]
[null,null,null,null,null,9715,1.0690508013706019]
[null,null,null,null,null,9716,1.0741853787626194]
[null,null,null,null,null,9717,1.0746165463036856]
[null,null,null,null,null,9718,1.06641390680591]
[null,null,null,null,null,9719,1.0274658362956779]
[null,null,null,null,null,9720,1.0562263616135104]
[null,null,null,null,null,9721,1.0625688294720819]
[null,null,null,null,null,9722,1.077809050661064]
[null,null,null,null,null,9723,1.051265176511019]
[null,null,null,null,null,9724,1.0720192907681425]
[null,null,null,null,null,9725,1.0878684731401687]
[null,null,null,null,null,9726,1.0929720676885812]
[null,null,null,null,null,9727,1.1101104226920948]
[null,null,null,null,null,9728,1.0629025318864205]
[null,null,null,null,null,9729,1.0591619585863568]
[null,null,null,null,null,9730,{"$f":"EXP($B$11-0.5*$B$10^2)+$B$10*_xlfn.NORM.S.INV(RAND())","v":1.0543288059504512}]
[null,null,null,null,null,9731,1.0752285421184984]
[null,null,null,null,null,9732,1.0829446802920382]
[null,null,null,null,null,9733,1.0633134081934865]
[null,null,null,null,null,9734,1.0795451470731878]
[null,null,null,null,null,9735,1.0540521254787398]
[null,null,null,null,null,9736,1.040494055723779]
[null,null,null,null,null,9737,1.0720785352468944]
[null,null,null,null,null,9738,1.0939980125460167]
[null,null,null,null,null,9739,1.0608888058954036]
[null,null,null,null,null,9740,1.0924319566747613]
[null,null,null,null,null,9741,1.0581567894442423]
[null,null,null,null,null,9742,1.0676862175468007]
[null,null,null,null,null,9743,1.0728321257766806]
[null,null,null,null,null,9744,1.0578147202492749]
[null,null,null,null,null,9745,1.0452149394416268]
[null,null,null,null,null,9746,1.0980161820335568]
[null,null,null,null,null,9747,1.0308157746931759]
[null,null,null,null,null,9748,1.0766253622013269]
[null,null,null,null,null,9749,1.0266337765189284]
[null,null,null,null,null,9750,1.1037546674765926]
[null,null,null,null,null,9751,1.0760242939725519]
[null,null,null,null,null,9752,1.0951877071985947]
[null,null,null,null,null,9753,1.0500618719638422]
[null,null,null,null,null,9754,1.0661636491867399]
[null,null,null,null,null,9755,1.0861172862386155]
[null,null,null,null,null,9756,1.0787217744000586]
[null,null,null,null,null,9757,1.0992826987623827]
[null,null,null,null,null,9758,1.0851041952646989]
[null,null,null,null,null,9759,1.0907193074617909]
[null,null,null,null,null,9760,1.0562133570884999]
[null,null,null,null,null,9761,1.0867338045852415]
[null,null,null,null,null,9762,1.0800730916306882]
[null,null,null,null,null,9763,1.0882047854578039]
[null,null,null,null,null,9764,1.0447305659825148]
[null,null,null,null,null,9765,1.0820572775419597]
[null,null,null,null,null,9766,1.0629638054290411]
[null,null,null,null,null,9767,1.0666133434888698]
[null,null,null,null,null,9768,1.0806566484166809]
[null,null,null,null,null,9769,1.0826418518624001]
[null,null,null,null,null,9770,1.0808471884895834]
[null,null,null,null,null,9771,1.1111136864232865]
[null,null,null,null,null,9772,1.0748043912875467]
[null,null,null,null,null,9773,1.0771381686861123]
[null,null,null,null,null,9774,1.093037456952257]
[null,null,null,null,null,9775,1.0435605756742401]
[null,null,null,null,null,9776,1.0922423194820678]
[null,null,null,null,null,9777,1.0717015741126021]
[null,null,null,null,null,9778,1.0980343232306944]
[null,null,null,null,null,9779,1.0918874177782485]
[null,null,null,null,null,9780,1.0844111982012512]
[null,null,null,null,null,9781,1.054882742580495]
[null,null,null,null,null,9782,1.0884939237225753]
[null,null,null,null,null,9783,1.0820395972771653]
[null,null,null,null,null,9784,1.0624172869907311]
[null,null,null,null,null,9785,1.0714349480077956]
[null,null,null,null,null,9786,1.0720466936428958]
[null,null,null,null,null,9787,1.0829078317295369]
[null,null,null,null,null,9788,1.070819137736555]
[null,null,null,null,null,9789,1.0837824067441848]
[null,null,null,null,null,9790,1.0647785029078596]
[null,null,null,null,null,9791,1.074928915173667]
[null,null,null,null,null,9792,1.0941054924897995]
[null,null,null,null,null,9793,1.0746371052516863]
[null,null,null,null,null,9794,{"$f":"EXP($B$11-0.5*$B$10^2)+$B$10*_xlfn.NORM.S.INV(RAND())","v":1.06774673547177}]
[null,null,null,null,null,9795,1.0842151766143422]
[null,null,null,null,null,9796,1.0654125831220278]
[null,null,null,null,null,9797,1.1089912371989989]
[null,null,null,null,null,9798,1.0862558463224437]
[null,null,null,null,null,9799,1.0677203316982005]
[null,null,null,null,null,9800,1.0664640775944967]
[null,null,null,null,null,9801,1.0838692947714426]
[null,null,null,null,null,9802,1.0568112353389063]
[null,null,null,null,null,9803,1.0696722720954721]
[null,null,null,null,null,9804,1.0986099073696864]
[null,null,null,null,null,9805,1.0631575808458833]
[null,null,null,null,null,9806,1.0453756519490129]
[null,null,null,null,null,9807,1.0580236499485034]
[null,null,null,null,null,9808,1.0581365210280704]
[null,null,null,null,null,9809,1.0709376303679765]
[null,null,null,null,null,9810,1.1072363822169742]
[null,null,null,null,null,9811,1.0807348934461398]
[null,null,null,null,null,9812,1.0782179644667256]
[null,null,null,null,null,9813,1.0777786592844163]
[null,null,null,null,null,9814,1.0422715191231013]
[null,null,null,null,null,9815,1.0476963958645436]
[null,null,null,null,null,9816,1.0716200042875319]
[null,null,null,null,null,9817,1.0975603412302597]
[null,null,null,null,null,9818,1.0646763247739097]
[null,null,null,null,null,9819,1.1162302378251103]
[null,null,null,null,null,9820,1.0852271224122516]
[null,null,null,null,null,9821,1.0801789459475781]
[null,null,null,null,null,9822,1.054330081192709]
[null,null,null,null,null,9823,1.0496577984190116]
[null,null,null,null,null,9824,1.0847533292633027]
[null,null,null,null,null,9825,1.0471464140716722]
[null,null,null,null,null,9826,1.0435367501598063]
[null,null,null,null,null,9827,1.0615991616772091]
[null,null,null,null,null,9828,1.0936470373909062]
[null,null,null,null,null,9829,1.0604953692720689]
[null,null,null,null,null,9830,1.0864977697364313]
[null,null,null,null,null,9831,1.0861712602471902]
[null,null,null,null,null,9832,1.1005146359360791]
[null,null,null,null,null,9833,1.0927740977011298]
[null,null,null,null,null,9834,1.0533253851822073]
[null,null,null,null,null,9835,1.0740723845332487]
[null,null,null,null,null,9836,1.0695679268678133]
[null,null,null,null,null,9837,1.0694481390781811]
[null,null,null,null,null,9838,1.07190929118705]
[null,null,null,null,null,9839,1.0774138485560634]
[null,null,null,null,null,9840,1.0675933502476882]
[null,null,null,null,null,9841,1.0893273974022224]
[null,null,null,null,null,9842,1.0982150846213601]
[null,null,null,null,null,9843,1.0609326829162362]
[null,null,null,null,null,9844,1.0850107312897412]
[null,null,null,null,null,9845,1.0914184446872059]
[null,null,null,null,null,9846,1.1171074661196134]
[null,null,null,null,null,9847,1.0978973797089264]
[null,null,null,null,null,9848,1.0918350220401154]
[null,null,null,null,null,9849,1.1072512224446207]
[null,null,null,null,null,9850,1.0561397386343627]
[null,null,null,null,null,9851,1.0985971516057549]
[null,null,null,null,null,9852,1.0850784099082467]
[null,null,null,null,null,9853,1.0582537105663052]
[null,null,null,null,null,9854,1.0499640702908315]
[null,null,null,null,null,9855,1.1270602930945184]
[null,null,null,null,null,9856,1.047628945492576]
[null,null,null,null,null,9857,1.0824930324442592]
[null,null,null,null,null,9858,{"$f":"EXP($B$11-0.5*$B$10^2)+$B$10*_xlfn.NORM.S.INV(RAND())","v":1.089475088251747}]
[null,null,null,null,null,9859,1.0625131784240154]
[null,null,null,null,null,9860,1.0536788702012814]
[null,null,null,null,null,9861,1.0815849729877434]
[null,null,null,null,null,9862,1.1126939816285197]
[null,null,null,null,null,9863,1.0637643133359829]
[null,null,null,null,null,9864,1.034624610956161]
[null,null,null,null,null,9865,1.0385437291478652]
[null,null,null,null,null,9866,1.0713318409792951]
[null,null,null,null,null,9867,1.0767461508212011]
[null,null,null,null,null,9868,1.0676948207648398]
[null,null,null,null,null,9869,1.0894154905263853]
[null,null,null,null,null,9870,1.083774738730874]
[null,null,null,null,null,9871,1.0602549097942278]
[null,null,null,null,null,9872,1.0759460510401411]
[null,null,null,null,null,9873,1.0847914763923512]
[null,null,null,null,null,9874,1.0618069134239747]
[null,null,null,null,null,9875,1.055529428496415]
[null,null,null,null,null,9876,1.0410962982831575]
[null,null,null,null,null,9877,1.0729576671309899]
[null,null,null,null,null,9878,1.0818858262982822]
[null,null,null,null,null,9879,1.1071188031214494]
[null,null,null,null,null,9880,1.0962743687437844]
[null,null,null,null,null,9881,1.0690778536687788]
[null,null,null,null,null,9882,1.0925962809665051]
[null,null,null,null,null,9883,1.063508151685818]
[null,null,null,null,null,9884,1.0636454670184134]
[null,null,null,null,null,9885,1.0706806730717038]
[null,null,null,null,null,9886,1.0587890685182018]
[null,null,null,null,null,9887,1.0635410305657507]
[null,null,null,null,null,9888,1.0803323495570347]
[null,null,null,null,null,9889,1.0829070718616431]
[null,null,null,null,null,9890,1.0786118337639661]
[null,null,null,null,null,9891,1.0766385785429893]
[null,null,null,null,null,9892,1.0817596130055509]
[null,null,null,null,null,9893,1.0711554676682811]
[null,null,null,null,null,9894,1.100015180547282]
[null,null,null,null,null,9895,1.0720573647304206]
[null,null,null,null,null,9896,1.0584234201773486]
[null,null,null,null,null,9897,1.0842542588571829]
[null,null,null,null,null,9898,1.0959157473631638]
[null,null,null,null,null,9899,1.0439011230156623]
[null,null,null,null,null,9900,1.1037469936011404]
[null,null,null,null,null,9901,1.1037574874635518]
[null,null,null,null,null,9902,1.0925807190641057]
[null,null,null,null,null,9903,1.0724345142977449]
[null,null,null,null,null,9904,1.09038471914862]
[null,null,null,null,null,9905,1.0622440229271841]
[null,null,null,null,null,9906,1.064037266353884]
[null,null,null,null,null,9907,1.0579364727578917]
[null,null,null,null,null,9908,1.092848146353115]
[null,null,null,null,null,9909,1.0888366966315373]
[null,null,null,null,null,9910,1.0566665147150083]
[null,null,null,null,null,9911,1.054068382914175]
[null,null,null,null,null,9912,1.0809850739475315]
[null,null,null,null,null,9913,1.048307273673279]
[null,null,null,null,null,9914,1.1043538391660717]
[null,null,null,null,null,9915,1.0770901385981353]
[null,null,null,null,null,9916,1.072952969387382]
[null,null,null,null,null,9917,1.079617584135637]
[null,null,null,null,null,9918,1.0974399793727239]
[null,null,null,null,null,9919,1.0972892611409708]
[null,null,null,null,null,9920,1.0709305734534242]
[null,null,null,null,null,9921,1.1170992083118967]
[null,null,null,null,null,9922,{"$f":"EXP($B$11-0.5*$B$10^2)+$B$10*_xlfn.NORM.S.INV(RAND())","v":1.0684899677293009}]
[null,null,null,null,null,9923,1.1051279149456383]
[null,null,null,null,null,9924,1.0763393261508831]
[null,null,null,null,null,9925,1.0896163608180938]
[null,null,null,null,null,9926,1.0803522699460939]
[null,null,null,null,null,9927,1.1328242461261231]
[null,null,null,null,null,9928,1.0974084626593121]
[null,null,null,null,null,9929,1.0699877926355625]
[null,null,null,null,null,9930,1.0624115945846839]
[null,null,null,null,null,9931,1.0611683167272397]
[null,null,null,null,null,9932,1.0665230669096057]
[null,null,null,null,null,9933,1.0700839057572435]
[null,null,null,null,null,9934,1.0838969351127425]
[null,null,null,null,null,9935,1.0524400631856716]
[null,null,null,null,null,9936,1.0736831028876208]
[null,null,null,null,null,9937,1.0827358490488093]
[null,null,null,null,null,9938,1.0550066073336579]
[null,null,null,null,null,9939,1.0881672180086701]
[null,null,null,null,null,9940,1.0949158166225941]
[null,null,null,null,null,9941,1.0569579200824548]
[null,null,null,null,null,9942,1.0775232566885182]
[null,null,null,null,null,9943,1.0526812393421761]
[null,null,null,null,null,9944,1.0726429767406571]
[null,null,null,null,null,9945,1.0647036340725611]
[null,null,null,null,null,9946,1.0675388979081777]
[null,null,null,null,null,9947,1.0774464853325403]
[null,null,null,null,null,9948,1.0683375967165945]
[null,null,null,null,null,9949,1.0965977389949464]
[null,null,null,null,null,9950,1.0931012459485003]
[null,null,null,null,null,9951,1.0225500598240271]
[null,null,null,null,null,9952,1.0934601307631955]
[null,null,null,null,null,9953,1.0789237566377383]
[null,null,null,null,null,9954,1.0733939699810642]
[null,null,null,null,null,9955,1.0872437883184456]
[null,null,null,null,null,9956,1.0934657861315185]
[null,null,null,null,null,9957,1.0563739328706778]
[null,null,null,null,null,9958,1.0423284278647231]
[null,null,null,null,null,9959,1.0961829971617971]
[null,null,null,null,null,9960,1.0825461896021986]
[null,null,null,null,null,9961,1.0841688205437421]
[null,null,null,null,null,9962,1.0909331806412528]
[null,null,null,null,null,9963,1.1034489553331992]
[null,null,null,null,null,9964,1.0597127091439922]
[null,null,null,null,null,9965,1.0756538279418646]
[null,null,null,null,null,9966,1.0776953708710957]
[null,null,null,null,null,9967,1.0825853986990601]
[null,null,null,null,null,9968,1.0808401489426276]
[null,null,null,null,null,9969,1.1049556299650967]
[null,null,null,null,null,9970,1.072703553846408]
[null,null,null,null,null,9971,1.0821665855450997]
[null,null,null,null,null,9972,1.0474232220641047]
[null,null,null,null,null,9973,1.0608470065024571]
[null,null,null,null,null,9974,1.0879643945000563]
[null,null,null,null,null,9975,1.0652414104243861]
[null,null,null,null,null,9976,1.0696964842148631]
[null,null,null,null,null,9977,1.0814656138551304]
[null,null,null,null,null,9978,1.0416015067353719]
[null,null,null,null,null,9979,1.1079380690671767]
[null,null,null,null,null,9980,1.0670588182428029]
[null,null,null,null,null,9981,1.1038159885304955]
[null,null,null,null,null,9982,1.070994769574358]
[null,null,null,null,null,9983,1.0966979525005969]
[null,null,null,null,null,9984,1.0846524432492413]
[null,null,null,null,null,9985,1.076312233658554]
[null,null,null,null,null,9986,{"$f":"EXP($B$11-0.5*$B$10^2)+$B$10*_xlfn.NORM.S.INV(RAND())","v":1.1097756895794535}]
[null,null,null,null,null,9987,1.0835267033241593]
[null,null,null,null,null,9988,1.0837750469404128]
[null,null,null,null,null,9989,1.0908541097324813]
[null,null,null,null,null,9990,1.0738126156244627]
[null,null,null,null,null,9991,1.0969246015788163]
[null,null,null,null,null,9992,1.0575518614692689]
[null,null,null,null,null,9993,1.0552285005576365]
[null,null,null,null,null,9994,1.0832032528151079]
[null,null,null,null,null,9995,1.0827790466499028]
[null,null,null,null,null,9996,1.0598785744130392]
[null,null,null,null,null,9997,1.0587397182419329]
[null,null,null,null,null,9998,1.1071856086698368]
[null,null,null,null,null,9999,1.0754587499295318]
[null,null,null,null,null,10000,1.0855914286735722]

{"sheet":"RELIANCE","index":5,"n_rows":744,"n_cols":11,"rows_kept":744,"cut":false,"hidden":false,"merged":[]}
["Date","Open","High","Low","Close","Adj Close","Volume","Daily Returns"]
["2019-05-06",1384.872803,1389.627686,1365.159668,1371.8957519999999,1354.878052,7306518,0,null,"Statistic","Value"]
["2019-05-07",1381.7028809999999,1381.901001,1327.6154790000001,1330.8845209999999,1314.3756100000001,8961240,{"$f":"Daily_Return(F2,F3)","v":-2.9893791504122743E-2},null,"Variance",{"$f":"_xlfn.VAR.P(H3:H744)","v":4.8505771312416009E-4}]
["2019-05-08",1327.4173579999999,1327.4173579999999,1280.066284,1287.248169,1271.280518,14749036,{"$f":"Daily_Return(F3,F4)","v":-3.2787501283594284E-2},null,"Average Daily Returns",{"$f":"AVERAGE(H3:H744)","v":1.1678209900261168E-3}]
["2019-05-09",1276.69812,1276.69812,1239.9960940000001,1244.6519780000001,1229.2126459999999,19692278,-3.3090943662207585E-2]
["2019-05-10",1253.1217039999999,1265.702393,1233.309448,1239.4017329999999,1224.027466,11333250,-4.2182937320675322E-3,null,"Annualised Daily Return",{"$f":"Daily_Annualise(K4)","v":0.34194383185440635}]
["2019-05-13",1236.182251,1248.9610600000001,1215.973755,1220.4810789999999,1205.3416749999999,8124086,-1.5265826559483518E-2,null,"Annualised Variance",{"$f":"Daily_Annualise(K3)","v":0.12998562102444899}]
["2019-05-14",1224.8892820000001,1257.4307859999999,1219.936279,1248.61438,1233.1259769999999,13124240,2.3050975981561434E-2,null,"3-year CAGR",{"$f":"CAGR_3(F2,F744)","v":0.2574198554127487}]
["2019-05-15",1261.046509,1265.999634,1238.8569339999999,1245.0977780000001,1229.6529539999999,11269622,-2.8164381132001828E-3]
["2019-05-16",1248.119019,1259.956909,1246.286499,1253.468384,1237.919678,6669276,6.7228106703674604E-3]
["2019-05-17",1255.102905,1264.9594729999999,1240.243774,1255.4991460000001,1239.925293,7973309,1.6201495425295553E-3]
["2019-05-20",1301.265259,1325.139038,1291.2601320000001,1313.4498289999999,1297.1572269999999,12450850,4.6157566365572889E-2]
["2019-05-21",1319.6906739999999,1354.1639399999999,1317.5607910000001,1327.2192379999999,1310.755737,14003548,1.0483316684323599E-2]
["2019-05-22",1333.014404,1346.9323730000001,1322.5634769999999,1327.8135990000001,1311.3427730000001,11394393,4.4786071380752276E-4]
["2019-05-23",1359.116943,1378.929077,1312.5582280000001,1321.374634,1304.983643,17890505,-4.8493270645416902E-3]
["2019-05-24",1335.3422849999999,1341.087769,1304.138062,1324.2969969999999,1307.8698730000001,10277262,2.2116982197301523E-3]
["2019-05-27",1324.544678,1324.940918,1294.7272949999999,1298.343018,1282.237793,7419387,-1.9598341187571713E-2]
["2019-05-28",1307.4071039999999,1322.2662350000001,1301.0177000000001,1311.3199460000001,1295.0535890000001,19657240,9.9948668413644953E-3]
["2019-05-29",1308.5958250000001,1320.7802730000001,1291.904053,1300.7204589999999,1284.585693,7180252,-8.0829828888263171E-3]
["2019-05-30",1303.8903809999999,1329.398682,1303.8903809999999,1317.263672,1300.923706,10842653,1.2718507678413048E-2]
["2019-05-31",1325.337158,1329.299561,1307.803345,1317.6599120000001,1301.3149410000001,11871652,3.007363138942227E-4]
["2019-06-03",1322.4643550000001,1354.411499,1308.7939449999999,1347.4277340000001,1330.713501,8564026,2.2591425852229462E-2]
["2019-06-04",1344.7036129999999,1361.3458250000001,1335.4414059999999,1338.9580080000001,1322.3488769999999,7126831,-6.2858188435859635E-3]
["2019-06-06",1349.1118160000001,1349.1118160000001,1308.6948239999999,1314.8862300000001,1298.5756839999999,7736969,-1.7978003697431199E-2]
["2019-06-07",1313.4993899999999,1314.7871090000001,1293.3404539999999,1302.553101,1286.39563,6794394,-9.3795488011000887E-3]
["2019-06-10",1308.4967039999999,1314.5394289999999,1297.7982179999999,1306.7631839999999,1290.553467,5431146,3.2321603891020466E-3]
["2019-06-11",1309.437866,1321.9689940000001,1305.6240230000001,1316.669312,1300.336548,5303590,7.5805313380325366E-3]
["2019-06-12",1322.167236,1325.8323969999999,1312.5582280000001,1319.6411129999999,1303.271606,4752340,2.2571525844707909E-3]
["2019-06-13",1317.5113530000001,1322.167236,1296.3618160000001,1314.7871090000001,1298.477905,7239164,-3.6782056617598521E-3]
["2019-06-14",1309.487427,1312.5582280000001,1297.104736,1305.1782229999999,1288.9880370000001,6896085,-7.3084555104539015E-3]
["2019-06-17",1307.605225,1307.605225,1266.4948730000001,1270.259155,1254.5023189999999,6880158,-2.6754102450991274E-2]
["2019-06-18",1266.8911129999999,1275.8562010000001,1257.1831050000001,1268.971436,1253.2304690000001,7751984,-1.013828337131881E-3]
["2019-06-19",1274.8160399999999,1289.7741699999999,1250.7441409999999,1265.3557129999999,1249.6595460000001,6688408,-2.8493745470849967E-3]
["2019-06-20",1267.9808350000001,1287.7929690000001,1265.999634,1284.573486,1268.6389160000001,4960591,1.5187632552202355E-2]
["2019-06-21",1283.7810059999999,1283.8305660000001,1263.5726320000001,1267.4854740000001,1251.763062,10723794,-1.330233038507871E-2]
["2019-06-24",1260.2044679999999,1264.464111,1245.2958980000001,1250.5460210000001,1235.0336910000001,5199824,-1.3364646639493107E-2]
["2019-06-25",1247.0789789999999,1285.811768,1242.4726559999999,1283.6820070000001,1267.7585449999999,6907221,2.6497134643754281E-2]
["2019-06-26",1278.877563,1292.3498540000001,1274.27124,1281.9979249999999,1266.0954589999999,5350180,-1.31183182046706E-3]
["2019-06-27",1281.0073239999999,1284.722168,1259.065308,1262.1857910000001,1246.529053,11493899,-1.5454131725149737E-2]
["2019-06-28",1265.1080320000001,1270.804077,1236.9251710000001,1241.333374,1225.935303,8741806,-1.6520874463725795E-2]
["2019-07-01",1246.236938,1260.6998289999999,1234.74585,1256.935547,1241.3439940000001,6220490,1.2568926730711898E-2]
["2019-07-02",1261.9876710000001,1268.971436,1251.4376219999999,1266.4948730000001,1250.7845460000001,4682721,7.6051054708692013E-3]
["2019-07-03",1270.853638,1274.4197999999999,1263.0772710000001,1270.506836,1254.7468260000001,4064194,3.1678357497070993E-3]
["2019-07-04",1269.3676760000001,1278.877563,1267.9808350000001,1271.943237,1256.165405,4315672,1.1305699051036362E-3]
["2019-07-05",1273.0329589999999,1278.382202,1248.1685789999999,1251.487183,1235.963135,5042694,-1.6082491939029317E-2]
["2019-07-08",1246.1873780000001,1256.192505,1236.47937,1240.2932129999999,1224.9079589999999,6465252,-8.9445839337271779E-3]
["2019-07-09",1237.2224120000001,1271.4479980000001,1233.8048100000001,1268.0798339999999,1252.3498540000001,8092747,2.240323021690821E-2]
["2019-07-10",1268.0303960000001,1277.2430420000001,1256.786865,1266.841553,1251.126953,5546395,-9.7648512202413095E-4]
["2019-07-11",1274.915039,1277.6888429999999,1267.2873540000001,1269.5162350000001,1253.768433,3972764,2.1112805488413145E-3]
["2019-07-12",1270.9526370000001,1287.7929690000001,1266.049072,1268.4760739999999,1252.7413329999999,7242056,-8.192102887312195E-4]
["2019-07-15",1272.9338379999999,1277.3916019999999,1258.4213870000001,1264.117432,1248.436768,4919356,-3.4361163686453633E-3]
["2019-07-16",1267.931274,1282.740845,1265.0584719999999,1280.8587649999999,1264.9704589999999,4647660,1.3243514949088604E-2]
["2019-07-17",1282.1464840000001,1284.8211670000001,1267.9808350000001,1269.8134769999999,1254.062134,4376049,-8.6233831963342927E-3]
["2019-07-18",1269.9620359999999,1274.3206789999999,1246.1873780000001,1250.001221,1234.4954829999999,5511650,-1.5602616863639463E-2]
["2019-07-19",1256.291626,1260.996948,1231.0310059999999,1237.271851,1221.924072,7539309,-1.0183440258079825E-2]
["2019-07-22",1239.2531739999999,1272.4385990000001,1215.775635,1268.4760739999999,1252.7413329999999,13426225,2.5220274897735147E-2]
["2019-07-23",1272.9338379999999,1281.7502440000001,1248.5648189999999,1261.5914310000001,1245.9420170000001,9375991,-5.4275498228490739E-3]
["2019-07-24",1261.54187,1266.7921140000001,1241.7791749999999,1247.2771,1231.8051760000001,7009804,-1.1346307297701481E-2]
["2019-07-25",1252.1311040000001,1257.1336670000001,1215.4785159999999,1219.936279,1204.8035890000001,10063036,-2.1920338967629058E-2]
["2019-07-26",1219.936279,1230.8328859999999,1198.638062,1202.402466,1187.4873050000001,9408829,-1.4372702868832502E-2]
["2019-07-29",1205.4732670000001,1210.5253909999999,1193.7841800000001,1199.5792240000001,1184.698975,8134417,-2.3480924707654765E-3]
["2019-07-30",1202.551025,1208.544189,1164.907837,1169.8114009999999,1155.3005370000001,9623710,-2.4815112210255726E-2]
["2019-07-31",1164.709717,1173.872803,1151.485107,1155.2989500000001,1140.9678960000001,9797618,-1.2405984885299128E-2]
["2019-08-01",1152.4757079999999,1177.0428469999999,1139.5482179999999,1169.1674800000001,1154.6645510000001,10442920,1.2004417519561798E-2]
["2019-08-02",1164.6601559999999,1186.998413,1151.187866,1173.229004,1165.092163,10968377,9.0308583484000563E-3]
["2019-08-05",1156.04187,1156.04187,1117.408081,1132.6138920000001,1124.758789,14029195,-3.4618183248392553E-2]
["2019-08-06",1124.0947269999999,1138.805298,1111.4644780000001,1117.705322,1109.953491,13414874,-1.3163087183486764E-2]
["2019-08-07",1115.9221190000001,1127.859009,1092.741943,1098.982788,1091.3608400000001,11698729,{"$f":"Daily_Return(F67,F68)","v":-1.6750837896143823E-2}]
["2019-08-08",1097.9426269999999,1147.1263429999999,1085.0151370000001,1141.529419,1133.612427,14398134,3.8714589576074557E-2]
["2019-08-09",1150.940186,1164.4620359999999,1141.4798579999999,1151.187866,1143.203857,10139155,8.4609428862585552E-3]
["2019-08-13",1221.5706789999999,1290.5667719999999,1214.4879149999999,1262.7801509999999,1254.0223390000001,48377710,9.6936763571468715E-2]
["2019-08-14",1291.7554929999999,1292.201172,1268.3275149999999,1276.1533199999999,1267.3027340000001,14624460,1.0590237978208773E-2]
["2019-08-16",1279.0756839999999,1279.670044,1261.046509,1265.999634,1257.2193600000001,10142736,-7.9565629659566796E-3]
["2019-08-19",1269.020996,1284.623047,1267.9808350000001,1280.462524,1271.5820309999999,7530571,1.142415671995368E-2]
["2019-08-20",1277.6888429999999,1280.462524,1260.650269,1263.9688719999999,1255.202759,6908329,-1.2881018762996268E-2]
["2019-08-21",1263.6716309999999,1266.643433,1254.607544,1259.0157469999999,1250.283936,4927825,-3.9187477598589112E-3]
["2019-08-22",1259.0157469999999,1259.065308,1227.2667240000001,1235.0429690000001,1226.477539,6475744,-1.9040792506831071E-2]
["2019-08-23",1227.365845,1271.943237,1214.983154,1263.869751,1255.1042480000001,9833599,2.33405896885325E-2]
["2019-08-26",1281.849365,1281.849365,1247.1779790000001,1254.9047849999999,1246.201538,8861952,-7.0932036236722781E-3]
["2019-08-27",1272.9338379999999,1272.9338379999999,1249.3572999999999,1262.87915,1254.1206050000001,13107475,6.3545636548556729E-3]
["2019-08-28",1261.7895510000001,1268.971436,1244.255737,1251.4376219999999,1242.758423,5355931,-9.0598798510292192E-3]
["2019-08-29",1244.6519780000001,1248.41626,1223.700562,1230.089966,1221.558716,8717834,-1.7058590477161458E-2]
["2019-08-30",1233.8048100000001,1242.621216,1209.5347899999999,1236.826172,1228.2482910000001,11415309,5.4762615274893626E-3]
["2019-09-03",1230.585327,1231.3282469999999,1188.7320560000001,1195.071899,1186.7836910000001,8644177,-3.3759135106339842E-2]
["2019-09-04",1189.2768550000001,1193.9327390000001,1174.9129640000001,1189.871216,1181.619019,15206140,-4.3518225260142278E-3]
["2019-09-05",1195.4681399999999,1201.8081050000001,1182.094971,1187.3452150000001,1179.1104740000001,10612413,-2.1229727684333359E-3]
["2019-09-06",1191.703857,1217.459717,1184.026611,1211.0207519999999,1202.6218260000001,10700713,1.993990598712974E-2]
["2019-09-09",1209.1881100000001,1221.4221190000001,1201.7585449999999,1210.7235109999999,1202.3266599999999,5421667,-2.4543542584941276E-4]
["2019-09-11",1211.0207519999999,1228.3564449999999,1211.0207519999999,1222.8089600000001,1214.3283690000001,5597024,9.9820700973229023E-3]
["2019-09-12",1223.4033199999999,1228.802124,1194.3785399999999,1198.9848629999999,1190.6694339999999,5482620,-1.9483144431092638E-2]
["2019-09-13",1200.619385,1216.9643550000001,1195.5672609999999,1214.0916749999999,1205.671509,5975368,1.2599697759605127E-2]
["2019-09-16",1177.835327,1207.6527100000001,1174.962524,1199.3811040000001,1191.0629879999999,9482774,-1.2116501792529386E-2]
["2019-09-17",1199.6286620000001,1199.6286620000001,1182.293091,1186.205933,1177.979126,7218213,-1.0985029450012559E-2]
["2019-09-18",1193.6354980000001,1204.8789059999999,1185.9582519999999,1194.3785399999999,1186.0950929999999,6891996,6.8897375351284068E-3]
["2019-09-19",1196.5083010000001,1198.340942,1161.638794,1167.97876,1159.878418,6353109,-2.2103350022037314E-2]
["2019-09-20",1176.7951660000001,1257.9757079999999,1163.2733149999999,1242.571655,1233.9539789999999,22228398,6.3864936057461741E-2]
["2019-09-23",1262.1857910000001,1268.971436,1223.4033199999999,1227.5639650000001,1219.050293,9973401,-1.2077991767632917E-2]
["2019-09-24",1231.922607,1286.6042480000001,1231.0805660000001,1266.6929929999999,1257.9079589999999,16133561,3.1875359222771522E-2]
["2019-09-25",1271.943237,1282.839966,1256.935547,1267.535034,1258.7441409999999,8395729,6.6474020934309715E-4]
["2019-09-26",1279.868164,1286.6042480000001,1271.4479980000001,1284.623047,1275.7136230000001,8468733,1.3481279830640498E-2]
["2019-09-27",1280.3634030000001,1302.6521,1271.943237,1296.758057,1287.764404,8795570,9.4463058030696545E-3]
["2019-09-30",1297.6990969999999,1323.207275,1293.290894,1319.7402340000001,1310.58728,11659226,1.7722866022005644E-2]
["2019-10-01",1324.445557,1329.398682,1281.155884,1292.6469729999999,1283.681885,8270254,-2.052926608596415E-2]
["2019-10-03",1273.924438,1302.3549800000001,1269.2685550000001,1298.7392580000001,1289.7320560000001,6241716,4.7131388786405531E-3]
["2019-10-04",1307.5061040000001,1316.1245120000001,1291.606812,1295.8168949999999,1286.8298339999999,6918922,-2.2502518926304526E-3]
["2019-10-07",1295.8168949999999,1308.3977050000001,1289.4770510000001,1297.7982179999999,1288.7974850000001,4643419,1.5290685279528264E-3]
["2019-10-09",1296.4113769999999,1317.4617920000001,1280.3634030000001,1312.310547,1303.209106,8117158,1.1182223093801248E-2]
["2019-10-10",1312.5582280000001,1356.1451420000001,1308.5958250000001,1349.9537350000001,1340.591187,16155443,2.8684637659368819E-2]
["2019-10-11",1350.8948969999999,1352.7769780000001,1323.9997559999999,1339.899048,1330.6062010000001,7659571,-7.4481960621750193E-3]
["2019-10-14",1352.1331789999999,1352.1331789999999,1338.1655270000001,1345.248413,1335.918457,6181455,3.9923577659622929E-3]
["2019-10-15",1349.706177,1357.1357419999999,1341.58313,1351.340698,1341.9686280000001,4463991,4.5288475268068637E-3]
["2019-10-16",1357.036621,1366.695068,1350.8948969999999,1359.4636230000001,1350.0351559999999,8954786,6.0109661520342441E-3]
["2019-10-17",1362.088745,1385.8634030000001,1359.116943,1383.386841,1373.7924800000001,7401968,1.7597559511257761E-2]
["2019-10-18",1390.8164059999999,1414.4920649999999,1385.5661620000001,1403.0505370000001,1393.3198239999999,12978275,1.4214187575113132E-2]
["2019-10-22",1411.619263,1423.3580320000001,1390.172607,1400.8710940000001,1391.155518,12823466,-1.5533447258264926E-3]
["2019-10-23",1403.0009769999999,1412.560303,1370.162231,1379.325317,1369.759155,8512900,-1.5380281157034568E-2]
["2019-10-24",1387.8446039999999,1427.8652340000001,1373.5302730000001,1422.9617920000001,1413.093018,10449504,3.163611854085404E-2]
["2019-10-25",1427.568115,1427.9147949999999,1397.998413,1417.760986,1407.9282229999999,6248688,-3.6549575535445326E-3]
["2019-10-27",1427.4689940000001,1431.431519,1416.5722659999999,1420.7823490000001,1410.928711,1391348,2.1311370501592201E-3]
["2019-10-29",1431.9267580000001,1466.102783,1428.558716,1453.274414,1443.1953129999999,11892161,2.2869051957367052E-2]
["2019-10-30",1466.102783,1470.610107,1446.587769,1465.2113039999999,1455.049438,7541537,8.2138050846067758E-3]
["2019-10-31",1470.065308,1475.662231,1447.9746090000001,1450.599731,1440.5391850000001,8982513,-9.9723436338662198E-3]
["2019-11-01",1441.337524,1448.0737300000001,1427.4689940000001,1443.2197269999999,1433.2104489999999,6416833,-5.0874950687302281E-3]
["2019-11-04",1452.135254,1457.1873780000001,1431.530518,1443.9626459999999,1433.94812,6490272,5.1469831280869438E-4]
["2019-11-05",1449.3614500000001,1455.156616,1427.4689940000001,1433.7098390000001,1423.7664789999999,5854289,-7.1004249442442359E-3]
["2019-11-06",1429.1530760000001,1432.867798,1415.0864260000001,1421.4262699999999,1411.568115,6749668,-8.5676718618684783E-3]
["2019-11-07",1421.5253909999999,1449.2624510000001,1418.7517089999999,1444.9038089999999,1434.8828129999999,6499781,1.6516877756196629E-2]
["2019-11-08",1435.3939210000001,1445.9438479999999,1427.7662350000001,1431.9267580000001,1421.9957280000001,5546929,-8.9812804803592293E-3]
["2019-11-11",1425.586914,1430.6884769999999,1409.1922609999999,1414.3929439999999,1404.5836179999999,5241641,-1.2244839880419254E-2]
["2019-11-13",1416.5722659999999,1462.04126,1416.5722659999999,1458.4750979999999,1448.3599850000001,11641679,3.1166793090135675E-2]
["2019-11-14",1462.1403809999999,1467.6877440000001,1442.130005,1449.0147710000001,1438.965332,6580126,-6.4864074520810944E-3]
["2019-11-15",1451.887573,1472.8389890000001,1449.4110109999999,1457.0386960000001,1446.9335940000001,7241673,{"$f":"Daily_Return(F131,F132)","v":5.5374940749441876E-3}]
["2019-11-18",1458.8217770000001,1472.046509,1441.7337649999999,1445.498169,1435.4730219999999,6496095,-7.9205929335829511E-3]
["2019-11-19",1453.2248540000001,1500.6750489999999,1451.2436520000001,1495.573486,1485.2010499999999,13926337,3.464225884978004E-2]
["2019-11-20",1540.44812,1557.6351320000001,1528.709351,1533.1175539999999,1522.484741,20092835,2.5103463938434524E-2]
["2019-11-21",1530.492432,1541.3891599999999,1514.196899,1523.161987,1512.5981449999999,6875134,-6.4937241955583275E-3]
["2019-11-22",1527.619751,1554.7624510000001,1523.161987,1531.978394,1521.3535159999999,10315843,5.7882994428767919E-3]
["2019-11-25",1536.584717,1550.106567,1536.4361570000001,1546.8870850000001,1536.158813,6989948,9.731661211081797E-3]
["2019-11-26",1553.3756100000001,1561.548096,1541.3891599999999,1545.5992429999999,1534.8798830000001,16305243,-8.3255063810902064E-4]
["2019-11-27",1545.302124,1560.7060550000001,1541.4882809999999,1555.1091309999999,1544.3237300000001,4450122,6.1528247940428604E-3]
["2019-11-28",1557.8828129999999,1569.2749020000001,1549.2645259999999,1565.4609379999999,1554.60376,6344459,6.6566548193880935E-3]
["2019-11-29",1567.0954589999999,1567.0954589999999,1533.3156739999999,1536.584717,1525.927856,8565249,-1.8445796117204778E-2]
["2019-12-02",1584.975952,1599.290283,1562.1920170000001,1571.602783,1560.703125,14410500,2.2789589208469092E-2]
["2019-12-03",1577.794067,1579.0323490000001,1557.8332519999999,1564.0740969999999,1553.2266850000001,5995079,-4.7904305951844053E-3]
["2019-12-04",1558.2294919999999,1562.6872559999999,1519.3481449999999,1538.1201169999999,1527.4526370000001,9685777,-1.6593874061595841E-2]
["2019-12-05",1559.2200929999999,1564.916138,1529.501831,1536.287476,1525.6326899999999,9203442,-1.1914916089147344E-3]
["2019-12-06",1538.4173579999999,1553.2764890000001,1526.6290280000001,1540.299561,1529.616943,6038833,2.6115414451430515E-3]
["2019-12-09",1541.53772,1562.5882570000001,1531.978394,1557.8332519999999,1547.029053,5834593,1.1383314024915311E-2]
["2019-12-10",1557.288452,1558.8238530000001,1539.556519,1547.2833250000001,1536.552246,4694991,-6.772210890082106E-3]
["2019-12-11",1540.9929199999999,1559.7154539999999,1536.0399170000001,1547.729126,1536.994995,5706279,2.8814444881560436E-4]
["2019-12-12",1555.505371,1559.071533,1542.033081,1553.4746090000001,1542.700562,4765727,3.7121571758924133E-3]
["2019-12-13",1565.163818,1575.0699460000001,1557.6351320000001,1568.036621,1557.161621,5846419,9.3738599415898686E-3]
["2019-12-16",1577.0511469999999,1578.93335,1549.6607670000001,1551.8896480000001,1541.1267089999999,5488487,-1.0297525821181331E-2]
["2019-12-17",1552.0382079999999,1564.1732179999999,1540.9433590000001,1548.026245,1537.290039,9379800,-2.489522748255681E-3]
["2019-12-18",1548.323486,1565.163818,1547.3328859999999,1561.0527340000001,1550.2261960000001,6803466,8.4149097904875538E-3]
["2019-12-19",1558.9229740000001,1599.7360839999999,1557.0407709999999,1594.8326420000001,1583.771851,9464354,2.1639200193208381E-2]
["2019-12-20",1599.8352050000001,1602.361206,1581.1126710000001,1584.0844729999999,1573.0981449999999,9816798,-6.7394214597643071E-3]
["2019-12-23",1545.4506839999999,1562.7368160000001,1543.172241,1556.6445309999999,1545.8485109999999,11587233,-1.7322272031539403E-2]
["2019-12-24",1554.168091,1557.288452,1528.015991,1531.9288329999999,1521.3043210000001,8329356,-1.5877487234581839E-2]
["2019-12-26",1527.1739500000001,1538.367798,1495.9697269999999,1501.1704099999999,1490.759155,13734705,-2.0078274660997368E-2]
["2019-12-27",1512.661499,1531.6811520000001,1507.0150149999999,1527.8673100000001,1517.270874,8158196,1.7784039032113196E-2]
["2019-12-30",1531.4335940000001,1533.1175539999999,1513.7016599999999,1529.6999510000001,1519.0908199999999,7902607,1.1994865459994623E-3]
["2019-12-31",1527.52063,1529.204712,1493.889404,1499.83313,1489.4311520000001,10246683,-1.9524618021192298E-2]
["2020-01-01",1503.7459719999999,1512.7604980000001,1491.3634030000001,1495.424927,1485.053467,6463060,-2.939165730568898E-3]
["2020-01-02",1497.8023679999999,1526.4804690000001,1497.8023679999999,1520.8835449999999,1510.3355710000001,8173308,1.7024372900911935E-2]
["2020-01-03",1518.6051030000001,1527.1739500000001,1508.6990969999999,1522.716187,1512.155518,9684434,1.204995124888015E-3]
["2020-01-06",1505.727173,1513.5529790000001,1483.9338379999999,1487.400879,1477.0850829999999,11315596,-2.3192346675019765E-2]
["2020-01-07",1504.736572,1520.091064,1499.2882079999999,1510.284058,1499.8095699999999,7699489,1.5384683835440206E-2]
["2020-01-08",1500.7741699999999,1520.041504,1495.8211670000001,1498.9415280000001,1488.5457759999999,7406104,-7.5101494385050246E-3]
["2020-01-09",1524.1525879999999,1535.445557,1516.871582,1533.4642329999999,1522.8291019999999,6914533,2.303142204475947E-2]
["2020-01-10",1537.3276370000001,1543.3208010000001,1525.192749,1533.1175539999999,1522.484741,5758760,-2.261324002461409E-4]
["2020-01-13",1530.5419919999999,1544.0638429999999,1523.9544679999999,1529.204712,1518.598999,8437316,-2.5522370736193387E-3]
["2020-01-14",1525.5394289999999,1535.445557,1507.559814,1515.0389399999999,1504.5314940000001,7299328,-9.2634757492026914E-3]
["2020-01-15",1521.428345,1525.440308,1503.9936520000001,1509.5410159999999,1499.0717770000001,7299939,-3.628848596239458E-3]
["2020-01-16",1514.6427000000001,1528.8579099999999,1513.6521,1523.459106,1512.893311,5929338,9.2200615154399822E-3]
["2020-01-17",1538.9125979999999,1570.0673830000001,1538.6154790000001,1566.154419,1555.2924800000001,13597387,2.8025220742085778E-2]
["2020-01-20",1593.8914789999999,1593.8914789999999,1512.067139,1517.9613039999999,1507.433716,15019904,-3.077155237065125E-2]
["2020-01-21",1514.2464600000001,1531.3344729999999,1507.708374,1519.4967039999999,1508.958374,8732832,1.0114262297686626E-3]
["2020-01-22",1529.501831,1532.2260739999999,1516.7230219999999,1518.951904,1508.4173579999999,4763978,-3.5853606654899479E-4]
["2020-01-23",1522.0722659999999,1527.4710689999999,1506.420654,1512.512939,1502.0230710000001,5190829,-4.2390701526253917E-3]
["2020-01-24",1512.661499,1521.923706,1504.2907709999999,1507.2626949999999,1496.8092039999999,6751025,-3.4712296373243683E-3]
["2020-01-27",1500.6750489999999,1510.135376,1490.8680420000001,1492.403564,1482.053101,6178444,-9.858372704127186E-3]
["2020-01-28",1494.4342039999999,1495.8211670000001,1449.856812,1457.930298,1447.81897,11321622,-2.309912578496736E-2]
["2020-01-29",1460.20874,1480.3675539999999,1450.302612,1465.9542240000001,1455.7873540000001,11420535,5.5037157027995115E-3]
["2020-01-30",1465.112183,1465.805664,1426.478394,1430.193237,1420.2741699999999,10338837,-2.4394485844668311E-2]
["2020-01-31",1439.356323,1439.604004,1393.9864500000001,1398.3946530000001,1388.696289,16037262,-2.2233651549123039E-2]
["2020-02-03",1357.036621,1386.804443,1350.2509769999999,1372.490112,1362.971436,14173717,-1.8524462982848756E-2]
["2020-02-04",1386.854004,1419.048828,1384.674683,1413.0061040000001,1403.2062989999999,11714666,2.9519960534227882E-2]
["2020-02-05",1421.4262699999999,1439.158203,1416.8695070000001,1434.8985600000001,1424.946899,8524871,1.5493516538155226E-2]
["2020-02-06",1440.4460449999999,1453.2248540000001,1426.5775149999999,1444.111328,1434.0958250000001,7171051,6.4205382014028822E-3]
["2020-02-07",1437.3751219999999,1438.7124020000001,1414.8883060000001,1420.1879879999999,1410.338379,5634549,-1.6566149615560084E-2]
["2020-02-10",1414.591064,1431.9267580000001,1397.205933,1422.119751,1412.256836,6988250,1.3602813541529451E-3]
["2020-02-11",1433.8089600000001,1452.4323730000001,1431.480957,1439.108643,1429.127808,6460912,1.194610751383181E-2]
["2020-02-12",1442.476807,1461.001221,1441.337524,1456.4938959999999,1446.392456,6245738,1.208054864187492E-2]
["2020-02-13",1463.8739009999999,1463.8739009999999,1448.866211,1460.3077390000001,1450.179932,6260549,2.6185673081248217E-3]
["2020-02-14",1463.3786620000001,1487.3514399999999,1439.4554439999999,1473.63147,1463.411255,9796645,{"$f":"Daily_Return(F195,F196)","v":9.1239181483859996E-3}]
["2020-02-17",1475.018311,1492.007202,1460.4562989999999,1464.369263,1454.2132570000001,6068321,-6.285313146645077E-3]
["2020-02-18",1462.04126,1462.04126,1443.714966,1453.6210940000001,1443.5395510000001,5135183,-7.339849192421464E-3]
["2020-02-19",1465.458862,1492.304443,1461.248779,1489.6793210000001,1479.3477780000001,6499952,2.480585098980775E-2]
["2020-02-20",1482.943237,1493.8398440000001,1469.8671879999999,1471.996948,1461.7879640000001,7795779,-1.1869970172760796E-2]
["2020-02-24",1455.9490969999999,1463.130981,1426.0325929999999,1431.3819579999999,1421.454712,9862350,-2.7591725334523365E-2]
["2020-02-25",1437.771362,1437.771362,1396.7601320000001,1403.099976,1393.3688959999999,12804341,-1.9758502161833225E-2]
["2020-02-26",1396.7601320000001,1399.088013,1374.322754,1378.929077,1369.365601,13550903,-1.7226805527887988E-2]
["2020-02-27",1374.9666749999999,1380.71228,1356.1451420000001,1373.233154,1363.7092290000001,11562875,-4.1306514460924589E-3]
["2020-02-28",1342.17749,1344.2578129999999,1312.5582280000001,1316.1739500000001,1307.045654,18144221,-4.1551068068631541E-2]
["2020-03-02",1342.3756100000001,1356.1451420000001,1288.8826899999999,1303.7913820000001,1294.7490230000001,13614473,-9.4079582930925946E-3]
["2020-03-03",1317.214111,1341.1868899999999,1309.5864260000001,1330.240601,1321.0147710000001,12644541,2.0286362479070223E-2]
["2020-03-04",1339.3046879999999,1341.087769,1295.618774,1327.1202390000001,1317.916138,10201574,-2.3456459897525728E-3]
["2020-03-05",1339.502808,1345.1988530000001,1293.7366939999999,1298.8382570000001,1289.830322,14080540,-2.131077630069966E-2]
["2020-03-06",1258.074707,1276.0543210000001,1229.4460449999999,1259.065308,1250.3332519999999,15568253,-3.0621911523025989E-2]
["2020-03-09",1228.405884,1229.3470460000001,1084.718018,1103.6881100000001,1096.0335689999999,40698294,-0.12340684593742211]
["2020-03-11",1097.595947,1167.384399,1097.595947,1142.7181399999999,1134.7929690000001,27495503,3.5363332927260134E-2]
["2020-03-12",1074.8118899999999,1090.661621,1038.8526609999999,1053.018433,1045.715332,25830369,-7.8496817863171031E-2]
["2020-03-13",988.628784,1129.2954099999999,933.55084199999999,1094.9212649999999,1087.3276370000001,33826739,3.9793148026637241E-2]
["2020-03-16",1050.5914310000001,1069.5616460000001,995.56304899999998,1006.162598,999.18444799999997,17759556,-8.1064056500202902E-2]
["2020-03-17",1037.4163820000001,1050.0466309999999,993.77996800000005,998.53491199999996,991.60968000000003,20973312,-7.580950659472183E-3]
["2020-03-18",1015.672424,1026.1728519999999,951.97619599999996,959.40576199999998,952.751892,20643079,-3.9186575911602663E-2]
["2020-03-19",911.46026600000005,957.91986099999997,883.82226600000001,909.08282499999996,902.77795400000002,28337941,-5.2452205468829421E-2]
["2020-03-20",930.67810099999997,1025.182251,921.26733400000001,1008.391479,1001.397888,29240849,0.10924052095317333]
["2020-03-23",907.59686299999998,941.07952899999998,867.42767300000003,875.74877900000001,869.67511000000002,18769636,-0.13153890134827201]
["2020-03-24",921.26733400000001,960.89172399999995,887.38842799999998,934.54150400000003,928.06011999999998,21106643,6.7134277305004125E-2]
["2020-03-25",954.74993900000004,1140.736938,954.20507799999996,1072.0876459999999,1064.6522219999999,33749620,0.1471802300911281]
["2020-03-26",1085.5104980000001,1106.4123540000001,1032.5623780000001,1056.1883539999999,1048.8632809999999,21111073,-1.4830139527008871E-2]
["2020-03-27",1084.718018,1096.902466,1036.376221,1055.5939940000001,1048.2730710000001,19225132,-5.6271395013192643E-4]
["2020-03-30",1030.8287350000001,1064.7076420000001,1010.42218,1020.774109,1013.694641,13951078,-3.298609012918164E-2]
["2020-03-31",1063.865601,1119.1911620000001,1038.159302,1103.29187,1095.6401370000001,20441125,8.0838442550274905E-2]
["2020-04-01",1111.7120359999999,1114.040039,1035.38562,1070.3045649999999,1062.881592,19197220,-2.9899000496364746E-2]
["2020-04-03",1123.7974850000001,1123.7974850000001,1046.3813479999999,1067.332764,1059.9304199999999,19091236,-2.7765764523655823E-3]
["2020-04-07",1091.7513429999999,1202.600586,1089.6710210000001,1194.77478,1186.488525,25093419,0.11940227642489974]
["2020-04-08",1168.9197999999999,1217.459717,1149.1076660000001,1180.955688,1172.765259,23019764,-1.156628632375519E-2]
["2020-04-09",1202.600586,1221.223999,1181.7977289999999,1208.494629,1200.113159,15244658,2.3319159388571195E-2]
["2020-04-13",1192.6448969999999,1203.591187,1168.9197999999999,1177.9838870000001,1169.814087,10925447,-2.5246845910136401E-2]
["2020-04-15",1185.809692,1224.3939210000001,1132.267212,1139.052856,1131.1530760000001,16301024,-3.3048850607660635E-2]
["2020-04-16",1139.052856,1176.2998050000001,1134.248413,1157.0820309999999,1149.057251,17285802,1.5828251171196829E-2]
["2020-04-17",1204.5817870000001,1218.450317,1181.4510499999999,1212.506592,1204.0972899999999,15353792,4.7900171163882226E-2]
["2020-04-20",1214.4879149999999,1245.1967770000001,1190.7132570000001,1232.1207280000001,1223.575439,16628269,1.6176557460734781E-2]
["2020-04-21",1198.638062,1240.243774,1153.070068,1225.731323,1217.2303469999999,28322996,-5.1856974222903003E-3]
["2020-04-22",1307.605225,1371.8957519999999,1287.7929690000001,1350.7957759999999,1341.4273679999999,65848350,0.10203247175532336]
["2020-04-23",1354.51062,1372.836914,1340.592529,1358.0272219999999,1348.6087649999999,30211857,5.3535488922573267E-3]
["2020-04-24",1337.4720460000001,1480.912476,1334.5498050000001,1403.694336,1393.959106,62296159,3.3627499818303548E-2]
["2020-04-27",1420.5347899999999,1461.14978,1409.638062,1416.324707,1406.501831,26989849,8.9979146059683754E-3]
["2020-04-28",1436.3845209999999,1441.7833250000001,1379.077759,1414.739624,1404.927856,36206232,-1.1190707081276587E-3]
["2020-04-29",1431.3323969999999,1440.0002440000001,1406.66626,1413.5509030000001,1403.747314,17303785,-8.4028656344049271E-4]
["2020-04-30",1440.2973629999999,1480.912476,1424.5467530000001,1452.2342530000001,1442.162476,32926121,2.7366151740326687E-2]
["2020-05-04",1426.478394,1451.2436520000001,1404.1401370000001,1421.7235109999999,1411.8632809999999,24670336,-2.1009557178355023E-2]
["2020-05-05",1440.0498050000001,1465.112183,1433.6108400000001,1446.934448,1436.8992920000001,20723079,1.7732602962991957E-2]
["2020-05-06",1450.253052,1471.0063479999999,1431.9267580000001,1447.0335689999999,1436.997803,18685710,6.8558040600605116E-5]
["2020-05-07",1441.337524,1499.4368899999999,1431.431519,1492.7998050000001,1482.446655,23087436,3.1627641952630035E-2]
["2020-05-08",1530.492432,1565.064697,1522.666626,1547.1347659999999,1536.4047849999999,38887255,3.6398024723527059E-2]
["2020-05-11",1565.163818,1599.8352050000001,1557.5361330000001,1561.9938959999999,1551.1607670000001,30959745,9.6042280940957445E-3]
["2020-05-12",1550.106567,1553.623169,1451.2436520000001,1465.3598629999999,1455.1970209999999,46465281,-6.1865764040433681E-2]
["2020-05-13",1527,1527,1454,1496.4499510000001,1486.0714109999999,30657492,2.1216639090412177E-2]
["2020-05-14",1469,1496.6999510000001,1430.0500489999999,1435.9499510000001,1425.9910890000001,22736607,-4.0428960247321385E-2]
["2020-05-15",1444,1466.6999510000001,1415.099976,1459.400024,1449.278442,28683258,1.6330644125083966E-2]
["2020-05-18",1470,1482,1428,1440.75,1430.7578129999999,28980385,-1.2779206854441087E-2]
["2020-05-19",1457,1461.6999510000001,1403.25,1408.900024,1399.128784,19528760,-2.2106487004729673E-2]
["2020-05-20",1410,1446.849976,1393,1433.6999510000001,1423.7567140000001,25530626,1.7602332452621536E-2]
["2020-05-21",1435,1461.4499510000001,1425,1441.25,1431.2543949999999,18076017,5.2661251225536478E-3]
["2020-05-22",1451.8000489999999,1458,1426.5,1431.5500489999999,1421.6217039999999,17458065,-6.7302437873038102E-3]
["2020-05-26",1448.150024,1449.6999510000001,1416.3000489999999,1424.0500489999999,1414.173706,15329472,{"$f":"Daily_Return(F259,F260)","v":-5.2390857420391993E-3}]
["2020-05-27",1431,1454,1412,1445.5500489999999,1435.524658,16460756,1.5097828441734587E-2]
["2020-05-28",1455,1479.75,1449,1472.25,1462.0394289999999,18518271,1.8470439258731201E-2]
["2020-05-29",1468,1472,1452.650024,1464.400024,1454.243774,18470390,-5.3320415615137947E-3]
["2020-06-01",1480,1538.349976,1475.9499510000001,1520.349976,1509.8057859999999,18434012,3.8206807547246799E-2]
["2020-06-02",1526,1540,1520.8000489999999,1535.6999510000001,1525.0491939999999,10224049,1.0096270753064955E-2]
["2020-06-03",1545,1560,1533.349976,1541.650024,1530.95813,11713461,3.8745871433181057E-3]
["2020-06-04",1544,1589.5,1541,1579.8000489999999,1568.8435059999999,15784379,2.4746186886247471E-2]
["2020-06-05",1595,1618,1573.6999510000001,1581.6999510000001,1570.730225,15264885,1.202617719858213E-3]
["2020-06-08",1618.400024,1618.400024,1565,1569.5,1558.6148679999999,14497996,-7.7132004001515481E-3]
["2020-06-09",1560.3000489999999,1583,1533,1537.150024,1526.4892580000001,11933076,-2.0611640925267901E-2]
["2020-06-10",1543.099976,1579.5500489999999,1540.0500489999999,1572.150024,1561.2464600000001,10214213,2.2769372151061677E-2]
["2020-06-11",1566,1567.9499510000001,1531,1537.6999510000001,1527.0354,9408046,-2.1912658171855896E-2]
["2020-06-12",1500,1593,1497,1588.8000489999999,1577.7811280000001,17790311,3.3231533466742222E-2]
["2020-06-15",1565,1626.9499510000001,1561.099976,1614.5500489999999,1603.352539,24509058,1.6207197909899135E-2]
["2020-06-16",1643,1648.5500489999999,1585.3000489999999,1617.6999510000001,1606.4804690000001,23622794,1.950868523245034E-3]
["2020-06-17",1608.25,1635.4499510000001,1602.099976,1615.349976,1604.146851,19282411,-1.4526276820861336E-3]
["2020-06-18",1607,1665,1605.599976,1655.900024,1644.4157709999999,18677617,2.5103013464694311E-2]
["2020-06-19",1670,1788.8000489999999,1662,1759.400024,1747.197876,48828609,6.2503721268433399E-2]
["2020-06-22",1773.400024,1804.1999510000001,1735,1746.150024,1734.0397949999999,27781693,-7.5309621083811569E-3]
["2020-06-23",1750,1763.75,1716.099976,1720.900024,1708.964966,17519493,-1.4460353835189756E-2]
["2020-06-24",1735.900024,1772.6999510000001,1711.6999510000001,1727.849976,1715.8666989999999,23807033,4.0385456327721595E-3]
["2020-06-25",1727,1749,1713.0500489999999,1717.900024,1705.9857179999999,18312025,-5.7585947706535797E-3]
["2020-06-26",1728.8000489999999,1752,1717,1741.650024,1729.5710449999999,14270458,1.3825043639667802E-2]
["2020-06-29",1728.0500489999999,1739.75,1715.5500489999999,1723.150024,1711.199341,11824524,-1.062211584375819E-2]
["2020-06-30",1737,1741,1695.5500489999999,1704.099976,1692.2813719999999,13972563,-1.1055385861091262E-2]
["2020-07-01",1720,1749,1708.0500489999999,1737.599976,1725.549072,13136179,1.9658492110377082E-2]
["2020-07-02",1743,1767.599976,1735.0500489999999,1760.349976,1754.7052000000001,13286365,1.6896724916786416E-2]
["2020-07-03",1779.8000489999999,1793,1768,1787.900024,1782.16687,13583909,1.5650304108063229E-2]
["2020-07-06",1805,1858,1792.099976,1851.8000489999999,1845.862061,21697962,3.5740306966877924E-2]
["2020-07-07",1860,1864.349976,1806.3000489999999,1823.4499510000001,1817.602905,16239990,-1.5309462498346497E-2]
["2020-07-08",1824.0500489999999,1834.9499510000001,1790,1798,1792.2344969999999,12093186,-1.3957068361969881E-2]
["2020-07-09",1809,1835,1786.25,1824.25,1818.4003909999999,16807336,1.4599592879056151E-2]
["2020-07-10",1828.5,1884.599976,1824.25,1878.0500489999999,1872.027832,20195218,2.9491547222176159E-2]
["2020-07-13",1903.349976,1947.6999510000001,1900,1935,1928.7951660000001,32124262,3.0323979713139285E-2]
["2020-07-14",1934,1941.6999510000001,1887.3000489999999,1917,1910.852905,31073305,-9.3023154123770459E-3]
["2020-07-15",1937.9499510000001,1978.8000489999999,1798,1844,1838.0870359999999,64457578,-3.8080308960254619E-2]
["2020-07-16",1847,1869,1812.4499510000001,1843.400024,1837.489014,28133826,-3.2535020828028995E-4]
["2020-07-17",1845,1920,1838,1911.6999510000001,1905.5698239999999,22948894,3.705100247200712E-2]
["2020-07-20",1917.8000489999999,1932,1899.650024,1919.900024,1913.7436520000001,16887635,4.2894403012965557E-3]
["2020-07-21",1939,1977,1936.5,1971.5500489999999,1965.2280270000001,19463004,2.6902440640989254E-2]
["2020-07-22",1983,2010,1960.6999510000001,2004,1997.573975,27584518,1.6459132251119633E-2]
["2020-07-23",2003.9499510000001,2079.6999510000001,1991.349976,2057.8000489999999,2051.2014159999999,26921017,2.6846285379744129E-2]
["2020-07-24",2058,2163,2057.8000489999999,2146.1499020000001,2139.2680660000001,55655668,4.293417960472011E-2]
["2020-07-27",2178.8000489999999,2198.8000489999999,2127.8999020000001,2156.1999510000001,2149.2858890000002,37060665,4.6828273460517945E-3]
["2020-07-28",2156.1999510000001,2194,2150.6499020000001,2177.6999510000001,2170.716797,25435297,9.9711760588401723E-3]
["2020-07-29",2177.8999020000001,2182.8000489999999,2070.4499510000001,2096.6499020000001,2089.9267580000001,33534147,-3.7218138778699457E-2]
["2020-07-30",2099,2139.6999510000001,2072,2108.8500979999999,2102.0878910000001,33623699,5.8189278420636703E-3]
["2020-07-31",2114.5,2129,2052.8000489999999,2067.1000979999999,2060.4716800000001,34593133,-1.9797559929904958E-2]
["2020-08-03",2051.3000489999999,2057,2003.099976,2009,2002.557861,21559142,-2.8107068668859404E-2]
["2020-08-04",2020.599976,2167,2000.25,2150.6000979999999,2143.703857,42476932,7.048285532659572E-2]
["2020-08-05",2169,2196,2118.3000489999999,2126.4499510000001,2119.6313479999999,34404810,-1.1229400423661263E-2]
["2020-08-06",2157,2167.6999510000001,2107.8000489999999,2134.1000979999999,2127.256836,22762545,3.5975538893568641E-3]
["2020-08-07",2129.8000489999999,2157.8000489999999,2120.1999510000001,2146.4499510000001,2139.5671390000002,15222303,5.7869378025588837E-3]
["2020-08-10",2159.1000979999999,2165,2108.1000979999999,2119.8500979999999,2113.05249,12441573,-1.2392529552679856E-2]
["2020-08-11",2134.8000489999999,2160,2100.3500979999999,2133.8000489999999,2126.9577640000002,21611256,6.5806571610533869E-3]
["2020-08-12",2121,2145,2106.8000489999999,2127.6000979999999,2120.7778320000002,13967116,-2.9055264305662101E-3]
["2020-08-13",2128,2138.8999020000001,2110,2122.0500489999999,2115.2453609999998,11459190,-2.6086989954921601E-3]
["2020-08-14",2122.5500489999999,2157,2089.25,2113.8000489999999,2107.0219729999999,15333164,-3.8876757049651259E-3]
["2020-08-17",2105,2105,2070.1000979999999,2091.3500979999999,2084.6440429999998,14296834,-1.0620643869289211E-2]
["2020-08-18",2085,2134.3000489999999,2082.3500979999999,2118.5500489999999,2111.7565920000002,14097746,1.3005841016859108E-2]
["2020-08-19",2141,2154,2121.3500979999999,2131.5500489999999,2124.7150879999999,15731396,6.1363587304950817E-3]
["2020-08-20",2120,2123.8999020000001,2088,2097.0500489999999,2090.3256839999999,10401212,-1.61854190212255E-2]
["2020-08-21",2118,2122,2077,2081.8500979999999,2075.1743160000001,11667129,-7.2483288685457406E-3]
["2020-08-24",2091.3999020000001,2104.5,2070.5,2095.75,2089.0297850000002,15098991,{"$f":"Daily_Return(F323,F324)","v":6.6767735573689917E-3}]
["2020-08-25",2106,2111.3000489999999,2078,2082.1000979999999,2075.4235840000001,8947563,-6.5131675468188951E-3]
["2020-08-26",2085,2147.9499510000001,2047,2137.3000489999999,2130.4465329999998,27630190,2.6511671845779555E-2]
["2020-08-27",2148,2150,2103.25,2110.6000979999999,2103.8322750000002,12961252,-1.2492337914964052E-2]
["2020-08-28",2120,2132.8999020000001,2106.25,2116.1499020000001,2109.3642580000001,12537520,2.6294791014173668E-3]
["2020-08-31",2174,2174,2060.3500979999999,2080.6999510000001,2074.0280760000001,28648125,-1.6752053072855284E-2]
["2020-09-01",2100,2122.3999020000001,2062.3999020000001,2087.25,2080.556885,17821397,3.1478884377454833E-3]
["2020-09-02",2092,2138,2085,2128.1999510000001,2121.375732,12437162,1.9619192964291387E-2]
["2020-09-03",2128,2138.75,2103,2112.1000979999999,2105.327393,8577634,-7.5650620292850327E-3]
["2020-09-04",2083.5500489999999,2096.9499510000001,2072.1999510000001,2077.25,2070.5891109999998,13141644,-1.6500180501855206E-2]
["2020-09-07",2084,2105.75,2044.25,2082.6499020000001,2075.9716800000001,10119064,2.5995350653615656E-3]
["2020-09-08",2092,2121,2080.5,2107.1000979999999,2100.3435060000002,12643749,1.173996073010016E-2]
["2020-09-09",2085,2167.8000489999999,2081.4499510000001,2161.3500979999999,2154.4194339999999,25525961,2.5746230483500609E-2]
["2020-09-10",2183.1000979999999,2344.9499510000001,2175.3500979999999,2314,2306.5798340000001,64750460,7.0627101482041404E-2]
["2020-09-11",2312,2337.8500979999999,2287.1000979999999,2319.75,2312.3115229999999,27445768,2.4849298149199604E-3]
["2020-09-14",2325,2360,2282,2302.5500489999999,2295.1667480000001,20335273,-7.4145610699357985E-3]
["2020-09-15",2311.9499510000001,2325.75,2288.1499020000001,2318.8500979999999,2311.4145509999998,12542824,7.0791383737839634E-3]
["2020-09-16",2320,2369.3500979999999,2310.5500489999999,2324.5500489999999,2317.0961910000001,15668979,2.4580791868521225E-3]
["2020-09-17",2320,2333.6999510000001,2291.8500979999999,2298.75,2291.3789059999999,11919927,-1.1098928520917919E-2]
["2020-09-18",2314.25,2319.4499510000001,2276.5500489999999,2305.6999510000001,2298.3063959999999,15264068,3.0232843559222476E-3]
["2020-09-21",2300,2336,2247.3500979999999,2255.8500979999999,2248.6164549999999,15519031,-2.1620242229878951E-2]
["2020-09-22",2277,2277,2201.5500489999999,2211.1499020000001,2204.0595699999999,16056620,-1.9815244570021599E-2]
["2020-09-23",2260,2276.75,2205.3000489999999,2230.8000489999999,2223.6467290000001,19839282,8.8868555399345024E-3]
["2020-09-24",2207.8999020000001,2226,2176.0500489999999,2181.1999510000001,2174.2058109999998,13764841,-2.223416037952863E-2]
["2020-09-25",2189,2212.8000489999999,2167.3000489999999,2201.6999510000001,2194.639893,13095028,9.3984120070959645E-3]
["2020-09-28",2227,2238,2207.0500489999999,2216.25,2209.1433109999998,9076248,6.608563913496574E-3]
["2020-09-29",2225,2264,2216.25,2245.0500489999999,2237.8510740000002,11926328,1.2994975408365594E-2]
["2020-09-30",2260,2267,2225,2234.3500979999999,2227.1853030000002,11290667,-4.7660772085854845E-3]
["2020-10-01",2263.8000489999999,2263.8000489999999,2214,2225.25,2218.1145019999999,9591456,-4.0727643935967103E-3]
["2020-10-05",2244,2249.1499020000001,2206,2212.1999510000001,2205.1062010000001,8732869,-5.8645759667820107E-3]
["2020-10-06",2225.25,2233.8999020000001,2201.6499020000001,2210.3500979999999,2203.2624510000001,8497216,-8.3612752944228828E-4]
["2020-10-07",2235,2309,2220,2257.5,2250.2609859999998,24538346,2.1331337525708014E-2]
["2020-10-08",2259,2268,2222.1000979999999,2239.25,2232.0695799999999,9727405,-8.0841316243661331E-3]
["2020-10-09",2235,2253,2217.1000979999999,2233.4499510000001,2226.288086,8558745,-2.5901943433142612E-3]
["2020-10-12",2235,2255.75,2226.25,2237.0500489999999,2229.8767090000001,6565515,1.6119310984805304E-3]
["2020-10-13",2230.6000979999999,2285.75,2225.8500979999999,2280.6999510000001,2273.3867190000001,10666190,1.9512294031499282E-2]
["2020-10-14",2278.8999020000001,2304,2268.5,2287.5,2280.1647950000001,12341434,2.9814883421952704E-3]
["2020-10-15",2290,2290,2195,2206.5,2199.4245609999998,9246702,-3.5409823964061476E-2]
["2020-10-16",2215,2232.5,2172.6499020000001,2175.8000489999999,2168.8229980000001,9960828,-1.3913440607431554E-2]
["2020-10-19",2190.0500489999999,2228.6999510000001,2155.1499020000001,2176.1999510000001,2169.2216800000001,14398973,1.8382412966279693E-4]
["2020-10-20",2179,2193,2152.25,2155.8999020000001,2148.9868160000001,8529573,-9.3281678800112375E-3]
["2020-10-21",2168,2192,2097.75,2124.6000979999999,2117.7873540000001,15728986,-1.4518219361658494E-2]
["2020-10-22",2127.3999020000001,2132.5,2091,2106.9499510000001,2100.1938479999999,14215215,-8.3074941243605899E-3]
["2020-10-23",2106,2135,2096.3999020000001,2113.0500489999999,2106.274414,10809307,2.8952403635457606E-3]
["2020-10-26",2101.9499510000001,2101.9499510000001,2018.5,2029.099976,2022.593384,17225212,-3.9729405363227263E-2]
["2020-10-27",2034.900024,2059.8500979999999,2005,2034.5,2027.9761960000001,16835005,2.6613416431505829E-3]
["2020-10-28",2041.8000489999999,2057.6999510000001,2007.400024,2011.4499510000001,2005,13809929,-1.1329618190449446E-2]
["2020-10-29",1997,2042,1991,2026.900024,2020.400513,14147418,7.6810538653366818E-3]
["2020-10-30",2033.5,2065.1000979999999,2021.8000489999999,2054.5,2047.911987,15700946,1.3616841721718523E-2]
["2020-11-02",2027,2027,1859.150024,1877.4499510000001,1871.4296879999999,45857806,-8.6176701010735393E-2]
["2020-11-03",1890,1909,1835.099976,1850.400024,1844.466553,40931170,-1.4407773464797127E-2]
["2020-11-04",1837,1929,1837,1913.1999510000001,1907.065063,37003111,3.3938544398207926E-2]
["2020-11-05",1954.9499510000001,1960.9499510000001,1932,1955,1948.7310789999999,17170274,2.1848240423667127E-2]
["2020-11-06",1990,2040,1978.150024,2029.150024,2022.643311,30770080,3.7928389810423985E-2]
["2020-11-09",2062.1000979999999,2069,2036,2050.6999510000001,2044.1241460000001,16539467,1.062017948650565E-2]
["2020-11-10",2077,2090,2041.1999510000001,2084.5500489999999,2077.8657229999999,17045147,1.6506618282468924E-2]
["2020-11-11",2089,2095,1978.099976,1997.1999510000001,1990.795654,26178477,-4.1903607165861063E-2]
["2020-11-12",1981,2008.4499510000001,1965,1980,1973.650879,18481466,-8.6120215128819948E-3]
["2020-11-13",1982,2036.650024,1981.75,1996.400024,1989.9982910000001,20946864,8.282828626855681E-3]
["2020-11-14",2014.900024,2015.3000489999999,1995.349976,2002.3000489999999,1995.8793949999999,2411900,2.9553311812365885E-3]
["2020-11-17",2085,2085,1985,1993.25,1986.8583980000001,21479385,-4.5198106772377658E-3]
["2020-11-18",1993.25,2006.5,1960.099976,1987.1999510000001,1980.827759,14030652,-3.0352636131848105E-3]
["2020-11-19",1987.1999510000001,2010.4499510000001,1968.1999510000001,1973.150024,1966.822876,12828008,-7.070217456499237E-3]
["2020-11-20",1975,1983.8000489999999,1895,1899.5,1893.409058,26522972,-3.7326095245192779E-2]
["2020-11-23",1951,1970,1926.25,1950.6999510000001,1944.4448239999999,20918665,{"$f":"Daily_Return(F387,F388)","v":2.6954432157364257E-2}]
["2020-11-24",1964,1974,1932,1964.0500489999999,1957.7520750000001,14277083,6.843727749818721E-3]
["2020-11-25",1980,1992.9499510000001,1942.1999510000001,1947.8000489999999,1941.5541989999999,15062376,-8.2737115730040414E-3]
["2020-11-26",1953.0500489999999,1965,1930.0500489999999,1952.599976,1946.338745,11924527,2.4642866021790059E-3]
["2020-11-27",1940.5,1956.099976,1921.400024,1929.8000489999999,1923.611938,21845931,-1.1676696596819794E-2]
["2020-12-01",1940.349976,1966.25,1930.0500489999999,1954.900024,1948.63147,9114939,1.3006538120164248E-2]
["2020-12-02",1958.5,1962,1935,1958.150024,1951.8709719999999,10240168,1.6624498012443071E-3]
["2020-12-03",1972,1981.099976,1958.650024,1964.0500489999999,1957.7520750000001,12822945,3.0130593078978207E-3]
["2020-12-04",1969,1969,1940,1946.75,1940.507568,8521388,-8.8083201239871553E-3]
["2020-12-07",1940.599976,1965,1940.599976,1958.1999510000001,1951.9207759999999,8418767,5.8815580975873525E-3]
["2020-12-08",1961.150024,2014.25,1950,1993.75,1987.356812,20030506,1.8154443784659045E-2]
["2020-12-09",2009.9499510000001,2033.8000489999999,1999.25,2026.9499510000001,2020.450317,13464375,1.6652019808509378E-2]
["2020-12-10",2021.599976,2028.5,2001,2007,2000.564331,7414229,-9.84235337671013E-3]
["2020-12-11",2013,2038,1974.25,2005.8000489999999,1999.3682859999999,12434745,-5.9785380628189365E-4]
["2020-12-14",2007.9499510000001,2015,1986.349976,1991.3000489999999,1984.914673,7989830,-7.229089858635432E-3]
["2020-12-15",1989.6999510000001,1989.6999510000001,1961.099976,1974.349976,1968.019043,8561406,-8.5120182896647779E-3]
["2020-12-16",1988,1994.9499510000001,1965.6999510000001,1976.5500489999999,1970.2120359999999,8565904,1.1143149289129554E-3]
["2020-12-17",1984.5,2005,1977.150024,1985.599976,1979.2329099999999,9346460,4.5786310484198312E-3]
["2020-12-18",1980.099976,2004.900024,1965,1991.5500489999999,1985.1639399999999,8522215,2.9966306491942701E-3]
["2020-12-21",2010,2022,1855.25,1939.6999510000001,1933.4801030000001,20368545,-2.6035047261638158E-2]
["2020-12-22",1949,1958.900024,1888.4499510000001,1936.6999510000001,1930.489746,12986606,-1.5466189671982007E-3]
["2020-12-23",1930,1951.4499510000001,1920.650024,1943.849976,1937.6168210000001,8999898,3.6918481513654746E-3]
["2020-12-24",1947,1998.8000489999999,1945.900024,1994.150024,1987.755615,9588577,2.5876527008123016E-2]
["2020-12-28",2006.6999510000001,2018,1995.3000489999999,2003.3000489999999,1996.876221,7947719,4.5883940315268341E-3]
["2020-12-29",2009,2012.3000489999999,1982.5500489999999,1990.0500489999999,1983.6687010000001,8589407,-6.6140904784703384E-3]
["2020-12-30",1995.25,2007.1999510000001,1975.5500489999999,1995.5,1989.1011960000001,10173132,2.7386100296190622E-3]
["2020-12-31",1993.5,2011.900024,1978.599976,1985.3000489999999,1978.9339600000001,8667516,-5.1114724682916543E-3]
["2021-01-01",1988,1997,1982,1987.5,1981.126831,4622002,1.108107215462596E-3]
["2021-01-04",1995.099976,1998.900024,1968,1990.849976,1984.466064,11312992,1.6855220714538503E-3]
["2021-01-05",1969,1983.599976,1956,1966.099976,1959.7954099999999,11132803,-1.2431885053389361E-2]
["2021-01-06",1965.900024,1966,1905.150024,1914.25,1908.1116939999999,21414270,-2.6371995636013865E-2]
["2021-01-07",1920.5,1945,1905.150024,1911.150024,1905.0217290000001,14918406,-1.6193837130793734E-3]
["2021-01-08",1918,1938.400024,1912.099976,1933.6999510000001,1927.499268,12709792,1.179909848681835E-2]
["2021-01-11",1938.8000489999999,1938.8000489999999,1892.5,1897.25,1891.16626,15371556,-1.8849816756454439E-2]
["2021-01-12",1903,1960,1899.900024,1957.0500489999999,1950.7745359999999,18996047,3.1519320781452573E-2]
["2021-01-13",1963.5500489999999,1974.9499510000001,1918.4499510000001,1938.8000489999999,1932.58313,12284876,-9.3252221947190302E-3]
["2021-01-14",1945,1966.900024,1939.0500489999999,1960.599976,1954.3131100000001,9946818,1.1244007909765864E-2]
["2021-01-15",1960.599976,1973.8000489999999,1920.0500489999999,1937.4499510000001,1931.2373050000001,9503790,-1.1807629433545552E-2]
["2021-01-18",1949.099976,1997,1923.349976,1983.9499510000001,1977.5882570000001,16198856,2.4000650712368052E-2]
["2021-01-19",1994.650024,2031,1994.650024,2016.400024,2009.9342039999999,14771048,1.6356259643788829E-2]
["2021-01-20",2021.400024,2058,2001.400024,2054.6999510000001,2048.111328,14271669,1.8994215792747439E-2]
["2021-01-21",2082,2120,2075,2099.3999020000001,2092.6679690000001,18038987,2.1754989775633976E-2]
["2021-01-22",2111,2115.3500979999999,2035.150024,2049.6000979999999,2043.027832,14090818,-2.3720980936942936E-2]
["2021-01-25",2034.9499510000001,2034.9499510000001,1932,1941,1934.776001,25016570,-5.2985979586008911E-2]
["2021-01-27",1925,1925,1888,1895,1888.923462,19553809,-2.3699146038766675E-2]
["2021-01-28",1880.150024,1923.3000489999999,1870,1876.5500489999999,1870.5327150000001,15722291,-9.7360996196890481E-3]
["2021-01-29",1894.3000489999999,1913.099976,1830,1841.9499510000001,1836.0435789999999,20173258,-1.8438135683716252E-2]
["2021-02-01",1859.400024,1905,1848,1895.3000489999999,1889.222534,15774504,2.8963884957983389E-2]
["2021-02-02",1914.25,1940,1854.9499510000001,1925.8000489999999,1919.6247559999999,19138414,1.6092451499416606E-2]
["2021-02-03",1928.3000489999999,1952,1900,1930.650024,1924.4592290000001,13984228,2.5184468917112237E-3]
["2021-02-04",1924,1940,1905,1924.3000489999999,1918.1295170000001,11826848,-3.2890860479746604E-3]
["2021-02-05",1930.0500489999999,1944.650024,1920,1923.75,1917.5812989999999,9344470,-2.8580864594459683E-4]
["2021-02-08",1933.0500489999999,1969,1929.0500489999999,1951.4499510000001,1945.1923830000001,9776136,1.4398911803321732E-2]
["2021-02-09",1961.9499510000001,1989.599976,1952.3000489999999,1956.150024,1949.8774410000001,9047308,2.4085319482767204E-3]
["2021-02-10",1953.75,1984.75,1927.3000489999999,1974.3000489999999,1967.9692379999999,9799560,9.2784277717072247E-3]
["2021-02-11",1980,2064.1999510000001,1972.25,2055.6999510000001,2049.108154,19631870,4.1229768450272958E-2]
["2021-02-12",2055.5,2078,2015.400024,2041.599976,2035.053345,14074374,-6.8589883713868517E-3]
["2021-02-15",2048.0500489999999,2061.3000489999999,2025,2032.599976,2026.082275,7287590,-4.4082726489904633E-3]
["2021-02-16",2039.75,2079.3999020000001,2035,2059.5,2052.8959960000002,9886093,1.3234270557941786E-2]
["2021-02-17",2060,2095.9499510000001,2050.6000979999999,2083.25,2076.5698240000002,10957388,1.1531917859515352E-2]
["2021-02-18",2085,2108.3999020000001,2059.1000979999999,2067.6999510000001,2061.0695799999999,8605531,-7.4643500164819363E-3]
["2021-02-19",2057,2104.9499510000001,2053.3000489999999,2080.3000489999999,2073.6293949999999,10800704,6.0938335715963908E-3]
["2021-02-22",2080,2089.8999020000001,1994.9499510000001,2008.099976,2001.6607670000001,10985697,-3.4706600983537783E-2]
["2021-02-23",2048,2052.8999020000001,2013.599976,2023.4499510000001,2016.961548,11834752,7.6440430128088309E-3]
["2021-02-24",2030,2065.25,2026.150024,2061,2054.3911130000001,4987735,{"$f":"Daily_Return(F451,F452)","v":1.855740137292897E-2}]
["2021-02-25",2076,2152,2073,2144.3500979999999,2137.4741210000002,16085897,4.0441670271185629E-2]
["2021-02-26",2117,2133.8999020000001,2070.6999510000001,2085.8000489999999,2079.1118160000001,17297575,-2.7304332916412464E-2]
["2021-03-01",2110.1999510000001,2112,2062.5,2101.6999510000001,2094.960693,8159670,7.6229074732938277E-3]
["2021-03-02",2122,2130,2089.1000979999999,2106,2099.2468260000001,7915073,2.0459252597538179E-3]
["2021-03-03",2121.0500489999999,2219.8999020000001,2107.1999510000001,2202.1000979999999,2195.038818,14733134,4.5631600254709609E-2]
["2021-03-04",2180,2189.9499510000001,2157.6999510000001,2175.8500979999999,2168.873047,9892597,-1.1920413791971469E-2]
["2021-03-05",2156,2211.9499510000001,2153.0500489999999,2178.6999510000001,2171.7136230000001,11773630,1.3097013695334357E-3]
["2021-03-08",2168.5,2231.8999020000001,2168,2191.1000979999999,2184.0739749999998,9002404,5.6915202212182714E-3]
["2021-03-09",2200,2213.8000489999999,2146.6000979999999,2191.0500489999999,2184.0241700000001,6993792,-2.2803714787019086E-5]
["2021-03-10",2207,2215.1000979999999,2170.25,2181.9499510000001,2174.9533689999998,5316182,-4.1532511977650415E-3]
["2021-03-12",2195,2206.3999020000001,2123.8999020000001,2137.6000979999999,2130.7456050000001,7783173,-2.032584451239321E-2]
["2021-03-15",2140.0500489999999,2148.8999020000001,2080.5,2108.8999020000001,2102.1374510000001,7706170,-1.3426358328684673E-2]
["2021-03-16",2114,2126,2095.5,2100.6000979999999,2093.8642580000001,6402757,-3.9356099174506316E-3]
["2021-03-17",2098.0500489999999,2103,2035.099976,2055.3500979999999,2048.7592770000001,8865521,-2.1541501951555807E-2]
["2021-03-18",2072.8999020000001,2084.8000489999999,2001,2009.099976,2002.6575929999999,9528809,-2.2502245391907115E-2]
["2021-03-19",1991,2095.8500979999999,1982.8000489999999,2082,2075.3237300000001,19284892,3.628485331391354E-2]
["2021-03-22",2071,2074,2033.1999510000001,2062.3999020000001,2055.7866210000002,8571196,-9.4140054959039442E-3]
["2021-03-23",2061.9499510000001,2109.6999510000001,2056,2087.5,2080.8061520000001,8039865,1.2170295664162663E-2]
["2021-03-24",2079.75,2079.75,2040.400024,2047.3000489999999,2040.735107,7763726,-1.9257461807043012E-2]
["2021-03-25",2054,2054,1985,1991.4499510000001,1985.064087,10153757,-2.7279885473151709E-2]
["2021-03-26",2012,2013.6999510000001,1973.6999510000001,1994.650024,1988.2539059999999,9313160,1.6069098327302232E-3]
["2021-03-30",2008,2048.8999020000001,1991.5500489999999,2029.3000489999999,2022.7928469999999,9433842,1.7371494101317272E-2]
["2021-03-31",2018,2049.8999020000001,1999,2003.099976,1996.6767580000001,7499740,-1.2910906343540118E-2]
["2021-04-01",2018,2030,2003.150024,2021.849976,2015.3666989999999,5410307,9.3605241434877567E-3]
["2021-04-05",2024.9499510000001,2025,1962.099976,1992.599976,1986.2104489999999,6864856,-1.4466970211657744E-2]
["2021-04-06",2004,2004.9499510000001,1969,1984.3000489999999,1977.937134,6465241,-4.1653768381720519E-3]
["2021-04-07",2000,2046.900024,1993.3000489999999,2002.849976,1996.427612,11198918,9.3483648606194469E-3]
["2021-04-08",2011,2022,1993,2005.349976,1998.9195560000001,7092878,1.2482015300838783E-3]
["2021-04-09",1998.4499510000001,2006.349976,1980,1982.0500489999999,1975.694336,6478482,-1.1618886778253139E-2]
["2021-04-12",1959,1961.400024,1900.25,1911.150024,1905.0217290000001,9646031,-3.5771022729702236E-2]
["2021-04-13",1924,1940.599976,1917.849976,1931.8000489999999,1925.6054690000001,8958261,1.0804989615947858E-2]
["2021-04-15",1926.3000489999999,1961,1913,1944.3000489999999,1938.0654300000001,9102492,6.4706717967885144E-3]
["2021-04-16",1936.599976,1949.900024,1926.4499510000001,1932.099976,1925.9045410000001,7225679,-6.274756678364567E-3]
["2021-04-19",1904,1916.400024,1890,1901.6999510000001,1895.6019289999999,8527967,-1.5734223246737844E-2]
["2021-04-20",1910.5,1919,1890.4499510000001,1901.150024,1895.0538329999999,7939490,-2.8914087478752867E-4]
["2021-04-22",1892.25,1914.4499510000001,1876.6999510000001,1906.400024,1900.286987,6687573,2.7614803911483465E-3]
["2021-04-23",1906,1918.900024,1895.349976,1904.349976,1898.243408,5459016,-1.0754054592701943E-3]
["2021-04-26",1920,1962,1911.5,1937.849976,1931.635986,9620785,1.7591304602597075E-2]
["2021-04-27",1940,1997.1999510000001,1938.25,1988.650024,1982.273193,9226547,2.6214673658497469E-2]
["2021-04-28",1997.849976,2008,1980.150024,1997.3000489999999,1990.8955080000001,7902002,4.3497107414094318E-3]
["2021-04-29",2022.900024,2044.5,2007.3000489999999,2024.0500489999999,2017.559692,8035915,1.3393060506116716E-2]
["2021-04-30",2008.5,2036,1987.5500489999999,1994.5,1988.10437,9150974,-1.4599479815539466E-2]
["2021-05-03",1966,1979,1943.099976,1959.0500489999999,1952.768188,10909942,-1.7773806311788352E-2]
["2021-05-04",1950,1967.8000489999999,1911,1916.599976,1910.4542240000001,10083693,-2.166870817541193E-2]
["2021-05-05",1923.349976,1938.5,1908.0500489999999,1920.099976,1913.9429929999999,5719649,1.8261463458125863E-3]
["2021-05-06",1921.849976,1935,1906.599976,1931,1924.8079829999999,6749281,5.6767573745599197E-3]
["2021-05-07",1937.75,1955.650024,1926,1931.75,1925.555664,5671163,3.8844446126762397E-4]
["2021-05-10",1939,1946.8000489999999,1920.9499510000001,1926.1999510000001,1920.0234379999999,6433879,-2.8730543102076932E-3]
["2021-05-11",1915,1938.5500489999999,1910,1933.150024,1926.951172,6220217,3.6081507459181862E-3]
["2021-05-12",1930.099976,1932.900024,1907,1913.150024,1907.015259,6081627,-1.034583194929032E-2]
["2021-05-14",1928.0500489999999,1942,1906,1937.3000489999999,1931.0878909999999,6134079,1.262319841773216E-2]
["2021-05-17",1937.3000489999999,1963.4499510000001,1930.400024,1960.349976,1954.0638429999999,5479424,1.189793178605769E-2]
["2021-05-18",1981,2002.599976,1972.5,1987.9499510000001,1981.575317,5567958,1.4079107035603717E-2]
["2021-05-19",1980,2016.4499510000001,1972,1997.0500489999999,1990.64624,7530294,4.5776322111908876E-3]
["2021-05-20",1997.900024,2010.900024,1981,1985.400024,1979.0335689999999,5271497,-5.8336186343185175E-3]
["2021-05-21",1992,2009.599976,1986,2002.5500489999999,1996.1286620000001,4977555,8.6381015803780603E-3]
["2021-05-24",2008,2009.8000489999999,1982,1985.650024,1979.282837,3946636,-8.439248090912942E-3]
["2021-05-25",1996.400024,1997,1960,1963.150024,1956.8549800000001,6821015,-1.1331304743688788E-2]
["2021-05-26",1975,1979.5,1965.3000489999999,1970.0500489999999,1963.7329099999999,3452113,3.5147877948522675E-3]
["2021-05-27",1970.3000489999999,1993,1962.25,1976.099976,1969.763428,12377100,3.0709461400226924E-3]
["2021-05-28",1990,2105,1990,2094.8000489999999,2088.0827640000002,26060864,6.0067790029047212E-2]
["2021-05-31",2102,2191.6999510000001,2085.0500489999999,2160.3000489999999,2153.3728030000002,27285782,3.1267936369978086E-2]
["2021-06-01",2166,2202,2146.5,2168.8999020000001,2161.945068,12928379,3.9808550512281122E-3]
["2021-06-02",2157,2209.5,2157,2201.25,2194.1914059999999,11366816,{"$f":"Daily_Return(F515,F516)","v":1.491542892430231E-2}]
["2021-06-03",2221,2250,2196.1000979999999,2209.6499020000001,2202.564453,11064116,3.8160057400206783E-3]
["2021-06-04",2214.8000489999999,2216.4499510000001,2184.25,2190.5,2183.4758299999999,6677278,-8.6665445698991764E-3]
["2021-06-07",2202,2242,2185,2227.3999020000001,2220.257568,7539326,1.6845498124886563E-2]
["2021-06-08",2226.6000979999999,2227.1499020000001,2198.1499020000001,2214.6000979999999,2207.498779,4464889,-5.7465355298813598E-3]
["2021-06-09",2219,2221,2157.9499510000001,2175,2168.025635,5265326,-1.7881388825900704E-2]
["2021-06-10",2193.3999020000001,2230,2177.5500489999999,2183,2176,6532832,3.6781691467407556E-3]
["2021-06-11",2182.8999020000001,2228,2180.1000979999999,2213.1499020000001,2213.1499020000001,6351520,1.7072565257352991E-2]
["2021-06-14",2215,2258.25,2195.0500489999999,2244.8999020000001,2244.8999020000001,9383416,1.4346068457137883E-2]
["2021-06-15",2261,2274.8999020000001,2240.3000489999999,2250,2250,7002898,2.2718598702134419E-3]
["2021-06-16",2244.8999020000001,2247.0500489999999,2205.8500979999999,2211.6000979999999,2211.6000979999999,4982975,-1.7066623111111161E-2]
["2021-06-17",2200,2235,2179.8999020000001,2215.6499020000001,2215.6499020000001,7266765,1.8311646864469537E-3]
["2021-06-18",2225.5,2235,2184.3500979999999,2225.6499020000001,2225.6499020000001,13553801,4.5133484270115523E-3]
["2021-06-21",2203.5,2247.5,2200.1499020000001,2237.25,2237.25,5624044,5.212004812426195E-3]
["2021-06-22",2254,2261,2219.3500979999999,2225.75,2225.75,5940386,-5.1402391328640076E-3]
["2021-06-23",2250,2250.6000979999999,2201.6999510000001,2205.3500979999999,2205.3500979999999,7685796,-9.1654058182635573E-3]
["2021-06-24",2206.8500979999999,2214.6000979999999,2140,2153.5,2153.5,42209687,-2.351105071572173E-2]
["2021-06-25",2153.5,2153.5,2081.1000979999999,2104.4499510000001,2104.4499510000001,25546334,-2.2776897608544205E-2]
["2021-06-28",2122,2126.5,2081,2086,2086,9357852,-8.7671132265383367E-3]
["2021-06-29",2089.5,2109,2084.1000979999999,2087.8000489999999,2087.8000489999999,12526981,8.6291898370083624E-4]
["2021-06-30",2096.25,2122.6499020000001,2091.0500489999999,2110.6499020000001,2110.6499020000001,9120556,1.0944464251231641E-2]
["2021-07-01",2118,2123.1499020000001,2095,2097.9499510000001,2097.9499510000001,5784627,-6.0170807995991631E-3]
["2021-07-02",2097,2132.8999020000001,2092.9499510000001,2129.0500489999999,2129.0500489999999,6500973,1.4824041910616526E-2]
["2021-07-05",2136.4499510000001,2153.5500489999999,2131.5,2150.1999510000001,2150.1999510000001,5400604,9.9339618671407341E-3]
["2021-07-06",2144.9499510000001,2148.8999020000001,2120.1999510000001,2124.8000489999999,2124.8000489999999,4647361,-1.1812809310216615E-2]
["2021-07-07",2127.75,2127.75,2098,2110.0500489999999,2110.0500489999999,4824931,-6.9418296591916163E-3]
["2021-07-08",2116.9499510000001,2116.9499510000001,2081,2092.6000979999999,2092.6000979999999,5162088,-8.2699227955611663E-3]
["2021-07-09",2088,2091.6999510000001,2066.1000979999999,2071.1999510000001,2071.1999510000001,4170886,-1.0226582241132933E-2]
["2021-07-12",2079.75,2101.5,2074.5,2084.1000979999999,2084.1000979999999,3962111,6.2283445853556964E-3]
["2021-07-13",2100,2103.0500489999999,2088.0500489999999,2099.6999510000001,2099.6999510000001,3099956,7.4851745436654007E-3]
["2021-07-14",2100.3500979999999,2106.8500979999999,2081.25,2086,2086,3937768,-6.5247184453546981E-3]
["2021-07-15",2095,2095,2078.5,2082.3500979999999,2082.3500979999999,4360415,-1.7497133269415682E-3]
["2021-07-16",2087.75,2114.75,2087.6000979999999,2112.3999020000001,2112.3999020000001,4074206,1.4430716539385791E-2]
["2021-07-19",2100,2124,2092.25,2098.9499510000001,2098.9499510000001,3855577,-6.3671424086252657E-3]
["2021-07-20",2099.5,2108,2084,2093.8000489999999,2093.8000489999999,3111185,-2.4535611235258609E-3]
["2021-07-22",2119,2123.8999020000001,2098.1499020000001,2120.6999510000001,2120.6999510000001,3679260,1.2847407283636047E-2]
["2021-07-23",2134.4499510000001,2134.4499510000001,2102.0500489999999,2105.6999510000001,2105.6999510000001,4585938,-7.07313639203267E-3]
["2021-07-26",2108,2121,2071.1000979999999,2076.8500979999999,2076.8500979999999,5717830,-1.3700837570091278E-2]
["2021-07-27",2076.8000489999999,2083.6999510000001,2042,2055,2055,4995516,-1.0520787234977366E-2]
["2021-07-28",2058,2058,2016.25,2037.349976,2037.349976,5952355,-8.5888194647202095E-3]
["2021-07-29",2054,2074.3999020000001,2043.400024,2053.25,2053.25,6352886,7.8042673999570268E-3]
["2021-07-30",2058,2067.9499510000001,2031.099976,2035.3000489999999,2035.3000489999999,5238304,-8.7422140508949496E-3]
["2021-08-02",2054.3000489999999,2079.3999020000001,2041.150024,2072.5,2072.5,5041934,1.8277379307428128E-2]
["2021-08-03",2090,2091,2064.1999510000001,2087.75,2087.75,5453682,7.358262967430639E-3]
["2021-08-04",2094.3999020000001,2114,2087,2103.75,2103.75,6077861,7.6637528439707815E-3]
["2021-08-05",2114.3000489999999,2154.8000489999999,2104.25,2134.25,2134.25,9807831,1.4497920380273321E-2]
["2021-08-06",2129.9499510000001,2146.9499510000001,2078.75,2089.0500489999999,2089.0500489999999,7670583,-2.1178376947405438E-2]
["2021-08-09",2081,2089.8000489999999,2066.5,2077.1499020000001,2077.1499020000001,3458546,-5.6964393963161736E-3]
["2021-08-10",2082,2113,2073.75,2088.0500489999999,2088.0500489999999,5500708,5.2476458196418765E-3]
["2021-08-11",2096.9499510000001,2120,2083.3999020000001,2117.3000489999999,2117.3000489999999,4238859,1.4008284913481018E-2]
["2021-08-12",2124.8999020000001,2126.1999510000001,2105,2110.5,2110.5,3755507,-3.2116605311616579E-3]
["2021-08-13",2117.3000489999999,2149.8999020000001,2108.9499510000001,2145.6499020000001,2145.6499020000001,5898384,1.665477469793893E-2]
["2021-08-16",2149.3500979999999,2203,2128.1499020000001,2173.5,2173.5,10123204,1.297979599283196E-2]
["2021-08-17",2168.8500979999999,2185.1999510000001,2147.8500979999999,2164.25,2164.25,5841743,-4.2558086036346907E-3]
["2021-08-18",2174,2186.8000489999999,2152.6000979999999,2172.6499020000001,2172.6499020000001,4650008,3.8812068846021076E-3]
["2021-08-20",2143,2172,2137,2148.25,2148.25,4350228,-1.1230480335344939E-2]
["2021-08-23",2174,2174,2132.3000489999999,2162.3500979999999,2162.3500979999999,4547802,6.5635275224019034E-3]
["2021-08-24",2165.0500489999999,2192,2155.6000979999999,2183.6999510000001,2183.6999510000001,5475452,9.8734488091207183E-3]
["2021-08-25",2185.3999020000001,2220,2180.1000979999999,2202.6000979999999,2202.6000979999999,6175126,8.6551025434353883E-3]
["2021-08-26",2208,2244.8999020000001,2205,2230.4499510000001,2230.4499510000001,8579105,1.2644080523417905E-2]
["2021-08-27",2237,2242.75,2216.0500489999999,2227.3999020000001,2227.3999020000001,4836812,-1.3674590629717944E-3]
["2021-08-30",2250,2275.8500979999999,2236.8000489999999,2270.25,2270.25,6473487,1.9237721058317569E-2]
["2021-08-31",2276.8999020000001,2283.75,2242.25,2258.1499020000001,2258.1499020000001,12223037,-5.3298526593986957E-3]
["2021-09-01",2273,2292.8999020000001,2263,2267.1000979999999,2267.1000979999999,5143640,3.9635083534856393E-3]
["2021-09-02",2255,2307.8000489999999,2255,2294.3999020000001,2294.3999020000001,4595048,{"$f":"Daily_Return(F579,F580)","v":1.2041728560676999E-2}]
["2021-09-03",2310,2395,2302.5,2388.5,2388.5,14151629,4.1012945440755115E-2]
["2021-09-06",2413,2480,2412,2425.6000979999999,2425.6000979999999,15525644,1.5532802177098551E-2]
["2021-09-07",2430,2458,2412,2440.8999020000001,2440.8999020000001,8006968,6.307636618507517E-3]
["2021-09-08",2452,2454,2406.6499020000001,2431.3500979999999,2431.3500979999999,6600210,-3.9124111530240953E-3]
["2021-09-09",2427.8999020000001,2437.8500979999999,2416.1000979999999,2425.6000979999999,2425.6000979999999,4136538,-2.3649411924386711E-3]
["2021-09-13",2433,2433,2368.0500489999999,2371.5500489999999,2371.5500489999999,7527598,-2.2283165738889225E-2]
["2021-09-14",2375,2394,2366,2368.4499510000001,2368.4499510000001,4111205,-1.3072032788458722E-3]
["2021-09-15",2368.5,2395.75,2368.5,2378.3000489999999,2378.3000489999999,4186300,4.1588795219595033E-3]
["2021-09-16",2381.5500489999999,2436.75,2367,2428.1999510000001,2428.1999510000001,6206657,2.0981331611619587E-2]
["2021-09-17",2446,2455.8500979999999,2375.6000979999999,2390.5500489999999,2390.5500489999999,16098099,-1.5505272530993519E-2]
["2021-09-20",2372.1000979999999,2418.3500979999999,2370,2394.3500979999999,2394.3500979999999,5436385,1.5896128180163211E-3]
["2021-09-21",2405,2416.6000979999999,2384,2404.6999510000001,2404.6999510000001,4576111,4.3226147290011587E-3]
["2021-09-22",2408,2442,2398.25,2430.5,2430.5,5074612,1.0729009658469421E-2]
["2021-09-23",2447.3999020000001,2497,2445.5,2489.8999020000001,2489.8999020000001,7267883,2.4439375437152897E-2]
["2021-09-24",2503.5500489999999,2505.4499510000001,2472,2482.6999510000001,2482.6999510000001,7011181,-2.8916628311912176E-3]
["2021-09-27",2487,2529.8999020000001,2475.3000489999999,2524.4499510000001,2524.4499510000001,7095022,1.6816369607283246E-2]
["2021-09-28",2534,2564.8999020000001,2512.8000489999999,2548.0500489999999,2548.0500489999999,8323269,9.3486099776512819E-3]
["2021-09-29",2570,2570,2520.0500489999999,2527.8500979999999,2527.8500979999999,4485721,-7.9276115506159966E-3]
["2021-09-30",2525,2534.6000979999999,2500.3500979999999,2519.25,2519.25,6272085,-3.4021392355520477E-3]
["2021-10-01",2501.9499510000001,2539.8000489999999,2495,2523.6999510000001,2523.6999510000001,4134544,1.7663792795475064E-3]
["2021-10-04",2553,2574.8500979999999,2537.0500489999999,2556.1499020000001,2556.1499020000001,5038910,1.2858085996769136E-2]
["2021-10-05",2555.1000979999999,2612,2547.3500979999999,2609.1999510000001,2609.1999510000001,6245770,2.0753888087115771E-2]
["2021-10-06",2619.9499510000001,2619.9499510000001,2551.1000979999999,2559.8500979999999,2559.8500979999999,4734472,-1.8913787339711691E-2]
["2021-10-07",2595,2598.75,2567.6999510000001,2572.3999020000001,2572.3999020000001,2924370,4.902554258862787E-3]
["2021-10-08",2585.25,2684.3999020000001,2581.5,2671.25,2671.25,7279003,3.8427189304099066E-2]
["2021-10-11",2701.3999020000001,2720,2645.3500979999999,2652.6499020000001,2652.6499020000001,6815737,-6.9630689751988351E-3]
["2021-10-12",2645,2683,2641.25,2667.8000489999999,2667.8000489999999,3083747,5.7113254894953086E-3]
["2021-10-13",2679,2719.5,2669.3000489999999,2694.9499510000001,2694.9499510000001,4596429,1.0176887885648326E-2]
["2021-10-14",2700.3500979999999,2717.4499510000001,2687.1999510000001,2700.3999020000001,2700.3999020000001,3979730,2.0222828249473698E-3]
["2021-10-18",2668.6000979999999,2745,2662.3000489999999,2707.6000979999999,2707.6000979999999,6273850,2.6663443420609995E-3]
["2021-10-19",2723.8000489999999,2751.3500979999999,2708,2731.8500979999999,2731.8500979999999,4076617,8.9562709123524337E-3]
["2021-10-20",2742.75,2742.75,2691.5,2700.3999020000001,2700.3999020000001,5865926,-1.1512416447382897E-2]
["2021-10-21",2727.3999020000001,2728,2603.1999510000001,2622.5,2622.5,9613812,-2.8847542892556404E-2]
["2021-10-22",2620,2664.8999020000001,2611.5,2627.3999020000001,2627.3999020000001,5089178,1.8684087702574303E-3]
["2021-10-25",2680,2680,2570,2601.8000489999999,2601.8000489999999,7937067,-9.7434170491189145E-3]
["2021-10-26",2617.1000979999999,2668.8999020000001,2603.1499020000001,2661.0500489999999,2661.0500489999999,4499706,2.2772695397085835E-2]
["2021-10-27",2652,2676.8000489999999,2619.9499510000001,2627.3999020000001,2627.3999020000001,4567140,-1.2645439349269389E-2]
["2021-10-28",2620,2637.9499510000001,2590.5,2598.6000979999999,2598.6000979999999,4562471,-1.0961332524248614E-2]
["2021-10-29",2596.1499020000001,2596.1499020000001,2501.6999510000001,2536.25,2536.25,6568539,-2.3993725717161074E-2]
["2021-11-01",2536.25,2556,2494.1000979999999,2537.8000489999999,2537.8000489999999,7144532,6.1115781172989432E-4]
["2021-11-02",2545,2548,2495.25,2500.8000489999999,2500.8000489999999,4877652,-1.457955681519494E-2]
["2021-11-03",2506.0500489999999,2520,2461,2483.6000979999999,2483.6000979999999,5533120,-6.8777793757952921E-3]
["2021-11-04",2492.9499510000001,2504.8999020000001,2490,2498.8500979999999,2498.8500979999999,787160,6.140279996075278E-3]
["2021-11-08",2519.3999020000001,2520,2456.3999020000001,2501.9499510000001,2501.9499510000001,9385607,1.2405117867939298E-3]
["2021-11-09",2505,2528.8999020000001,2487.0500489999999,2521.6999510000001,2521.6999510000001,7237470,7.8938429572126961E-3]
["2021-11-10",2516.6999510000001,2558,2503.6499020000001,2549.8999020000001,2549.8999020000001,4731975,1.1182912934910095E-2]
["2021-11-11",2540.0500489999999,2570.5,2535.5500489999999,2554.5500489999999,2554.5500489999999,4948422,1.8236586449344604E-3]
["2021-11-12",2562.8999020000001,2598.75,2557,2593.1000979999999,2593.1000979999999,4020744,1.5090739371143143E-2]
["2021-11-15",2600,2602.1999510000001,2570,2577.8000489999999,2577.8000489999999,2216708,-5.9002924768698783E-3]
["2021-11-16",2572.0500489999999,2575,2495,2517.8999020000001,2517.8999020000001,5232292,-2.3236925231356387E-2]
["2021-11-17",2498.9499510000001,2498.9499510000001,2461,2464,2464,4708235,-2.1406689740599588E-2]
["2021-11-18",2460,2489,2450.0500489999999,2473.3000489999999,2473.3000489999999,3925345,3.7743705357142633E-3]
["2021-11-22",2436.1000979999999,2449,2351,2363.75,2363.75,11133364,-4.4293068705631981E-2]
["2021-11-23",2333.0500489999999,2401.25,2309,2385.8500979999999,2385.8500979999999,11688406,9.3495919619248601E-3]
["2021-11-24",2380,2409.8999020000001,2343.5500489999999,2351.3999020000001,2351.3999020000001,7762564,-1.4439379921177168E-2]
["2021-11-25",2373,2502,2357.1499020000001,2492.9499510000001,2492.9499510000001,19568487,6.0198203155321872E-2]
["2021-11-26",2467.8000489999999,2477.6000979999999,2401.5,2412.6000979999999,2412.6000979999999,7274686,-3.2230832780164455E-2]
["2021-11-29",2439.1000979999999,2500,2399.1000979999999,2441.5,2441.5,11226147,1.1978736975082437E-2]
["2021-11-30",2468,2475.8999020000001,2388.8500979999999,2405.3999020000001,2405.3999020000001,14847511,-1.478603235715744E-2]
["2021-12-01",2433,2474,2425.1000979999999,2467,2467,4663276,2.5609088097485043E-2]
["2021-12-02",2469.6999510000001,2496.1999510000001,2461.6000979999999,2482.8500979999999,2482.8500979999999,5870468,6.4248471828130885E-3]
["2021-12-03",2498.3999020000001,2498.5,2400,2408.25,2408.25,8871172,-3.0046154643041962E-2]
["2021-12-06",2416,2425,2357.1499020000001,2362.6000979999999,2362.6000979999999,4768334,-1.8955632513235798E-2]
["2021-12-07",2376.1499020000001,2404,2360,2381.8500979999999,2381.8500979999999,5185007,{"$f":"Daily_Return(F643,F644)","v":8.1478029296179269E-3}]
["2021-12-08",2424.1000979999999,2431.8000489999999,2406.3000489999999,2418.1000979999999,2418.1000979999999,4035437,1.5219261711909798E-2]
["2021-12-09",2435,2474.8999020000001,2425,2456.4499510000001,2456.4499510000001,6098050,1.5859497723737393E-2]
["2021-12-10",2440.25,2466,2430.3500979999999,2458.9499510000001,2458.9499510000001,3860176,1.0177288566299799E-3]
["2021-12-13",2473.5,2474.1000979999999,2404,2409.6499020000001,2409.6499020000001,5954148,-2.0049228322012294E-2]
["2021-12-14",2380,2406,2373.3999020000001,2380.1499020000001,2380.1499020000001,5995586,-1.2242442346298985E-2]
["2021-12-15",2384,2405,2361.1000979999999,2373.1999510000001,2373.1999510000001,4322855,-2.9199635679081088E-3]
["2021-12-16",2405.6999510000001,2415.5,2368.6499020000001,2403.8999020000001,2403.8999020000001,4504829,1.2936099626609193E-2]
["2021-12-17",2398.0500489999999,2408,2320,2340.4499510000001,2340.4499510000001,9714489,-2.6394589453250891E-2]
["2021-12-20",2317.8500979999999,2317.8500979999999,2247.1000979999999,2277.3500979999999,2277.3500979999999,6611376,-2.6960564985822319E-2]
["2021-12-21",2311.3500979999999,2346,2292.1999510000001,2311.25,2311.25,5924071,1.4885678767516453E-2]
["2021-12-22",2324.8999020000001,2371.8999020000001,2322,2366.1000979999999,2366.1000979999999,8149415,2.3731789291508876E-2]
["2021-12-23",2374,2380,2358.0500489999999,2365.25,2365.25,4186912,-3.5928234850184646E-4]
["2021-12-24",2370,2392,2337.5500489999999,2372.8000489999999,2372.8000489999999,3639616,3.1920722967973551E-3]
["2021-12-27",2361.5500489999999,2378,2348.1000979999999,2370.25,2370.25,1853948,-1.0747003318187915E-3]
["2021-12-28",2375.6000979999999,2404.8500979999999,2373.0500489999999,2398.3999020000001,2398.3999020000001,2941883,1.1876343001793107E-2]
["2021-12-29",2391,2419,2382.1000979999999,2402.5,2402.5,7118779,1.7095139124133807E-3]
["2021-12-30",2400,2404.9499510000001,2345.6000979999999,2359.1000979999999,2359.1000979999999,13537254,-1.8064475338189431E-2]
["2021-12-31",2373,2383.8999020000001,2360,2368.1499020000001,2368.1499020000001,4373768,3.8361254817769171E-3]
["2022-01-03",2365,2407.9499510000001,2363.5500489999999,2403.8500979999999,2403.8500979999999,2502073,1.5075141978913367E-2]
["2022-01-04",2415.8999020000001,2461,2404,2458.1000979999999,2458.1000979999999,5006225,2.2567962971208534E-2]
["2022-01-05",2462,2477,2432.9499510000001,2469.6000979999999,2469.6000979999999,5373618,4.6784099676643849E-3]
["2022-01-06",2451.1999510000001,2454,2409,2416.5,2416.5,6667483,-2.1501496555253172E-2]
["2022-01-07",2430.9499510000001,2458.0500489999999,2411.5500489999999,2436,2436,6051239,8.0695220360024831E-3]
["2022-01-10",2452,2457,2416.0500489999999,2438,2438,4267365,8.2101806239737272E-4]
["2022-01-11",2436,2474.9499510000001,2435,2455.5500489999999,2455.5500489999999,7478681,7.1985434782608467E-3]
["2022-01-12",2471.3000489999999,2524.9499510000001,2465,2521.1000979999999,2521.1000979999999,6830402,2.6694649952948259E-2]
["2022-01-13",2521.25,2541,2508.3999020000001,2535.3000489999999,2535.3000489999999,5471871,5.6324423656422609E-3]
["2022-01-14",2535,2567.3000489999999,2525.8500979999999,2539,2539,9197773,1.4593740103698691E-3]
["2022-01-17",2538,2565,2537,2552.25,2552.25,3708822,5.2185899960614417E-3]
["2022-01-18",2554.75,2562.3500979999999,2515.75,2521.8000489999999,2521.8000489999999,2868235,-1.1930630228230014E-2]
["2022-01-19",2530,2542,2509,2521.6000979999999,2521.6000979999999,4502155,-7.9288998380083511E-5]
["2022-01-20",2500.0500489999999,2509.9499510000001,2455,2477.4499510000001,2477.4499510000001,7612203,-1.7508782235144026E-2]
["2022-01-21",2452,2502.25,2452,2477.8500979999999,2477.8500979999999,6155759,1.6151567455008236E-4]
["2022-01-24",2475,2504.75,2355.1000979999999,2377.8999020000001,2377.8999020000001,10092511,-4.033746677439233E-2]
["2022-01-25",2349.5500489999999,2388.6499020000001,2305,2373.25,2373.25,11311456,-1.9554658276781031E-3]
["2022-01-27",2336,2356.1000979999999,2311.0500489999999,2338.1000979999999,2338.1000979999999,9239426,-1.4810872010955487E-2]
["2022-01-28",2365,2375.8999020000001,2328.3999020000001,2335.8500979999999,2335.8500979999999,6769154,-9.6231979200746786E-4]
["2022-01-31",2360.1999510000001,2406.3999020000001,2356.1999510000001,2386.6000979999999,2386.6000979999999,5604308,2.1726565434765328E-2]
["2022-02-01",2408,2420.6000979999999,2347.1000979999999,2378.6999510000001,2378.6999510000001,6092033,-3.310209786138974E-3]
["2022-02-02",2407,2407,2375.1000979999999,2383.5500489999999,2383.5500489999999,4623163,2.0389700676459502E-3]
["2022-02-03",2392,2401.4499510000001,2347.1999510000001,2352.75,2352.75,4417864,-1.2921922496622997E-2]
["2022-02-04",2341,2348.4499510000001,2321.1000979999999,2331.3000489999999,2331.3000489999999,5104761,-9.1169699288067389E-3]
["2022-02-07",2342,2356.8000489999999,2305,2317.1000979999999,2317.1000979999999,4944725,-6.0910010301295434E-3]
["2022-02-08",2330.6499020000001,2360,2310,2356.0500489999999,2356.0500489999999,5566080,1.6809783502067788E-2]
["2022-02-09",2371.1499020000001,2387.1999510000001,2358,2383.5,2383.5,5300891,1.1650835266275812E-2]
["2022-02-10",2395.6999510000001,2395.6999510000001,2365.1000979999999,2381.0500489999999,2381.0500489999999,5752361,-1.0278795888399646E-3]
["2022-02-11",2373.25,2384.5,2344.1000979999999,2376.3999020000001,2376.3999020000001,7357863,-1.9529816275608383E-3]
["2022-02-14",2340.25,2354.9499510000001,2313,2338.5500489999999,2338.5500489999999,4947109,-1.5927392089246165E-2]
["2022-02-15",2351.1999510000001,2423.8999020000001,2335.6999510000001,2417.9499510000001,2417.9499510000001,5174646,3.3952620357196435E-2]
["2022-02-16",2430,2433,2395.9499510000001,2412.9499510000001,2412.9499510000001,4796294,-2.0678674502473192E-3]
["2022-02-17",2420.1000979999999,2454.8999020000001,2410,2443.5,2443.5,5931774,1.2660871389951155E-2]
["2022-02-18",2444.3999020000001,2456.3999020000001,2420.1499020000001,2424.3999020000001,2424.3999020000001,3126873,-7.816696541845667E-3]
["2022-02-21",2412,2437.5,2384.6000979999999,2399.8999020000001,2399.8999020000001,5125968,-1.0105593544938198E-2]
["2022-02-22",2352.8999020000001,2395.8999020000001,2347.1499020000001,2389,2389,6227901,-4.5418152610933816E-3]
["2022-02-23",2401.1000979999999,2406.5500489999999,2368,2374.0500489999999,2374.0500489999999,3373615,-6.2578279614901866E-3]
["2022-02-24",2305,2339.8999020000001,2243.3999020000001,2255.75,2255.75,11466725,-4.9830478110531165E-2]
["2022-02-25",2280.1000979999999,2307.9499510000001,2276.25,2283.9499510000001,2283.9499510000001,6724094,1.2501363626288399E-2]
["2022-02-28",2243,2367.3500979999999,2243,2359.5500489999999,2359.5500489999999,9828768,3.3100593104896756E-2]
["2022-03-02",2334.4499510000001,2401,2329.1999510000001,2398.5500489999999,2398.5500489999999,9909226,1.6528575020703026E-2]
["2022-03-03",2400,2414.8500979999999,2370.0500489999999,2378.3000489999999,2378.3000489999999,4701183,-8.4426005654718774E-3]
["2022-03-04",2353,2364.3000489999999,2320.3500979999999,2325.5500489999999,2325.5500489999999,4986814,-2.2179707737961706E-2]
["2022-03-07",2278.6999510000001,2312.1000979999999,2222,2239.5500489999999,2239.5500489999999,8299295,-3.6980498457550075E-2]
["2022-03-08",2211.5,2246,2180,2235.5,2235.5,9825043,-1.8084208485576669E-3]
["2022-03-09",2236,2367,2234.1499020000001,2354.1000979999999,2354.1000979999999,9421163,{"$f":"Daily_Return(F707,F708)","v":5.3053052113621067E-2}]
["2022-03-10",2400,2405,2360,2392.25,2392.25,8297995,1.6205726354801806E-2]
["2022-03-11",2376.0500489999999,2411,2376.0500489999999,2399.1499020000001,2399.1499020000001,5656799,2.8842729647821554E-3]
["2022-03-14",2386.8999020000001,2424.3999020000001,2374,2418.8500979999999,2418.8500979999999,3849222,8.2113235123729162E-3]
["2022-03-15",2427.9499510000001,2427.9499510000001,2340.8500979999999,2363.4499510000001,2363.4499510000001,7349740,-2.2903505697110724E-2]
["2022-03-16",2382,2407.8999020000001,2377.1000979999999,2403.3500979999999,2403.3500979999999,5145644,1.6882162866667716E-2]
["2022-03-17",2432.75,2497.3999020000001,2415.1000979999999,2481.6999510000001,2481.6999510000001,9886295,3.2600266213898964E-2]
["2022-03-21",2444,2484,2439,2467.3999020000001,2467.3999020000001,5537752,-5.7621990096900092E-3]
["2022-03-22",2460.1000979999999,2534.9499510000001,2453.6000979999999,2531.1499020000001,2531.1499020000001,10410082,2.583691437627365E-2]
["2022-03-23",2523,2564.8500979999999,2523,2539.1999510000001,2539.1999510000001,7135797,3.1803920398547555E-3]
["2022-03-24",2510,2584.1499020000001,2510,2578.6499020000001,2578.6499020000001,6077153,1.5536370416383982E-2]
["2022-03-25",2582.5,2616,2577,2595.8500979999999,2595.8500979999999,6563676,6.6702331272885515E-3]
["2022-03-28",2610,2629.75,2586.5,2621.9499510000001,2621.9499510000001,4564891,1.0054453074971114E-2]
["2022-03-29",2638,2638,2607.3999020000001,2622.5500489999999,2622.5500489999999,4007695,2.2887469677711211E-4]
["2022-03-30",2639.8999020000001,2688,2617.1000979999999,2672.9499510000001,2672.9499510000001,7297028,1.9217899013678694E-2]
["2022-03-31",2664.9499510000001,2669.6999510000001,2628.6000979999999,2634.75,2634.75,6102744,-1.4291307993143959E-2]
["2022-04-01",2636,2665.1499020000001,2622,2655.8500979999999,2655.8500979999999,3656408,8.008387133504085E-3]
["2022-04-04",2655.4499510000001,2675,2641.6499020000001,2663.6999510000001,2663.6999510000001,3659307,2.9556837586246056E-3]
["2022-04-05",2651.1000979999999,2669.8999020000001,2620.6999510000001,2626.0500489999999,2626.0500489999999,6068663,-1.4134438072075525E-2]
["2022-04-06",2587.1000979999999,2634.5,2587.1000979999999,2619.0500489999999,2619.0500489999999,5656703,-2.6656003767580897E-3]
["2022-04-07",2595.1000979999999,2606,2567,2572.8500979999999,2572.8500979999999,7151632,-1.7639964924549657E-2]
["2022-04-08",2560,2625,2560,2615.6499020000001,2615.6499020000001,6992874,1.6635172034807067E-2]
["2022-04-11",2600,2638.5500489999999,2583,2610.1999510000001,2610.1999510000001,4270816,-2.0835934487382535E-3]
["2022-04-12",2587,2602.6000979999999,2555.3999020000001,2561.0500489999999,2561.0500489999999,6099986,-1.8829937523050743E-2]
["2022-04-13",2574.5,2592.6000979999999,2545.5,2551.6499020000001,2551.6499020000001,4778478,-3.6704269030862009E-3]
["2022-04-18",2533,2559.8000489999999,2521.8000489999999,2543.8500979999999,2543.8500979999999,4603103,-3.0567688748706018E-3]
["2022-04-19",2558,2668,2551.0500489999999,2640.8000489999999,2640.8000489999999,12064446,3.8111503140937066E-2]
["2022-04-20",2657.1000979999999,2734,2649.1000979999999,2718.4499510000001,2718.4499510000001,11570835,2.9403930838839555E-2]
["2022-04-21",2750.8999020000001,2789,2732,2782.1000979999999,2782.1000979999999,10018531,2.3414132372231351E-2]
["2022-04-22",2758.8999020000001,2802,2744.1999510000001,2758.8000489999999,2758.8000489999999,6947490,-8.3749858665221697E-3]
["2022-04-25",2742.3999020000001,2758.3999020000001,2663.6499020000001,2695,2695,7874671,-2.3126014160803701E-2]
["2022-04-26",2710,2795,2707.6999510000001,2775.6499020000001,2775.6499020000001,5643066,2.9925752133580747E-2]
["2022-04-27",2755.8500979999999,2828,2755.0500489999999,2778.3500979999999,2778.3500979999999,8924920,9.7281577120160087E-4]
["2022-04-28",2809.9499510000001,2851,2786.1000979999999,2819.8500979999999,2819.8500979999999,11820892,1.4936922466997175E-2]
["2022-04-29",2856.1499020000001,2856.1499020000001,2777.3000489999999,2790.25,2790.25,8406156,-1.0497046641235994E-2]
["2022-05-02",2762,2805.5,2758.0500489999999,2780.4499510000001,2780.4499510000001,4369022,-3.5122476480601897E-3]
["2022-05-04",2785,2790,2680,2693.6499020000001,2693.6499020000001,8881268,-3.1217986487684108E-2]

{"sheet":"IDEA","index":6,"n_rows":744,"n_cols":11,"rows_kept":744,"cut":false,"hidden":false,"merged":[]}
["Date","Open","High","Low","Close","Adj Close","Volume"," Daily Returns"]
["2019-05-06",17.149999999999999,17.149999999999999,16.25,16.350000000000001,16.350000000000001,45839027,null,null,"Statistic","Value"]
["2019-05-07",16.399999999999999,16.600000000000001,15.5,15.6,15.6,36754853,{"$f":"(F3/F2)-1","v":-4.5871559633027581E-2},null,"Variance ",{"$f":"_xlfn.VAR.P(H3:H744)","v":4.0245570757088192E-3}]
["2019-05-08",15.4,15.4,13.65,14.3,14.3,240357694,{"$f":"(F4/F3)-1","v":-8.3333333333333259E-2},null,"Average Daily Return",{"$f":"AVERAGE(H3:H744)","v":1.186372992954767E-3}]
["2019-05-09",14.2,14.5,13.95,14.3,14.3,157917034,0]
["2019-05-10",14.3,14.3,13.55,14.05,14.05,229057148,-1.7482517482517501E-2,null,"Annualised Daily Return",{"$f":"Daily_Annualise(K4)","v":0.34822483722087449}]
["2019-05-13",14.05,15,14.05,14.45,14.45,200282034,2.8469750889679624E-2,null,"Annualised Variance",{"$f":"Daily_Annualise(K3)","v":1.7515186970368615}]
["2019-05-14",14.45,14.55,13,14,14,243253187,-3.1141868512110649E-2,null,"3-year CAGR",{"$f":"CAGR_3(F2,F744)","v":-0.17742682023368361}]
["2019-05-15",14.05,14.15,12.8,12.9,12.9,148791000,-7.8571428571428514E-2]
["2019-05-16",13,13,12.05,12.2,12.2,161982330,-5.4263565891472965E-2]
["2019-05-17",12.4,12.45,11.6,11.85,11.85,180983160,-2.8688524590163911E-2]
["2019-05-20",12.25,13,11.8,12.55,12.55,137707027,5.9071729957806074E-2]
["2019-05-21",12.6,12.65,11.7,11.8,11.8,94310446,-5.9760956175298752E-2]
["2019-05-22",11.85,12.3,11.5,12.15,12.15,133499642,2.9661016949152463E-2]
["2019-05-23",12.3,13,12.25,12.75,12.75,132685065,4.9382716049382713E-2]
["2019-05-24",12.85,13.25,12.55,12.85,12.85,91577582,7.8431372549019329E-3]
["2019-05-27",12.65,13.25,12.6,13.05,13.05,99540754,1.5564202334630517E-2]
["2019-05-28",13.05,13.8,13,13.65,13.65,170049972,4.5977011494252817E-2]
["2019-05-29",13.7,13.75,13.15,13.2,13.2,50735753,-3.2967032967033072E-2]
["2019-05-30",13.2,13.65,12.95,13.3,13.3,273542405,7.5757575757577911E-3]
["2019-05-31",13.6,14.05,13.45,13.95,13.95,151171664,4.8872180451127623E-2]
["2019-06-03",13.95,14.15,13.8,14,14,55031122,3.5842293906811484E-3]
["2019-06-04",14.05,14.4,13.8,13.85,13.85,64187215,-1.0714285714285787E-2]
["2019-06-06",13.9,14,13.2,13.45,13.45,69427339,-2.8880866425992857E-2]
["2019-06-07",13.45,13.55,13.2,13.4,13.4,35136898,-3.7174721189590088E-3]
["2019-06-10",13.3,13.55,12.65,12.8,12.8,49800929,-4.4776119402985093E-2]
["2019-06-11",12.95,13.25,12.6,13.15,13.15,43370155,2.734375E-2]
["2019-06-12",13.15,13.2,12.8,12.85,12.85,22813410,-2.2813688212927841E-2]
["2019-06-13",12.8,13.05,12.75,12.9,12.9,32447299,3.8910505836575737E-3]
["2019-06-14",12.85,12.9,12.3,12.5,12.5,35801366,-3.1007751937984551E-2]
["2019-06-17",12.45,12.45,12,12.1,12.1,34319913,-3.2000000000000028E-2]
["2019-06-18",12,12.1,11.8,11.95,11.95,37194394,-1.2396694214876103E-2]
["2019-06-19",11.95,12.25,11.1,11.4,11.4,50447027,-4.6025104602510414E-2]
["2019-06-20",11.3,11.95,11.25,11.9,11.9,33264078,4.3859649122806932E-2]
["2019-06-21",11.9,12.4,11.75,12.15,12.15,71979075,2.1008403361344463E-2]
["2019-06-24",12.15,12.25,11.95,12.1,12.1,36858260,-4.115226337448652E-3]
["2019-06-25",12,12.3,11.85,12.1,12.1,34910618,0]
["2019-06-26",12.05,12.45,12,12.35,12.35,50150199,2.0661157024793431E-2]
["2019-06-27",12.3,12.65,12.15,12.35,12.35,156191134,0]
["2019-06-28",12.3,12.4,12.05,12.15,12.15,36562073,-1.6194331983805599E-2]
["2019-07-01",12.1,12.15,11.8,12,12,33179163,-1.2345679012345734E-2]
["2019-07-02",12.05,12.1,11.6,11.7,11.7,36003888,-2.5000000000000022E-2]
["2019-07-03",11.7,12,11.6,11.95,11.95,29759766,2.1367521367521292E-2]
["2019-07-04",11.95,13.15,11.8,12.35,12.35,142320663,3.3472803347280422E-2]
["2019-07-05",12.3,12.55,11.9,12,12,59585610,-2.8340080971659853E-2]
["2019-07-08",11.95,11.95,11.4,11.45,11.45,49904183,-4.5833333333333393E-2]
["2019-07-09",11.4,11.55,11.25,11.35,11.35,34589764,-8.733624454148492E-3]
["2019-07-10",11.35,11.5,11.2,11.25,11.25,33210775,-8.8105726872246271E-3]
["2019-07-11",11.3,11.8,11.25,11.65,11.65,30842594,3.5555555555555562E-2]
["2019-07-12",11.65,12.05,11.55,11.7,11.7,31470511,4.2918454935620964E-3]
["2019-07-15",11.7,12,11.65,11.75,11.75,24805672,4.2735042735042583E-3]
["2019-07-16",11.85,11.9,11.55,11.8,11.8,27234136,4.2553191489362874E-3]
["2019-07-17",11.75,12.5,11.65,11.95,11.95,57441442,1.2711864406779627E-2]
["2019-07-18",11.95,11.95,11.2,11.3,11.3,41704209,-5.4393305439330408E-2]
["2019-07-19",11.45,11.55,10.7,10.95,10.95,80656229,-3.0973451327433787E-2]
["2019-07-22",10.9,11,10.65,10.75,10.75,43637335,-1.826484018264829E-2]
["2019-07-23",10.85,10.95,10.45,10.55,10.55,65505254,-1.8604651162790642E-2]
["2019-07-24",10.5,10.65,9.85,9.9499999999999993,9.9499999999999993,117809888,-5.6872037914692086E-2]
["2019-07-25",9.9499999999999993,10.15,9.65,9.6999999999999993,9.6999999999999993,75424647,-2.5125628140703515E-2]
["2019-07-26",9.6999999999999993,10,9.1,9.25,9.25,86263682,-4.6391752577319534E-2]
["2019-07-29",8.75,8.9,6.55,6.75,6.75,669682147,-0.27027027027027029]
["2019-07-30",6.85,7.05,6,6.5,6.5,371103251,-3.703703703703709E-2]
["2019-07-31",6.85,7.1,6.6,6.85,6.85,157323663,5.3846153846153877E-2]
["2019-08-01",6.9,6.95,6.45,6.65,6.65,115818792,-2.9197080291970656E-2]
["2019-08-02",6.6,6.7,6.2,6.35,6.35,138890327,-4.5112781954887327E-2]
["2019-08-05",6.25,6.25,5.9,6,6,101217920,-5.5118110236220375E-2]
["2019-08-06",5.9,6.05,5.5,5.65,5.65,141607241,-5.8333333333333237E-2]
["2019-08-07",5.6,5.6,5.0999999999999996,5.35,5.35,134873257,{"$f":"(F68/F67)-1","v":-5.3097345132743445E-2}]
["2019-08-08",5.3,5.8,5.2,5.65,5.65,151450330,5.6074766355140415E-2]
["2019-08-09",5.7,5.95,5.3,5.35,5.35,137510852,-5.3097345132743445E-2]
["2019-08-13",5.4,5.45,4.8,5,5,169808065,-6.5420560747663448E-2]
["2019-08-14",5.0999999999999996,5.8,5.05,5.65,5.65,137424280,0.13000000000000012]
["2019-08-16",5.65,6.85,5.4,6.45,6.45,253502013,0.1415929203539823]
["2019-08-19",6.4,6.45,5.85,6,6,131624842,-6.9767441860465129E-2]
["2019-08-20",5.95,6.2,5.45,5.85,5.85,154625376,-2.5000000000000022E-2]
["2019-08-21",5.8,5.8,5.5,5.6,5.6,84350479,-4.2735042735042694E-2]
["2019-08-22",5.55,5.75,5.2,5.3,5.3,132541611,-5.3571428571428492E-2]
["2019-08-23",5.2,5.9,5,5.75,5.75,138118662,8.4905660377358583E-2]
["2019-08-26",5.85,6.05,5.25,5.5,5.5,154474776,-4.3478260869565188E-2]
["2019-08-27",5.6,5.75,5.2,5.3,5.3,154864384,-3.6363636363636376E-2]
["2019-08-28",5.3,5.35,4.95,5,5,153324776,-5.6603773584905648E-2]
["2019-08-29",5,5.3,4.8,4.8499999999999996,4.8499999999999996,163803711,-3.0000000000000027E-2]
["2019-08-30",4.9000000000000004,5.45,4.9000000000000004,5.35,5.35,126453633,0.10309278350515472]
["2019-09-03",5.4,5.4,5.05,5.0999999999999996,5.0999999999999996,58510935,-4.6728971962616828E-2]
["2019-09-04",5.15,5.2,4.9000000000000004,5,5,53057113,-1.9607843137254832E-2]
["2019-09-05",5.05,5.2,4.95,5.0999999999999996,5.0999999999999996,56157581,2.0000000000000018E-2]
["2019-09-06",5.0999999999999996,5.4,5.0999999999999996,5.15,5.15,66907745,9.8039215686276382E-3]
["2019-09-09",5.2,5.4,5.0999999999999996,5.3,5.3,56036851,2.9126213592232997E-2]
["2019-09-11",5.35,5.85,5.35,5.75,5.75,108222094,8.4905660377358583E-2]
["2019-09-12",5.8,6.05,5.45,5.55,5.55,110173555,-3.4782608695652195E-2]
["2019-09-13",5.55,5.6,5.25,5.4,5.4,73375292,-2.7027027027026973E-2]
["2019-09-16",5.3,5.5,5.2,5.25,5.25,63595939,-2.777777777777779E-2]
["2019-09-17",5.25,5.3,5,5.0999999999999996,5.0999999999999996,112812385,-2.8571428571428692E-2]
["2019-09-18",5.05,5.0999999999999996,4.8,4.8499999999999996,4.8499999999999996,85057239,-4.9019607843137303E-2]
["2019-09-19",4.9000000000000004,5.7,4.9000000000000004,5.45,5.45,320602203,0.12371134020618579]
["2019-09-20",5.5,5.95,5.3,5.85,5.85,186422247,7.3394495412844041E-2]
["2019-09-23",5.95,6.05,5.55,5.6,5.6,82988317,-4.2735042735042694E-2]
["2019-09-24",5.6,5.75,5.3,5.6,5.6,91357994,0]
["2019-09-25",5.55,5.6,5.2,5.3,5.3,81683260,-5.3571428571428492E-2]
["2019-09-26",5.35,5.45,5.15,5.2,5.2,82845452,-1.8867924528301772E-2]
["2019-09-27",5.25,5.8,5.0999999999999996,5.65,5.65,107327275,8.6538461538461675E-2]
["2019-09-30",5.7,6.45,4.95,6.15,6.15,381241840,8.8495575221238854E-2]
["2019-10-01",6.3,6.3,5.2,5.4,5.4,219653425,-0.12195121951219512]
["2019-10-03",5.35,5.4,5,5.0999999999999996,5.0999999999999996,119493478,-5.5555555555555691E-2]
["2019-10-04",5.15,5.35,5,5.05,5.05,83128782,-9.8039215686274161E-3]
["2019-10-07",5.0999999999999996,5.55,5,5.15,5.15,101637294,1.980198019801982E-2]
["2019-10-09",5.2,6,5.15,5.85,5.85,207235307,0.13592233009708732]
["2019-10-10",6.4,6.9,5.75,6.2,6.2,422660153,5.9829059829059839E-2]
["2019-10-11",6,6.15,5.85,6,6,122282409,-3.2258064516129115E-2]
["2019-10-14",6.05,6.5,5.9,6.4,6.4,135922704,6.6666666666666652E-2]
["2019-10-15",6.4,6.45,6.1,6.15,6.15,107234406,-3.90625E-2]
["2019-10-16",6.2,6.75,6.15,6.55,6.55,292185105,6.5040650406503975E-2]
["2019-10-17",6.4,6.4,5.95,6.3,6.3,165817016,-3.8167938931297662E-2]
["2019-10-18",6.35,6.6,6.25,6.4,6.4,103591923,1.5873015873016039E-2]
["2019-10-22",6.4,6.55,6,6.1,6.1,128095442,-4.6875000000000111E-2]
["2019-10-23",6.2,6.25,5.55,5.65,5.65,159051328,-7.3770491803278548E-2]
["2019-10-24",5.6,5.65,4.0999999999999996,4.3499999999999996,4.3499999999999996,755710087,-0.23008849557522137]
["2019-10-25",4.1500000000000004,4.2,3.65,4.0999999999999996,4.0999999999999996,420424858,-5.7471264367816133E-2]
["2019-10-27",4.1500000000000004,4.4000000000000004,3.8,4.2,4.2,84379695,2.4390243902439046E-2]
["2019-10-29",4.0999999999999996,4.0999999999999996,3.65,3.85,3.85,343083942,-8.333333333333337E-2]
["2019-10-30",4,4.2,3.75,3.8,3.8,270109253,-1.2987012987013102E-2]
["2019-10-31",3.8,4,3.3,3.9,3.9,414804276,2.6315789473684292E-2]
["2019-11-01",3.85,4.8,3.65,4.3,4.3,794271990,0.10256410256410264]
["2019-11-04",4.5,4.75,4.4000000000000004,4.5,4.5,179149168,4.6511627906976827E-2]
["2019-11-05",4.5,4.6500000000000004,4.0999999999999996,4.2,4.2,119281067,-6.6666666666666652E-2]
["2019-11-06",4.0999999999999996,4.1500000000000004,3.8,3.85,3.85,168131372,-8.333333333333337E-2]
["2019-11-07",3.9,4.1500000000000004,3.8,3.9,3.9,171478878,1.298701298701288E-2]
["2019-11-08",3.9,4.05,3.7,3.75,3.75,229885771,-3.8461538461538436E-2]
["2019-11-11",3.8,4.05,3.75,4,4,106625599,6.6666666666666652E-2]
["2019-11-13",3.75,4,3.65,3.7,3.7,219386908,-7.4999999999999956E-2]
["2019-11-14",3.35,3.45,2.85,2.95,2.95,585724890,-0.20270270270270274]
["2019-11-15",2.7,3.9,2.4,3.65,3.65,826173911,{"$f":"(F132/F131)-1","v":0.23728813559322015}]
["2019-11-18",3.95,4.55,3.9,4.45,4.45,553187407,0.21917808219178081]
["2019-11-19",4.8499999999999996,6.4,4.8499999999999996,6.05,6.05,1030107961,0.3595505617977528]
["2019-11-20",6.65,8.15,6.65,7.05,7.05,749246924,0.16528925619834722]
["2019-11-21",7.75,7.95,6.15,6.65,6.65,879935477,-5.673758865248224E-2]
["2019-11-22",6.6,6.95,6.05,6.55,6.55,455277632,-1.5037593984962516E-2]
["2019-11-25",6.25,7,6.15,6.85,6.85,538266323,4.5801526717557328E-2]
["2019-11-26",6.55,6.8,5.7,6,6,171166562,-0.12408759124087587]
["2019-11-27",6.2,6.4,5.75,5.9,5.9,367839016,-1.6666666666666607E-2]
["2019-11-28",5.9,6.85,5.9,6.6,6.6,559329516,0.11864406779661008]
["2019-11-29",6.7,7.2,6.65,6.85,6.85,399702662,3.7878787878787845E-2]
["2019-12-02",7.5,8.8000000000000007,7.5,7.8,7.8,394808648,0.13868613138686126]
["2019-12-03",7.9,7.95,6.7,7.05,7.05,733287657,-9.6153846153846145E-2]
["2019-12-04",7.2,7.9,7,7.75,7.75,708398144,9.9290780141843893E-2]
["2019-12-05",7.6,7.6,7,7.3,7.3,339294803,-5.8064516129032295E-2]
["2019-12-06",7.1,7.35,6.65,6.9,6.9,513327745,-5.4794520547945091E-2]
["2019-12-09",6.5,6.7,5.9,6.5,6.5,315704587,-5.7971014492753659E-2]
["2019-12-10",6.25,6.85,6.15,6.55,6.55,385014786,7.692307692307665E-3]
["2019-12-11",6.7,7.1,6.55,6.7,6.7,242199010,2.2900763358778775E-2]
["2019-12-12",6.85,7,6.7,6.8,6.8,121366874,1.4925373134328401E-2]
["2019-12-13",6.85,7.1,6.75,6.9,6.9,264918506,1.4705882352941346E-2]
["2019-12-16",6.9,6.9,6.55,6.6,6.6,153481308,-4.3478260869565299E-2]
["2019-12-17",6.6,7,6.35,6.9,6.9,314339768,4.5454545454545636E-2]
["2019-12-18",7.25,7.35,6.3,6.4,6.4,328199359,-7.2463768115942018E-2]
["2019-12-19",6.5,6.75,6.35,6.6,6.6,219012396,3.1249999999999778E-2]
["2019-12-20",6.4,6.65,6.25,6.55,6.55,174553730,-7.575757575757569E-3]
["2019-12-23",6.45,6.6,6.3,6.4,6.4,142870617,-2.2900763358778553E-2]
["2019-12-24",6.35,6.5,6.2,6.3,6.3,121125277,-1.5625000000000111E-2]
["2019-12-26",6.3,6.45,5.95,6.05,6.05,191531777,-3.9682539682539653E-2]
["2019-12-27",6.05,6.15,5.75,5.8,5.8,135829056,-4.132231404958675E-2]
["2019-12-30",5.8,6.35,5.75,6.15,6.15,170381694,6.0344827586207073E-2]
["2019-12-31",6.15,6.25,5.95,6.15,6.15,170099935,0]
["2020-01-01",6.2,6.3,6,6.1,6.1,55777825,-8.1300813008131634E-3]
["2020-01-02",6,6.2,5.95,6.1,6.1,67004549,0]
["2020-01-03",6.1,6.2,6,6.1,6.1,77256216,0]
["2020-01-06",6.05,6.1,5.9,6,6,65911114,-1.6393442622950727E-2]
["2020-01-07",6,6.2,5.9,6,6,85292839,0]
["2020-01-08",5.95,6.6,5.7,6.5,6.5,329769716,8.3333333333333259E-2]
["2020-01-09",6.55,6.65,5.65,6.25,6.25,384515490,-3.8461538461538436E-2]
["2020-01-10",6.3,6.35,6,6.1,6.1,98544671,-2.4000000000000021E-2]
["2020-01-13",6.1,6.25,5.95,6.15,6.15,135915222,8.19672131147553E-3]
["2020-01-14",6.15,6.2,6.05,6.1,6.1,72910162,-8.1300813008131634E-3]
["2020-01-15",6.1,6.1,5.85,6,6,122769393,-1.6393442622950727E-2]
["2020-01-16",6.05,6.35,5.95,6,6,198015296,0]
["2020-01-17",5.4,5.4,3.65,4.5,4.5,534870,-0.25]
["2020-01-20",4.7,5.15,4.5999999999999996,4.8499999999999996,4.8499999999999996,323839417,7.7777777777777724E-2]
["2020-01-21",5.3,6.05,5.3,5.95,5.95,640960977,0.22680412371134029]
["2020-01-22",5.95,6.05,5.45,5.6,5.6,300874524,-5.882352941176483E-2]
["2020-01-23",5.6,6.1,5.6,5.9,5.9,346152243,5.3571428571428603E-2]
["2020-01-24",6,6.1,5.75,6.05,6.05,158798220,2.5423728813559254E-2]
["2020-01-27",5.85,6.05,5.75,5.8,5.8,137436771,-4.132231404958675E-2]
["2020-01-28",5.85,5.9,4.7,5.35,5.35,248123542,-7.7586206896551713E-2]
["2020-01-29",5.35,5.7,5.15,5.25,5.25,200137409,-1.869158878504662E-2]
["2020-01-30",5.25,5.6,5,5.2,5.2,239078532,-9.52380952380949E-3]
["2020-01-31",5.3,5.45,5.0999999999999996,5.3,5.3,163363094,1.9230769230769162E-2]
["2020-02-03",5.2,5.5,5.05,5.35,5.35,116834844,9.4339622641508303E-3]
["2020-02-04",5.35,5.45,5.25,5.25,5.25,80865619,-1.869158878504662E-2]
["2020-02-05",5.25,5.35,4.95,5.25,5.25,121127246,0]
["2020-02-06",5.35,5.55,5.0999999999999996,5.15,5.15,110558196,-1.904761904761898E-2]
["2020-02-07",5.0999999999999996,5.4,5.05,5.25,5.25,113193845,1.9417475728155331E-2]
["2020-02-10",5.4,5.4,5,5.05,5.05,84534088,-3.8095238095238182E-2]
["2020-02-11",5.0999999999999996,5.15,4.75,4.8499999999999996,4.8499999999999996,136571874,-3.9603960396039639E-2]
["2020-02-12",4.8499999999999996,4.8499999999999996,4.45,4.5,4.5,293521398,-7.2164948453608213E-2]
["2020-02-13",4.5,4.55,4.4000000000000004,4.5,4.5,99786073,0]
["2020-02-14",4.3499999999999996,5.45,3.25,3.4,3.4,344910835,{"$f":"(F196/F195)-1","v":-0.24444444444444446}]
["2020-02-17",3.7,4.2,3.3,3.4,3.4,814861351,0]
["2020-02-18",3.25,3.25,2.8,3,3,642554754,-0.11764705882352944]
["2020-02-19",3.15,4.45,3.1,4.2,4.2,1015559671,0.40000000000000013]
["2020-02-20",4.45,5,4.2,4.4000000000000004,4.4000000000000004,956876746,4.7619047619047672E-2]
["2020-02-24",4.8,5.05,3.8,3.85,3.85,679574901,-0.125]
["2020-02-25",3.95,4.3,3.5,3.95,3.95,598933526,2.5974025974025983E-2]
["2020-02-26",3.85,4.1500000000000004,3.6,4,4,325151192,1.2658227848101111E-2]
["2020-02-27",4.05,4.25,3.7,3.8,3.8,393794097,-5.0000000000000044E-2]
["2020-02-28",3.8,3.95,3.55,3.85,3.85,395445168,1.3157894736842257E-2]
["2020-03-02",3.9,4.0999999999999996,3.3,3.45,3.45,244209249,-0.10389610389610382]
["2020-03-03",3.6,3.9,3.3,3.65,3.65,317086505,5.7971014492753437E-2]
["2020-03-04",3.75,3.8,3.4,3.6,3.6,215195612,-1.3698630136986245E-2]
["2020-03-05",3.45,3.85,3.3,3.6,3.6,338216925,0]
["2020-03-06",3.4,3.45,3.2,3.3,3.3,338761004,-8.333333333333337E-2]
["2020-03-09",3.4,4.3,3.3,4,4,692949436,0.21212121212121215]
["2020-03-11",4.4000000000000004,4.95,4.2,4.3499999999999996,4.3499999999999996,721115533,8.7499999999999911E-2]
["2020-03-12",4.5999999999999996,4.5999999999999996,4.05,4.2,4.2,741584887,-3.4482758620689502E-2]
["2020-03-13",4,5.8,3.85,5.6,5.6,347274071,0.33333333333333326]
["2020-03-16",5.5,7.2,5.0999999999999996,5.7,5.7,250764659,1.7857142857143016E-2]
["2020-03-17",6,6.2,4.7,4.8499999999999996,4.8499999999999996,698221911,-0.14912280701754399]
["2020-03-18",5.3,5.7,2.7,3.15,3.15,1073741823,-0.35051546391752575]
["2020-03-19",3.3,3.55,3,3.3,3.3,609053154,4.7619047619047672E-2]
["2020-03-20",3.6,3.6,3.3,3.45,3.45,386962314,4.5454545454545636E-2]
["2020-03-23",3.25,3.4,3.1,3.15,3.15,312968741,-8.6956521739130488E-2]
["2020-03-24",3.35,3.45,3.15,3.35,3.35,283473341,6.3492063492063489E-2]
["2020-03-25",3.35,3.45,3.3,3.35,3.35,129150667,0]
["2020-03-26",3.4,3.4,3.25,3.25,3.25,143520346,-2.9850746268656692E-2]
["2020-03-27",3.3,3.3,3.2,3.2,3.2,105883924,-1.538461538461533E-2]
["2020-03-30",3.25,3.25,3.1,3.15,3.15,82151641,-1.5625000000000111E-2]
["2020-03-31",3.2,3.25,3.05,3.1,3.1,161285617,-1.5873015873015817E-2]
["2020-04-01",3.1,3.15,3,3.05,3.05,178196529,-1.6129032258064613E-2]
["2020-04-03",3.05,3.25,3,3.15,3.15,186946438,3.2786885245901676E-2]
["2020-04-07",3.25,3.3,3.15,3.2,3.2,126961509,1.5873015873016039E-2]
["2020-04-08",3.2,3.25,3.15,3.2,3.2,139785930,0]
["2020-04-09",3.25,3.3,3.2,3.3,3.3,116617515,3.1249999999999778E-2]
["2020-04-13",3.3,4.25,3.3,4.0999999999999996,4.0999999999999996,804216919,0.24242424242424243]
["2020-04-15",4.45,4.9000000000000004,4,4.25,4.25,709333130,3.6585365853658569E-2]
["2020-04-16",4.5,4.6500000000000004,4.1500000000000004,4.25,4.25,403023318,0]
["2020-04-17",4.3499999999999996,4.4000000000000004,3.85,4.0999999999999996,4.0999999999999996,536816968,-3.529411764705892E-2]
["2020-04-20",4.0999999999999996,4.2,3.8,3.9,3.9,274023994,-4.8780487804877981E-2]
["2020-04-21",3.75,3.85,3.6,3.7,3.7,251790440,-5.1282051282051211E-2]
["2020-04-22",3.9,4.05,3.7,3.95,3.95,437696779,6.7567567567567544E-2]
["2020-04-23",4.3,4.5,4.1500000000000004,4.3499999999999996,4.3499999999999996,690926109,0.10126582278481]
["2020-04-24",4.25,4.25,3.95,4,4,321586483,-8.045977011494243E-2]
["2020-04-27",4,4.2,4,4.0999999999999996,4.0999999999999996,250385306,2.4999999999999911E-2]
["2020-04-28",4.2,4.2,3.95,4,4,303932026,-2.4390243902438935E-2]
["2020-04-29",4.05,4.3,3.9,4.2,4.2,346339567,5.0000000000000044E-2]
["2020-04-30",4.3499999999999996,4.4000000000000004,4.0999999999999996,4.2,4.2,307532315,0]
["2020-05-04",4.05,4.3499999999999996,3.9,4.1500000000000004,4.1500000000000004,445004742,-1.1904761904761862E-2]
["2020-05-05",4.25,4.3,4.0999999999999996,4.1500000000000004,4.1500000000000004,184891529,0]
["2020-05-06",4.0999999999999996,4.4000000000000004,4.05,4.25,4.25,434137889,2.409638554216853E-2]
["2020-05-07",4.2,4.3,4.0999999999999996,4.1500000000000004,4.1500000000000004,160718948,-2.3529411764705799E-2]
["2020-05-08",4.2,4.3,4.1500000000000004,4.2,4.2,172138358,1.2048192771084265E-2]
["2020-05-11",4.25,4.8,4.2,4.5999999999999996,4.5999999999999996,924169681,9.5238095238095122E-2]
["2020-05-12",4.6500000000000004,5,4.5,4.95,4.95,587127838,7.6086956521739246E-2]
["2020-05-13",5.35,5.35,4.8,4.9000000000000004,4.9000000000000004,443661451,-1.0101010101010055E-2]
["2020-05-14",4.8,5,4.7,4.75,4.75,251907237,-3.0612244897959218E-2]
["2020-05-15",4.75,5,4.55,4.8499999999999996,4.8499999999999996,232096453,2.1052631578947212E-2]
["2020-05-18",4.95,5.0999999999999996,4.5999999999999996,4.6500000000000004,4.6500000000000004,349402211,-4.1237113402061709E-2]
["2020-05-19",4.8499999999999996,5.65,4.6500000000000004,5.45,5.45,883191828,0.17204301075268802]
["2020-05-20",5.65,5.95,5.5,5.65,5.65,504593142,3.669724770642202E-2]
["2020-05-21",5.65,5.85,5.35,5.55,5.55,400470088,-1.7699115044247926E-2]
["2020-05-22",5.5,5.7,5.35,5.5,5.5,350191306,-9.009009009009028E-3]
["2020-05-26",5.55,5.75,5.5,5.6,5.6,254588763,{"$f":"(F260/F259)-1","v":1.8181818181818077E-2}]
["2020-05-27",5.65,5.7,5.55,5.65,5.65,196436800,8.9285714285716189E-3]
["2020-05-28",5.7,6.05,5.65,5.8,5.8,498436003,2.6548672566371501E-2]
["2020-05-29",6.35,7.8,6.35,6.55,6.55,1073741823,0.1293103448275863]
["2020-06-01",6.45,6.9,6,6.55,6.55,504566767,0]
["2020-06-02",6.65,7.85,6.6,7.7,7.7,940712269,0.17557251908396942]
["2020-06-03",8,8.85,7.8,8.1,8.1,963452004,5.1948051948051965E-2]
["2020-06-04",8.1999999999999993,8.9,8,8.6,8.6,870345865,6.1728395061728447E-2]
["2020-06-05",9.1999999999999993,10.75,9,10.5,10.5,722961400,0.22093023255813948]
["2020-06-08",11.55,12.6,11.2,12,12,875540832,0.14285714285714279]
["2020-06-09",12.35,12.35,9,10.050000000000001,10.050000000000001,485568457,-0.16249999999999998]
["2020-06-10",9.6999999999999993,11,9.1,10.85,10.85,21663710,7.9601990049751103E-2]
["2020-06-11",11.1,11.45,9.15,9.4,9.4,1073741823,-0.13364055299539168]
["2020-06-12",8.5,10.3,8,10.15,10.15,428987207,7.9787234042553168E-2]
["2020-06-15",10.8,10.8,9.9,10.15,10.15,860072479,0]
["2020-06-16",10.3,10.4,9.1999999999999993,9.75,9.75,807989244,-3.9408866995073955E-2]
["2020-06-17",9.35,10,9.35,9.85,9.85,449439930,1.025641025641022E-2]
["2020-06-18",9.85,10.35,9.0500000000000007,9.75,9.75,994738202,-1.015228426395931E-2]
["2020-06-19",9.75,9.9,9.0500000000000007,9.15,9.15,542136358,-6.1538461538461542E-2]
["2020-06-22",9.1999999999999993,10.5,9.0500000000000007,10.1,10.1,125582495,0.10382513661202175]
["2020-06-23",10.1,10.5,10,10.25,10.25,442636336,1.4851485148514865E-2]
["2020-06-24",10.35,10.4,9.5,9.8000000000000007,9.8000000000000007,524309917,-4.3902439024390172E-2]
["2020-06-25",9.4,10.1,9.25,9.85,9.85,595177700,5.1020408163264808E-3]
["2020-06-26",9.8000000000000007,10.75,9.75,10.4,10.4,19946693,5.5837563451776706E-2]
["2020-06-29",10.6,11.25,10.1,11.1,11.1,994232174,6.7307692307692291E-2]
["2020-06-30",11.45,11.45,10.5,10.6,10.6,885288809,-4.5045045045045029E-2]
["2020-07-01",10.4,10.75,10.050000000000001,10.15,10.15,434160300,-4.245283018867918E-2]
["2020-07-02",10.199999999999999,10.45,9.75,10.050000000000001,10.050000000000001,369159111,-9.8522167487684609E-3]
["2020-07-03",10.1,10.25,9.85,10,10,261979691,-4.9751243781095411E-3]
["2020-07-06",10.1,10.1,9.75,9.8000000000000007,9.8000000000000007,231233013,-1.9999999999999907E-2]
["2020-07-07",9.8000000000000007,9.85,9.4499999999999993,9.5500000000000007,9.5500000000000007,240978456,-2.5510204081632626E-2]
["2020-07-08",9.6,9.9,9.1,9.3000000000000007,9.3000000000000007,451507367,-2.6178010471204161E-2]
["2020-07-09",9.25,9.5,9,9.35,9.35,360685550,5.3763440860215006E-3]
["2020-07-10",9.1999999999999993,9.9,8.75,9.75,9.75,924533453,4.2780748663101553E-2]
["2020-07-13",10,10.1,9.5,9.75,9.75,378786463,0]
["2020-07-14",9.65,9.6999999999999993,9.3000000000000007,9.35,9.35,278276181,-4.1025641025641102E-2]
["2020-07-15",9.1999999999999993,9.35,8.4499999999999993,8.65,8.65,475980943,-7.4866310160427774E-2]
["2020-07-16",8.65,8.6999999999999993,7,7.85,7.85,990846027,-9.2485549132948042E-2]
["2020-07-17",7.6,9,7.45,8.9,8.9,764115052,0.13375796178343968]
["2020-07-20",9.4,9.6999999999999993,8.25,9.1,9.1,1034469293,2.2471910112359383E-2]
["2020-07-21",8.9499999999999993,8.9499999999999993,8.15,8.3000000000000007,8.3000000000000007,644443669,-8.7912087912087822E-2]
["2020-07-22",8.4499999999999993,9.0500000000000007,8.35,8.5500000000000007,8.5500000000000007,505614748,3.0120481927710774E-2]
["2020-07-23",8.9,8.9,8.5,8.6,8.6,232008377,5.8479532163742132E-3]
["2020-07-24",8.4,8.5500000000000007,8.1,8.4,8.4,242262782,-2.3255813953488302E-2]
["2020-07-27",8.1999999999999993,8.4499999999999993,8,8.0500000000000007,8.0500000000000007,177632018,-4.166666666666663E-2]
["2020-07-28",8.0500000000000007,8.15,7.8,8.0500000000000007,8.0500000000000007,189177411,0]
["2020-07-29",8,8.65,7.85,8.25,8.25,359492082,2.4844720496894235E-2]
["2020-07-30",8.25,8.5,7.95,8,8,293048882,-3.0303030303030276E-2]
["2020-07-31",8.1,8.5,8.1,8.4,8.4,340455059,5.0000000000000044E-2]
["2020-08-03",8.4,8.85,8,8.6999999999999993,8.6999999999999993,422266642,3.5714285714285587E-2]
["2020-08-04",8.6999999999999993,8.9499999999999993,8.5,8.65,8.65,328489260,-5.7471264367814356E-3]
["2020-08-05",8.6,8.75,8.15,8.3000000000000007,8.3000000000000007,289455100,-4.0462427745664664E-2]
["2020-08-06",8.3000000000000007,8.5,8.15,8.25,8.25,177568336,-6.0240963855422436E-3]
["2020-08-07",7.9,8.9499999999999993,7.6,8.85,8.85,686898461,7.2727272727272751E-2]
["2020-08-10",9,9.1999999999999993,8.8000000000000007,9.1,9.1,418021584,2.8248587570621542E-2]
["2020-08-11",8.9,8.9499999999999993,8.65,8.6999999999999993,8.6999999999999993,161123113,-4.3956043956044022E-2]
["2020-08-12",8.6,9.0500000000000007,8.5500000000000007,8.85,8.85,160016342,1.7241379310344973E-2]
["2020-08-13",8.9499999999999993,9.15,8.8000000000000007,9.0500000000000007,9.0500000000000007,182054082,2.2598870056497189E-2]
["2020-08-14",9,9.35,8.6999999999999993,8.9499999999999993,8.9499999999999993,332532208,-1.1049723756906271E-2]
["2020-08-17",9.0500000000000007,9.15,8.85,8.9499999999999993,8.9499999999999993,108158573,0]
["2020-08-18",8.9499999999999993,9,8.6999999999999993,8.85,8.85,179567657,-1.1173184357541888E-2]
["2020-08-19",8.75,8.9,8.6,8.6999999999999993,8.6999999999999993,140531839,-1.6949152542372947E-2]
["2020-08-20",8.6,8.8000000000000007,8.4499999999999993,8.5,8.5,152580184,-2.2988505747126409E-2]
["2020-08-21",8.6,8.6999999999999993,8.4499999999999993,8.5,8.5,101582302,0]
["2020-08-24",8.65,9.25,8.4,9.1,9.1,531620523,{"$f":"(F324/F323)-1","v":7.0588235294117618E-2}]
["2020-08-25",9.15,9.25,8.9,9,9,157251700,-1.098901098901095E-2]
["2020-08-26",9,9.0500000000000007,8.85,8.9,8.9,91976394,-1.1111111111111072E-2]
["2020-08-27",8.9,9,8.6999999999999993,8.85,8.85,209574820,-5.6179775280900124E-3]
["2020-08-28",8.9499999999999993,10.45,8.9,10.1,10.1,214288640,0.14124293785310726]
["2020-08-31",10.5,11.1,9.6,10.199999999999999,10.199999999999999,687026051,9.9009900990099098E-3]
["2020-09-01",10.8,10.95,7.65,8.85,8.85,680730246,-0.13235294117647056]
["2020-09-02",9.3000000000000007,10.15,9.1999999999999993,9.9,9.9,560088566,0.1186440677966103]
["2020-09-03",10.5,12.85,10.45,12.55,12.55,487992026,0.26767676767676774]
["2020-09-04",11.3,13.5,11.3,12.05,12.05,556772102,-3.9840637450199168E-2]
["2020-09-07",13.25,13.25,11.95,12.3,12.3,296049294,2.0746887966804906E-2]
["2020-09-08",12.5,12.6,11.15,11.3,11.3,504295962,-8.1300813008130079E-2]
["2020-09-09",10.95,11.25,10.55,11.1,11.1,388937297,-1.7699115044247926E-2]
["2020-09-10",11.3,11.55,11,11.4,11.4,358369742,2.7027027027027195E-2]
["2020-09-11",11.4,11.4,10.9,11.15,11.15,223833805,-2.1929824561403466E-2]
["2020-09-14",11.35,11.85,11.05,11.55,11.55,381304064,3.5874439461883512E-2]
["2020-09-15",11.85,12.25,11.65,11.75,11.75,742500490,1.7316017316017174E-2]
["2020-09-16",11.8,11.85,11.45,11.5,11.5,158712590,-2.1276595744680882E-2]
["2020-09-17",11.4,11.45,11.1,11.25,11.25,190390751,-2.1739130434782594E-2]
["2020-09-18",11.2,11.7,11.05,11.25,11.25,346084587,0]
["2020-09-21",11.25,11.4,10.3,10.4,10.4,315922033,-7.5555555555555487E-2]
["2020-09-22",10.35,10.45,9.65,10.25,10.25,434043144,-1.4423076923076983E-2]
["2020-09-23",10,10.199999999999999,8.85,9.1999999999999993,9.1999999999999993,612130572,-0.10243902439024399]
["2020-09-24",8.9499999999999993,9.4499999999999993,8.5500000000000007,9.1,9.1,511436181,-1.0869565217391242E-2]
["2020-09-25",9.35,10.45,9,10.3,10.3,505791107,0.13186813186813207]
["2020-09-28",10.75,10.8,10.1,10.35,10.35,413963574,4.8543689320388328E-3]
["2020-09-29",10.1,10.25,9.5500000000000007,9.8000000000000007,9.8000000000000007,460512776,-5.3140096618357391E-2]
["2020-09-30",9.8000000000000007,10.1,9.3000000000000007,9.5500000000000007,9.5500000000000007,340579246,-2.5510204081632626E-2]
["2020-10-01",9.3000000000000007,9.5,9.1,9.25,9.25,215628107,-3.1413612565445059E-2]
["2020-10-05",9.25,9.5,8.9499999999999993,9,9,304615132,-2.7027027027026973E-2]
["2020-10-06",9.1,9.15,8.75,8.8000000000000007,8.8000000000000007,172114862,-2.2222222222222143E-2]
["2020-10-07",8.8000000000000007,8.85,8.5,8.5500000000000007,8.5500000000000007,189207463,-2.8409090909090939E-2]
["2020-10-08",8.5500000000000007,9.1999999999999993,8.5500000000000007,8.9499999999999993,8.9499999999999993,254381369,4.6783625730993927E-2]
["2020-10-09",9.0500000000000007,9.1999999999999993,8.85,8.9,8.9,113599121,-5.5865921787707773E-3]
["2020-10-12",9,9,8.65,8.6999999999999993,8.6999999999999993,100602860,-2.2471910112359716E-2]
["2020-10-13",8.5500000000000007,8.6999999999999993,8.4499999999999993,8.5500000000000007,8.5500000000000007,103026043,-1.724137931034464E-2]
["2020-10-14",8.6,8.65,8.1999999999999993,8.4,8.4,158887359,-1.7543859649122862E-2]
["2020-10-15",8.25,8.35,7.9,8,8,188269523,-4.7619047619047672E-2]
["2020-10-16",8,8.3000000000000007,7.95,8.0500000000000007,8.0500000000000007,122714651,6.2500000000000888E-3]
["2020-10-19",8.1,8.15,7.6,7.95,7.95,215833783,-1.2422360248447228E-2]
["2020-10-20",7.9,9,7.75,8.6999999999999993,8.6999999999999993,375865473,9.4339622641509413E-2]
["2020-10-21",8.75,8.9,8.4499999999999993,8.6,8.6,176946022,-1.1494252873563204E-2]
["2020-10-22",8.5,9,8.4,8.9,8.9,169885521,3.488372093023262E-2]
["2020-10-23",9.1,9.25,8.85,9.0500000000000007,9.0500000000000007,366905560,1.6853932584269593E-2]
["2020-10-26",9.0500000000000007,9.15,8.85,8.9,8.9,92408619,-1.6574585635359185E-2]
["2020-10-27",8.8000000000000007,8.85,8.65,8.6999999999999993,8.6999999999999993,75352842,-2.2471910112359716E-2]
["2020-10-28",8.6999999999999993,9.0500000000000007,8.5500000000000007,8.6999999999999993,8.6999999999999993,150109864,0]
["2020-10-29",8.6,8.75,8.25,8.35,8.35,200714768,-4.0229885057471271E-2]
["2020-10-30",8.1,8.9499999999999993,8,8.75,8.75,417087976,4.7904191616766401E-2]
["2020-11-02",8.8000000000000007,8.9,8.4,8.75,8.75,251873794,0]
["2020-11-03",8.6999999999999993,8.6999999999999993,8.5,8.5500000000000007,8.5500000000000007,107561247,-2.2857142857142798E-2]
["2020-11-04",8.5,8.6,8.35,8.4,8.4,73165683,-1.7543859649122862E-2]
["2020-11-05",8.5,8.6,8.35,8.5,8.5,86070777,1.1904761904761862E-2]
["2020-11-06",8.4499999999999993,8.9499999999999993,8.4,8.6,8.6,158987012,1.1764705882352899E-2]
["2020-11-09",8.75,8.8000000000000007,8.5500000000000007,8.6999999999999993,8.6999999999999993,121084167,1.1627906976744207E-2]
["2020-11-10",8.65,8.6999999999999993,8.5,8.5500000000000007,8.5500000000000007,113716651,-1.724137931034464E-2]
["2020-11-11",8.5,8.65,8.4,8.4499999999999993,8.4499999999999993,134558775,-1.1695906432748648E-2]
["2020-11-12",8.4499999999999993,8.65,8.4,8.5,8.5,103703745,5.9171597633136397E-3]
["2020-11-13",8.5,8.85,8.4499999999999993,8.6999999999999993,8.6999999999999993,206654827,2.3529411764705799E-2]
["2020-11-14",8.9499999999999993,9.25,8.8000000000000007,9.1,9.1,248779292,4.5977011494252817E-2]
["2020-11-17",9.1,10,9.1,9.3000000000000007,9.3000000000000007,635729848,2.1978021978022122E-2]
["2020-11-18",9.1999999999999993,9.5500000000000007,9.1,9.1999999999999993,9.1999999999999993,234862530,-1.0752688172043112E-2]
["2020-11-19",9.15,9.6,9.0500000000000007,9.25,9.25,303524665,5.4347826086957873E-3]
["2020-11-20",9.5500000000000007,10.15,9.5,10.050000000000001,10.050000000000001,559636322,8.6486486486486491E-2]
["2020-11-23",10.3,10.6,10.15,10.4,10.4,392518684,{"$f":"(F388/F387)-1","v":3.4825870646766122E-2}]
["2020-11-24",10.5,10.75,10.15,10.25,10.25,449615731,-1.4423076923076983E-2]
["2020-11-25",10.3,10.35,9.65,9.6999999999999993,9.6999999999999993,444960297,-5.3658536585365901E-2]
["2020-11-26",9.6999999999999993,10,9.6,9.9499999999999993,9.9499999999999993,273322035,2.5773195876288568E-2]
["2020-11-27",10,10.1,9.65,9.8000000000000007,9.8000000000000007,211191365,-1.5075376884421954E-2]
["2020-12-01",9.8000000000000007,10.35,9.6,10,10,354320484,2.0408163265306145E-2]
["2020-12-02",9.9499999999999993,10.199999999999999,9.8000000000000007,9.9,9.9,172606976,-1.0000000000000009E-2]
["2020-12-03",10,10.050000000000001,9.8000000000000007,9.9499999999999993,9.9499999999999993,151257328,5.050505050504972E-3]
["2020-12-04",9.9,10,9.65,9.75,9.75,183317075,-2.010050251256279E-2]
["2020-12-07",9.8000000000000007,9.85,9.5500000000000007,9.6,9.6,134836089,-1.5384615384615441E-2]
["2020-12-08",9.6,9.85,9.5,9.5500000000000007,9.5500000000000007,169069975,-5.2083333333332593E-3]
["2020-12-09",9.6,10,9.4499999999999993,9.85,9.85,299947714,3.1413612565444948E-2]
["2020-12-10",9.9,10.1,9.65,9.85,9.85,159494190,0]
["2020-12-11",9.85,10.35,9.6999999999999993,10.1,10.1,414971366,2.5380710659898442E-2]
["2020-12-14",10.25,10.4,9.9,10.050000000000001,10.050000000000001,275807086,-4.9504950495048439E-3]
["2020-12-15",10.050000000000001,10.050000000000001,9.6999999999999993,9.9,9.9,140533584,-1.4925373134328401E-2]
["2020-12-16",9.9499999999999993,10.15,9.8000000000000007,10,10,162488886,1.0101010101010166E-2]
["2020-12-17",9.9499999999999993,10.25,9.8000000000000007,9.9499999999999993,9.9499999999999993,229483126,-5.0000000000001155E-3]
["2020-12-18",9.9,10.15,9.6999999999999993,9.85,9.85,203187097,-1.005025125628134E-2]
["2020-12-21",9.9499999999999993,10.050000000000001,8.9,9.1999999999999993,9.1999999999999993,341621075,-6.5989847715736127E-2]
["2020-12-22",9.1999999999999993,9.6,8.9,9.5,9.5,379432196,3.2608695652174058E-2]
["2020-12-23",9.5,10.65,9.4,10.55,10.55,611362315,0.11052631578947381]
["2020-12-24",10.6,10.65,9.9499999999999993,10.1,10.1,409236971,-4.2654028436019065E-2]
["2020-12-28",10.15,10.6,10.15,10.4,10.4,254691531,2.9702970297029729E-2]
["2020-12-29",10.4,10.55,10.1,10.3,10.3,290602851,-9.6153846153845812E-3]
["2020-12-30",10.35,10.35,10.050000000000001,10.199999999999999,10.199999999999999,196181871,-9.7087378640777766E-3]
["2020-12-31",10.199999999999999,10.9,10.1,10.65,10.65,733827571,4.4117647058823595E-2]
["2021-01-01",10.75,11.35,10.6,11.2,11.2,423793813,5.1643192488262768E-2]
["2021-01-04",11.8,12.15,11.45,11.9,11.9,649973524,6.25E-2]
["2021-01-05",11.8,12.15,11.6,11.9,11.9,335592305,0]
["2021-01-06",12,12.25,11.5,11.85,11.85,374712576,-4.2016806722690037E-3]
["2021-01-07",11.95,12.35,11.85,11.95,11.95,352143303,8.4388185654007408E-3]
["2021-01-08",12.1,12.3,11.65,11.75,11.75,290761549,-1.67364016736401E-2]
["2021-01-11",11.95,12.05,11.35,11.5,11.5,221429001,-2.1276595744680882E-2]
["2021-01-12",11.45,12.25,11.3,12.1,12.1,389146921,5.2173913043478182E-2]
["2021-01-13",12.25,12.75,11.9,12.25,12.25,672714234,1.2396694214876103E-2]
["2021-01-14",12.35,12.45,12.1,12.3,12.3,167998404,4.0816326530612734E-3]
["2021-01-15",12.35,13.8,12.3,13.65,13.65,150727721,0.10975609756097549]
["2021-01-18",13.65,13.65,12.6,13,13,494595504,-4.7619047619047672E-2]
["2021-01-19",13.15,13.65,13.1,13.3,13.3,260285118,2.3076923076923217E-2]
["2021-01-20",13.3,13.5,13.2,13.35,13.35,196034331,3.759398496240518E-3]
["2021-01-21",13.35,13.65,12.8,12.9,12.9,275489083,-3.3707865168539297E-2]
["2021-01-22",12.95,13.1,12.4,12.7,12.7,359520848,-1.5503875968992276E-2]
["2021-01-25",12.8,12.85,11.55,11.75,11.75,462082038,-7.4803149606299191E-2]
["2021-01-27",11.7,12,11.35,11.6,11.6,425911676,-1.2765957446808529E-2]
["2021-01-28",11.5,12.25,11.4,11.75,11.75,455920820,1.2931034482758674E-2]
["2021-01-29",11.8,12,10.95,11.2,11.2,289672779,-4.680851063829794E-2]
["2021-02-01",11.1,11.8,10.85,11.7,11.7,277025482,4.4642857142857206E-2]
["2021-02-02",11.85,11.95,11.5,11.85,11.85,219351517,1.2820512820512775E-2]
["2021-02-03",11.9,12.75,11.7,12.25,12.25,354263383,3.3755274261603407E-2]
["2021-02-04",12.3,12.5,12.1,12.15,12.15,163102730,-8.1632653061224358E-3]
["2021-02-05",12.2,12.45,11.9,12,12,196604376,-1.2345679012345734E-2]
["2021-02-08",12.1,12.15,11.6,11.7,11.7,181041724,-2.5000000000000022E-2]
["2021-02-09",11.6,12.5,11.6,11.95,11.95,316749597,2.1367521367521292E-2]
["2021-02-10",11.95,12.1,11.7,11.9,11.9,127210199,-4.1841004184099972E-3]
["2021-02-11",11.9,13.05,11.8,12.9,12.9,538132731,8.4033613445378075E-2]
["2021-02-12",12.85,13,12.3,12.5,12.5,421777135,-3.1007751937984551E-2]
["2021-02-15",12.15,12.9,11.9,12.1,12.1,333722604,-3.2000000000000028E-2]
["2021-02-16",12.2,12.25,11.65,11.75,11.75,213050922,-2.8925619834710758E-2]
["2021-02-17",11.75,12.4,11.65,11.9,11.9,236876381,1.276595744680864E-2]
["2021-02-18",11.95,11.95,11.45,11.55,11.55,197557956,-2.9411764705882359E-2]
["2021-02-19",11.5,11.7,10.8,10.9,10.9,316179539,-5.6277056277056259E-2]
["2021-02-22",10.9,11.25,10.65,10.75,10.75,244411595,-1.3761467889908285E-2]
["2021-02-23",10.8,11.15,10.8,11,11,228784619,2.3255813953488413E-2]
["2021-02-24",11.15,11.6,11.1,11.45,11.45,215734006,{"$f":"(F452/F451)-1","v":4.0909090909090784E-2}]
["2021-02-25",11.5,11.85,11.45,11.65,11.65,205917447,1.7467248908296984E-2]
["2021-02-26",11.5,11.75,11.25,11.3,11.3,288634828,-3.0042918454935563E-2]
["2021-03-01",11.4,11.45,10.9,11.05,11.05,183553814,-2.2123893805309769E-2]
["2021-03-02",11.1,11.5,10.9,11.35,11.35,292065348,2.7149321266968229E-2]
["2021-03-03",11.45,11.65,11.1,11.15,11.15,216754057,-1.7621145374449254E-2]
["2021-03-04",11,11.15,10.9,11,11,156391976,-1.3452914798206317E-2]
["2021-03-05",10.9,11,10.4,10.55,10.55,294392507,-4.0909090909090895E-2]
["2021-03-08",10.7,10.9,10.45,10.5,10.5,165778445,-4.7393364928910442E-3]
["2021-03-09",10.55,10.65,9.9,10.1,10.1,258920821,-3.8095238095238182E-2]
["2021-03-10",10.199999999999999,10.4,10.1,10.3,10.3,130052014,1.980198019801982E-2]
["2021-03-12",10.45,10.6,10.15,10.199999999999999,10.199999999999999,185463143,-9.7087378640777766E-3]
["2021-03-15",10.199999999999999,10.25,9.9,10.050000000000001,10.050000000000001,129419759,-1.4705882352941013E-2]
["2021-03-16",10.1,10.75,10.050000000000001,10.15,10.15,183256039,9.9502487562188602E-3]
["2021-03-17",10.199999999999999,10.199999999999999,9.75,9.85,9.85,182276351,-2.9556650246305494E-2]
["2021-03-18",10.1,10.25,9.6,9.9,9.9,217584197,5.0761421319798217E-3]
["2021-03-19",9.9,9.9499999999999993,9.5500000000000007,9.75,9.75,219176606,-1.5151515151515138E-2]
["2021-03-22",9.6999999999999993,10.15,9.5500000000000007,10,10,141848777,2.564102564102555E-2]
["2021-03-23",10.050000000000001,10.199999999999999,9.9,10.1,10.1,119941044,1.0000000000000009E-2]
["2021-03-24",10.050000000000001,10.050000000000001,9.6999999999999993,9.75,9.75,98345903,-3.4653465346534573E-2]
["2021-03-25",9.75,9.8000000000000007,8.8000000000000007,8.9,8.9,585923023,-8.7179487179487092E-2]
["2021-03-26",9.1,9.4499999999999993,9.0500000000000007,9.1,9.1,368334602,2.2471910112359383E-2]
["2021-03-30",9.3000000000000007,9.5,9,9.1999999999999993,9.1999999999999993,170192599,1.098901098901095E-2]
["2021-03-31",9.25,9.8000000000000007,9.1,9.25,9.25,263121309,5.4347826086957873E-3]
["2021-04-01",9.3000000000000007,10.15,9.1999999999999993,10,10,249215374,8.1081081081081141E-2]
["2021-04-05",9.9499999999999993,10,9.25,9.5500000000000007,9.5500000000000007,177588656,-4.4999999999999929E-2]
["2021-04-06",9.5,9.9,9.4499999999999993,9.6999999999999993,9.6999999999999993,200557398,1.5706806282722363E-2]
["2021-04-07",9.9,10,9.6999999999999993,9.75,9.75,163017659,5.1546391752577136E-3]
["2021-04-08",9.85,9.9499999999999993,9.35,9.4,9.4,174461804,-3.5897435897435881E-2]
["2021-04-09",9.4499999999999993,9.6999999999999993,9.4,9.4,9.4,98860394,0]
["2021-04-12",9.3000000000000007,9.3000000000000007,8.6,8.75,8.75,230871743,-6.9148936170212782E-2]
["2021-04-13",8.85,9,8.8000000000000007,8.9499999999999993,8.9499999999999993,121410282,2.2857142857142687E-2]
["2021-04-15",8.9,9.1,8.65,8.9499999999999993,8.9499999999999993,155089395,0]
["2021-04-16",8.9,8.9499999999999993,8.8000000000000007,8.85,8.85,72798915,-1.1173184357541888E-2]
["2021-04-19",8.6,8.6,8.3000000000000007,8.4499999999999993,8.4499999999999993,132327626,-4.5197740112994378E-2]
["2021-04-20",8.5,8.65,8.3000000000000007,8.4499999999999993,8.4499999999999993,92343831,0]
["2021-04-22",8.4499999999999993,8.65,8.35,8.4499999999999993,8.4499999999999993,121409013,0]
["2021-04-23",8.4,8.5500000000000007,8.35,8.4499999999999993,8.4499999999999993,61571313,0]
["2021-04-26",8.5500000000000007,8.6,8.4499999999999993,8.4499999999999993,8.4499999999999993,55862755,0]
["2021-04-27",8.4499999999999993,8.75,8.4499999999999993,8.6999999999999993,8.6999999999999993,107539610,2.9585798816567976E-2]
["2021-04-28",8.75,8.85,8.6,8.65,8.65,102877140,-5.7471264367814356E-3]
["2021-04-29",8.6999999999999993,8.75,8.35,8.4,8.4,155613116,-2.8901734104046284E-2]
["2021-04-30",8.35,8.6,8.3000000000000007,8.35,8.35,98167086,-5.9523809523810423E-3]
["2021-05-03",8.3000000000000007,8.5500000000000007,8.25,8.4499999999999993,8.4499999999999993,88911009,1.1976047904191489E-2]
["2021-05-04",8.4499999999999993,8.5500000000000007,8.1999999999999993,8.25,8.25,130270445,-2.3668639053254337E-2]
["2021-05-05",8.3000000000000007,8.4499999999999993,8.25,8.35,8.35,81857103,1.2121212121211977E-2]
["2021-05-06",8.4,8.4499999999999993,8.25,8.3000000000000007,8.3000000000000007,60140244,-5.9880239520956335E-3]
["2021-05-07",8.35,8.4,8.1999999999999993,8.3000000000000007,8.3000000000000007,108570333,0]
["2021-05-10",8.3000000000000007,8.3000000000000007,8.0500000000000007,8.1999999999999993,8.1999999999999993,173571300,-1.2048192771084487E-2]
["2021-05-11",8.15,8.1999999999999993,8.0500000000000007,8.1,8.1,86024008,-1.2195121951219523E-2]
["2021-05-12",8.15,9.15,8.1,8.8000000000000007,8.8000000000000007,397884076,8.6419753086419915E-2]
["2021-05-14",9,9.1,8.5500000000000007,8.65,8.65,171516548,-1.7045454545454586E-2]
["2021-05-17",8.6999999999999993,8.75,8.5,8.5500000000000007,8.5500000000000007,78204978,-1.1560693641618491E-2]
["2021-05-18",8.6,8.6999999999999993,8.5,8.5500000000000007,8.5500000000000007,70097530,0]
["2021-05-19",8.5,8.6999999999999993,8.4,8.4499999999999993,8.4499999999999993,87317836,-1.1695906432748648E-2]
["2021-05-20",8.4499999999999993,8.5,8.35,8.4,8.4,67889823,-5.9171597633135287E-3]
["2021-05-21",8.4499999999999993,8.6999999999999993,8.4,8.5500000000000007,8.5500000000000007,134046773,1.7857142857142794E-2]
["2021-05-24",8.5500000000000007,8.6999999999999993,8.5,8.6,8.6,90310531,5.8479532163742132E-3]
["2021-05-25",8.65,8.6999999999999993,8.4499999999999993,8.5500000000000007,8.5500000000000007,81688375,-5.8139534883719923E-3]
["2021-05-26",8.65,8.65,8.5,8.5500000000000007,8.5500000000000007,74951767,0]
["2021-05-27",8.5500000000000007,8.6,8.4,8.4499999999999993,8.4499999999999993,110294218,-1.1695906432748648E-2]
["2021-05-28",8.5500000000000007,9.1,8.4499999999999993,8.6999999999999993,8.6999999999999993,197270856,2.9585798816567976E-2]
["2021-05-31",8.75,8.8000000000000007,8.65,8.65,8.65,68439642,-5.7471264367814356E-3]
["2021-06-01",8.6999999999999993,8.75,8.4499999999999993,8.5,8.5,95070972,-1.7341040462427793E-2]
["2021-06-02",8.5500000000000007,8.85,8.4499999999999993,8.8000000000000007,8.8000000000000007,160917782,{"$f":"(F516/F515)-1","v":3.529411764705892E-2}]
["2021-06-03",8.85,9.4499999999999993,8.8000000000000007,9.35,9.35,433568903,6.2499999999999778E-2]
["2021-06-04",9.4,9.85,9.35,9.75,9.75,364137160,4.2780748663101553E-2]
["2021-06-07",10,10.25,9.9499999999999993,10.1,10.1,259698765,3.589743589743577E-2]
["2021-06-08",10.15,10.3,9.6,10.050000000000001,10.050000000000001,310914889,-4.9504950495048439E-3]
["2021-06-09",10.1,10.15,9.5,9.65,9.65,208316036,-3.9800995024875663E-2]
["2021-06-10",9.75,10.050000000000001,9.6999999999999993,9.9499999999999993,9.9499999999999993,140332528,3.1088082901554293E-2]
["2021-06-11",10,10.15,9.75,9.85,9.85,161600504,-1.005025125628134E-2]
["2021-06-14",9.8000000000000007,9.9,9.5,9.65,9.65,127161642,-2.0304568527918732E-2]
["2021-06-15",9.75,9.9,9.65,9.6999999999999993,9.6999999999999993,87659985,5.1813471502588637E-3]
["2021-06-16",9.6999999999999993,9.85,9.4499999999999993,9.5500000000000007,9.5500000000000007,147068682,-1.546391752577303E-2]
["2021-06-17",9.4499999999999993,9.8000000000000007,9.4,9.4499999999999993,9.4499999999999993,175515506,-1.0471204188481797E-2]
["2021-06-18",9.5,10.5,9.0500000000000007,10.35,10.35,807562466,9.5238095238095344E-2]
["2021-06-21",10.4,10.55,10,10.15,10.15,315324065,-1.9323671497584516E-2]
["2021-06-22",10.25,10.3,9.9,10,10,192460495,-1.4778325123152691E-2]
["2021-06-23",10.050000000000001,10.15,9.85,9.9499999999999993,9.9499999999999993,148990511,-5.0000000000001155E-3]
["2021-06-24",10.050000000000001,10.15,9.5,9.5500000000000007,9.5500000000000007,289568632,-4.0201005025125469E-2]
["2021-06-25",9.6999999999999993,10.85,9.65,10.6,10.6,501201896,0.10994764397905743]
["2021-06-28",10.8,10.95,10.35,10.45,10.45,272304494,-1.4150943396226467E-2]
["2021-06-29",10.45,10.7,10,10.1,10.1,188762210,-3.349282296650713E-2]
["2021-06-30",10.15,10.3,9.85,9.9499999999999993,9.9499999999999993,202158194,-1.4851485148514865E-2]
["2021-07-01",9,9.4499999999999993,8.5,9.0500000000000007,9.0500000000000007,643708116,-9.04522613065325E-2]
["2021-07-02",8.9,9.0500000000000007,8.6999999999999993,8.8000000000000007,8.8000000000000007,325983509,-2.7624309392265234E-2]
["2021-07-05",8.8000000000000007,9.4,8.5,9.1,9.1,432371910,3.409090909090895E-2]
["2021-07-06",9.1,9.25,8.75,8.8000000000000007,8.8000000000000007,222325441,-3.296703296703285E-2]
["2021-07-07",8.8000000000000007,9,8.75,8.85,8.85,99089056,5.6818181818181213E-3]
["2021-07-08",9,9.1,8.6999999999999993,8.8000000000000007,8.8000000000000007,186035498,-5.6497175141241307E-3]
["2021-07-09",8.8000000000000007,9.3000000000000007,8.75,9.0500000000000007,9.0500000000000007,179039654,2.8409090909090828E-2]
["2021-07-12",9.35,9.4,9,9,9,113554620,-5.5248618784531356E-3]
["2021-07-13",8.9,9.1,8.8000000000000007,8.85,8.85,98428364,-1.6666666666666718E-2]
["2021-07-14",8.85,8.9499999999999993,8.8000000000000007,8.8000000000000007,8.8000000000000007,53712938,-5.6497175141241307E-3]
["2021-07-15",8.85,9,8.75,8.75,8.75,68310928,-5.6818181818182323E-3]
["2021-07-16",9.0500000000000007,9.6,9.0500000000000007,9.4499999999999993,9.4499999999999993,580298117,7.9999999999999849E-2]
["2021-07-19",9.5500000000000007,9.9,8.5500000000000007,9.15,9.15,748615182,-3.1746031746031633E-2]
["2021-07-20",9.0500000000000007,9.35,8.9,9,9,247909265,-1.6393442622950838E-2]
["2021-07-22",9.1999999999999993,9.5500000000000007,8.85,9.25,9.25,682342777,2.7777777777777679E-2]
["2021-07-23",9.35,9.5500000000000007,7.9,8.35,8.35,74301422,-9.7297297297297303E-2]
["2021-07-26",8.35,8.5,8.1,8.3000000000000007,8.3000000000000007,219484526,-5.9880239520956335E-3]
["2021-07-27",8.3000000000000007,8.5,8.3000000000000007,8.4,8.4,141166507,1.2048192771084265E-2]
["2021-07-28",8.4499999999999993,8.75,8.1999999999999993,8.35,8.35,268614790,-5.9523809523810423E-3]
["2021-07-29",8.35,8.6,8.15,8.25,8.25,208357478,-1.19760479041916E-2]
["2021-07-30",8.25,8.4,8.1999999999999993,8.25,8.25,119176003,0]
["2021-08-02",8.35,8.5500000000000007,8.1999999999999993,8.25,8.25,177255904,0]
["2021-08-03",8.25,8.25,7.15,7.4,7.4,839530394,-0.10303030303030303]
["2021-08-04",7.15,7.35,5.95,6,6,198746192,-0.18918918918918926]
["2021-08-05",5.4,6.1,4.55,5.95,5.95,2515,-8.3333333333333037E-3]
["2021-08-06",6.5,7.35,6.5,7.1,7.1,186436853,0.19327731092436973]
["2021-08-09",7.3,7.6,6.4,6.9,6.9,946049079,-2.8169014084506894E-2]
["2021-08-10",7,7.2,6.6,6.65,6.65,424588646,-3.6231884057971064E-2]
["2021-08-11",6.6,6.75,6.3,6.65,6.65,280814303,0]
["2021-08-12",6.7,6.75,6.45,6.5,6.5,121102582,-2.2556390977443663E-2]
["2021-08-13",6.45,6.6,6.25,6.3,6.3,184754336,-3.0769230769230771E-2]
["2021-08-16",6,6.25,5.85,5.95,5.95,180162546,-5.5555555555555469E-2]
["2021-08-17",6.05,6.05,5.6,5.75,5.75,197222207,-3.3613445378151252E-2]
["2021-08-18",5.65,6.85,5.6,6.45,6.45,459576977,0.12173913043478257]
["2021-08-20",5.95,6.4,5.9,5.95,5.95,309374862,-7.7519379844961267E-2]
["2021-08-23",6.05,6.45,5.8,6,6,478730436,8.4033613445377853E-3]
["2021-08-24",6.15,6.3,6.05,6.25,6.25,160571972,4.1666666666666741E-2]
["2021-08-25",6.25,6.4,6.2,6.3,6.3,132510533,8.0000000000000071E-3]
["2021-08-26",6.25,6.3,5.8,5.9,5.9,282965357,-6.3492063492063378E-2]
["2021-08-27",5.9,6.1,5.85,6,6,161965520,1.6949152542372836E-2]
["2021-08-30",6.05,6.1,5.9,5.95,5.95,84925689,-8.3333333333333037E-3]
["2021-08-31",5.95,6.4,5.85,6.1,6.1,298905204,2.5210084033613356E-2]
["2021-09-01",6.05,6.35,6,6.1,6.1,278532142,0]
["2021-09-02",6.2,7.25,6.15,7.15,7.15,736165238,{"$f":"(F580/F579)-1","v":0.17213114754098369}]
["2021-09-03",7.3,8.1,6.9,7.25,7.25,964239433,1.3986013986013957E-2]
["2021-09-06",7.25,7.6,7.05,7.25,7.25,252682376,0]
["2021-09-07",7.3,8.4,7.15,8.25,8.25,1060683827,0.13793103448275867]
["2021-09-08",8.8000000000000007,9.0500000000000007,7.8,8.0500000000000007,8.0500000000000007,266753969,-2.4242424242424176E-2]
["2021-09-09",8.0500000000000007,8.5,7.7,8.4,8.4,432353363,4.3478260869565188E-2]
["2021-09-13",8.5,8.5500000000000007,7.85,7.95,7.95,357392698,-5.3571428571428603E-2]
["2021-09-14",7.95,9,7.9,8.6999999999999993,8.6999999999999993,776770515,9.4339622641509413E-2]
["2021-09-15",8.9499999999999993,9.3000000000000007,8.5500000000000007,8.9499999999999993,8.9499999999999993,967395027,2.8735632183908066E-2]
["2021-09-16",9.8000000000000007,11.5,9.65,11.25,11.25,1277,0.25698324022346375]
["2021-09-17",12,12.35,10.55,11.15,11.15,334284294,-8.8888888888888351E-3]
["2021-09-20",11.4,11.85,10.6,10.75,10.75,681707927,-3.5874439461883401E-2]
["2021-09-21",10.85,11,10.1,10.8,10.8,642657663,4.6511627906977715E-3]
["2021-09-22",10.7,10.7,10.3,10.4,10.4,332186145,-3.703703703703709E-2]
["2021-09-23",10.75,10.85,10.4,10.55,10.55,341449899,1.4423076923076872E-2]
["2021-09-24",10.6,11.65,10.45,11.5,11.5,948798242,9.004739336492884E-2]
["2021-09-27",11.3,11.5,11.05,11.35,11.35,336469438,-1.3043478260869601E-2]
["2021-09-28",11.5,11.6,10.8,10.95,10.95,319440917,-3.524229074889873E-2]
["2021-09-29",10.95,11.45,10.9,11.25,11.25,323684354,2.7397260273972712E-2]
["2021-09-30",11.4,12.1,11.25,11.9,11.9,1004213104,5.7777777777777706E-2]
["2021-10-01",11.65,11.75,11.35,11.4,11.4,371738193,-4.2016806722689037E-2]
["2021-10-04",11.5,11.6,11.3,11.4,11.4,202808054,0]
["2021-10-05",11.3,12.25,11.25,11.55,11.55,654039214,1.3157894736842035E-2]
["2021-10-06",11.7,12,11.15,11.45,11.45,455208528,-8.6580086580088089E-3]
["2021-10-07",11.65,11.8,11.25,11.35,11.35,267547079,-8.733624454148492E-3]
["2021-10-08",11.45,11.55,11.25,11.35,11.35,181782419,0]
["2021-10-11",11.4,11.4,10.8,10.85,10.85,313737218,-4.4052863436123357E-2]
["2021-10-12",11.1,11.15,10.5,10.65,10.65,311795594,-1.8433179723502224E-2]
["2021-10-13",10.8,11,10.6,10.7,10.7,176514112,4.6948356807510194E-3]
["2021-10-14",10.8,10.9,10.7,10.75,10.75,118675965,4.6728971962617383E-3]
["2021-10-18",10.85,10.85,10.5,10.6,10.6,137172814,-1.3953488372093092E-2]
["2021-10-19",10.7,10.8,9.9,10,10,348088357,-5.6603773584905648E-2]
["2021-10-20",10,10.95,9.5500000000000007,10.6,10.6,416526281,6.0000000000000053E-2]
["2021-10-21",10.6,10.65,10.25,10.3,10.3,125286481,-2.8301886792452713E-2]
["2021-10-22",10.4,10.5,10.1,10.25,10.25,97302490,-4.8543689320389438E-3]
["2021-10-25",10.25,10.6,10.15,10.4,10.4,225518417,1.4634146341463428E-2]
["2021-10-26",10.6,10.75,10.199999999999999,10.4,10.4,272779493,0]
["2021-10-27",10.4,10.5,10.15,10.25,10.25,124230433,-1.4423076923076983E-2]
["2021-10-28",10.25,10.3,9.65,9.6999999999999993,9.6999999999999993,256619916,-5.3658536585365901E-2]
["2021-10-29",9.6999999999999993,9.8000000000000007,9.35,9.5500000000000007,9.5500000000000007,227585692,-1.546391752577303E-2]
["2021-11-01",9.5500000000000007,10.25,9.5,10.1,10.1,224482919,5.7591623036649109E-2]
["2021-11-02",10.1,10.25,10,10.050000000000001,10.050000000000001,82120783,-4.9504950495048439E-3]
["2021-11-03",10.1,10.15,9.8000000000000007,9.9,9.9,78764848,-1.4925373134328401E-2]
["2021-11-04",10.1,10.1,9.9499999999999993,10,10,32509434,1.0101010101010166E-2]
["2021-11-08",10.1,10.15,9.6999999999999993,9.8000000000000007,9.8000000000000007,113299445,-1.9999999999999907E-2]
["2021-11-09",9.8000000000000007,10.6,9.75,10.4,10.4,308063929,6.1224489795918435E-2]
["2021-11-10",10.4,10.55,10.199999999999999,10.3,10.3,225294464,-9.6153846153845812E-3]
["2021-11-11",10.3,10.45,9.8000000000000007,9.85,9.85,195692044,-4.3689320388349606E-2]
["2021-11-12",9.9499999999999993,10.45,9.9499999999999993,10.3,10.3,285024686,4.5685279187817285E-2]
["2021-11-15",10.3,10.3,10,10.1,10.1,111342364,-1.9417475728155442E-2]
["2021-11-16",10.15,10.3,9.9,10,10,129214157,-9.9009900990099098E-3]
["2021-11-17",9.9499999999999993,10.199999999999999,9.9,9.9499999999999993,9.9499999999999993,114140242,-5.0000000000001155E-3]
["2021-11-18",10,10.15,9.8000000000000007,9.9499999999999993,9.9499999999999993,174855380,0]
["2021-11-22",10.55,10.9,10.25,10.6,10.6,470316125,6.5326633165829096E-2]
["2021-11-23",10.45,10.9,10.3,10.6,10.6,310455628,0]
["2021-11-24",10.7,11.25,10.5,11,11,453943692,3.7735849056603765E-2]
["2021-11-25",11,11.75,10.7,11.65,11.65,595160678,5.9090909090909083E-2]
["2021-11-26",11.45,11.55,10.75,10.85,10.85,338755270,-6.8669527896995763E-2]
["2021-11-29",11.9,12.4,11.05,11.2,11.2,649190753,3.2258064516129004E-2]
["2021-11-30",11.2,11.6,10.95,11.05,11.05,343788272,-1.3392857142856984E-2]
["2021-12-01",11.1,13.25,10.7,12.8,12.8,934267710,0.15837104072398178]
["2021-12-02",12.4,13.45,12.4,12.8,12.8,865489758,0]
["2021-12-03",12.8,14.7,12.6,14.45,14.45,36523618,0.12890624999999978]
["2021-12-06",14.75,15.85,14.4,15,15,621402098,3.8062283737024361E-2]
["2021-12-07",14.85,15.2,13.9,14.25,14.25,578444565,{"$f":"(F644/F643)-1","v":-5.0000000000000044E-2}]
["2021-12-08",14.45,15,14.2,14.3,14.3,426340896,3.5087719298245723E-3]
["2021-12-09",14.6,16.700001,14.45,16.399999999999999,16.399999999999999,261586037,0.14685314685314665]
["2021-12-10",16.549999,16.799999,16.200001,16.399999999999999,16.399999999999999,536463667,0]
["2021-12-13",16.600000000000001,16.799999,15.4,15.5,15.5,380820068,-5.4878048780487743E-2]
["2021-12-14",15.35,16.100000000000001,15,15.25,15.25,358293222,-1.6129032258064502E-2]
["2021-12-15",15.35,15.75,14.85,14.95,14.95,266963643,-1.9672131147541072E-2]
["2021-12-16",15.25,15.45,14.3,14.7,14.7,316956135,-1.6722408026755842E-2]
["2021-12-17",15,15.1,13.9,14.05,14.05,326888956,-4.421768707482987E-2]
["2021-12-20",13.95,14.5,13.25,13.65,13.65,520033942,-2.8469750889679735E-2]
["2021-12-21",13.85,14.8,13.8,13.95,13.95,415801774,2.19780219780219E-2]
["2021-12-22",14.15,14.25,13.65,13.9,13.9,269158618,-3.5842293906809264E-3]
["2021-12-23",14.05,14.2,13.7,13.8,13.8,110183733,-7.194244604316502E-3]
["2021-12-24",13.85,14.1,13.4,13.65,13.65,248366228,-1.0869565217391353E-2]
["2021-12-27",13.45,13.75,13.3,13.45,13.45,133998036,-1.4652014652014711E-2]
["2021-12-28",13.55,14,13.5,13.75,13.75,186304390,2.2304832713754719E-2]
["2021-12-29",13.75,14.8,13.7,14.45,14.45,348532953,5.0909090909090793E-2]
["2021-12-30",14.45,14.8,13.9,14,14,396404094,-3.1141868512110649E-2]
["2021-12-31",14.15,15.7,14.05,15.35,15.35,635686929,9.6428571428571308E-2]
["2022-01-03",15.35,16.049999,15.25,15.55,15.55,392307918,1.3029315960912058E-2]
["2022-01-04",15.7,15.85,15.1,15.25,15.25,286611986,-1.9292604501607746E-2]
["2022-01-05",15.3,15.6,15.05,15.1,15.1,251510189,-9.8360655737704805E-3]
["2022-01-06",15,15.75,14.9,15.3,15.3,304801531,1.3245033112582849E-2]
["2022-01-07",15.55,15.6,15,15.1,15.1,256333161,-1.3071895424836666E-2]
["2022-01-10",15.25,15.35,14.65,14.85,14.85,217190508,-1.655629139072845E-2]
["2022-01-11",13.4,13.6,11.4,11.8,11.8,1034962025,-0.20538720538720534]
["2022-01-12",12.2,13.5,12,12.8,12.8,856995853,8.4745762711864403E-2]
["2022-01-13",13.15,13.25,12.6,12.8,12.8,258126625,0]
["2022-01-14",12.85,13,12.7,12.75,12.75,158830431,-3.90625E-3]
["2022-01-17",12.8,12.95,12.45,12.5,12.5,172004314,-1.9607843137254943E-2]
["2022-01-18",12.6,12.6,12,12.05,12.05,179807332,-3.5999999999999921E-2]
["2022-01-19",11.85,12.05,11.6,11.95,11.95,229377462,-8.2987551867220732E-3]
["2022-01-20",11.9,12.35,11.85,12.05,12.05,124495401,8.3682008368202165E-3]
["2022-01-21",11.85,12.25,11.75,11.85,11.85,169930902,-1.6597510373444035E-2]
["2022-01-24",11.4,11.85,10.75,10.95,10.95,345228541,-7.5949367088607667E-2]
["2022-01-25",10.8,11.5,10.8,11.3,11.3,385767954,3.1963470319634757E-2]
["2022-01-27",11,11.2,10.6,10.65,10.65,330017669,-5.7522123893805288E-2]
["2022-01-28",10.9,11.3,10.7,10.8,10.8,307103764,1.4084507042253502E-2]
["2022-01-31",11,11.05,10.5,10.65,10.65,242691613,-1.3888888888888951E-2]
["2022-02-01",10.85,11.25,10.65,10.7,10.7,271565319,4.6948356807510194E-3]
["2022-02-02",11,11.95,10.9,11.4,11.4,441251145,6.542056074766367E-2]
["2022-02-03",11.4,11.65,11.1,11.35,11.35,191781527,-4.3859649122807154E-3]
["2022-02-04",11.35,11.85,11.2,11.3,11.3,303446679,-4.405286343612258E-3]
["2022-02-07",11.25,11.4,10.85,10.95,10.95,165475780,-3.0973451327433787E-2]
["2022-02-08",11.1,11.2,10.8,10.85,10.85,158896027,-9.1324200913242004E-3]
["2022-02-09",11,11.15,10.7,10.8,10.8,172831139,-4.6082949308754451E-3]
["2022-02-10",10.9,11.45,10.65,11.15,11.15,258923751,3.240740740740744E-2]
["2022-02-11",11,11.15,10.75,10.8,10.8,145093038,-3.1390134529147962E-2]
["2022-02-14",10.6,10.65,10.1,10.15,10.15,216331897,-6.018518518518523E-2]
["2022-02-15",10.25,10.8,10,10.65,10.65,236971182,4.9261083743842304E-2]
["2022-02-16",10.65,11,10.5,10.6,10.6,217431751,-4.6948356807512415E-3]
["2022-02-17",10.65,10.75,10.4,10.55,10.55,129366952,-4.7169811320754151E-3]
["2022-02-18",10.6,11,10.5,10.65,10.65,184511485,9.4786729857818663E-3]
["2022-02-21",10.55,11.65,10.4,11.25,11.25,448511464,5.6338028169014009E-2]
["2022-02-22",10.9,11.15,10.7,10.9,10.9,227160056,-3.1111111111111089E-2]
["2022-02-23",11.05,11.1,10.65,10.7,10.7,183591222,-1.8348623853211121E-2]
["2022-02-24",10.6,10.8,9.4499999999999993,9.65,9.65,487108695,-9.8130841121495282E-2]
["2022-02-25",9.9499999999999993,10.5,9.9,10.25,10.25,247443030,6.2176165803108807E-2]
["2022-02-28",10.35,10.7,10,10.3,10.3,306658932,4.8780487804878092E-3]
["2022-03-02",10.25,10.6,10.050000000000001,10.45,10.45,217653897,1.4563106796116276E-2]
["2022-03-03",10.7,11.25,10.55,11.1,11.1,395142363,6.2200956937799035E-2]
["2022-03-04",11.3,11.35,10.199999999999999,10.35,10.35,500785414,-6.7567567567567544E-2]
["2022-03-07",10,10.15,9.35,9.5500000000000007,9.5500000000000007,339965364,-7.7294685990338063E-2]
["2022-03-08",9.65,10.050000000000001,9.6,9.9,9.9,197754813,3.6649214659685736E-2]
["2022-03-09",10,10.4,9.9499999999999993,10.3,10.3,199472650,{"$f":"(F708/F707)-1","v":4.0404040404040442E-2}]
["2022-03-10",10.5,10.6,10.15,10.25,10.25,186424639,-4.8543689320389438E-3]
["2022-03-11",10.25,10.6,10.15,10.4,10.4,174683164,1.4634146341463428E-2]
["2022-03-14",10.35,10.55,10.15,10.199999999999999,10.199999999999999,145345741,-1.9230769230769384E-2]
["2022-03-15",10.199999999999999,10.5,9.9,10,10,252176614,-1.9607843137254832E-2]
["2022-03-16",10.199999999999999,10.35,10.1,10.3,10.3,110948916,3.0000000000000027E-2]
["2022-03-17",10.45,10.5,10.199999999999999,10.25,10.25,103325255,-4.8543689320389438E-3]
["2022-03-21",10.35,10.35,10,10.050000000000001,10.050000000000001,149816155,-1.9512195121951126E-2]
["2022-03-22",10.1,10.15,9.9499999999999993,10.050000000000001,10.050000000000001,104914784,0]
["2022-03-23",10.1,10.199999999999999,9.9499999999999993,10,10,128567672,-4.9751243781095411E-3]
["2022-03-24",10,10.3,9.9499999999999993,10.15,10.15,138075385,1.5000000000000124E-2]
["2022-03-25",10.199999999999999,10.3,10.050000000000001,10.1,10.1,64143373,-4.9261083743843415E-3]
["2022-03-28",10.15,10.199999999999999,9.9,9.9499999999999993,9.9499999999999993,122293544,-1.4851485148514865E-2]
["2022-03-29",10,10.15,9.6999999999999993,9.85,9.85,203159086,-1.005025125628134E-2]
["2022-03-30",9.85,10,9.75,9.85,9.85,119727635,0]
["2022-03-31",9.9,10.050000000000001,9.6,9.65,9.65,300299605,-2.0304568527918732E-2]
["2022-04-01",9.65,10.3,9.6,10.1,10.1,289713459,4.663212435233155E-2]
["2022-04-04",10.199999999999999,10.45,10.050000000000001,10.25,10.25,216401604,1.4851485148514865E-2]
["2022-04-05",10.25,10.55,10.25,10.35,10.35,150340411,9.7560975609756184E-3]
["2022-04-06",10.35,11.05,10.3,10.8,10.8,377709026,4.347826086956541E-2]
["2022-04-07",10.7,11.15,10.55,10.9,10.9,231561178,9.2592592592593004E-3]
["2022-04-08",10.95,11.55,10.8,11.2,11.2,414858819,2.7522935779816349E-2]
["2022-04-11",11.25,11.45,10.8,10.85,10.85,212303273,-3.125E-2]
["2022-04-12",10.9,11,10.45,10.6,10.6,174071705,-2.3041474654377891E-2]
["2022-04-13",10.65,10.75,10.3,10.4,10.4,132504775,-1.8867924528301772E-2]
["2022-04-18",10.3,10.35,10,10.1,10.1,124221099,-2.8846153846153966E-2]
["2022-04-19",10.15,10.25,9.8000000000000007,9.9,9.9,127572854,-1.9801980198019709E-2]
["2022-04-20",9.9499999999999993,10.15,9.85,10,10,108663665,1.0101010101010166E-2]
["2022-04-21",10,10.15,9.9499999999999993,10,10,91823510,0]
["2022-04-22",9.9,10.15,9.9,9.9499999999999993,9.9499999999999993,65127833,-5.0000000000001155E-3]
["2022-04-25",9.9,10,9.6999999999999993,9.8000000000000007,9.8000000000000007,134926969,-1.5075376884421954E-2]
["2022-04-26",9.9,10.1,9.8000000000000007,10,10,150464634,2.0408163265306145E-2]
["2022-04-27",9.9,9.9499999999999993,9.5,9.6,9.6,181426424,-4.0000000000000036E-2]
["2022-04-28",9.75,9.8000000000000007,9.4499999999999993,9.5500000000000007,9.5500000000000007,118941136,-5.2083333333332593E-3]
["2022-04-29",9.65,9.75,9.4499999999999993,9.5,9.5,90289428,-5.2356020942408987E-3]
["2022-05-02",9.4499999999999993,9.5500000000000007,9.25,9.3000000000000007,9.3000000000000007,77360700,-2.1052631578947323E-2]
["2022-05-04",9.3000000000000007,9.5500000000000007,9.0500000000000007,9.1,9.1,123823307,-2.1505376344086113E-2]

{"sheet":"SUNPHARMA","index":7,"n_rows":744,"n_cols":11,"rows_kept":744,"cut":false,"hidden":false,"merged":[]}
["Date","Open","High","Low","Close","Adj Close","Volume"," Daily Returns"]
["2019-05-06",448,455.89999399999999,446.45001200000002,453.14999399999999,437.66570999999999,3104707,null,null,"Statistic","Value"]
["2019-05-07",456,456,446.45001200000002,448.20001200000002,432.88494900000001,4189396,{"$f":"(F3/F2)-1","v":-1.0923316336571065E-2},null,"Variance ",{"$f":"_xlfn.VAR.P(H3:H744)","v":4.0428106744720541E-4}]
["2019-05-08",447.75,449.85000600000001,433.45001200000002,439.14999399999999,424.14410400000003,4885249,{"$f":"(F4/F3)-1","v":-2.0192074176272556E-2},null,"Average Daily Return",{"$f":"AVERAGE(H3:H744)","v":1.1746707272071541E-3}]
["2019-05-09",436,442.70001200000002,431.54998799999998,439.35000600000001,424.337311,3550114,4.555220694519857E-4]
["2019-05-10",437,442.64999399999999,434.45001200000002,437.75,422.79196200000001,3482485,-3.6417938275523642E-3,null,"Annualised Daily Return",{"$f":"Daily_Annualise(K4)","v":0.34425949220738139}]
["2019-05-13",437.75,437.75,344.54998799999998,398.10000600000001,384.496826,24079258,-9.0576783481990608E-2,null,"Annualised Variance",{"$f":"Daily_Annualise(K3)","v":0.10722650095354114}]
["2019-05-14",406.04998799999998,424.5,403.25,419.45001200000002,405.11734000000001,18797497,5.3629867935502729E-2,null,"3-year CAGR",{"$f":"CAGR_3(F2,F744)","v":0.27207102017858498}]
["2019-05-15",420,424.5,407.10000600000001,409.75,395.74874899999998,7581005,-2.3125623307064691E-2]
["2019-05-16",411.5,419.60000600000001,379.04998799999998,412.39999399999999,398.30819700000001,25156049,6.4673558829115851E-3]
["2019-05-17",409.04998799999998,416,401.70001200000002,409.10000600000001,395.12100199999998,7747301,-8.0018313055204571E-3]
["2019-05-20",420,429,410.20001200000002,413.5,399.37057499999997,3809738,1.0755117998004993E-2]
["2019-05-21",414.20001200000002,423.75,405.64999399999999,408.85000600000001,394.87951700000002,6228488,-1.1245340245710223E-2]
["2019-05-22",409,423.54998799999998,408,421.20001200000002,406.807526,7277731,3.020670479598464E-2]
["2019-05-23",425,427,410.20001200000002,412.95001200000002,398.83944700000001,5906044,-1.9586852481190298E-2]
["2019-05-24",416.70001200000002,418,411.64999399999999,415.75,401.54373199999998,3010407,6.7803849903542712E-3]
["2019-05-27",416.95001200000002,421.5,411.54998799999998,414.85000600000001,400.67450000000002,3886561,-2.1647256095133072E-3]
["2019-05-28",417,420.5,410.20001200000002,412.75,398.64623999999998,7987111,-5.0621140102503626E-3]
["2019-05-29",418.04998799999998,427.79998799999998,403.54998799999998,423.79998799999998,409.31866500000001,28086149,2.6771668534989912E-2]
["2019-05-30",421.25,422.70001200000002,411.20001200000002,412.75,398.64623999999998,9082367,-2.6073633852001454E-2]
["2019-05-31",414.79998799999998,417.10000600000001,406.04998799999998,409.85000600000001,395.84536700000001,5643400,-7.0259611629598373E-3]
["2019-06-03",411,418.60000600000001,407.5,416.79998799999998,402.55783100000002,4611475,1.6957288273630411E-2]
["2019-06-04",414.79998799999998,417.89999399999999,409.10000600000001,411.14999399999999,397.10092200000003,3279047,-1.3555590227730563E-2]
["2019-06-06",411.25,413.5,402.60000600000001,404.14999399999999,390.34011800000002,3483633,-1.7025404942273115E-2]
["2019-06-07",405,406.89999399999999,395.10000600000001,399.25,385.60754400000002,4668474,-1.2124231616899794E-2]
["2019-06-10",402,405.79998799999998,394.04998799999998,402.04998799999998,388.31185900000003,4966075,7.0131278344491843E-3]
["2019-06-11",396,397.79998799999998,384,389.95001200000002,376.625336,13833555,-3.0095714898060844E-2]
["2019-06-12",391,397,385.25,391.39999399999999,378.02581800000002,7739283,3.7185018269720871E-3]
["2019-06-13",391,393.75,385.39999399999999,389.75,376.43215900000001,4090663,-4.2157411587163685E-3]
["2019-06-14",390,394.85000600000001,376.54998799999998,392.54998799999998,379.13647500000002,9786375,7.1840727083043454E-3]
["2019-06-17",391.70001200000002,394.5,379.85000600000001,382.89999399999999,369.81616200000002,6558933,-2.4583002730085513E-2]
["2019-06-18",381.39999399999999,385.60000600000001,374.29998799999998,378.45001200000002,365.51828,3761637,-1.1621671634783781E-2]
["2019-06-19",380,382.10000600000001,368.14999399999999,375.20001200000002,362.37930299999999,7197444,-8.5877428619985929E-3]
["2019-06-20",368,392.20001200000002,368,390.5,377.15652499999999,8109029,4.0778327784354751E-2]
["2019-06-21",388.89999399999999,391.70001200000002,381.04998799999998,382.79998799999998,369.71963499999998,5389874,-1.9718311913071163E-2]
["2019-06-24",381.79998799999998,385.39999399999999,377.5,383.45001200000002,370.34741200000002,3702836,1.6979812283977047E-3]
["2019-06-25",382.5,387.5,377.54998799999998,385.75,372.568848,4480306,5.9982490170606972E-3]
["2019-06-26",385,403.54998799999998,384.64999399999999,399.45001200000002,385.80068999999997,9571797,3.5515159335060664E-2]
["2019-06-27",399.04998799999998,405.39999399999999,394.75,402.79998799999998,389.03619400000002,7651785,8.3864650423512987E-3]
["2019-06-28",404.89999399999999,409.79998799999998,398.14999399999999,400.95001200000002,387.24945100000002,7283442,-4.5927423400610179E-3]
["2019-07-01",402,406.5,401.5,405.35000600000001,391.49911500000002,2254468,1.0973970367229802E-2]
["2019-07-02",404.85000600000001,407,391.14999399999999,395.54998799999998,382.03396600000002,5539613,-2.4176680450478161E-2]
["2019-07-03",397.39999399999999,399.14999399999999,393.10000600000001,395.70001200000002,382.178833,2683086,3.7919926732365994E-4]
["2019-07-04",396.70001200000002,398.04998799999998,391.20001200000002,392.10000600000001,378.701843,3308295,-9.0978089307212073E-3]
["2019-07-05",393.5,394.39999399999999,373.39999399999999,375.25,362.42761200000001,5446432,-4.2973730655966214E-2]
["2019-07-08",375,380.89999399999999,365.39999399999999,366.79998799999998,354.26635700000003,7355520,-2.2518303599892375E-2]
["2019-07-09",367,395,367,386.39999399999999,373.19665500000002,15428006,5.3435212308347912E-2]
["2019-07-10",386,397.35000600000001,380.60000600000001,392.20001200000002,378.79843099999999,10202064,1.5010252436480132E-2]
["2019-07-11",394.89999399999999,400.35000600000001,390.29998799999998,398.14999399999999,384.54510499999998,7759443,1.5170796734371939E-2]
["2019-07-12",400.5,411.5,397.35000600000001,407.70001200000002,393.76886000000002,13549864,2.3986145916484958E-2]
["2019-07-15",416.25,427.70001200000002,413.64999399999999,422.95001200000002,408.49774200000002,18269604,3.7404892809451695E-2]
["2019-07-16",420.79998799999998,435,418.64999399999999,433.29998799999998,418.49408,8630766,2.447097492156991E-2]
["2019-07-17",433,436.29998799999998,428.10000600000001,430.04998799999998,415.35504200000003,6500759,-7.5007942764685476E-3]
["2019-07-18",430.04998799999998,432.89999399999999,424.64999399999999,426.20001200000002,411.63665800000001,4711395,-8.9523025460228611E-3]
["2019-07-19",427,429.39999399999999,416.04998799999998,421.35000600000001,406.95236199999999,5104476,-1.1379686208607853E-2]
["2019-07-22",419.10000600000001,443.29998799999998,419,430.25,415.54827899999998,10420113,2.1122661526657982E-2]
["2019-07-23",431,435.5,427.10000600000001,430.25,415.54827899999998,6698368,0]
["2019-07-24",430,432.45001200000002,421.70001200000002,425.54998799999998,411.00882000000001,5319256,-1.0924023102499625E-2]
["2019-07-25",425.79998799999998,439.70001200000002,425.54998799999998,437.14999399999999,422.21249399999999,11412685,2.7258962471900183E-2]
["2019-07-26",437,442.20001200000002,433.10000600000001,439.95001200000002,424.91683999999998,5094438,6.4051775786624354E-3]
["2019-07-29",440,441.70001200000002,429.20001200000002,431.04998799999998,416.32095299999997,4448863,-2.0229574803389827E-2]
["2019-07-30",430,441.29998799999998,405,410.35000600000001,396.32824699999998,9461831,-4.8022339149478288E-2]
["2019-07-31",410,428.79998799999998,409,426.75,412.16787699999998,7746831,3.99659376284629E-2]
["2019-08-01",424.79998799999998,427.75,418,425.10000600000001,410.57424900000001,3635110,-3.8664536683433726E-3]
["2019-08-02",422.89999399999999,426.5,417.35000600000001,420.64999399999999,406.27630599999998,3490912,-1.0468126070907191E-2]
["2019-08-05",417.64999399999999,423.75,411.04998799999998,417.14999399999999,402.89587399999999,4784904,-8.3205246037655334E-3]
["2019-08-06",416,422.45001200000002,414.5,418.20001200000002,403.90997299999998,3204070,2.5170250316337572E-3]
["2019-08-07",421,429,418.10000600000001,421.04998799999998,406.662598,5431353,{"$f":"(F68/F67)-1","v":6.8149468545062319E-3}]
["2019-08-08",424,428.20001200000002,418.14999399999999,426.45001200000002,411.87808200000001,3157083,1.2825088969701692E-2]
["2019-08-09",428,430.35000600000001,418.45001200000002,422,407.58013899999997,3434604,-1.0434988380857879E-2]
["2019-08-13",421.5,444.5,420.75,439.25,424.240723,13211835,4.0876829869278763E-2]
["2019-08-14",440,441,408.04998799999998,417.14999399999999,402.89587399999999,16173302,-5.03130601161077E-2]
["2019-08-16",419.39999399999999,421.39999399999999,410,414.70001200000002,400.52960200000001,6536156,-5.8731601704116176E-3]
["2019-08-19",424.75,434.20001200000002,421,426,411.443512,11584821,2.7248697588149851E-2]
["2019-08-20",426,426.5,417.29998799999998,420.89999399999999,409.15902699999998,5151625,-5.5523660803284969E-3]
["2019-08-21",421,425.85000600000001,413.60000600000001,417,405.36782799999997,5120294,-9.2658324754497645E-3]
["2019-08-22",416.70001200000002,420.75,408.5,414.54998799999998,402.986176,5299316,-5.8752861857600536E-3]
["2019-08-23",415,429.95001200000002,408.89999399999999,427.79998799999998,415.86654700000003,5479802,3.196231475692124E-2]
["2019-08-26",428,429.79998799999998,415.10000600000001,419.35000600000001,407.65228300000001,6258106,-1.9752163426600466E-2]
["2019-08-27",424.04998799999998,425.45001200000002,415.10000600000001,416.75,405.12478599999997,6738413,-6.2001296335191247E-3]
["2019-08-28",416.89999399999999,421.70001200000002,411.5,413.10000600000001,401.57663000000002,3441725,-8.7581804979958155E-3]
["2019-08-29",428,438.60000600000001,421.10000600000001,434.64999399999999,422.52548200000001,19967263,5.2166511781325475E-2]
["2019-08-30",432.95001200000002,453.39999399999999,429.75,450.39999399999999,437.83609000000001,12308149,3.6235939966337893E-2]
["2019-09-03",450,456,434.29998799999998,439.35000600000001,427.09439099999997,9396440,-2.4533607999285834E-2]
["2019-09-04",424.54998799999998,429.45001200000002,401.29998799999998,426.45001200000002,414.55419899999998,33952423,-2.9361640574670944E-2]
["2019-09-05",428,433.95001200000002,423.35000600000001,431.79998799999998,419.75494400000002,8793166,1.2545392164752922E-2]
["2019-09-06",416.70001200000002,427.20001200000002,414.45001200000002,425.10000600000001,413.24188199999998,12513040,-1.5516343745554662E-2]
["2019-09-09",426,432.5,426,428.79998799999998,416.83865400000002,5488753,8.7037934843208209E-3]
["2019-09-11",432,435,421.25,422.20001200000002,410.422821,7742635,-1.5391645996438719E-2]
["2019-09-12",424.75,439.79998799999998,419.45001200000002,427.79998799999998,415.86654700000003,9896642,1.3263702020117618E-2]
["2019-09-13",430.45001200000002,432.85000600000001,421.10000600000001,422.85000600000001,411.05462599999998,6847742,-1.1570829716197495E-2]
["2019-09-16",421,429.5,419.95001200000002,426.79998799999998,414.89443999999997,5239616,9.3413715772170391E-3]
["2019-09-17",426.70001200000002,427.54998799999998,419.14999399999999,420.64999399999999,408.91601600000001,3367950,-1.440950618668202E-2]
["2019-09-18",423.89999399999999,424.60000600000001,414.25,416.79998799999998,405.17336999999998,3728621,-9.1526031105615413E-3]
["2019-09-19",416.79998799999998,418.89999399999999,408.20001200000002,411.14999399999999,399.68103000000002,4238714,-1.3555530562139206E-2]
["2019-09-20",413.89999399999999,420.79998799999998,408,413.70001200000002,402.15988199999998,11785529,6.2020756902072538E-3]
["2019-09-23",418,424.29998799999998,405.39999399999999,409.45001200000002,398.02847300000002,7342291,-1.0273051054853766E-2]
["2019-09-24",408,419.70001200000002,406.35000600000001,409.64999399999999,398.22287,5860106,4.8839973315173424E-4]
["2019-09-25",409.60000600000001,412.70001200000002,401.75,406.75,395.40371699999997,5031063,-7.0793347453902422E-3]
["2019-09-26",406.75,413,405.29998799999998,411.95001200000002,400.45871,5309789,1.2784384118473158E-2]
["2019-09-27",412,412.5,400.25,401.70001200000002,390.494598,3835936,-2.48817462354608E-2]
["2019-09-30",402.89999399999999,403,386.54998799999998,389.45001200000002,378.58633400000002,6674624,-3.0495336071204693E-2]
["2019-10-01",388.5,396.39999399999999,380.10000600000001,386.54998799999998,375.76724200000001,4308157,-7.4463649287457301E-3]
["2019-10-03",382,391.45001200000002,377.64999399999999,388.14999399999999,377.32260100000002,5216456,4.1391553764018596E-3]
["2019-10-04",389,394,384.20001200000002,386.04998799999998,375.28118899999998,4024033,-5.4102563551448046E-3]
["2019-10-07",386.04998799999998,387.64999399999999,372.60000600000001,379.89999399999999,369.30273399999999,5151963,-1.5930601307064141E-2]
["2019-10-09",378,387.75,374.20001200000002,383.95001200000002,373.239777,4991946,1.0660746963221834E-2]
["2019-10-10",385,389.79998799999998,378.70001200000002,387.04998799999998,376.253265,4581317,8.0738661463726213E-3]
["2019-10-11",387.39999399999999,389.35000600000001,381.5,386.29998799999998,375.52420000000001,4273739,-1.9376974708776862E-3]
["2019-10-14",387,399,387,394.64999399999999,383.64129600000001,4372357,2.1615373922639458E-2]
["2019-10-15",397.20001200000002,400,392.25,396.79998799999998,385.73129299999999,2892153,5.4477894371411928E-3]
["2019-10-16",398.04998799999998,402.20001200000002,394.25,399.70001200000002,388.55044600000002,5503380,7.3085929276679451E-3]
["2019-10-17",401.60000600000001,402.54998799999998,396.79998799999998,401.5,390.30020100000002,2934902,4.5032891301841627E-3]
["2019-10-18",401,406.5,397.5,401.64999399999999,390.44598400000001,4647037,3.7351505232763316E-4]
["2019-10-22",402,408,400.95001200000002,405.45001200000002,394.14004499999999,2944611,9.4611320166633206E-3]
["2019-10-23",405.60000600000001,411.35000600000001,403,405.20001200000002,393.89700299999998,3374975,-6.1663868739858518E-4]
["2019-10-24",405,407.75,398.70001200000002,405.95001200000002,394.62612899999999,3017220,1.85105749586012E-3]
["2019-10-25",405,419.5,401.04998799999998,417.5,405.85385100000002,4845146,2.8451542295112597E-2]
["2019-10-27",416.04998799999998,419.79998799999998,416.04998799999998,417.75,406.09689300000002,359071,5.9884118236452899E-4]
["2019-10-29",417.70001200000002,425.5,414,421.95001200000002,410.179779,3863059,1.0053970050935446E-2]
["2019-10-30",426.95001200000002,432.54998799999998,418.10000600000001,429.64999399999999,417.66497800000002,3511610,1.8248581191029567E-2]
["2019-10-31",429.60000600000001,440.54998799999998,428.79998799999998,433.39999399999999,421.31036399999999,6710116,8.7280145380059793E-3]
["2019-11-01",434.64999399999999,440.89999399999999,433.10000600000001,437.54998799999998,425.34457400000002,3545584,9.5753875164581448E-3]
["2019-11-04",439.95001200000002,442.39999399999999,433.64999399999999,437.95001200000002,425.733429,4646694,9.142117327209931E-4]
["2019-11-05",435.5,439.79998799999998,424.04998799999998,429.89999399999999,417.90802000000002,6719996,-1.8381006674484057E-2]
["2019-11-06",432.39999399999999,452.89999399999999,422.10000600000001,427.89999399999999,415.96374500000002,15917528,-4.6523993485456661E-3]
["2019-11-07",431.70001200000002,444,423.39999399999999,440.60000600000001,428.30950899999999,14294406,2.9679903954129339E-2]
["2019-11-08",442,442.5,420.85000600000001,422.10000600000001,410.32556199999999,11902470,-4.1988203908870037E-2]
["2019-11-11",415,423.29998799999998,407.10000600000001,421.45001200000002,409.69369499999999,10249882,-1.5399162482594431E-3]
["2019-11-13",420,426.89999399999999,410,412,400.50735500000002,6033467,-2.2422458807914936E-2]
["2019-11-14",413.20001200000002,417.35000600000001,407.54998799999998,410.20001200000002,398.75753800000001,4750176,-4.3690009138533936E-3]
["2019-11-15",412.75,418.89999399999999,410.14999399999999,415.04998799999998,403.47222900000003,5416931,{"$f":"(F132/F131)-1","v":1.1823452977583582E-2}]
["2019-11-18",418,430,417.04998799999998,424.54998799999998,412.707245,7710740,2.288885166369159E-2]
["2019-11-19",425,429.89999399999999,421.60000600000001,425.89999399999999,414.01956200000001,4163853,3.1797769869534864E-3]
["2019-11-20",427.20001200000002,460.60000600000001,423.85000600000001,450,437.44729599999999,23107507,5.6586055709126004E-2]
["2019-11-21",450,454.45001200000002,443.60000600000001,447.14999399999999,434.67681900000002,7480460,-6.3332818040781058E-3]
["2019-11-22",450,461.89999399999999,445.10000600000001,452.10000600000001,439.48873900000001,12114721,1.1070109538093398E-2]
["2019-11-25",453,463.89999399999999,450,458.95001200000002,446.14767499999999,8251208,1.5151550902422484E-2]
["2019-11-26",463.79998799999998,467.39999399999999,446.5,450.75,438.17639200000002,11278843,-1.7866915926436189E-2]
["2019-11-27",449.95001200000002,461,447.54998799999998,458.75,445.95324699999998,6481012,1.7748229119564085E-2]
["2019-11-28",456.20001200000002,462.39999399999999,455.14999399999999,457.35000600000001,444.59231599999998,4005893,-3.0517347034810793E-3]
["2019-11-29",458.39999399999999,460.54998799999998,447.45001200000002,449.85000600000001,437.30148300000002,3198828,-1.6398918149543418E-2]
["2019-12-02",449,449.60000600000001,437,440,427.72622699999999,4933088,-2.1896234913980406E-2]
["2019-12-03",441.39999399999999,442.20001200000002,430.5,433.60000600000001,421.50476099999997,3602073,-1.4545439599615739E-2]
["2019-12-04",433.5,444.70001200000002,431.70001200000002,443.70001200000002,431.32308999999998,4318531,2.3293518622913068E-2]
["2019-12-05",440,441.95001200000002,433.25,436.70001200000002,424.51828,4096921,-1.5776595683759886E-2]
["2019-12-06",440.29998799999998,444.20001200000002,427,428.60000600000001,416.64425699999998,5805588,-1.8548136490141309E-2]
["2019-12-09",431.85000600000001,434.60000600000001,423.60000600000001,427,415.08886699999999,4959765,-3.7331367800420567E-3]
["2019-12-10",429.60000600000001,435.75,425.29998799999998,427.64999399999999,415.72073399999999,5578960,1.5222451148033667E-3]
["2019-12-11",429.10000600000001,431.89999399999999,425.14999399999999,429.79998799999998,417.81076000000002,3322986,5.0274759689998838E-3]
["2019-12-12",430.89999399999999,437.89999399999999,430.25,434.14999399999999,422.03942899999998,2794856,1.0121015073905726E-2]
["2019-12-13",437.60000600000001,441.89999399999999,425.60000600000001,439.25,426.997162,5386394,1.1747084891445159E-2]
["2019-12-16",431.25,437.20001200000002,426.39999399999999,435.14999399999999,423.01153599999998,8290756,-9.3340807731177033E-3]
["2019-12-17",434,437.5,426.25,429.04998799999998,417.08169600000002,6407264,-1.4018151977774784E-2]
["2019-12-18",430,441.39999399999999,427.29998799999998,439.75,427.48324600000001,5341984,2.4938879120698587E-2]
["2019-12-19",439.79998799999998,440.60000600000001,427.5,433.60000600000001,421.50476099999997,6465219,-1.3985308327147949E-2]
["2019-12-20",429.14999399999999,436.70001200000002,428.04998799999998,430.29998799999998,418.29681399999998,7157364,-7.6107016973884223E-3]
["2019-12-23",427.10000600000001,432,426.60000600000001,428.39999399999999,416.44982900000002,4534617,-4.4154890455367912E-3]
["2019-12-24",428,432.45001200000002,425.39999399999999,429.79998799999998,417.81076000000002,4210004,3.2679350673956442E-3]
["2019-12-26",430.89999399999999,431.39999399999999,420.64999399999999,422.14999399999999,410.374146,5296867,-1.7799000676765764E-2]
["2019-12-27",422,427.14999399999999,421.39999399999999,426,414.11679099999998,3413181,9.1200798989905518E-3]
["2019-12-30",428.95001200000002,433.5,426.70001200000002,430.14999399999999,418.15100100000001,4758825,9.741720422053568E-3]
["2019-12-31",430.10000600000001,435.39999399999999,428.70001200000002,432.54998799999998,420.48400900000001,2957369,5.579343333916853E-3]
["2020-01-01",432.95001200000002,436.45001200000002,431.25,434.29998799999998,422.185181,2321850,4.045747195109195E-3]
["2020-01-02",434,442.60000600000001,432,434.95001200000002,422.817139,4555670,1.4968739511489471E-3]
["2020-01-03",434.64999399999999,450.39999399999999,433.04998799999998,444.60000600000001,432.197968,9457180,2.2186491829982335E-2]
["2020-01-06",440.89999399999999,444.70001200000002,435.10000600000001,439.95001200000002,427.67764299999999,4794923,-1.0458922379755431E-2]
["2020-01-07",441.39999399999999,448,437.54998799999998,446.39999399999999,433.947723,4504083,1.4660761680263867E-2]
["2020-01-08",442.95001200000002,446.5,439,440.10000600000001,427.82345600000002,3881918,-1.4112914241515617E-2]
["2020-01-09",442.70001200000002,444.85000600000001,439,439.85000600000001,427.58047499999998,3934566,-5.6794688695149809E-4]
["2020-01-10",440.10000600000001,449,440,443.60000600000001,431.22582999999997,4334013,8.5255413030729255E-3]
["2020-01-13",447,453.64999399999999,442.54998799999998,444.60000600000001,432.197968,4823348,2.2543593921542371E-3]
["2020-01-14",447,449.5,444.39999399999999,446,433.558899,2708589,3.1488602463767279E-3]
["2020-01-15",447.60000600000001,450.70001200000002,443.64999399999999,449.04998799999998,436.52380399999998,3054107,6.8385287600796207E-3]
["2020-01-16",452.25,456.35000600000001,447.39999399999999,449.04998799999998,436.52380399999998,4416809,0]
["2020-01-17",448.20001200000002,456.25,446,454.60000600000001,441.91900600000002,3216737,1.2359468030293419E-2]
["2020-01-20",454.20001200000002,456.20001200000002,446.14999399999999,449.45001200000002,436.912689,2824739,-1.1328584948889997E-2]
["2020-01-21",448,451.75,446,447.39999399999999,434.91980000000001,2573651,-4.5612980583403795E-3]
["2020-01-22",448.39999399999999,453.85000600000001,445.35000600000001,446.29998799999998,433.85049400000003,3412716,-2.4586280045194586E-3]
["2020-01-23",447.20001200000002,452.20001200000002,445,449.85000600000001,437.30148300000002,1875787,7.9543276951989927E-3]
["2020-01-24",450,452.85000600000001,446.79998799999998,447.79998799999998,435.30862400000001,2153164,-4.5571741177927727E-3]
["2020-01-27",447,451.75,442.20001200000002,448.39999399999999,435.89193699999998,3530914,1.3399987223776666E-3]
["2020-01-28",448.25,462.5,448.04998799999998,452.89999399999999,440.26641799999999,9487290,1.0035700660367963E-2]
["2020-01-29",454.85000600000001,456.75,449.45001200000002,450.10000600000001,437.54449499999998,3103817,-6.1824451939007652E-3]
["2020-01-30",451.5,453.75,440.29998799999998,442.10000600000001,429.76769999999999,3486193,-1.7773723790079909E-2]
["2020-01-31",442.60000600000001,445.39999399999999,432.64999399999999,434.29998799999998,422.185181,3757229,-1.7643296599535008E-2]
["2020-02-03",423.79998799999998,428.89999399999999,414,417.54998799999998,405.90249599999999,4032780,-3.8567637455754311E-2]
["2020-02-04",416.95001200000002,426.89999399999999,412.85000600000001,425.64999399999999,413.77652,4848610,1.9398806554764336E-2]
["2020-02-05",429.5,431.39999399999999,421.89999399999999,426.25,414.359802,3826307,1.4096546609265737E-3]
["2020-02-06",428.20001200000002,438,424,430.64999399999999,418.63708500000001,7745520,1.0322630186023751E-2]
["2020-02-07",432,441.75,423.20001200000002,430.79998799999998,418.78289799999999,7402556,3.483040686660388E-4]
["2020-02-10",428.54998799999998,432.75,418.29998799999998,420.29998799999998,408.57577500000002,3638523,-2.4373304279488472E-2]
["2020-02-11",422,424.70001200000002,416.79998799999998,418.54998799999998,406.874573,4683072,-4.1637368245829309E-3]
["2020-02-12",418.79998799999998,421.29998799999998,414,414.60000600000001,403.03482100000002,4439987,-9.4371883985976401E-3]
["2020-02-13",414.60000600000001,420.10000600000001,412,418.95001200000002,407.26345800000001,3924569,1.0491989226905973E-2]
["2020-02-14",420,424.75,416.5,418.54998799999998,406.874573,2862205,{"$f":"(F196/F195)-1","v":-9.5487329481946936E-4}]
["2020-02-17",416.20001200000002,418.5,407.29998799999998,408.39999399999999,399.87387100000001,2625157,-1.7206044477987015E-2]
["2020-02-18",407,410.85000600000001,399.04998799999998,408.64999399999999,400.11859099999998,4187206,6.1199297515490692E-4]
["2020-02-19",410.39999399999999,414.20001200000002,400.60000600000001,403.54998799999998,395.12506100000002,5910512,-1.2480124923762825E-2]
["2020-02-20",403.85000600000001,411.5,403.54998799999998,404.95001200000002,396.49591099999998,4000525,3.4694078794459404E-3]
["2020-02-24",406.5,414.64999399999999,395.79998799999998,397.85000600000001,389.54409800000002,12668574,-1.7533126590049353E-2]
["2020-02-25",402.39999399999999,402.39999399999999,385.29998799999998,388.89999399999999,380.78094499999997,10050971,-2.2495920346353282E-2]
["2020-02-26",385.10000600000001,386.95001200000002,372.5,374.70001200000002,366.87738000000002,12146582,-3.6513289812860616E-2]
["2020-02-27",375,390.70001200000002,369.45001200000002,388.5,380.389343,15164166,3.6829643190321448E-2]
["2020-02-28",379.64999399999999,385.60000600000001,371.10000600000001,372.89999399999999,365.11496,8439591,-4.0154602859102662E-2]
["2020-03-02",378,383.64999399999999,363.35000600000001,369.5,361.78598,6915567,-9.1176214746172546E-3]
["2020-03-03",374,396.39999399999999,373.25,393.54998799999998,385.33389299999999,14474553,6.5087964436875145E-2]
["2020-03-04",398,412.89999399999999,387.35000600000001,405.45001200000002,396.98547400000001,26369149,3.0237623037224104E-2]
["2020-03-05",409.95001200000002,414.79998799999998,401.75,404.89999399999999,396.44689899999997,9874059,-1.3566617301469241E-3]
["2020-03-06",390.04998799999998,403.20001200000002,390.04998799999998,400.89999399999999,392.53042599999998,6500912,-9.8789346312934123E-3]
["2020-03-09",396.04998799999998,403.89999399999999,385.54998799999998,393.35000600000001,385.13809199999997,13151861,-1.8832512106972343E-2]
["2020-03-11",394.39999399999999,395.25,380.04998799999998,385.95001200000002,377.89257800000001,9127352,-1.8812769109319727E-2]
["2020-03-12",365.5,372.70001200000002,346.39999399999999,354.79998799999998,347.392853,11662910,-8.0710039772202147E-2]
["2020-03-13",341,402.95001200000002,325,384.20001200000002,376.17910799999999,15802632,8.2863693802013749E-2]
["2020-03-16",376,396.39999399999999,362.79998799999998,368.54998799999998,360.855774,14480298,-4.0734144119454863E-2]
["2020-03-17",376,395.60000600000001,364.20001200000002,370.14999399999999,362.422394,12903597,4.3414020583192325E-3]
["2020-03-18",383.39999399999999,386.39999399999999,355.10000600000001,362.75,355.17687999999998,12342300,-1.9991904804867011E-2]
["2020-03-19",351.70001200000002,374.45001200000002,347.64999399999999,360.39999399999999,352.875946,8728092,-6.4782764013242566E-3]
["2020-03-20",365.20001200000002,379.5,362.20001200000002,365.25,357.62469499999997,10630619,1.3457276002598384E-2]
["2020-03-23",345,354.70001200000002,315.04998799999998,324.5,317.72543300000001,8018903,-0.11156741287119443]
["2020-03-24",330,348,330,335.14999399999999,328.153076,6408582,3.2819667288013443E-2]
["2020-03-25",332,350.79998799999998,329.54998799999998,347.64999399999999,340.39209,6174391,3.7296660903461953E-2]
["2020-03-26",365,368,336.10000600000001,338.29998799999998,331.23733499999997,11670467,-2.6894734833585621E-2]
["2020-03-27",347,352.5,333,338.25,331.18838499999998,7745135,-1.4777923509134983E-4]
["2020-03-30",321.64999399999999,344,312,332.70001200000002,325.75427200000001,11648241,-1.6407921431181749E-2]
["2020-03-31",340.10000600000001,355,328.25,352.29998799999998,344.94503800000001,9954142,5.8911786120797283E-2]
["2020-04-01",353,355.25,338.39999399999999,343.54998799999998,336.37771600000002,6702159,-2.4836774141392293E-2]
["2020-04-03",343.95001200000002,389.79998799999998,340,375.95001200000002,368.10128800000001,28550430,9.430937452467858E-2]
["2020-04-07",398,422.85000600000001,388.29998799999998,417.35000600000001,408.637024,29675052,0.11012114687303121]
["2020-04-08",419,448.75,413.14999399999999,436.70001200000002,427.58303799999999,27810872,4.6363919290876465E-2]
["2020-04-09",454.39999399999999,473.89999399999999,443.39999399999999,454.45001200000002,444.96249399999999,31862948,4.0645803166775796E-2]
["2020-04-13",462.95001200000002,477.89999399999999,443.10000600000001,462.35000600000001,452.69754,30510226,1.7383590986435049E-2]
["2020-04-15",474.89999399999999,488.5,444.10000600000001,449.20001200000002,439.82208300000002,32508955,-2.8441632353469304E-2]
["2020-04-16",450,467.60000600000001,449.20001200000002,463.70001200000002,454.01934799999998,16932965,3.2279563825357016E-2]
["2020-04-17",476.95001200000002,476.95001200000002,448.45001200000002,457.10000600000001,447.55712899999997,19774082,-1.4233355975833861E-2]
["2020-04-20",457.35000600000001,475,450.54998799999998,473.39999399999999,463.51684599999999,17893064,3.565961966835296E-2]
["2020-04-21",467.85000600000001,490.70001200000002,464.25,473.14999399999999,463.272064,30021752,-5.2809731105218916E-4]
["2020-04-22",474.95001200000002,482.39999399999999,469,474.35000600000001,464.44699100000003,13336137,2.5361490391961894E-3]
["2020-04-23",476.95001200000002,487.85000600000001,474.35000600000001,477.45001200000002,467.48230000000001,13748820,6.5353184729750602E-3]
["2020-04-24",476.95001200000002,497,473.54998799999998,485.54998799999998,475.41317700000002,23394027,1.6965085095200338E-2]
["2020-04-27",491,504.79998799999998,487,489.89999399999999,479.672394,19310626,8.9589796960969359E-3]
["2020-04-28",495,495.39999399999999,470.29998799999998,473.95001200000002,464.05538899999999,12847910,-3.2557648085122071E-2]
["2020-04-29",476,484.95001200000002,473.14999399999999,477.64999399999999,467.67810100000003,10166496,7.8066370650422545E-3]
["2020-04-30",484,485,458.39999399999999,464.45001200000002,454.753693,18471206,-2.7635264452974706E-2]
["2020-05-04",464.45001200000002,474.5,458,465.45001200000002,455.73281900000001,16097066,2.1530908161311313E-3]
["2020-05-05",469.79998799999998,472.5,454,456.29998799999998,446.77383400000002,7850482,-1.9658415252292727E-2]
["2020-05-06",459.60000600000001,463,448,454.39999399999999,444.91351300000002,10829910,-4.1638987300227637E-3]
["2020-05-07",462,465.70001200000002,450.20001200000002,452.20001200000002,442.75943000000001,11216033,-4.8415769291323407E-3]
["2020-05-08",460,471.39999399999999,454.04998799999998,469,459.20871,13693803,3.7151732714083563E-2]
["2020-05-11",473.70001200000002,475.54998799999998,461.29998799999998,463.85000600000001,454.16626000000002,10294818,-1.0980736841859962E-2]
["2020-05-12",465,468.79998799999998,455.29998799999998,463.89999399999999,454.215149,9507971,1.0764560097431541E-4]
["2020-05-13",469,469.45001200000002,450.20001200000002,452.35000600000001,442.906342,10010310,-2.4897467697626241E-2]
["2020-05-14",453,462.95001200000002,448.79998799999998,455.95001200000002,446.43118299999998,11764703,7.9584342461278545E-3]
["2020-05-15",455.95001200000002,458.89999399999999,445.54998799999998,448.60000600000001,439.23464999999999,7863358,-1.6120139618472806E-2]
["2020-05-18",447,454.60000600000001,434.25,440.70001200000002,431.49954200000002,9067298,-1.7610423039256973E-2]
["2020-05-19",443.79998799999998,456,438.60000600000001,441.70001200000002,432.47866800000003,10126393,2.2691240770773558E-3]
["2020-05-20",439.89999399999999,458.45001200000002,437.25,455.75,446.235321,7967084,3.1808859067240736E-2]
["2020-05-21",455.5,469,453,466.45001200000002,456.711975,8987658,2.3477868082074194E-2]
["2020-05-22",467,471.89999399999999,458.04998799999998,469.39999399999999,459.60034200000001,10194204,6.3242637769680421E-3]
["2020-05-26",471,475.5,457,459.14999399999999,449.56433099999998,9801056,{"$f":"(F260/F259)-1","v":-2.1836387145247271E-2}]
["2020-05-27",464.89999399999999,464.89999399999999,443.39999399999999,450.89999399999999,441.48657200000002,13253937,-1.7967971306869446E-2]
["2020-05-28",453.89999399999999,461.64999399999999,444.70001200000002,459.10000600000001,449.51541099999997,12632972,1.8185918913973032E-2]
["2020-05-29",460,481.60000600000001,458,474.25,464.34909099999999,12662824,3.2999269072890636E-2]
["2020-06-01",483.5,483.70001200000002,458.29998799999998,465.39999399999999,455.68386800000002,18563612,-1.8661009934010986E-2]
["2020-06-02",470,481,468.14999399999999,473.10000600000001,463.22311400000001,10978049,1.654490432827882E-2]
["2020-06-03",474.95001200000002,481.60000600000001,473,476.14999399999999,466.20941199999999,7767457,6.4467810645563173E-3]
["2020-06-04",473,498,472.10000600000001,494.85000600000001,484.51901199999998,19100026,3.9273338394120616E-2]
["2020-06-05",501,511,492.20001200000002,494.25,483.93158,22798341,-1.2124023731807654E-3]
["2020-06-08",498.75,498.75,485.04998799999998,489,478.79119900000001,9176155,-1.0622123482827872E-2]
["2020-06-09",492,512.70001200000002,492,500.75,490.29586799999998,25883378,2.402857242160783E-2]
["2020-06-10",502.5,507,493.54998799999998,499.14999399999999,488.72927900000002,10636465,-3.1951911126445465E-3]
["2020-06-11",490,493.79998799999998,469.10000600000001,473.64999399999999,463.76162699999998,18547382,-5.1086875848909474E-2]
["2020-06-12",455,481.89999399999999,455,480.10000600000001,470.07696499999997,11498488,1.3617638097513485E-2]
["2020-06-15",481,489.39999399999999,472.70001200000002,485.79998799999998,475.65792800000003,10727187,1.1872445185651781E-2]
["2020-06-16",489.39999399999999,493.5,476.5,483.39999399999999,473.30807499999997,11247556,-4.9402161967119218E-3]
["2020-06-17",484.14999399999999,489.75,479.10000600000001,485.64999399999999,475.51113900000001,8222223,4.6546089457697448E-3]
["2020-06-18",485.64999399999999,488.5,483,484.25,474.14031999999997,4077225,-2.8828325722987103E-3]
["2020-06-19",486.79998799999998,491.95001200000002,485.20001200000002,488.10000600000001,477.90997299999998,8114839,7.9505008137674693E-3]
["2020-06-22",492.20001200000002,501.20001200000002,486,493.20001200000002,482.903503,9203804,1.0448683396695024E-2]
["2020-06-23",493.20001200000002,503,489.5,500.45001200000002,490.00216699999999,10732649,1.4699963773093572E-2]
["2020-06-24",502,503.39999399999999,481,484.39999399999999,474.28720099999998,8567595,-3.2071217350351011E-2]
["2020-06-25",480.29998799999998,492.5,477,487.64999399999999,477.46935999999999,6954147,6.7093503541539867E-3]
["2020-06-26",490.25,491,472.20001200000002,479.95001200000002,469.93014499999998,7489306,-1.5789945139097594E-2]
["2020-06-29",475.5,487.35000600000001,475,482,471.93728599999997,5727377,4.2711475766255003E-3]
["2020-06-30",483.39999399999999,483.95001200000002,469.79998799999998,472.95001200000002,463.07626299999998,8339357,-1.8775848535095396E-2]
["2020-07-01",473.5,475.79998799999998,466.14999399999999,468.14999399999999,458.376465,5983810,-1.0149079915158565E-2]
["2020-07-02",468,474.95001200000002,467.95001200000002,473,463.12521400000003,3731827,1.0359931982982573E-2]
["2020-07-03",477,479.35000600000001,472,476.85000600000001,466.894836,4666364,8.1395309217604517E-3]
["2020-07-06",478,481.25,471.39999399999999,480.20001200000002,470.17489599999999,5995257,7.0252651070228378E-3]
["2020-07-07",480,486,476.14999399999999,479.25,469.24471999999997,6793452,-1.9783616860735709E-3]
["2020-07-08",482.54998799999998,488,479.95001200000002,482.5,472.426849,6279449,6.7813847750914924E-3]
["2020-07-09",484.54998799999998,487.20001200000002,480.35000600000001,481.95001200000002,471.88836700000002,3184268,-1.139820908019562E-3]
["2020-07-10",484.64999399999999,498.89999399999999,483.04998799999998,493.89999399999999,483.58889799999997,14898919,2.4795124902919907E-2]
["2020-07-13",495,501.70001200000002,492.29998799999998,499.70001200000002,489.26779199999999,7504299,1.1743226578373678E-2]
["2020-07-14",500,503.89999399999999,490.10000600000001,492.10000600000001,481.82647700000001,6996801,-1.5209084108279036E-2]
["2020-07-15",494.20001200000002,499.39999399999999,492.20001200000002,495.10000600000001,484.763824,4710170,6.0962756100262361E-3]
["2020-07-16",496,505.95001200000002,490.60000600000001,499.70001200000002,489.26779199999999,11263548,9.2910563392205603E-3]
["2020-07-17",499.60000600000001,509.54998799999998,497.35000600000001,503.60000600000001,493.08639499999998,9592466,7.8047299708623452E-3]
["2020-07-20",501.89999399999999,501.89999399999999,481.60000600000001,483.79998799999998,473.69973800000002,16111398,-3.9316957832511212E-2]
["2020-07-21",488,488.20001200000002,475,477.25,467.28649899999999,8470749,-1.3538616312259832E-2]
["2020-07-22",479.64999399999999,488,471.60000600000001,474.29998799999998,464.39804099999998,9848007,-6.1813427226794504E-3]
["2020-07-23",477.95001200000002,481.85000600000001,474.04998799999998,476,466.062592,5416291,3.5843195987987908E-3]
["2020-07-24",490,497.79998799999998,481.25,485.60000600000001,475.46218900000002,19812185,2.0168100082145202E-2]
["2020-07-27",484.85000600000001,487.60000600000001,469,475.5,465.57302900000002,6112617,-2.0799046125621556E-2]
["2020-07-28",475.5,483.75,473.25,482.60000600000001,472.524811,5917155,1.4931668217404326E-2]
["2020-07-29",485.70001200000002,496.29998799999998,484.14999399999999,493,482.70770299999998,8531803,2.1549962590218241E-2]
["2020-07-30",493.20001200000002,513.20001200000002,487.29998799999998,509.95001200000002,499.303833,17534819,3.4381324136441238E-2]
["2020-07-31",514.25,541,507.5,531.70001200000002,520.59973100000002,41253676,4.2651180689013524E-2]
["2020-08-03",534.09997599999997,540.20001200000002,516.79998799999998,519.40002400000003,508.55658,25348229,-2.3133225552896097E-2]
["2020-08-04",522,532.40002400000003,517.25,528.95001200000002,517.907104,11950138,1.8386398618615907E-2]
["2020-08-05",537.90002400000003,538,527.04998799999998,528.84997599999997,517.80920400000002,10928555,-1.8903003886960867E-4]
["2020-08-06",533.90002400000003,541.45001200000002,526.15002400000003,532.25,521.13818400000002,10919796,6.4289703123932007E-3]
["2020-08-07",532.29998799999998,535.45001200000002,522.59997599999997,525.95001200000002,514.96972700000003,7275403,-1.1836509373874593E-2]
["2020-08-10",526,550.79998799999998,526,543.84997599999997,532.49603300000001,16271180,3.4033662720527103E-2]
["2020-08-11",548,549.59997599999997,535.09997599999997,541.04998799999998,529.75451699999996,7774058,-5.1484252090194804E-3]
["2020-08-12",540.75,540.75,529.75,532.15002400000003,521.04040499999996,7405695,-1.6449339685384867E-2]
["2020-08-13",532.15002400000003,535.95001200000002,519.04998799999998,520.79998799999998,509.92730699999998,8729438,-2.1328668359222536E-2]
["2020-08-14",523.5,536,522,531.34997599999997,520.25701900000001,11787355,2.0257224624371961E-2]
["2020-08-17",536.09997599999997,537.5,527,528.34997599999997,517.31964100000005,6657699,-5.6460132064070079E-3]
["2020-08-18",531.70001200000002,533.90002400000003,524.15002400000003,526,515.01873799999998,5555588,-4.4477394972909368E-3]
["2020-08-19",530,532.90002400000003,524.34997599999997,525.40002400000003,515.41119400000002,5414452,7.6202275964565303E-4]
["2020-08-20",524.5,529.90002400000003,521.04998799999998,522.29998799999998,512.37005599999998,4886692,-5.9004112355387495E-3]
["2020-08-21",526.54998799999998,538.70001200000002,524.29998799999998,532.34997599999997,522.22894299999996,9833484,1.924173140984653E-2]
["2020-08-24",538.65002400000003,538.65002400000003,528.04998799999998,533.45001200000002,523.30810499999995,5675533,{"$f":"(F324/F323)-1","v":2.0664538311503389E-3}]
["2020-08-25",533.59997599999997,535.15002400000003,523.45001200000002,525.09997599999997,515.11676,4414315,-1.5653006176925111E-2]
["2020-08-26",526.04998799999998,530,522.25,525.15002400000003,515.16589399999998,5205745,9.5384199884973597E-5]
["2020-08-27",528.95001200000002,537,524.40002400000003,532.25,522.13091999999995,8564601,1.3519967220500861E-2]
["2020-08-28",538.09997599999997,564.75,534.75,555.75,545.18414299999995,29017731,4.41521888801375E-2]
["2020-08-31",560.65002400000003,561,514.04998799999998,520.25,510.359039,20056792,-6.3877690587930358E-2]
["2020-09-01",521.20001200000002,527.65002400000003,506.20001200000002,521.45001200000002,511.53619400000002,13860865,2.3065232709633676E-3]
["2020-09-02",523.5,525.59997599999997,509.20001200000002,514.5,504.71835299999998,9636136,-1.3328169306432436E-2]
["2020-09-03",518.54998799999998,526.84997599999997,512.54998799999998,523.45001200000002,513.49823000000004,10052098,1.7395596866674801E-2]
["2020-09-04",518,530.40002400000003,508.25,512.45001200000002,502.70736699999998,12380025,-2.1014411286286339E-2]
["2020-09-07",516,518.20001200000002,504.25,513.25,503.492096,6320017,1.5610055700656655E-3]
["2020-09-08",512,517.65002400000003,498.64999399999999,501.89999399999999,492.35791,8519561,-2.211392410815527E-2]
["2020-09-09",497,512.79998799999998,493.60000600000001,509.29998799999998,499.61721799999998,10532163,1.474396542141454E-2]
["2020-09-10",512.70001200000002,516.70001200000002,503.64999399999999,507.95001200000002,498.29287699999998,8572739,-2.6507112891374085E-3]
["2020-09-11",507,512.34997599999997,502.60000600000001,505.54998799999998,495.93850700000002,5189670,-4.724871874899339E-3]
["2020-09-14",505.54998799999998,509,494,495.79998799999998,486.37387100000001,8041379,-1.9285931350355945E-2]
["2020-09-15",498,512.40002400000003,496,506.39999399999999,496.77233899999999,11686574,2.1379577769299996E-2]
["2020-09-16",510.14999399999999,520,503.39999399999999,518.5,508.64233400000001,10080107,2.38942349807445E-2]
["2020-09-17",516.79998799999998,521.90002400000003,510.5,512,502.26586900000001,9959257,-1.2536245164367243E-2]
["2020-09-18",517.45001200000002,535,515,523.34997599999997,513.40008499999999,25685130,2.2167972556383253E-2]
["2020-09-21",523.79998799999998,528.25,499,503.64999399999999,494.07461499999999,9977984,-3.7642124659952092E-2]
["2020-09-22",509.5,515,493.60000600000001,508.85000600000001,499.17578099999997,9862141,1.0324687496847007E-2]
["2020-09-23",520.5,521,498.25,502.89999399999999,493.33889799999997,10846053,-1.1693041253537872E-2]
["2020-09-24",497.5,501.25,483,485.79998799999998,476.563965,8768744,-3.4002859024507726E-2]
["2020-09-25",496,496,483.85000600000001,489.64999399999999,480.34079000000003,9665092,7.9251166210185797E-3]
["2020-09-28",495,512,488.5,510.10000600000001,500.40200800000002,12221177,4.1764552204696104E-2]
["2020-09-29",517.84997599999997,517.84997599999997,504.5,506.14999399999999,496.52713,8592449,-7.7435300779209459E-3]
["2020-09-30",508,516.20001200000002,498.29998799999998,500.45001200000002,490.93548600000003,12981899,-1.1261507503124712E-2]
["2020-10-01",505.10000600000001,510.5,501.29998799999998,506.89999399999999,497.26281699999998,6733075,1.2888314616556373E-2]
["2020-10-05",507,525.09997599999997,503.79998799999998,523.09997599999997,513.15484600000002,8831627,3.1959013336000153E-2]
["2020-10-06",526,527.59997599999997,519,521.04998799999998,511.14386000000002,8537178,-3.9188677953164719E-3]
["2020-10-07",516.09997599999997,522.90002400000003,509.20001200000002,511.75,502.02062999999998,8346531,-1.7848654192970326E-2]
["2020-10-08",514.59997599999997,526,511.75,524.09997599999997,514.13580300000001,9392711,2.4132819003872541E-2]
["2020-10-09",525,529.29998799999998,511.04998799999998,512.90002400000003,503.14880399999998,11468529,-2.136983834988837E-2]
["2020-10-12",514.90002400000003,517.34997599999997,509.29998799999998,513.90002400000003,504.12979100000001,7092628,1.9496955815083705E-3]
["2020-10-13",514,519.95001200000002,501.60000600000001,503.14999399999999,493.584137,8851580,-2.0918529688716658E-2]
["2020-10-14",503.14999399999999,507.5,493.29998799999998,502.20001200000002,492.65219100000002,7640368,-1.8881198363958074E-3]
["2020-10-15",504.70001200000002,504.70001200000002,489,490.29998799999998,480.97842400000002,6605127,-2.3695757804921613E-2]
["2020-10-16",491,494.75,485.25,486.89999399999999,477.64306599999998,9085611,-6.9345272751778486E-3]
["2020-10-19",489.95001200000002,490.89999399999999,480.89999399999999,483.64999399999999,474.45486499999998,5158764,-6.6748608468232273E-3]
["2020-10-20",484.95001200000002,488.54998799999998,480.39999399999999,486.35000600000001,477.10351600000001,5550859,5.5825141554823876E-3]
["2020-10-21",489,492.20001200000002,481.5,490.20001200000002,480.88034099999999,7269981,7.9161541957699644E-3]
["2020-10-22",491.20001200000002,491.39999399999999,481.70001200000002,485.54998799999998,476.31875600000001,6428694,-9.4859045194363167E-3]
["2020-10-23",488,494.5,482.89999399999999,484.5,475.28869600000002,6578265,-2.1625434376134622E-3]
["2020-10-26",487.39999399999999,487.39999399999999,471.10000600000001,474.5,465.47882099999998,6499259,-2.0639823927140144E-2]
["2020-10-27",474.60000600000001,476.75,467.25,470.45001200000002,461.50582900000001,7693069,-8.5352798468139035E-3]
["2020-10-28",473,475.75,461.39999399999999,463.39999399999999,454.58984400000003,7723679,-1.4985693712657233E-2]
["2020-10-29",463,464,452.25,456.35000600000001,447.67392000000001,8297097,-1.5213547093674173E-2]
["2020-10-30",458.64999399999999,469,455.85000600000001,465.75,456.895172,8680701,2.0598144292166998E-2]
["2020-11-02",467.89999399999999,471,459.04998799999998,469.39999399999999,460.47579999999999,7737909,7.8368698542516935E-3]
["2020-11-03",472.04998799999998,490.60000600000001,465.75,485.60000600000001,476.36782799999997,16853462,3.4512189348495648E-2]
["2020-11-04",499.89999399999999,518.25,495.14999399999999,504.64999399999999,495.055634,48182254,3.9229781907102357E-2]
["2020-11-05",508,514,502.5,512.5,502.75637799999998,14095319,1.5555310294680824E-2]
["2020-11-06",515,515.75,506.75,509.14999399999999,499.47006199999998,9251548,-6.5365973338283867E-3]
["2020-11-09",512.5,518,504.45001200000002,510.14999399999999,500.45107999999999,9718357,1.9641177212339489E-3]
["2020-11-10",511,514.25,489,490.89999399999999,481.56701700000002,12767338,-3.7734083818941833E-2]
["2020-11-11",495,508.35000600000001,492,506.04998799999998,496.42898600000001,11754997,3.0861683785125216E-2]
["2020-11-12",503.95001200000002,517.70001200000002,502.20001200000002,509.25,499.56814600000001,10911897,6.3234824889939478E-3]
["2020-11-13",511.95001200000002,515.79998799999998,504.54998799999998,508.45001200000002,498.78341699999999,9501329,-1.5708147252447846E-3]
["2020-11-14",511,515.5,510.20001200000002,514,504.22787499999998,1766237,1.0915475163040478E-2]
["2020-11-17",517,523.40002400000003,514.04998799999998,518.40002400000003,508.54424999999998,12411197,8.5603656878350254E-3]
["2020-11-18",514,518.34997599999997,509,513,503.24688700000002,6483702,-1.0416719882291425E-2]
["2020-11-19",512,516.15002400000003,505,507.35000600000001,497.70428500000003,6843207,-1.101368362761479E-2]
["2020-11-20",510,512.5,496,503.25,493.68225100000001,7594535,-8.0811721361813138E-3]
["2020-11-23",504,516.40002400000003,501,512.84997599999997,503.09970099999998,8931512,{"$f":"(F388/F387)-1","v":1.9075933924956878E-2}]
["2020-11-24",513.5,522.75,508.20001200000002,520.15002400000003,510.26095600000002,9096230,1.4234266062503664E-2]
["2020-11-25",521.20001200000002,526,504.14999399999999,506.20001200000002,496.57614100000001,10673809,-2.681924775761213E-2]
["2020-11-26",506,513,502.29998799999998,511.70001200000002,501.97161899999998,7494355,1.0865358913810574E-2]
["2020-11-27",514,520.79998799999998,509.20001200000002,511.64999399999999,501.92254600000001,12954065,-9.7760507053568091E-5]
["2020-12-01",518,542.75,512.65002400000003,539.34997599999997,529.09588599999995,25388623,5.4138512438929087E-2]
["2020-12-02",540.90002400000003,547,536,544.65002400000003,534.29516599999999,14234038,9.8267254340360655E-3]
["2020-12-03",550,551.45001200000002,541,548.25,537.82672100000002,9345458,6.6097453705955544E-3]
["2020-12-04",550,572.90002400000003,545.20001200000002,569.04998799999998,558.23126200000002,16177536,3.7938875484024193E-2]
["2020-12-07",570.34997599999997,591.5,567.04998799999998,582.29998799999998,571.22930899999994,21232768,2.3284340890245447E-2]
["2020-12-08",582,582,565.79998799999998,568.70001200000002,557.887878,10673103,-2.3355648580699717E-2]
["2020-12-09",571,583.95001200000002,566.70001200000002,569.54998799999998,558.72167999999999,11144200,1.4945691291754493E-3]
["2020-12-10",570,574.75,560.09997599999997,565.20001200000002,554.45440699999995,6755693,-7.6375647352722176E-3]
["2020-12-11",567.90002400000003,572.95001200000002,562,568.09997599999997,557.29931599999998,6968494,5.1310062001184154E-3]
["2020-12-14",568.34997599999997,578.65002400000003,568.34997599999997,576.25,565.29437299999995,8582193,1.4346073591807507E-2]
["2020-12-15",575,580,569,571.65002400000003,560.78179899999998,5896090,-7.9826975387210508E-3]
["2020-12-16",571,578.5,571,576.59997599999997,565.63769500000001,5135499,8.6591540750060592E-3]
["2020-12-17",579.5,586.29998799999998,569.70001200000002,571.34997599999997,560.48754899999994,9025916,-9.1050261422199741E-3]
["2020-12-18",574,576.90002400000003,568,575,564.06805399999996,4940687,6.3881972157779909E-3]
["2020-12-21",573.79998799999998,585.90002400000003,539.70001200000002,552.54998799999998,542.04492200000004,12715463,-3.9043395285065952E-2]
["2020-12-22",553,571.09997599999997,540.40002400000003,568.29998799999998,557.49548300000004,8012096,2.8504207627278566E-2]
["2020-12-23",570,576.54998799999998,566.09997599999997,574.59997599999997,563.67571999999996,4958783,1.1085716724990702E-2]
["2020-12-24",574.59997599999997,595,572.15002400000003,590.45001200000002,579.22442599999999,7486583,2.7584487761864285E-2]
["2020-12-28",599,599.45001200000002,584.54998799999998,586.95001200000002,575.79089399999998,12299793,-5.9278094049162178E-3]
["2020-12-29",589.79998799999998,596,583.15002400000003,590.59997599999997,579.37152100000003,7430043,6.218623874242768E-3]
["2020-12-30",595,595,581.5,584,572.89703399999996,5589703,-1.1175017696460232E-2]
["2020-12-31",584.65002400000003,594.90002400000003,582.04998799999998,592.34997599999997,581.088257,8835267,1.4297897377489432E-2]
["2021-01-01",592.5,599.75,585.84997599999997,596.25,584.91418499999997,8229768,6.5840738543783139E-3]
["2021-01-04",600,609.45001200000002,595.20001200000002,604.40002400000003,592.90924099999995,11329298,1.3668767496209711E-2]
["2021-01-05",608.45001200000002,608.70001200000002,600,603.45001200000002,591.97729500000003,7790158,-1.5718189826626761E-3]
["2021-01-06",604.09997599999997,610.95001200000002,596.15002400000003,605.29998799999998,593.79205300000001,6422080,3.0655871691835923E-3]
["2021-01-07",606.04998799999998,608,598,601.90002400000003,590.456726,4555702,-5.6169950122252343E-3]
["2021-01-08",607,622.79998799999998,604,620.79998799999998,608.99731399999996,11451416,3.140041798761728E-2]
["2021-01-11",623.70001200000002,628,614.04998799999998,621,609.19360400000005,7516087,3.2231669251681083E-4]
["2021-01-12",621,623.90002400000003,607.04998799999998,609.65002400000003,598.05938700000002,6747035,-1.8276976197537431E-2]
["2021-01-13",611,614.5,597.25,602.29998799999998,590.84906000000001,6186661,-1.2056205715904933E-2]
["2021-01-14",602.29998799999998,611.65002400000003,596.40002400000003,607.04998799999998,595.50872800000002,6730284,7.8863931847501512E-3]
["2021-01-15",609,616.79998799999998,598.09997599999997,604.29998799999998,592.81109600000002,8389544,-4.5299621536361023E-3]
["2021-01-18",604.09997599999997,607.34997599999997,578.45001200000002,581.45001200000002,570.39550799999995,7414570,-3.7812362405578281E-2]
["2021-01-19",586.90002400000003,603,583.34997599999997,596.54998799999998,585.20843500000001,5500391,2.5969571625728882E-2]
["2021-01-20",601.20001200000002,603.59997599999997,592.95001200000002,594.70001200000002,583.39355499999999,5182972,-3.1012540002093303E-3]
["2021-01-21",598,598.75,580.65002400000003,582.90002400000003,571.817993,4546393,-1.98417721635612E-2]
["2021-01-22",582.90002400000003,586.95001200000002,570.59997599999997,575.20001200000002,564.26434300000005,5591688,-1.3209885125108234E-2]
["2021-01-25",577.09997599999997,594,567,586.40002400000003,575.25146500000005,8149590,1.94715865645263E-2]
["2021-01-27",585.90002400000003,585.90002400000003,563.75,569.79998799999998,558.96698000000004,8534047,-2.8308463325686595E-2]
["2021-01-28",554.90002400000003,574.5,550.40002400000003,564.34997599999997,553.620544,9863454,-9.564851218939685E-3]
["2021-01-29",568,600,554.09997599999997,586.20001200000002,575.05523700000003,22539938,3.8717300563181567E-2]
["2021-02-01",596,599.40002400000003,579.59997599999997,590.15002400000003,578.930115,12621971,6.7382709532648466E-3]
["2021-02-02",596.95001200000002,616.90002400000003,591.5,609.45001200000002,597.863159,15788247,3.2703505154503931E-2]
["2021-02-03",612.5,648.40002400000003,610.5,629.20001200000002,617.23767099999998,23788455,3.2406265059727435E-2]
["2021-02-04",632.5,641,626.25,631.5,619.49395800000002,7926593,3.6554590006545595E-3]
["2021-02-05",633.5,644.25,623.15002400000003,634.75,622.68212900000003,10981738,5.1464117750119609E-3]
["2021-02-08",640.90002400000003,644.84997599999997,632.54998799999998,634.65002400000003,622.58410600000002,6479801,-1.5742060906331901E-4]
["2021-02-09",631.90002400000003,639.25,621,623.59997599999997,617.09198000000004,5794015,-8.82150049619157E-3]
["2021-02-10",623.04998799999998,631.54998799999998,614.09997599999997,627.09997599999997,620.55542000000003,6902162,5.6125182505206705E-3]
["2021-02-11",622,648.75,622,643.65002400000003,636.93273899999997,11433578,2.6391388217993361E-2]
["2021-02-12",654.40002400000003,654.40002400000003,622.34997599999997,627.15002400000003,620.60497999999995,15471776,-2.5634981529815803E-2]
["2021-02-15",632,637.29998799999998,623.29998799999998,627.5,620.95129399999996,7310676,5.5802645992297784E-4]
["2021-02-16",631,634.5,623,631.15002400000003,624.56323199999997,6137454,5.8167815010625734E-3]
["2021-02-17",628.70001200000002,632.40002400000003,619.79998799999998,621.25,614.76654099999996,4700733,-1.5685667195983743E-2]
["2021-02-18",622,627.25,614.09997599999997,616.04998799999998,609.62078899999995,5633766,-8.3702538391724479E-3]
["2021-02-19",615.90002400000003,622.29998799999998,601.20001200000002,607.29998799999998,600.96209699999997,7301975,-1.4203406701735699E-2]
["2021-02-22",608,610.84997599999997,590.40002400000003,595.29998799999998,589.08734100000004,5330343,-1.9759575619292202E-2]
["2021-02-23",595,608.34997599999997,592,604.04998799999998,597.74603300000001,7564187,1.4698485941492923E-2]
["2021-02-24",607.09997599999997,609.34997599999997,595.84997599999997,601.45001200000002,595.17321800000002,3296243,{"$f":"(F452/F451)-1","v":-4.3041941860950672E-3}]
["2021-02-25",606.40002400000003,618.90002400000003,602.70001200000002,609.54998799999998,603.18866000000003,6261754,1.3467410423699588E-2]
["2021-02-26",604.95001200000002,621.34997599999997,590,594.59997599999997,588.39459199999999,15404415,-2.4526435891550125E-2]
["2021-03-01",600,610.79998799999998,597.04998799999998,604.45001200000002,598.14190699999995,5274758,1.6565949334897967E-2]
["2021-03-02",609,616.34997599999997,604.5,614.20001200000002,607.79010000000005,4776776,1.6130274249451793E-2]
["2021-03-03",616.5,625.40002400000003,612.25,624.34997599999997,617.83416699999998,6626297,1.6525552160194579E-2]
["2021-03-04",622,636.75,616,618.95001200000002,612.49054000000001,11530735,-8.6489664790584397E-3]
["2021-03-05",619.45001200000002,619.45001200000002,606.90002400000003,611.20001200000002,604.82141100000001,6127488,-1.252122032774583E-2]
["2021-03-08",611.5,621.90002400000003,611.29998799999998,614.79998799999998,608.38385000000005,4554461,5.8900676054274292E-3]
["2021-03-09",618,620.90002400000003,607.5,612.59997599999997,606.20678699999996,4035628,-3.5784365413382702E-3]
["2021-03-10",618,627.90002400000003,615.34997599999997,626,619.46691899999996,5825924,2.1873941836946242E-2]
["2021-03-12",628,629.15002400000003,611.5,613.59997599999997,607.19635000000005,4264170,-1.9808271634275787E-2]
["2021-03-15",614,614,596.5,605.5,599.18090800000004,4030762,-1.3200741407618843E-2]
["2021-03-16",606,609.95001200000002,599.25,602.29998799999998,596.01428199999998,4189930,-5.2849247326152149E-3]
["2021-03-17",604,604,582,584.75,578.64746100000002,7667561,-2.9138263166653355E-2]
["2021-03-18",587.40002400000003,591.54998799999998,572,574.54998799999998,568.55389400000001,5537584,-1.7443379052517805E-2]
["2021-03-19",571,582.65002400000003,562.09997599999997,578.29998799999998,572.264771,6186643,6.5268693771358688E-3]
["2021-03-22",578.59997599999997,593.59997599999997,578.59997599999997,591,584.83221400000002,7033955,2.1960888799845479E-2]
["2021-03-23",591.20001200000002,594.70001200000002,583,587.84997599999997,581.71508800000004,5341729,-5.3299492151436256E-3]
["2021-03-24",585,597,583.20001200000002,585.29998799999998,579.19171100000005,7299582,-4.3378228484249881E-3]
["2021-03-25",584.40002400000003,587.95001200000002,571.5,575.75,569.74139400000001,4710869,-1.631638854721118E-2]
["2021-03-26",580.84997599999997,590.29998799999998,574.59997599999997,587.20001200000002,581.07183799999996,5761818,1.9886994554585424E-2]
["2021-03-30",594.95001200000002,599,587.25,597.70001200000002,591.46234100000004,4637718,1.7881615181632782E-2]
["2021-03-31",598.20001200000002,606,595.70001200000002,597.79998799999998,591.56127900000001,5269919,1.6727692220053214E-4]
["2021-04-01",600,612.70001200000002,597.34997599999997,610.75,604.37616000000003,6033653,2.166281238295853E-2]
["2021-04-05",611.70001200000002,611.95001200000002,592.75,608.79998799999998,602.44647199999997,5353987,-3.1928592285970225E-3]
["2021-04-06",608.75,621.90002400000003,603.5,620.45001200000002,613.97485400000005,7444994,1.9135944081020595E-2]
["2021-04-07",621,628.40002400000003,616.15002400000003,621.04998799999998,614.56860400000005,4757224,9.6705914929873238E-4]
["2021-04-08",620.54998799999998,626,613.29998799999998,614.25,607.83960000000002,3222479,-1.0949150275825104E-2]
["2021-04-09",613,642,609.5,636.75,630.10479699999996,16755446,3.6630053389084871E-2]
["2021-04-12",639,645.84997599999997,615.20001200000002,619.34997599999997,612.88629200000003,15229597,-2.7326414720184933E-2]
["2021-04-13",624,635.54998799999998,616.09997599999997,627.34997599999997,620.80285600000002,7399207,1.2916856035670721E-2]
["2021-04-15",633.59997599999997,641.5,626.5,633.25,626.64129600000001,8588761,9.4046603419619679E-3]
["2021-04-16",633.25,650,626.34997599999997,646.04998799999998,639.30773899999997,9804095,2.0213227377213761E-2]
["2021-04-19",644,651.40002400000003,635,640.65002400000003,633.96405000000004,11340358,-8.3585551589888674E-3]
["2021-04-20",643.79998799999998,659.5,639.15002400000003,645.15002400000003,638.41711399999997,13831258,7.0241585465293799E-3]
["2021-04-22",650.70001200000002,658,638.09997599999997,639.95001200000002,633.27136199999995,11295290,-8.060172396944898E-3]
["2021-04-23",636.5,645.79998799999998,630.15002400000003,637.95001200000002,631.29229699999996,7668180,-3.1251452675038482E-3]
["2021-04-26",644,644,631,634.70001200000002,628.07617200000004,6527947,-5.0945101267407811E-3]
["2021-04-27",632.70001200000002,642.45001200000002,632,639.25,632.57867399999998,5112384,7.1687196565068945E-3]
["2021-04-28",640.95001200000002,647.29998799999998,638.29998799999998,643.40002400000003,636.68536400000005,6069155,6.491983003524604E-3]
["2021-04-29",648.95001200000002,652,641.09997599999997,644.5,637.773865,5676290,1.709637226716465E-3]
["2021-04-30",642,666.59997599999997,640.09997599999997,654.45001200000002,647.62005599999998,10874266,1.5438373286117635E-2]
["2021-05-03",653.95001200000002,663.95001200000002,650.09997599999997,659.20001200000002,652.32049600000005,6567597,7.2580210517756427E-3]
["2021-05-04",662,664.90002400000003,642,645.15002400000003,638.41711399999997,5604638,-2.1313728581663471E-2]
["2021-05-05",642.25,687.90002400000003,642.25,683.40002400000003,676.26794400000006,25296369,5.9288557856549184E-2]
["2021-05-06",689.84997599999997,696.70001200000002,673.34997599999997,679.40002400000003,672.30969200000004,11153908,-5.8530823989493275E-3]
["2021-05-07",681,691,677.59997599999997,679.45001200000002,672.35913100000005,6466334,7.3536051299338823E-5]
["2021-05-10",688,703.5,683.59997599999997,698.20001200000002,690.91345200000001,10924222,2.7595848921400323E-2]
["2021-05-11",698.5,721.84997599999997,696.20001200000002,708.09997599999997,700.71008300000005,14760511,1.4179244841219241E-2]
["2021-05-12",714.95001200000002,714.95001200000002,700,702.84997599999997,695.51495399999999,7250661,-7.4140919704733799E-3]
["2021-05-14",703,711,687,691.45001200000002,684.23394800000005,6851035,-1.6219645508872782E-2]
["2021-05-17",688,698.5,680.04998799999998,687.15002400000003,679.97882100000004,6318234,-6.2188188885360374E-3]
["2021-05-18",691,695.84997599999997,684.75,690.79998799999998,683.59063700000002,4080423,5.3116595524083099E-3]
["2021-05-19",694.29998799999998,706.75,690.79998799999998,703.40002400000003,696.05920400000002,7745431,1.8239815358968903E-2]
["2021-05-20",700,701.65002400000003,685,686.84997599999997,679.68188499999997,6226376,-2.3528629326191708E-2]
["2021-05-21",691.75,694.5,688,690.40002400000003,683.194885,3434231,5.1685944226689262E-3]
["2021-05-24",691,698.40002400000003,689.59997599999997,690.95001200000002,683.73913600000003,3722957,7.9662628036225591E-4]
["2021-05-25",695,697.40002400000003,691,696.09997599999997,688.83538799999997,2800233,7.4535034367257946E-3]
["2021-05-26",699.5,706.15002400000003,696.20001200000002,703.79998799999998,696.455017,6235460,1.1061610847438175E-2]
["2021-05-27",707.25,709.75,694.5,699.5,692.19988999999998,9875654,-6.1096939445265397E-3]
["2021-05-28",694,694.5,666.29998799999998,669.75,662.76037599999995,28316552,-4.2530365036608231E-2]
["2021-05-31",672,675.70001200000002,659,668.29998799999998,661.32550000000003,13947126,-2.1649996770475299E-3]
["2021-06-01",670.09997599999997,673.29998799999998,664.29998799999998,671.04998799999998,664.04681400000004,6443084,4.1149388614230009E-3]
["2021-06-02",671,678.09997599999997,670.15002400000003,677.45001200000002,670.38006600000006,4978457,{"$f":"(F516/F515)-1","v":9.5373577080366534E-3}]
["2021-06-03",678,680.84997599999997,673.5,675.5,668.450378,3604574,-2.8784984785035217E-3]
["2021-06-04",678.90002400000003,679.25,672.79998799999998,673.95001200000002,666.91656499999999,3747803,-2.2945801969461721E-3]
["2021-06-07",673.95001200000002,677.79998799999998,670.90002400000003,675.34997599999997,668.30187999999998,2793705,2.0771938690711256E-3]
["2021-06-08",673,679.95001200000002,665.09997599999997,678.75,671.66644299999996,5695920,5.034495788041049E-3]
["2021-06-09",681.04998799999998,684.70001200000002,667.59997599999997,672.84997599999997,665.82800299999997,4492551,-8.6924693958545518E-3]
["2021-06-10",673.04998799999998,681,673,676.04998799999998,668.99456799999996,3099864,4.7558303131327584E-3]
["2021-06-11",675.20001200000002,686.34997599999997,674.04998799999998,681.29998799999998,674.18981900000006,3822099,7.7657596167508558E-3]
["2021-06-14",682,683.70001200000002,671.54998799999998,677.09997599999997,670.03369099999998,3640962,-6.1646258707447332E-3]
["2021-06-15",677.09997599999997,681.40002400000003,671.75,673.20001200000002,666.17437700000005,3862284,-5.759880513232174E-3]
["2021-06-16",675,680.5,666.84997599999997,668.54998799999998,661.57287599999995,4842448,-6.9073521271144633E-3]
["2021-06-17",671.79998799999998,673.54998799999998,661.65002400000003,665.04998799999998,658.109375,2776147,-5.2352524198708839E-3]
["2021-06-18",667,673,652.70001200000002,668.5,661.52343800000006,4158743,5.1876832783306348E-3]
["2021-06-21",662,674.79998799999998,662,671.34997599999997,664.34362799999997,2932177,4.2631747236745454E-3]
["2021-06-22",678,680.25,665.84997599999997,666.79998799999998,659.84112500000003,4577152,-6.7773706410862999E-3]
["2021-06-23",666.79998799999998,672.34997599999997,664.25,665.25,658.30737299999998,2631031,-2.3244262018377038E-3]
["2021-06-24",664.20001200000002,671,661.5,664.79998799999998,657.86199999999997,3460776,-6.7654262775518337E-4]
["2021-06-25",664.79998799999998,677.40002400000003,664.79998799999998,672.25,665.23431400000004,3010243,1.12064749141918E-2]
["2021-06-28",675,679.90002400000003,669.54998799999998,676.29998799999998,669.24200399999995,3342385,6.0244787673413569E-3]
["2021-06-29",673.25,681.5,673.09997599999997,677.59997599999997,670.52844200000004,2937766,1.9222314085356462E-3]
["2021-06-30",678.04998799999998,683.45001200000002,674.25,675.45001200000002,668.40087900000003,3768943,-3.1729645854455812E-3]
["2021-07-01",675,685.79998799999998,673.70001200000002,684.15002400000003,677.01007100000004,4102748,1.2880282283410871E-2]
["2021-07-02",685.5,689.5,678.29998799999998,681.25,674.14031999999997,5071894,-4.2388601335888731E-3]
["2021-07-05",684,684.95001200000002,678.59997599999997,680.20001200000002,673.10131799999999,1600769,-1.5412251265433108E-3]
["2021-07-06",678,683,672.40002400000003,673.25,666.22387700000002,2682423,-1.0217542019431924E-2]
["2021-07-07",668,682,666.09997599999997,680.09997599999997,673.00231900000006,2576763,1.0174420692520503E-2]
["2021-07-08",677,680.90002400000003,665.09997599999997,666.90002400000003,659.94012499999997,2548016,-1.9408839510997367E-2]
["2021-07-09",666.5,672.29998799999998,664.20001200000002,667.90002400000003,660.92968800000006,1994075,1.4994739106068966E-3]
["2021-07-12",668.59997599999997,672.84997599999997,666.40002400000003,668.54998799999998,661.57287599999995,1555035,9.7315646683426849E-4]
["2021-07-13",670.29998799999998,689.34997599999997,669,683,675.87213099999997,7744032,2.1614028505001714E-2]
["2021-07-14",681.95001200000002,692.40002400000003,681,685.95001200000002,678.791382,2663467,4.3192356454775371E-3]
["2021-07-15",686,688.20001200000002,681.29998799999998,683,675.87213099999997,1905193,-4.300660081155927E-3]
["2021-07-16",684.90002400000003,695.65002400000003,682.65002400000003,688.59997599999997,681.413635,3479357,8.1990420167215028E-3]
["2021-07-19",678.04998799999998,691.5,678.04998799999998,689.25,682.05688499999997,1940882,9.4399343799445035E-4]
["2021-07-20",689,691.59997599999997,673.90002400000003,676.45001200000002,669.39044200000001,2724983,-1.8570948081551797E-2]
["2021-07-22",680,688.20001200000002,675.54998799999998,687.29998799999998,680.12719700000002,2047831,1.6039600099339468E-2]
["2021-07-23",686.20001200000002,698.95001200000002,681.59997599999997,694,686.75732400000004,3956261,9.7483632903450079E-3]
["2021-07-26",695.20001200000002,705,695.20001200000002,703.40002400000003,696.05920400000002,4715053,1.3544638950220955E-2]
["2021-07-27",705,705.70001200000002,673.84997599999997,688.29998799999998,681.11676,5327355,-2.1467202666283547E-2]
["2021-07-28",688.29998799999998,691.95001200000002,672.54998799999998,687.79998799999998,680.62194799999997,3332667,-7.2647162580474767E-4]
["2021-07-29",687.79998799999998,705.95001200000002,680.70001200000002,703,695.66332999999997,4397443,2.2099466589637462E-2]
["2021-07-30",702.95001200000002,783.75,696.15002400000003,773.95001200000002,765.87298599999997,35893710,0.10092476198220779]
["2021-08-02",785,801.90002400000003,764.09997599999997,775,766.91198699999995,18661462,1.3566231202728485E-3]
["2021-08-03",773.95001200000002,804.34997599999997,765.25,794.79998799999998,786.50531000000001,14678219,2.5548333227447761E-2]
["2021-08-04",791,797.90002400000003,779.70001200000002,785.75,777.54980499999999,5796169,-1.1386452050781481E-2]
["2021-08-05",785.5,794.40002400000003,783.29998799999998,786.15002400000003,777.94567900000004,5026619,5.0913008717179409E-4]
["2021-08-06",786.5,796.45001200000002,781.54998799999998,785.20001200000002,777.005493,4064324,-1.2085496781839566E-3]
["2021-08-09",789.15002400000003,793,782,788.79998799999998,780.56793200000004,2873586,4.5848311654086427E-3]
["2021-08-10",789.95001200000002,798.79998799999998,782.20001200000002,793.34997599999997,785.07043499999997,5656020,5.768239784669893E-3]
["2021-08-11",794,795,773.29998799999998,779.54998799999998,771.41449,4275776,-1.7394547535088289E-2]
["2021-08-12",780,781.25,773.15002400000003,778.65002400000003,770.52392599999996,2821380,-1.1544558879106326E-3]
["2021-08-13",769,788.5,767.65002400000003,778.29998799999998,770.17755099999999,4319920,-4.4953179039886049E-4]
["2021-08-16",775.20001200000002,783,771.04998799999998,780.79998799999998,772.65142800000001,2310304,3.2120866114415669E-3]
["2021-08-17",783,793.20001200000002,778.20001200000002,784.15002400000003,775.96649200000002,5686055,4.2905039450726878E-3]
["2021-08-18",788,791.40002400000003,779.29998799999998,782.90002400000003,774.72949200000005,4036305,-1.5941410006141687E-3]
["2021-08-20",775,784.45001200000002,743.34997599999997,761.15002400000003,753.20648200000005,6238261,-2.7781322671010411E-2]
["2021-08-23",765,770,750.79998799999998,759.34997599999997,753.40490699999998,2375417,2.6344037756165228E-4]
["2021-08-24",759.79998799999998,777.95001200000002,754.25,771.34997599999997,765.31097399999999,2732537,1.5803012283805096E-2]
["2021-08-25",770,776,759.59997599999997,769.04998799999998,763.02899200000002,2254852,-2.9817709108140855E-3]
["2021-08-26",765.15002400000003,771.09997599999997,759.25,760.54998799999998,754.59551999999996,1735864,-1.1052623279614537E-2]
["2021-08-27",760.75,777,758.09997599999997,771.79998799999998,765.75744599999996,2432862,1.4791932504449434E-2]
["2021-08-30",769,794.95001200000002,768.15002400000003,787.20001200000002,781.03692599999999,3617125,1.9953420080749851E-2]
["2021-08-31",787.45001200000002,801,783.70001200000002,794.04998799999998,787.83325200000002,7435465,8.7016705276750095E-3]
["2021-09-01",795.04998799999998,803.90002400000003,787,788.5,782.32672100000002,2811619,-6.9894625366739849E-3]
["2021-09-02",790.29998799999998,795.65002400000003,788.29998799999998,789.95001200000002,783.76538100000005,2679549,{"$f":"(F580/F579)-1","v":1.8389503533269291E-3}]
["2021-09-03",793,797.20001200000002,784,789.40002400000003,783.21972700000003,2860730,-6.9619558764355549E-4]
["2021-09-06",789.40002400000003,793.09997599999997,779.75,784.25,778.10998500000005,4613445,-6.5240210682282473E-3]
["2021-09-07",782,783,766.59997599999997,769.90002400000003,763.87237500000003,3851664,-1.8297683199631543E-2]
["2021-09-08",767.29998799999998,778.95001200000002,763.54998799999998,777.45001200000002,771.36328100000003,2548562,9.8064889439155589E-3]
["2021-09-09",772.20001200000002,782.25,771.45001200000002,776.29998799999998,770.22222899999997,2008287,-1.4792666803128407E-3]
["2021-09-13",776.29998799999998,783,771.65002400000003,780.29998799999998,774.19091800000001,1935832,5.1526544555233755E-3]
["2021-09-14",784.70001200000002,788,777.29998799999998,781.40002400000003,775.28234899999995,1996844,1.4097698314770035E-3]
["2021-09-15",784.70001200000002,785.75,778.79998799999998,780.65002400000003,774.53820800000005,1393824,-9.5983224816065249E-4]
["2021-09-16",780,784.54998799999998,778.29998799999998,781.04998799999998,774.93505900000002,1353677,5.1237110823065812E-4]
["2021-09-17",785,787.90002400000003,766.65002400000003,769.90002400000003,763.87237500000003,4052622,-1.42756271916199E-2]
["2021-09-20",766.70001200000002,774.75,751.59997599999997,756.5,750.577271,2206369,-1.7404876043593087E-2]
["2021-09-21",756.5,766.34997599999997,751.04998799999998,764.5,758.51464799999997,2123997,1.057502978930458E-2]
["2021-09-22",765,774,764.5,770.09997599999997,764.07074,1817865,7.3249633539047565E-3]
["2021-09-23",771.09997599999997,777.20001200000002,766.09997599999997,769.84997599999997,763.82269299999996,2109768,-3.2463878933519652E-4]
["2021-09-24",769,776.65002400000003,762,770.45001200000002,764.41803000000004,1777859,7.7941779611423456E-4]
["2021-09-27",771.45001200000002,774.5,760.09997599999997,763.04998799999998,757.07598900000005,2862731,-9.604745979107765E-3]
["2021-09-28",766.70001200000002,791,754.95001200000002,775.09997599999997,769.03161599999999,4938824,1.5791845433893448E-2]
["2021-09-29",784,819.75,771.34997599999997,811.29998799999998,804.94824200000005,18565413,4.6703705351952784E-2]
["2021-09-30",814.79998799999998,832.95001200000002,806.59997599999997,818.25,811.84381099999996,10478553,8.5664750106999588E-3]
["2021-10-01",812,830.70001200000002,805.29998799999998,826.59997599999997,820.12841800000001,5730355,1.0204680860713022E-2]
["2021-10-04",830,838.90002400000003,826.45001200000002,832,825.48614499999996,4007435,6.5327903318672664E-3]
["2021-10-05",828,834.40002400000003,814.95001200000002,820.5,814.07617200000004,2987134,-1.3822125385278161E-2]
["2021-10-06",820.45001200000002,824,797.29998799999998,800.59997599999997,794.33196999999996,2910453,-2.4253506832773497E-2]
["2021-10-07",808.04998799999998,826.34997599999997,804.09997599999997,823.25,816.80468800000006,4089061,2.8291342724125812E-2]
["2021-10-08",825.09997599999997,833.79998799999998,818.59997599999997,821.40002400000003,814.96917699999995,2753935,-2.2471847027402125E-3]
["2021-10-11",826,836.20001200000002,817.79998799999998,832.54998799999998,826.03186000000005,2988841,1.3574357548985061E-2]
["2021-10-12",833.5,842.75,823.70001200000002,829.70001200000002,823.20416299999999,2407031,-3.4232299466028238E-3]
["2021-10-13",827.95001200000002,846.79998799999998,827.25,842.54998799999998,835.95355199999995,4113083,1.5487517645121462E-2]
["2021-10-14",843.90002400000003,850,838.25,841.29998799999998,834.71331799999996,2300231,-1.4836159222396672E-3]
["2021-10-18",850,851,832.15002400000003,835.90002400000003,829.35565199999996,2632795,-6.4185701659069672E-3]
["2021-10-19",837,842.20001200000002,825.65002400000003,827.34997599999997,820.87255900000002,2029762,-1.0228534621477325E-2]
["2021-10-20",825.04998799999998,834.79998799999998,807.5,814.90002400000003,808.520081,2089252,-1.5047985055132052E-2]
["2021-10-21",823.04998799999998,829,810.04998799999998,818.40002400000003,811.99267599999996,3155655,4.2950015486380444E-3]
["2021-10-22",825.09997599999997,826.84997599999997,800.15002400000003,812.54998799999998,806.18841599999996,1709523,-7.148167922637727E-3]
["2021-10-25",810,821.25,795.54998799999998,813.20001200000002,806.83337400000005,2129988,8.0000901427013105E-4]
["2021-10-26",817,823.90002400000003,806.29998799999998,813.5,807.13098100000002,1628608,3.6885806858055759E-4]
["2021-10-27",815.79998799999998,838.45001200000002,815.79998799999998,825.09997599999997,818.64013699999998,3569869,1.4259341136602988E-2]
["2021-10-28",823.95001200000002,829.15002400000003,803.04998799999998,807.59997599999997,801.27716099999998,1647229,-2.1209534220528958E-2]
["2021-10-29",800,816.54998799999998,779.34997599999997,795,788.77581799999996,4321416,-1.5601771282733545E-2]
["2021-11-01",798.95001200000002,813.84997599999997,787,811.79998799999998,805.44427499999995,1935341,2.1132058843112311E-2]
["2021-11-02",814.65002400000003,836,782.75,815.40002400000003,809.01617399999998,17608860,4.434694132005701E-3]
["2021-11-03",820,822,781.34997599999997,787.95001200000002,781.78106700000001,9452138,-3.3664477763580503E-2]
["2021-11-04",797,797,788.5,795.45001200000002,789.222351,485870,9.5183732557697631E-3]
["2021-11-08",798,803,783,800,793.73669400000006,4280584,5.7199887893191192E-3]
["2021-11-09",800,812,797,801.34997599999997,795.07611099999997,3232291,1.6874827762465294E-3]
["2021-11-10",799.75,815,797,811.09997599999997,804.74975600000005,2900645,1.2166942090403365E-2]
["2021-11-11",808.95001200000002,810.45001200000002,792.09997599999997,794.84997599999997,788.62701400000003,2107377,-2.003447889209431E-2]
["2021-11-12",803.95001200000002,808.54998799999998,796.09997599999997,806.5,800.18579099999999,2076523,1.4656836241726756E-2]
["2021-11-15",808.29998799999998,819.65002400000003,806.65002400000003,810.70001200000002,804.35296600000004,2109222,5.2077593064883132E-3]
["2021-11-16",812.29998799999998,817.45001200000002,795.65002400000003,798.45001200000002,792.19885299999999,1512946,-1.5110422306816029E-2]
["2021-11-17",800,805,787.40002400000003,791.34997599999997,785.15441899999996,1662900,-8.892254732916216E-3]
["2021-11-18",790,794.34997599999997,780.09997599999997,790.65002400000003,784.45989999999995,3177648,-8.845635752576797E-4]
["2021-11-22",791.84997599999997,794,765.04998799999998,770.75,764.71569799999997,2894426,-2.5169166709477442E-2]
["2021-11-23",770,791.75,761.54998799999998,785.20001200000002,779.05255099999999,2739763,1.874795173879118E-2]
["2021-11-24",783.5,796.95001200000002,775.54998799999998,778.95001200000002,772.85150099999998,2404041,-7.9597326162917925E-3]
["2021-11-25",775.59997599999997,787.25,774.34997599999997,782.90002400000003,776.77056900000002,1861259,5.0709198273266587E-3]
["2021-11-26",775,798.90002400000003,762,767.29998799999998,761.29272500000002,5432649,-1.9925888824451565E-2]
["2021-11-29",773,775,749.04998799999998,751.04998799999998,745.16992200000004,4664270,-2.1178191345516906E-2]
["2021-11-30",751,761.65002400000003,746.04998799999998,753.59997599999997,747.69995100000006,5505266,3.3952376837882436E-3]
["2021-12-01",756.75,763.25,740.34997599999997,745.34997599999997,739.51452600000005,3687799,-1.0947472965662897E-2]
["2021-12-02",753,770.75,746.09997599999997,766.25,760.25091599999996,4896650,2.8040544534212231E-2]
["2021-12-03",771.90002400000003,771.90002400000003,748.90002400000003,751.79998799999998,745.91406300000006,3135454,-1.8858054226928322E-2]
["2021-12-06",751.20001200000002,752.54998799999998,733.70001200000002,737.15002400000003,731.378784,2577704,-1.9486532994887451E-2]
["2021-12-07",741.09997599999997,751,735,743.70001200000002,737.87750200000005,2583462,{"$f":"(F644/F643)-1","v":8.8855708453254856E-3}]
["2021-12-08",750.20001200000002,763.5,747.34997599999997,757.54998799999998,751.61901899999998,2530785,1.862303290553502E-2]
["2021-12-09",758.20001200000002,766.79998799999998,756.15002400000003,759.75,753.80181900000002,2604449,2.9041308759112372E-3]
["2021-12-10",754.20001200000002,775,754.20001200000002,761.34997599999997,755.38928199999998,2950388,2.1059421189855154E-3]
["2021-12-13",763.84997599999997,773.34997599999997,759,762.59997599999997,756.629456,2491218,1.6417680652238698E-3]
["2021-12-14",757.25,768.75,753.59997599999997,756.04998799999998,750.13079800000003,3224172,-8.5889571817039378E-3]
["2021-12-15",752.5,778.84997599999997,745.29998799999998,775.09997599999997,769.03161599999999,6231786,2.5196696430000332E-2]
["2021-12-16",786.5,786.5,760,764.45001200000002,758.46502699999996,6186549,-1.3740123006854454E-2]
["2021-12-17",762,772.34997599999997,753.5,768.95001200000002,762.92980999999997,7171030,5.8866036548315126E-3]
["2021-12-20",768,774.70001200000002,753.04998799999998,763.95001200000002,757.96893299999999,7474026,-6.5024028881502938E-3]
["2021-12-21",764.04998799999998,783.95001200000002,764.04998799999998,778.54998799999998,772.45459000000005,5599344,1.9111148715114989E-2]
["2021-12-22",785,801,777.5,797.5,791.25628700000004,5871235,2.4340197137025177E-2]
["2021-12-23",801.84997599999997,803.95001200000002,790,792.45001200000002,786.24578899999995,4277384,-6.3323326238545752E-3]
["2021-12-24",793.40002400000003,794.79998799999998,777.59997599999997,785.40002400000003,779.25103799999999,3076272,-8.8963923214092633E-3]
["2021-12-27",784,796.59997599999997,781.15002400000003,794.09997599999997,787.88287400000002,3598487,1.1077092719894432E-2]
["2021-12-28",796,819.90002400000003,794.20001200000002,815.09997599999997,808.71844499999997,5477769,2.6445010657764279E-2]
["2021-12-29",822.5,843.65002400000003,816.5,838.79998799999998,832.23290999999995,8748856,2.9076207109385299E-2]
["2021-12-30",836.65002400000003,841.95001200000002,827.34997599999997,834.45001200000002,827.91699200000005,5179861,-5.1859496880505285E-3]
["2021-12-31",834.45001200000002,850.95001200000002,834,845.70001200000002,839.07891800000004,3346523,1.3481938537142524E-2]
["2022-01-03",845,860.04998799999998,840.90002400000003,848.95001200000002,842.30346699999996,3726756,3.8429627187939186E-3]
["2022-01-04",852.5,854,832.40002400000003,837.70001200000002,831.14154099999996,3027262,-1.3251668118801629E-2]
["2022-01-05",840,844.54998799999998,830.65002400000003,835.09997599999997,828.56188999999995,2436343,-3.1037445161220534E-3]
["2022-01-06",837.79998799999998,844.90002400000003,822,829.59997599999997,823.104919,2423850,-6.5860753021116381E-3]
["2022-01-07",829.59997599999997,836,825.20001200000002,828.95001200000002,822.46008300000005,1475374,-7.8341896046907333E-4]
["2022-01-10",832.09997599999997,835,817.54998799999998,826.70001200000002,820.22766100000001,4837873,-2.7143226110829533E-3]
["2022-01-11",830.90002400000003,841.5,828.29998799999998,832.40002400000003,825.88305700000001,4950526,6.8949101193502838E-3]
["2022-01-12",845,845,827.5,836.20001200000002,829.65332000000001,3953446,4.5651293703679041E-3]
["2022-01-13",836.20001200000002,871,834.25,865.5,858.72387700000002,7395140,3.5039402964120114E-2]
["2022-01-14",865.5,868.90002400000003,856.79998799999998,859.75,853.01892099999998,2351963,-6.6435278589558333E-3]
["2022-01-17",859.75,863.40002400000003,850.5,853.20001200000002,846.52020300000004,1750754,-7.6184922045825498E-3]
["2022-01-18",855,867.20001200000002,845,846.70001200000002,840.07110599999999,3354708,-7.6183615903613333E-3]
["2022-01-19",848,848,834,838.5,831.93530299999998,1677779,-9.6846599554395452E-3]
["2022-01-20",839.29998799999998,842.75,815.65002400000003,820,813.58013900000003,2886894,-2.2063210845615466E-2]
["2022-01-21",816.5,819.70001200000002,801.09997599999997,808.75,802.41821300000004,3218477,-1.3719516326590186E-2]
["2022-01-24",804,825,791.59997599999997,800.84997599999997,794.580017,5300160,-9.7682179604265951E-3]
["2022-01-25",791,811.70001200000002,784.79998799999998,808.04998799999998,801.72363299999995,3779497,8.9904299720136027E-3]
["2022-01-27",802,817.40002400000003,791.29998799999998,812.09997599999997,805.74194299999999,3593525,5.0120887480438192E-3]
["2022-01-28",816,842.90002400000003,812.09997599999997,827.34997599999997,820.87255900000002,5073701,1.8778488735071486E-2]
["2022-01-31",830.09997599999997,849.75,820.04998799999998,834.5,827.96661400000005,8041517,8.6420905684094773E-3]
["2022-02-01",847.40002400000003,895,839.84997599999997,891.75,884.768372,12337459,6.860392320118347E-2]
["2022-02-02",890,898.45001200000002,882,890.65002400000003,883.67700200000002,4404741,-1.2335092828114069E-3]
["2022-02-03",889.34997599999997,891.20001200000002,880.45001200000002,883.54998799999998,876.63256799999999,2292825,-7.9717294713527176E-3]
["2022-02-04",882.90002400000003,902.84997599999997,881.34997599999997,893.95001200000002,886.95117200000004,4222492,1.1770728554543197E-2]
["2022-02-07",901.45001200000002,901.45001200000002,879.70001200000002,887.04998799999998,880.10516399999995,3494623,-7.7185849865477607E-3]
["2022-02-08",886,895.95001200000002,882,894.09997599999997,887.09997599999997,4766558,7.9477002136985053E-3]
["2022-02-09",893.90002400000003,894.54998799999998,885.34997599999997,886.45001200000002,886.45001200000002,2874380,-7.3268404642590212E-4]
["2022-02-10",891.40002400000003,896.25,880,894.29998799999998,894.29998799999998,3159839,8.8555202140376821E-3]
["2022-02-11",894.59997599999997,895.79998799999998,874.65002400000003,880.09997599999997,880.09997599999997,2682532,-1.5878354232964575E-2]
["2022-02-14",870,886.65002400000003,862.20001200000002,864.84997599999997,864.84997599999997,5163415,-1.7327576884287987E-2]
["2022-02-15",862.5,880,859.04998799999998,876.79998799999998,876.79998799999998,3219287,1.3817439245670915E-2]
["2022-02-16",876,881.15002400000003,867.09997599999997,868.84997599999997,868.84997599999997,2136415,-9.0670758540202234E-3]
["2022-02-17",872.34997599999997,872.34997599999997,861.29998799999998,862.54998799999998,862.54998799999998,2275289,-7.2509503067534897E-3]
["2022-02-18",862.54998799999998,867.90002400000003,856.40002400000003,862.90002400000003,862.90002400000003,1797851,4.0581532070005366E-4]
["2022-02-21",855.5,864,839.5,843.84997599999997,843.84997599999997,2305713,-2.2076773056156518E-2]
["2022-02-22",836,849,824.59997599999997,845.79998799999998,845.79998799999998,3171552,2.3108515203655866E-3]
["2022-02-23",849.84997599999997,853,838.04998799999998,840.25,840.25,1979574,-6.5618208545067391E-3]
["2022-02-24",830.59997599999997,836.95001200000002,815,818.25,818.25,3679222,-2.6182683725081812E-2]
["2022-02-25",820.5,835,817.04998799999998,831.54998799999998,831.54998799999998,2098988,1.6254186373357848E-2]
["2022-02-28",821,847,821,843.90002400000003,843.90002400000003,4123139,1.4851826322195949E-2]
["2022-03-02",844.34997599999997,844.95001200000002,815.70001200000002,820.90002400000003,820.90002400000003,3807036,-2.7254413254999554E-2]
["2022-03-03",832.79998799999998,832.79998799999998,817,820.90002400000003,820.90002400000003,2657776,0]
["2022-03-04",816.29998799999998,839.59997599999997,809.34997599999997,829.65002400000003,829.65002400000003,4082674,1.0659032457282613E-2]
["2022-03-07",818,829,809.09997599999997,822.65002400000003,822.65002400000003,3065234,-8.4372925902549412E-3]
["2022-03-08",826.20001200000002,861.70001200000002,826.20001200000002,855,855,4864275,3.9324105094780792E-2]
["2022-03-09",863.40002400000003,885.79998799999998,860,868.25,868.25,7276355,{"$f":"(F708/F707)-1","v":1.5497076023391898E-2}]
["2022-03-10",869.90002400000003,881.90002400000003,866.59997599999997,869.54998799999998,869.54998799999998,2899758,1.497250791822724E-3]
["2022-03-11",872,907,869.04998799999998,902,902,7194497,3.7318167382919931E-2]
["2022-03-14",901.95001200000002,911.79998799999998,889.95001200000002,892.25,892.25,3861194,-1.0809312638580981E-2]
["2022-03-15",893.70001200000002,908,881.34997599999997,891.65002400000003,891.65002400000003,4039746,-6.7243037265340977E-4]
["2022-03-16",900,900,880.45001200000002,889.20001200000002,889.20001200000002,3134307,-2.7477282947956372E-3]
["2022-03-17",892.20001200000002,915,892.20001200000002,911.59997599999997,911.59997599999997,5484100,2.519114226012853E-2]
["2022-03-21",912.5,931,911.29998799999998,913.79998799999998,913.79998799999998,3878744,2.4133524110578897E-3]
["2022-03-22",913.79998799999998,922,902.5,914.09997599999997,914.09997599999997,2174495,3.2828628139580651E-4]
["2022-03-23",918,926,895.79998799999998,900.79998799999998,900.79998799999998,2578669,-1.4549817688650712E-2]
["2022-03-24",886,914.70001200000002,885.5,908.84997599999997,908.84997599999997,3141478,8.9364876856548037E-3]
["2022-03-25",911.84997599999997,914.95001200000002,896.29998799999998,902.34997599999997,902.34997599999997,1571676,-7.151895441101952E-3]
["2022-03-28",908.90002400000003,910.90002400000003,899.29998799999998,905.90002400000003,905.90002400000003,1545077,3.934225183600093E-3]
["2022-03-29",908.04998799999998,922,901.09997599999997,919.34997599999997,919.34997599999997,3177777,1.4847059988597477E-2]
["2022-03-30",922,922,908.40002400000003,920.59997599999997,920.59997599999997,2084073,1.3596563143871698E-3]
["2022-03-31",920.59997599999997,927,910.79998799999998,914.75,914.75,1901705,-6.3545254752428448E-3]
["2022-04-01",914,919,904.09997599999997,908.70001200000002,908.70001200000002,1184766,-6.6138157966657563E-3]
["2022-04-04",908,928.79998799999998,902.59997599999997,926.04998799999998,926.04998799999998,1876408,1.9093183416839077E-2]
["2022-04-05",928,940.70001200000002,924.15002400000003,929.09997599999997,929.09997599999997,2911697,3.2935457475542496E-3]
["2022-04-06",927.79998799999998,938.79998799999998,925,928.09997599999997,928.09997599999997,1881754,-1.0763104357243147E-3]
["2022-04-07",928.09997599999997,948,926.84997599999997,930.95001200000002,930.95001200000002,2728625,3.0708286539165019E-3]
["2022-04-08",937,937.29998799999998,919.29998799999998,924.59997599999997,924.59997599999997,1453271,-6.821027894245324E-3]
["2022-04-11",920,933.54998799999998,918.59997599999997,925.40002400000003,925.40002400000003,1102625,8.6529095908183251E-4]
["2022-04-12",920,928.15002400000003,911.40002400000003,921.29998799999998,921.29998799999998,1420380,-4.4305553205821191E-3]
["2022-04-13",921.29998799999998,943,921.29998799999998,936.75,936.75,1825531,1.6769795073523941E-2]
["2022-04-18",927.59997599999997,941.04998799999998,919.25,927.5,927.5,1287320,-9.8745663197224998E-3]
["2022-04-19",930.95001200000002,937.75,915.04998799999998,922,922,2001066,-5.9299191374663218E-3]
["2022-04-20",918,931,916.04998799999998,923.5,923.5,1455897,1.6268980477223138E-3]
["2022-04-21",931,946,920.59997599999997,944.09997599999997,944.09997599999997,2410164,2.2306416892257763E-2]
["2022-04-22",941,942.25,918.34997599999997,924.79998799999998,924.79998799999998,1745381,-2.0442737517874843E-2]
["2022-04-25",915.54998799999998,922.34997599999997,896.59997599999997,900,900,1146270,-2.6816596368727463E-2]
["2022-04-26",905,924.75,904.04998799999998,918.04998799999998,918.04998799999998,3142879,2.0055542222222167E-2]
["2022-04-27",910.04998799999998,921.70001200000002,903.59997599999997,906.09997599999997,906.09997599999997,1586283,-1.3016733463537711E-2]
["2022-04-28",920,927.34997599999997,909.29998799999998,921,921,3150038,1.6444128015295378E-2]
["2022-04-29",924,967.04998799999998,919.54998799999998,928.65002400000003,928.65002400000003,4290688,8.3062149837134225E-3]
["2022-05-02",922.45001200000002,925,902.54998799999998,923.40002400000003,923.40002400000003,2119174,-5.653367645850671E-3]
["2022-05-04",920.09997599999997,920.90002400000003,895,900.90002400000003,900.90002400000003,3925606,-2.4366471101586185E-2]

{"sheet":"TATAELXSI","index":8,"n_rows":744,"n_cols":11,"rows_kept":744,"cut":false,"hidden":false,"merged":[]}
["Date","Open","High","Low","Close","Adj Close","Volume"," Daily Returns"]
["2019-05-06",870,878.90002400000003,856,857.70001200000002,811.41503899999998,472017,null,null,"Statistic","Value"]
["2019-05-07",860.04998799999998,879.84997599999997,857,859.65002400000003,813.25976600000001,710267,{"$f":"(F3/F2)-1","v":2.2734690772721056E-3},null,"Variance ",{"$f":"_xlfn.VAR.P(H3:H744)","v":7.9023327952906959E-4}]
["2019-05-08",859,871.65002400000003,852.09997599999997,860.45001200000002,814.01654099999996,392453,{"$f":"(F4/F3)-1","v":9.3054523491575836E-4},null,"Average Daily Return",{"$f":"AVERAGE(H3:H744)","v":3.4435624024445402E-3}]
["2019-05-09",860.45001200000002,870.20001200000002,854.5,863.34997599999997,816.760132,501408,3.3704364245836782E-3]
["2019-05-10",864,875.20001200000002,858.79998799999998,862.34997599999997,815.81408699999997,296494,-1.1582898857752655E-3,null,"Annualised Daily Return",{"$f":"Daily_Annualise(K4)","v":1.3780647419549057}]
["2019-05-13",862.09997599999997,862.59997599999997,842.54998799999998,845.45001200000002,799.82605000000001,222645,-1.9597647619438496E-2,null,"Annualised Variance",{"$f":"Daily_Annualise(K3)","v":0.22025535573231014}]
["2019-05-14",843,846.40002400000003,822.09997599999997,838.75,793.48761000000002,591835,-7.9247731428602197E-3,null,"3-year CAGR",{"$f":"CAGR_3(F2,F744)","v":1.1241264873384296}]
["2019-05-15",844.79998799999998,864.70001200000002,840,849.20001200000002,803.37365699999998,526973,1.2458980928511165E-2]
["2019-05-16",852,856.54998799999998,840.04998799999998,851.40002400000003,805.45495600000004,275536,2.5906985894610379E-3]
["2019-05-17",848.90002400000003,869.95001200000002,848.90002400000003,864.84997599999997,818.17913799999997,435328,1.5797509103662399E-2]
["2019-05-20",876,884.65002400000003,856.34997599999997,861.40002400000003,814.915344,623775,-3.9890946229430568E-3]
["2019-05-21",865.90002400000003,866.90002400000003,834.65002400000003,840.95001200000002,795.56890899999996,452877,-2.3740423029757096E-2]
["2019-05-22",843.5,853,828,850.45001200000002,804.55627400000003,483465,1.1296777561728533E-2]
["2019-05-23",857.20001200000002,861.25,843.70001200000002,847.70001200000002,801.95465100000001,323746,-3.2336122208899143E-3]
["2019-05-24",853.70001200000002,864.59997599999997,839.09997599999997,862.5,815.95599400000003,368792,1.7459020884212029E-2]
["2019-05-27",865,879.90002400000003,860.25,874.15002400000003,826.97729500000003,505365,1.3507224753593672E-2]
["2019-05-28",877.79998799999998,899.79998799999998,874.34997599999997,885.29998799999998,837.52557400000001,871295,1.2755222016101353E-2]
["2019-05-29",884.70001200000002,909.5,884,888.59997599999997,840.64752199999998,1074495,3.7275852784883767E-3]
["2019-05-30",891.70001200000002,892.40002400000003,882.20001200000002,884.5,836.76879899999994,385885,-4.6139706577282835E-3]
["2019-05-31",885.95001200000002,892.20001200000002,866.09997599999997,871.59997599999997,824.56488000000002,431419,-1.4584577023646794E-2]
["2019-06-03",874,884.84997599999997,863.29998799999998,880.15002400000003,832.65344200000004,352391,9.8094912798130096E-3]
["2019-06-04",875,881.95001200000002,865.70001200000002,868,821.15917999999999,377346,-1.380437697151804E-2]
["2019-06-06",869.79998799999998,872.09997599999997,852,855.34997599999997,809.19177200000001,272183,-1.4573797981531356E-2]
["2019-06-07",855,867.90002400000003,844,857.20001200000002,810.941956,263098,2.1628791351575583E-3]
["2019-06-10",859.5,866.15002400000003,855,857.20001200000002,810.941956,236516,0]
["2019-06-11",860,874.29998799999998,850.5,867.5,820.68609600000002,468893,1.2015829157568048E-2]
["2019-06-12",867,868.45001200000002,853.20001200000002,855.54998799999998,809.38104199999998,259898,-1.3775125538376454E-2]
["2019-06-13",855.54998799999998,856.84997599999997,835.45001200000002,845.95001200000002,800.29907200000002,317787,-1.1220883031258344E-2]
["2019-06-14",847.70001200000002,867.90002400000003,841.75,861.40002400000003,814.915344,572644,1.8263512368536183E-2]
["2019-06-17",863.34997599999997,873.70001200000002,860.15002400000003,866.84997599999997,820.07122800000002,498607,6.3268952265549405E-3]
["2019-06-18",868.75,882.59997599999997,863.25,870,823.05120799999997,586681,3.6338063063956483E-3]
["2019-06-19",875.90002400000003,875.90002400000003,845.54998799999998,848.84997599999997,803.04260299999999,374026,-2.4310279610208596E-2]
["2019-06-20",845,857.45001200000002,834,854.54998799999998,808.43499799999995,329527,6.7149550719414197E-3]
["2019-06-21",855.79998799999998,867,853.20001200000002,860.70001200000002,814.25311299999998,197498,7.1967628991738142E-3]
["2019-06-24",862.70001200000002,869,849,851.59997599999997,805.64416500000004,206148,-1.0572815580994877E-2]
["2019-06-25",850.65002400000003,864.95001200000002,847.5,858.09997599999997,811.79333499999996,245651,7.6326128421719819E-3]
["2019-06-26",858,872,857.95001200000002,866.5,819.74011199999995,319731,9.7891626567738754E-3]
["2019-06-27",867,878.20001200000002,866,875.90002400000003,828.63287400000002,283884,1.0848269920943121E-2]
["2019-06-28",876.40002400000003,892.5,875,884.90002400000003,837.147156,511883,1.0275095602832574E-2]
["2019-07-01",890.09997599999997,900.90002400000003,886.40002400000003,898.90002400000003,850.39166299999999,335774,1.5821002203822765E-2]
["2019-07-02",903.84997599999997,924.95001200000002,901,920.79998799999998,871.10986300000002,1128675,2.4363126899563659E-2]
["2019-07-03",924.95001200000002,924.95001200000002,913,921.25,871.53558299999997,447980,4.8870988388749481E-4]
["2019-07-04",921,922.09997599999997,904.20001200000002,914.34997599999997,865.00787400000002,297118,-7.4898938463651143E-3]
["2019-07-05",918.79998799999998,919.34997599999997,885.75,889.84997599999997,841.830017,369947,-2.6794966492987071E-2]
["2019-07-08",866.09997599999997,869.90002400000003,848.5,856.90002400000003,823.14624000000003,479443,-2.2194239481484246E-2]
["2019-07-09",859,864.90002400000003,844.04998799999998,853.90002400000003,833.39404300000001,230084,1.2449553313880202E-2]
["2019-07-10",850,865.54998799999998,846,849.65002400000003,829.24615500000004,243879,-4.9771030100823621E-3]
["2019-07-11",854,855.95001200000002,835.5,843.04998799999998,822.80456500000003,292683,-7.7680070762583542E-3]
["2019-07-12",843.04998799999998,852.79998799999998,841.20001200000002,849.5,829.09973100000002,271207,7.6508642122081749E-3]
["2019-07-15",855,857,808.84997599999997,816.5,796.89215100000001,1058298,-3.884644849800345E-2]
["2019-07-16",815,823,803.90002400000003,814.70001200000002,795.13543700000002,791908,-2.2044563970112785E-3]
["2019-07-17",811.09997599999997,811.40002400000003,735.79998799999998,742.45001200000002,724.62048300000004,9825204,-8.8682947229781206E-2]
["2019-07-18",737.5,749.95001200000002,722.34997599999997,732.04998799999998,714.47021500000005,2553544,-1.4007702291242041E-2]
["2019-07-19",733,750,696.20001200000002,701.45001200000002,684.60504200000003,2501071,-4.1800445103229444E-2]
["2019-07-22",700,707.65002400000003,676,679.75,663.42620799999997,1254828,-3.0935842859305174E-2]
["2019-07-23",680.79998799999998,687.95001200000002,669,672.20001200000002,656.05749500000002,1246592,-1.1107057440817858E-2]
["2019-07-24",676,681,654.65002400000003,657.29998799999998,641.51525900000001,955525,-2.2166099939152417E-2]
["2019-07-25",655,666.79998799999998,643.54998799999998,653.79998799999998,638.09936500000003,1634604,-5.3247275915536685E-3]
["2019-07-26",653.79998799999998,660.95001200000002,642.65002400000003,645.54998799999998,630.04748500000005,799250,-1.2618536299593419E-2]
["2019-07-29",646.79998799999998,651.04998799999998,635.09997599999997,638.45001200000002,623.11798099999999,627264,-1.0998383717062299E-2]
["2019-07-30",639,644.59997599999997,616.40002400000003,619.20001200000002,604.33026099999995,774765,-3.015114404153274E-2]
["2019-07-31",614.90002400000003,640,608.5,636.84997599999997,621.55639599999995,1004613,2.8504505088815968E-2]
["2019-08-01",634,638.5,609,615,600.23113999999998,893290,-3.4309446636279106E-2]
["2019-08-02",610.5,626,602.20001200000002,622.04998799999998,607.11181599999998,920373,1.1463377258300822E-2]
["2019-08-05",615,618.29998799999998,602.09997599999997,604.5,589.98327600000005,728747,-2.8213155383554511E-2]
["2019-08-06",602.79998799999998,629.90002400000003,602,626.5,611.45489499999996,890129,3.6393606180796123E-2]
["2019-08-07",628.29998799999998,639.75,615.15002400000003,619,604.13507100000004,1020853,{"$f":"(F68/F67)-1","v":-1.1971159377176854E-2}]
["2019-08-08",620.40002400000003,634.90002400000003,617,631.45001200000002,616.28607199999999,627739,2.0113053492966326E-2]
["2019-08-09",634.29998799999998,643.75,625.29998799999998,631.5,616.33489999999995,555417,7.9229439408745606E-5]
["2019-08-13",631.54998799999998,633,606.29998799999998,610.84997599999997,596.18072500000005,819803,-3.2700038566694678E-2]
["2019-08-14",611.90002400000003,618.34997599999997,592.25,612.84997599999997,598.13275099999998,746224,3.2742185685388225E-3]
["2019-08-16",613.59997599999997,632.04998799999998,601.25,623.45001200000002,608.47814900000003,887759,1.7296157053269257E-2]
["2019-08-19",626.20001200000002,641,624.5,629.5,614.38287400000002,586040,9.7040871717481991E-3]
["2019-08-20",629.79998799999998,637.70001200000002,615.25,619.45001200000002,604.57428000000004,586008,-1.5964953476225952E-2]
["2019-08-21",619.95001200000002,638,619.45001200000002,633.54998799999998,618.33563200000003,973942,2.2762053324531184E-2]
["2019-08-22",634.20001200000002,639.09997599999997,602.59997599999997,606.75,592.17926,1031865,-4.2301252986824522E-2]
["2019-08-23",607.70001200000002,652.95001200000002,607,649.25,633.65863000000002,1744663,7.0045293379575657E-2]
["2019-08-26",660,663,639.45001200000002,647.20001200000002,631.65789800000005,1279863,-3.1574287878001206E-3]
["2019-08-27",647.90002400000003,666.5,646.09997599999997,651.75,636.09857199999999,962086,7.0301883567993606E-3]
["2019-08-28",655,669,642.45001200000002,648.59997599999997,633.02417000000003,1157017,-4.833216321070366E-3]
["2019-08-29",649.90002400000003,650,626.04998799999998,628.79998799999998,613.69970699999999,810449,-3.052721193884278E-2]
["2019-08-30",633,635.34997599999997,621.40002400000003,632.25,617.06683299999997,569664,5.4866019351056394E-3]
["2019-09-03",632,644,625.09997599999997,627.45001200000002,612.38214100000005,607064,-7.5918713330034304E-3]
["2019-09-04",631.34997599999997,635,606,610.25,595.59521500000005,1026040,-2.7412500914196336E-2]
["2019-09-05",611.25,621.95001200000002,611.25,618.70001200000002,603.84222399999999,570377,1.3846667656656653E-2]
["2019-09-06",619,638,619,629.70001200000002,614.578125,809039,1.777931481651418E-2]
["2019-09-09",631,640.90002400000003,629.75,638.15002400000003,622.82525599999997,484397,1.3419174331985806E-2]
["2019-09-11",639.40002400000003,652.45001200000002,636.65002400000003,644.90002400000003,629.41308600000002,480936,1.0577332785618454E-2]
["2019-09-12",646,657.20001200000002,642.09997599999997,645.5,629.99871800000005,382518,9.3044141125475655E-4]
["2019-09-13",648,649.5,634.09997599999997,647.40002400000003,631.853027,326196,2.9433536085385903E-3]
["2019-09-16",642.09997599999997,664.70001200000002,640.04998799999998,661.5,645.61444100000006,979764,2.1779454100803175E-2]
["2019-09-17",664.54998799999998,664.54998799999998,630.25,634.45001200000002,619.21405000000004,684294,-4.0891884263165035E-2]
["2019-09-18",637.25,651.90002400000003,636.09997599999997,638.29998799999998,622.97155799999996,621594,6.068189182722783E-3]
["2019-09-19",639.70001200000002,640.40002400000003,620.20001200000002,626.5,611.45489499999996,426455,-1.8486659386141691E-2]
["2019-09-20",629.40002400000003,652,617.20001200000002,644.20001200000002,628.729919,945969,2.8252327589919801E-2]
["2019-09-23",651,657.84997599999997,631,649.20001200000002,633.60980199999995,727766,7.7614932143859061E-3]
["2019-09-24",650,700.90002400000003,645.04998799999998,685.5,669.03808600000002,3280239,5.5914987249518822E-2]
["2019-09-25",681,700.59997599999997,660,667.40002400000003,651.37274200000002,2089065,-2.6404093234237758E-2]
["2019-09-26",670.34997599999997,688,670.34997599999997,685.70001200000002,669.23327600000005,1045513,2.7419836367669204E-2]
["2019-09-27",686,701.20001200000002,681,682.65002400000003,666.256531,1268379,-4.4479931090576352E-3]
["2019-09-30",685,687.75,671.45001200000002,677.25,660.98620600000004,671679,-7.9103539774530995E-3]
["2019-10-01",681,684.90002400000003,664.29998799999998,675.04998799999998,658.83905000000004,679666,-3.2484127210363756E-3]
["2019-10-03",674.5,692.29998799999998,672,687.29998799999998,670.79486099999997,760953,1.8146785622376038E-2]
["2019-10-04",692,695.79998799999998,681.70001200000002,682.59997599999997,666.20770300000004,564521,-6.8383916852934323E-3]
["2019-10-07",685.70001200000002,691.25,677,680.25,663.91418499999997,407029,-3.4426470748868399E-3]
["2019-10-09",682.70001200000002,682.70001200000002,621,637.75,622.434753,2843285,-6.2477098602735759E-2]
["2019-10-10",630.75,632.79998799999998,615,618.84997599999997,603.98864700000001,1137992,-2.9635405014089899E-2]
["2019-10-11",615,635.90002400000003,610,632.29998799999998,617.11566200000004,961678,2.1733877060772011E-2]
["2019-10-14",636.25,657,628.59997599999997,646.40002400000003,630.87707499999999,1031550,2.2299568536959136E-2]
["2019-10-15",649.65002400000003,653.79998799999998,640,650.95001200000002,635.31781000000001,441562,7.0389861606559023E-3]
["2019-10-16",653.90002400000003,676.34997599999997,648.75,671.90002400000003,655.76470900000004,1224257,3.218373336645497E-2]
["2019-10-17",675.90002400000003,725,666.29998799999998,708.09997599999997,691.09533699999997,1261063,5.3876988979594476E-2]
["2019-10-18",715.20001200000002,721.95001200000002,702.54998799999998,708.29998799999998,691.290527,1266825,2.8243570684094443E-4]
["2019-10-22",692,705.90002400000003,675.20001200000002,702.29998799999998,685.43463099999997,1669101,-8.4709623107565024E-3]
["2019-10-23",700,725.54998799999998,700,716.09997599999997,698.90319799999997,1824687,1.9649673930758782E-2]
["2019-10-24",716.40002400000003,762.59997599999997,716.40002400000003,756.5,738.33306900000002,3185222,5.6416784345576954E-2]
["2019-10-25",757.90002400000003,766,747.54998799999998,761.5,743.21301300000005,1356741,6.6094073323972324E-3]
["2019-10-27",781,793,778.40002400000003,787.29998799999998,768.39343299999996,529871,3.3880488580734669E-2]
["2019-10-29",791,817.70001200000002,781.75,802.70001200000002,783.42358400000001,1305598,1.9560488617554439E-2]
["2019-10-30",803.90002400000003,827.70001200000002,801,823.15002400000003,803.38250700000003,1248559,2.5476540925783553E-2]
["2019-10-31",827,831,815.84997599999997,818.95001200000002,799.28338599999995,896680,-5.1023279250964615E-3]
["2019-11-01",818.5,836.70001200000002,811.79998799999998,829.5,809.580017,817934,1.288232832103442E-2]
["2019-11-04",830,839,823.40002400000003,828.20001200000002,808.31121800000005,450327,-1.56723112398649E-3]
["2019-11-05",828,831.90002400000003,807.09997599999997,809.70001200000002,790.255493,451242,-2.2337590519497241E-2]
["2019-11-06",810,823.29998799999998,807.59997599999997,810.20001200000002,790.74352999999996,426033,6.1756862726425332E-4]
["2019-11-07",813,823.54998799999998,801,815.15002400000003,795.57458499999996,553647,6.1095093626628572E-3]
["2019-11-08",819.25,841.40002400000003,807.15002400000003,811,791.52429199999995,1101014,-5.0910286431535834E-3]
["2019-11-11",812,815.29998799999998,802.20001200000002,807.40002400000003,788.01074200000005,446368,-4.4389667323058157E-3]
["2019-11-13",808,813,785,791.90002400000003,772.88299600000005,628471,-1.9197385509752363E-2]
["2019-11-14",796,797.15002400000003,783.90002400000003,791.70001200000002,772.68774399999995,406715,-2.5262814812931911E-4]
["2019-11-15",795.65002400000003,807.95001200000002,786.20001200000002,792.45001200000002,773.41980000000001,396566,{"$f":"(F132/F131)-1","v":9.4741505308526541E-4}]
["2019-11-18",792.5,799.40002400000003,782.45001200000002,790.45001200000002,771.46777299999997,281014,-2.5238906477440537E-3]
["2019-11-19",791.79998799999998,831.29998799999998,791.79998799999998,809.70001200000002,790.255493,2045547,2.4353214298168835E-2]
["2019-11-20",814,816,796.04998799999998,813.04998799999998,793.52502400000003,650086,4.1373087931195762E-3]
["2019-11-21",815.90002400000003,822.75,795.40002400000003,799.84997599999997,780.64202899999998,492751,-1.6235146479766316E-2]
["2019-11-22",803.40002400000003,803.40002400000003,783,788.29998799999998,769.36938499999997,445776,-1.4440221742147541E-2]
["2019-11-25",788.29998799999998,803.5,785,798.29998799999998,779.12921100000005,392635,1.2685487868743461E-2]
["2019-11-26",800,825.79998799999998,791.70001200000002,796.75,777.61651600000005,1092836,-1.9415200696409896E-3]
["2019-11-27",797.5,808,790.15002400000003,798.25,779.08044400000006,568010,1.8825834712594691E-3]
["2019-11-28",800.84997599999997,805.90002400000003,788.70001200000002,799.34997599999997,780.15405299999998,446686,1.3780463985051394E-3]
["2019-11-29",801,816.5,799.15002400000003,806.95001200000002,787.57153300000004,535459,9.5077119339148641E-3]
["2019-12-02",810.79998799999998,811,786,788.45001200000002,769.51580799999999,416819,-2.2925822282101271E-2]
["2019-12-03",793,795.15002400000003,778,788.25,769.32055700000001,500760,-2.5373227940239662E-4]
["2019-12-04",787.79998799999998,810.90002400000003,782.20001200000002,806.75,787.37634300000002,728523,2.3469782310782561E-2]
["2019-12-05",809,868.29998799999998,808.04998799999998,862.40002400000003,841.68994099999998,5130968,6.8980479897400082E-2]
["2019-12-06",862.45001200000002,869.79998799999998,843.75,849.95001200000002,829.53887899999995,1856349,-1.44365061385473E-2]
["2019-12-09",850.79998799999998,879.5,847.25,856.95001200000002,836.37078899999995,2256619,8.2357924058191756E-3]
["2019-12-10",855.65002400000003,864.79998799999998,831.59997599999997,839.34997599999997,819.19341999999995,1206219,-2.0537982944786926E-2]
["2019-12-11",841.90002400000003,848.79998799999998,817.5,828.90002400000003,808.99444600000004,999603,-1.2450019434970483E-2]
["2019-12-12",832.25,854.90002400000003,826.34997599999997,848.04998799999998,827.68450900000005,995626,2.310283227828247E-2]
["2019-12-13",853.34997599999997,879.75,853,858.65002400000003,838.02996800000005,2208206,1.2499278272707137E-2]
["2019-12-16",858.5,864.15002400000003,847.20001200000002,853.04998799999998,832.56445299999996,942886,-6.5218610416091227E-3]
["2019-12-17",855.75,870.20001200000002,853.54998799999998,856.15002400000003,835.59002699999996,996252,3.6340417718987439E-3]
["2019-12-18",858.5,899,852.79998799999998,868.34997599999997,847.49700900000005,4833180,1.4249789508318456E-2]
["2019-12-19",870,879.79998799999998,850.54998799999998,857.09997599999997,836.51715100000001,1506612,-1.2955630383823635E-2]
["2019-12-20",860,869.5,854,858.5,837.88360599999999,959236,1.6335050612727997E-3]
["2019-12-23",858.5,871.40002400000003,852.25,855.65002400000003,835.10205099999996,821369,-3.3197391380874741E-3]
["2019-12-24",856.79998799999998,864.40002400000003,836.54998799999998,842,821.77984600000002,1032459,-1.5952786828923649E-2]
["2019-12-26",850,851,810.54998799999998,814.95001200000002,795.379456,1764020,-3.2125866956343008E-2]
["2019-12-27",819,829,814.5,826.04998799999998,806.21283000000005,841583,1.362038448224645E-2]
["2019-12-30",826.90002400000003,836.45001200000002,825,832.84997599999997,812.84954800000003,497365,8.2319677299107497E-3]
["2019-12-31",831,833.79998799999998,821.20001200000002,825.95001200000002,806.11529499999995,330997,-8.2847471793144889E-3]
["2020-01-01",827.90002400000003,831.40002400000003,821,827.84997599999997,807.969604,263807,2.3003024647982873E-3]
["2020-01-02",829.79998799999998,835.79998799999998,823.29998799999998,828.25,808.35998500000005,294367,4.8316297799733121E-4]
["2020-01-03",828,842,821.54998799999998,838.09997599999997,817.97344999999996,666116,1.1892554280751311E-2]
["2020-01-06",835,835,816.54998799999998,823.40002400000003,803.62652600000001,301418,-1.7539596181269657E-2]
["2020-01-07",830,832.79998799999998,821.75,826.84997599999997,806.993652,224550,4.189913960107372E-3]
["2020-01-08",820,826.04998799999998,812.59997599999997,821.34997599999997,801.62567100000001,222281,-6.6518255585981123E-3]
["2020-01-09",826.90002400000003,851.70001200000002,825,843.15002400000003,822.90222200000005,469880,2.6541753551203362E-2]
["2020-01-10",845,859,841,848.54998799999998,828.17254600000001,519361,6.404556773696557E-3]
["2020-01-13",854,899.90002400000003,852.29998799999998,891.04998799999998,869.65191700000003,4036332,5.0085421450326573E-2]
["2020-01-14",892,920,892,907.90002400000003,886.09729000000004,2044123,1.8910293507695464E-2]
["2020-01-15",909,962.79998799999998,907,948.04998799999998,925.28308100000004,1557991,4.4222899045318176E-2]
["2020-01-16",960,969.5,951.09997599999997,958.75,935.726135,936150,1.1286334111625163E-2]
["2020-01-17",963,964,940.25,947.15002400000003,924.40472399999999,407274,-1.2099064647798863E-2]
["2020-01-20",950,957.25,930.20001200000002,936.75,914.254456,266941,-1.0980329001434197E-2]
["2020-01-21",935,964,925,954.70001200000002,931.77343800000006,474265,1.9162041688752796E-2]
["2020-01-22",956.5,979,954.5,960.84997599999997,937.77563499999997,898739,6.441691461910759E-3]
["2020-01-23",963,978,961,968.29998799999998,945.04675299999997,284158,7.7535795649030792E-3]
["2020-01-24",968.90002400000003,973,958.09997599999997,963.25,940.11810300000002,220015,-5.2152446261036767E-3]
["2020-01-27",960,968,929.09997599999997,942.75,920.11035200000003,213047,-2.1282167566131882E-2]
["2020-01-28",942.75,956.90002400000003,927.54998799999998,947.20001200000002,924.45355199999995,321398,4.7203033750888856E-3]
["2020-01-29",950,961.90002400000003,925,932.59997599999997,910.20404099999996,305850,-1.5413982637821011E-2]
["2020-01-30",938,962,935,957.54998799999998,934.55493200000001,695800,2.6753222248109054E-2]
["2020-01-31",957.95001200000002,966.5,941.79998799999998,949.20001200000002,926.40545699999996,318313,-8.7201669168442963E-3]
["2020-02-03",950,979.90002400000003,926.40002400000003,957.09997599999997,934.115723,565209,8.3227769674072416E-3]
["2020-02-04",961.90002400000003,1037.3000489999999,960,1030.349976,1005.606689,2222832,7.6533307640299642E-2]
["2020-02-05",1031.3000489999999,1058,1014.299988,1027.5,1002.825134,796454,-2.7660466367481762E-3]
["2020-02-06",1030,1048,1013.349976,1035.4499510000001,1010.584167,521590,7.737174445410222E-3]
["2020-02-07",1036,1057,1021,1030.5,1005.753113,636650,-4.7804568464013819E-3]
["2020-02-10",1036.900024,1070.8000489999999,1021.099976,1058.5,1033.080688,576348,2.7171255695631169E-2]
["2020-02-11",1064,1088,1059.3000489999999,1082.400024,1056.4067379999999,638604,2.2579117266394944E-2]
["2020-02-12",1086,1098.400024,1054.5,1060.900024,1035.423096,531180,-1.9863222417273119E-2]
["2020-02-13",1067.8000489999999,1096.5500489999999,1058.5,1089.099976,1062.9458010000001,487395,2.6581119453800595E-2]
["2020-02-14",1088,1096.4499510000001,1025.099976,1035,1010.14502,451945,{"$f":"(F196/F195)-1","v":-4.9674010613077413E-2}]
["2020-02-17",1041,1043.349976,975.95001200000002,987.54998799999998,963.83453399999996,866201,-4.5845383665802819E-2]
["2020-02-18",980,992,934.79998799999998,970.04998799999998,946.75476100000003,912440,-1.7720648511230785E-2]
["2020-02-19",980.09997599999997,1014,978.04998799999998,1005.700012,981.54864499999996,627745,3.6750682894109987E-2]
["2020-02-20",1005.700012,1021,986,996.40002400000003,972.47204599999998,633182,-9.2472227904710769E-3]
["2020-02-24",991.5,1013,971.45001200000002,1004.849976,980.71905500000003,585972,8.4804586763411738E-3]
["2020-02-25",1012.799988,1012.799988,985.09997599999997,989.25,965.49371299999996,256244,-1.552467235379662E-2]
["2020-02-26",993,993,952.09997599999997,961.59997599999997,938.50769000000003,277812,-2.795049065223687E-2]
["2020-02-27",955,955,915,930.40002400000003,908.05694600000004,559388,-3.244591847723699E-2]
["2020-02-28",910,919.04998799999998,855.09997599999997,882.75,861.55120799999997,629146,-5.1214561162555183E-2]
["2020-03-02",887,965,887,941.25,918.64642300000003,865946,6.6270251228061738E-2]
["2020-03-03",962.25,1071.25,940.45001200000002,1037.849976,1012.926575,1462319,0.10262942263696151]
["2020-03-04",1042,1057,947,983.95001200000002,960.32098399999995,1291087,-5.1934258907167075E-2]
["2020-03-05",994.5,1025,972.54998799999998,989.25,965.49371299999996,666066,5.3864583677576405E-3]
["2020-03-06",945,999,925.25,985.75,962.07775900000001,478233,-3.5380385744675502E-3]
["2020-03-09",945,969.84997599999997,903.5,932.40002400000003,910.00897199999997,452272,-5.4121183566410713E-2]
["2020-03-11",924,988.95001200000002,915.29998799999998,972.54998799999998,949.19476299999997,849743,4.3060884239281894E-2]
["2020-03-12",935,935,868,878.25,857.15930200000003,564775,-9.6961619034975577E-2]
["2020-03-13",800,889.20001200000002,702.59997599999997,846.90002400000003,826.56213400000001,622518,-3.5696011148228846E-2]
["2020-03-16",801,824.79998799999998,761,770.70001200000002,752.19207800000004,434851,-8.9975154850246208E-2]
["2020-03-17",770.54998799999998,784.95001200000002,706.09997599999997,723.04998799999998,705.68633999999997,384348,-6.1826944686327878E-2]
["2020-03-18",754,754,670,677.54998799999998,661.27899200000002,393149,-6.2927883796078499E-2]
["2020-03-19",650,650,567.20001200000002,575.84997599999997,562.02124000000003,993285,-0.15009966020514376]
["2020-03-20",585,633.40002400000003,572.5,598.59997599999997,584.22491500000001,859865,3.9506825400406509E-2]
["2020-03-23",540,569,539,544.40002400000003,531.32653800000003,266063,-9.0544541394644185E-2]
["2020-03-24",569,581,530,550.20001200000002,536.98724400000003,287748,1.0653911662887872E-2]
["2020-03-25",550,592,499.95001200000002,586,571.92749000000003,398547,6.5067180627478738E-2]
["2020-03-26",595,640,595,620.54998799999998,605.64782700000001,330218,5.8959112107025868E-2]
["2020-03-27",640,674,622.79998799999998,639.09997599999997,623.75231900000006,490352,2.9892771331614165E-2]
["2020-03-30",607.34997599999997,621.29998799999998,595,603.15002400000003,588.66570999999999,322832,-5.6250867421624884E-2]
["2020-03-31",615.04998799999998,639,610.15002400000003,629.09997599999997,613.99243200000001,298964,4.3023946477195096E-2]
["2020-04-01",636,653.09997599999997,601,607.20001200000002,592.618469,269950,-3.4811443734537817E-2]
["2020-04-03",617,617,590.04998799999998,593.59997599999997,579.34497099999999,214132,-2.2398049831956923E-2]
["2020-04-07",621,652.95001200000002,603,638.75,623.41076699999996,361001,7.6061411086280062E-2]
["2020-04-08",636,658,625.70001200000002,637.54998799999998,622.23956299999998,312310,-1.8787035162002308E-3]
["2020-04-09",659,712,650.04998799999998,699.59997599999997,682.79943800000001,594041,9.732565815651939E-2]
["2020-04-13",702,705,660,673.70001200000002,657.52148399999999,311444,-3.7021052732618132E-2]
["2020-04-15",686,743.90002400000003,682.79998799999998,734,716.37335199999995,911879,8.9505619865038355E-2]
["2020-04-16",730,730,701,713.90002400000003,696.75610400000005,435709,-2.7384111853451354E-2]
["2020-04-17",748,748,696.54998799999998,713.20001200000002,696.07287599999995,416692,-9.8058416148461003E-4]
["2020-04-20",727.65002400000003,738,715,729.40002400000003,711.88391100000001,381161,2.271462593235718E-2]
["2020-04-21",735,759.40002400000003,717.5,725.09997599999997,707.68713400000001,974232,-5.8953109280200922E-3]
["2020-04-22",730,734,709,719.65002400000003,702.36804199999995,346761,-7.5161632089245645E-3]
["2020-04-23",720,737.65002400000003,720,724.04998799999998,706.66229199999998,309755,6.11395983759766E-3]
["2020-04-24",735,771.20001200000002,721,751.25,733.20910600000002,781735,3.7566478784182955E-2]
["2020-04-27",760,860,755.09997599999997,829.15002400000003,809.23840299999995,3146899,0.10369387992843593]
["2020-04-28",831,854.65002400000003,810.54998799999998,815.5,795.91619900000001,620759,-1.6462644321638686E-2]
["2020-04-29",825,842,795.25,814.20001200000002,794.64746100000002,789417,-1.5940597786475719E-3]
["2020-04-30",834,838,798,802.84997599999997,783.57000700000003,505313,-1.3940086067927404E-2]
["2020-05-04",780,788.54998799999998,762.20001200000002,768.09997599999997,749.65448000000004,309534,-4.328333996581879E-2]
["2020-05-05",779,795.20001200000002,765.04998799999998,771.04998799999998,752.53363000000002,290754,3.8406360220777369E-3]
["2020-05-06",779,779,755,765.25,746.87292500000001,281314,-7.5221953868028768E-3]
["2020-05-07",760,797.90002400000003,760,789.54998799999998,770.58935499999995,469752,3.1754304120744425E-2]
["2020-05-08",800,818.79998799999998,752.20001200000002,771.5,752.97283900000002,775101,-2.2861094415195904E-2]
["2020-05-11",780,793,770.04998799999998,776.75,758.09680200000003,212308,6.8049771978562212E-3]
["2020-05-12",778,805,762.65002400000003,785.15002400000003,766.29504399999996,254500,1.081424163559519E-2]
["2020-05-13",815,815,772,783.65002400000003,764.83111599999995,542549,-1.910397322105073E-3]
["2020-05-14",780,782.90002400000003,759,771.95001200000002,753.41204800000003,236606,-1.4930182312300033E-2]
["2020-05-15",779.79998799999998,788.40002400000003,746,777.84997599999997,759.17028800000003,557092,7.6428828226011714E-3]
["2020-05-18",780,784.65002400000003,759,763.20001200000002,744.87219200000004,215961,-1.8833845615412126E-2]
["2020-05-19",775,784.20001200000002,767.09997599999997,772.84997599999997,754.29040499999996,272414,1.2644065788939951E-2]
["2020-05-20",775.90002400000003,791,763.90002400000003,787.5,768.58862299999998,251512,1.895585295162272E-2]
["2020-05-21",793,794.75,769.34997599999997,771.54998799999998,753.02166699999998,285548,-2.0253950597444614E-2]
["2020-05-22",766,786.5,766,775,756.38879399999996,282978,4.4714875382196873E-3]
["2020-05-26",782.29998799999998,782.29998799999998,756.09997599999997,759.70001200000002,741.45623799999998,271937,{"$f":"(F260/F259)-1","v":-1.9741905377831381E-2}]
["2020-05-27",760.04998799999998,765.29998799999998,740.09997599999997,751,732.965149,356019,-1.1451908507646769E-2]
["2020-05-28",755,763.40002400000003,748.65002400000003,755.79998799999998,737.64984100000004,283409,6.3914253036334578E-3]
["2020-05-29",750.5,774.70001200000002,750.5,764.90002400000003,746.53137200000003,320032,1.2040307617988022E-2]
["2020-06-01",775,794.90002400000003,767.34997599999997,778.90002400000003,760.19519000000003,418539,1.8303072734095371E-2]
["2020-06-02",782,854.79998799999998,780,819.59997599999997,799.91772500000002,2047203,5.2253073319235233E-2]
["2020-06-03",827.95001200000002,844.95001200000002,810,817,797.38018799999998,957875,-3.1722474958284508E-3]
["2020-06-04",821,837.90002400000003,811,823.04998799999998,803.284851,720521,7.4050786423602855E-3]
["2020-06-05",834.5,845,826.04998799999998,837.79998799999998,817.68066399999998,706454,1.7921180739408626E-2]
["2020-06-08",844.70001200000002,845.34997599999997,826.09997599999997,829.09997599999997,809.18957499999999,400621,-1.0384358312281128E-2]
["2020-06-09",832,863.45001200000002,827,837.84997599999997,817.72943099999998,1336377,1.0553591227370873E-2]
["2020-06-10",844,890,830,884,862.77117899999996,1146848,5.5081480857205323E-2]
["2020-06-11",906,943,878.04998799999998,889.54998799999998,868.18792699999995,3509913,6.2783135689330472E-3]
["2020-06-12",847,895.15002400000003,847,888.90002400000003,867.55358899999999,542018,-7.3064595840655056E-4]
["2020-06-15",888.95001200000002,906,875,886.75,865.45519999999999,560582,-2.4187428034488923E-3]
["2020-06-16",902,903.90002400000003,855,875.54998799999998,854.52417000000003,449935,-1.2630382254332662E-2]
["2020-06-17",869.95001200000002,886.90002400000003,862.95001200000002,867,846.17944299999999,253573,-9.7653492937479491E-3]
["2020-06-18",868,883,867.5,874.79998799999998,853.79211399999997,293291,8.9965208478834935E-3]
["2020-06-19",876.90002400000003,892.29998799999998,869.15002400000003,874.90002400000003,853.889771,361027,1.1438030218213768E-4]
["2020-06-22",877.95001200000002,887.90002400000003,872.79998799999998,877.95001200000002,856.86651600000005,237146,3.4860998469556925E-3]
["2020-06-23",877.95001200000002,901.90002400000003,877,881.65002400000003,860.47772199999997,636717,4.2144323912407522E-3]
["2020-06-24",884,892,868.59997599999997,873.04998799999998,852.08416699999998,250915,-9.7545291242299159E-3]
["2020-06-25",870,881.65002400000003,863,868.65002400000003,847.78985599999999,218011,-5.0397732598639333E-3]
["2020-06-26",874,917,872.09997599999997,901,879.362976,1377972,3.7241681740527888E-2]
["2020-06-29",887.09997599999997,910,879.75,898.34997599999997,876.77655000000004,563133,-2.9412495983910381E-3]
["2020-06-30",905,920.90002400000003,893,897.29998799999998,875.75183100000004,1001089,-1.1687344968338564E-3]
["2020-07-01",904,910,897,902.20001200000002,880.53411900000003,305834,5.4607799044383842E-3]
["2020-07-02",903.34997599999997,926,903.34997599999997,911.04998799999998,889.17163100000005,827176,9.8094006962607949E-3]
["2020-07-03",918.70001200000002,920.45001200000002,908,910.20001200000002,888.34204099999999,263732,-9.3299197936291822E-4]
["2020-07-06",918.79998799999998,927,909,917.04998799999998,895.02752699999996,445151,7.5258016523389593E-3]
["2020-07-07",918,931.95001200000002,917.09997599999997,919.34997599999997,897.27227800000003,447031,2.5080245381101651E-3]
["2020-07-08",924,934.65002400000003,920,923.65002400000003,901.46905500000003,363684,4.677261409830491E-3]
["2020-07-09",927.90002400000003,934,922,926.45001200000002,904.20184300000005,283613,3.0314828721436093E-3]
["2020-07-10",929.90002400000003,941.15002400000003,922.20001200000002,928.5,906.20257600000002,462551,2.2127061733936415E-3]
["2020-07-13",923.70001200000002,924,900,902.79998799999998,897.06103499999995,367328,-1.0087745546201177E-2]
["2020-07-14",902,905.90002400000003,876,891.70001200000002,886.03161599999999,279934,-1.2295059722441271E-2]
["2020-07-15",896,927.20001200000002,892.59997599999997,898.25,892.53997800000002,633814,7.3455189210764882E-3]
["2020-07-16",907.70001200000002,932,903.5,914.25,908.43829300000004,589887,1.7812440217663816E-2]
["2020-07-17",922,923,885,917,911.17077600000005,297639,3.0078905975841064E-3]
["2020-07-20",921.59997599999997,926.25,911.04998799999998,921.79998799999998,915.940247,245501,5.2344424619692465E-3]
["2020-07-21",928,952.34997599999997,918,921.29998799999998,915.44341999999995,1511113,-5.4242293820727649E-4]
["2020-07-22",931,940,908,914.84997599999997,909.03442399999994,417969,-7.000974456728315E-3]
["2020-07-23",917.70001200000002,923.79998799999998,910.09997599999997,913.54998799999998,907.74267599999996,215922,-1.4210110925347852E-3]
["2020-07-24",909.90002400000003,913.90002400000003,901,907.70001200000002,901.92993200000001,219181,-6.4035151741614893E-3]
["2020-07-27",910,914.70001200000002,892.04998799999998,902.79998799999998,897.06103499999995,271071,-5.3983095884215793E-3]
["2020-07-28",905.95001200000002,928.79998799999998,903.95001200000002,922.90002400000003,917.03332499999999,479024,2.2264137244574433E-2]
["2020-07-29",929,977.95001200000002,928.5,947.04998799999998,941.02972399999999,2276472,2.6167423086832731E-2]
["2020-07-30",949.70001200000002,972.59997599999997,948,962.40002400000003,956.28222700000003,555251,1.6208311609081649E-2]
["2020-07-31",967.20001200000002,969.25,936,940,934.02459699999997,346200,-2.3275168534529378E-2]
["2020-08-03",940,962,932.54998799999998,957.70001200000002,951.61206100000004,580201,1.8829765357881723E-2]
["2020-08-04",962,969.95001200000002,933,937.09997599999997,931.14300500000002,417940,-2.150987449495978E-2]
["2020-08-05",941.79998799999998,977,941.79998799999998,970.09997599999997,963.93322799999999,706865,3.5215023711637095E-2]
["2020-08-06",972,1005,956,989,982.71307400000001,1466919,1.9482517517281916E-2]
["2020-08-07",987.84997599999997,1003,978,990,983.706726,494959,1.0111313528733401E-3]
["2020-08-10",992,1027.599976,982,1019.950012,1013.46637,713232,3.0252557203720887E-2]
["2020-08-11",1025.0500489999999,1036,1004,1011.650024,1005.219116,434234,-8.1376691364707376E-3]
["2020-08-12",1008,1023.799988,992,1014.349976,1007.901917,332100,2.6688718482350549E-3]
["2020-08-13",1019.450012,1039,1015.650024,1019.849976,1013.366943,488055,5.4221803806728808E-3]
["2020-08-14",1018,1027.8000489999999,1006,1020.650024,1014.161926,402067,7.8449667762647834E-4]
["2020-08-17",1025,1043,1008.700012,1030.75,1024.1976320000001,459274,9.8955657303980704E-3]
["2020-08-18",1032,1077,1029.9499510000001,1070.349976,1063.5458980000001,799551,3.8418626220764418E-2]
["2020-08-19",1070.349976,1070.349976,1050.5500489999999,1055,1048.2935789999999,299746,-1.4341006842001014E-2]
["2020-08-20",1050.5,1086,1049,1067.349976,1060.565063,536437,1.1706152022514793E-2]
["2020-08-21",1070.8000489999999,1072.6999510000001,1055,1060.650024,1053.9075929999999,290871,-6.2772857906220336E-3]
["2020-08-24",1064.6999510000001,1089,1060.650024,1071.849976,1065.0363769999999,428269,{"$f":"(F324/F323)-1","v":1.0559544379333374E-2}]
["2020-08-25",1074,1109.849976,1071.150024,1093.099976,1086.1513669999999,540704,1.9825604510783856E-2]
["2020-08-26",1093.099976,1118.0500489999999,1088.4499510000001,1100.349976,1093.355225,320144,6.6324623057809617E-3]
["2020-08-27",1104.0500489999999,1208.599976,1104.0500489999999,1153.75,1146.4157709999999,1802862,4.8530015485132028E-2]
["2020-08-28",1160,1169.9499510000001,1130.6999510000001,1139.0500489999999,1131.8093260000001,385131,-1.2740966558109079E-2]
["2020-08-31",1147,1147.849976,1056.400024,1074.8000489999999,1067.9677730000001,487879,-5.64066327546765E-2]
["2020-09-01",1074.8000489999999,1108.9499510000001,1060.4499510000001,1097.3000489999999,1090.324707,185307,2.0934090489638679E-2]
["2020-09-02",1097.9499510000001,1143,1095.3000489999999,1135.5500489999999,1128.331543,298898,3.4858272729208162E-2]
["2020-09-03",1140.400024,1185.650024,1126.3000489999999,1173,1165.543457,527826,3.2979592063039576E-2]
["2020-09-04",1137,1167,1133,1150.5500489999999,1143.236206,297451,-1.9138926880870377E-2]
["2020-09-07",1160,1192,1160,1187,1179.4544679999999,656687,3.1680471463304771E-2]
["2020-09-08",1185,1226.900024,1172.650024,1219,1211.2509769999999,771204,2.6958657466377156E-2]
["2020-09-09",1209,1239,1173,1221.599976,1213.8344729999999,495610,2.132915513842315E-3]
["2020-09-10",1229,1274.8000489999999,1222.8000489999999,1261.849976,1253.8286129999999,581067,3.2948594630991312E-2]
["2020-09-11",1273.6999510000001,1300,1261,1289.9499510000001,1281.75,896645,2.2268902392643009E-2]
["2020-09-14",1305.1999510000001,1331,1272.25,1302.099976,1293.822754,1180480,9.4189615759703305E-3]
["2020-09-15",1327.599976,1328.150024,1272.349976,1286.0500489999999,1277.8748780000001,631088,-1.2326167514596031E-2]
["2020-09-16",1290,1298.650024,1266,1268.650024,1260.5854489999999,352723,-1.3529829326529796E-2]
["2020-09-17",1270,1291.3000489999999,1257,1283.650024,1275.490112,377617,1.1823603875344979E-2]
["2020-09-18",1286,1305.400024,1250.5,1273.400024,1265.3051760000001,895395,-7.9851156070740448E-3]
["2020-09-21",1271.9499510000001,1314.900024,1267.0500489999999,1284.25,1276.086182,508126,8.5204788571890955E-3]
["2020-09-22",1284.25,1292.25,1215,1234.349976,1226.503418,492415,-3.8855341198263948E-2]
["2020-09-23",1247.9499510000001,1261,1186,1204.4499510000001,1196.793457,454860,-2.422330061537592E-2]
["2020-09-24",1199.650024,1200,1161.349976,1188,1180.44812,338848,-1.3657608925246589E-2]
["2020-09-25",1193.9499510000001,1280,1193.9499510000001,1266.4499510000001,1258.3992920000001,783157,6.6035237533353053E-2]
["2020-09-28",1284.8000489999999,1309.75,1283.599976,1302,1293.723389,396288,2.8070658672938897E-2]
["2020-09-29",1310,1325.25,1272.25,1281.0500489999999,1272.906616,282453,-1.6090590289235318E-2]
["2020-09-30",1284,1295,1263.3000489999999,1287,1278.818726,224009,4.644574806734969E-3]
["2020-10-01",1295,1296.9499510000001,1270.150024,1276.3000489999999,1268.186768,304028,-8.3138898296051256E-3]
["2020-10-05",1290,1375,1287.3000489999999,1346.75,1338.1889650000001,1338484,5.5198649573041436E-2]
["2020-10-06",1359.900024,1403,1346,1392.75,1383.8964840000001,776690,3.4156251617274425E-2]
["2020-10-07",1395,1395,1366.099976,1381.099976,1372.320557,305441,-8.3647347426890617E-3]
["2020-10-08",1395.1999510000001,1437.849976,1392,1401.4499510000001,1392.541138,915114,1.4734590177825302E-2]
["2020-10-09",1402,1407.9499510000001,1372,1394.0500489999999,1385.1883539999999,265438,-5.2801197748171269E-3]
["2020-10-12",1405,1498.3000489999999,1397,1475.5500489999999,1466.1701660000001,1013815,5.8462671712586678E-2]
["2020-10-13",1487.900024,1494.4499510000001,1432.5,1458.1999510000001,1448.9304199999999,768972,-1.175835274771253E-2]
["2020-10-14",1458,1506.6999510000001,1435,1459.150024,1449.8743899999999,824015,6.5149436230349522E-4]
["2020-10-15",1490,1534.9499510000001,1440.0500489999999,1464.150024,1454.8426509999999,2226203,3.4266837418930329E-3]
["2020-10-16",1480,1518.6999510000001,1439,1508.849976,1499.258423,993471,3.0529605362800138E-2]
["2020-10-19",1505,1518.25,1457.150024,1490.099976,1480.627686,693235,-1.2426634871071873E-2]
["2020-10-20",1485,1521,1480,1510.5500489999999,1500.947754,557008,1.3723955179371083E-2]
["2020-10-21",1520,1550,1511,1543.75,1533.9366460000001,475589,2.1978707727890789E-2]
["2020-10-22",1550,1635,1543.099976,1604.1999510000001,1594.0023189999999,796644,3.9157857762008197E-2]
["2020-10-23",1620,1710,1608,1651.599976,1641.1010739999999,1654904,2.9547482107521228E-2]
["2020-10-26",1665,1706,1645.900024,1687.349976,1676.623779,900971,2.1645653374302798E-2]
["2020-10-27",1708,1708,1646.8000489999999,1658.400024,1647.857788,584979,-1.7157093535412615E-2]
["2020-10-28",1658,1658,1572.3000489999999,1584.5,1574.427612,581368,-4.4560990963377956E-2]
["2020-10-29",1571.8000489999999,1571.8000489999999,1501.25,1508.8000489999999,1499.208862,432363,-4.7775299052618458E-2]
["2020-10-30",1512,1572.5,1508,1534.099976,1524.3479,942949,1.6768202641534335E-2]
["2020-11-02",1526.849976,1536.9499510000001,1490,1496.3000489999999,1486.7883300000001,306379,-2.4639762353462658E-2]
["2020-11-03",1490,1539.8000489999999,1465.4499510000001,1529.8000489999999,1520.075317,452979,2.238851780602813E-2]
["2020-11-04",1535.8000489999999,1579,1517.9499510000001,1535.25,1525.4907229999999,416409,3.5625905765561683E-3]
["2020-11-05",1554.9499510000001,1585,1542,1565.6999510000001,1555.7470699999999,427882,1.9833845295694985E-2]
["2020-11-06",1569.9499510000001,1594.099976,1536.599976,1553,1543.127808,402941,-8.1113840696482864E-3]
["2020-11-09",1560.9499510000001,1574.25,1520,1524.099976,1514.411499,411503,-1.8609157874757143E-2]
["2020-11-10",1538.9499510000001,1539.4499510000001,1455,1464.599976,1455.2897949999999,418783,-3.903939189516159E-2]
["2020-11-11",1470,1512.400024,1466,1498.4499510000001,1488.924561,379582,2.3112074389280091E-2]
["2020-11-12",1499,1523,1477,1487.900024,1478.44165,353416,-7.0405924346895743E-3]
["2020-11-13",1491,1509,1480,1486.5500489999999,1477.100342,387501,-9.0724446243783952E-4]
["2020-11-14",1501,1509.849976,1490.099976,1504.0500489999999,1494.489014,63716,1.177216706649431E-2]
["2020-11-17",1522,1537.650024,1509,1515.9499510000001,1506.3133539999999,439636,7.911961807167911E-3]
["2020-11-18",1521,1552.5500489999999,1512,1547.3000489999999,1537.464111,284038,2.0680130676183461E-2]
["2020-11-19",1546.900024,1562.5,1516,1529.150024,1519.429443,248570,-1.1730139175912146E-2]
["2020-11-20",1530.5,1553.349976,1528.25,1534.25,1524.4970699999999,231406,3.3352170601579356E-3]
["2020-11-23",1547.4499510000001,1605,1532.650024,1560.849976,1550.927856,810609,{"$f":"(F388/F387)-1","v":1.7337380648426048E-2}]
["2020-11-24",1571,1582,1552.1999510000001,1562.599976,1552.6667480000001,297484,1.12119464053273E-3]
["2020-11-25",1574.9499510000001,1589.900024,1527,1536.349976,1526.5836179999999,420268,-1.6798923551108458E-2]
["2020-11-26",1545.3000489999999,1549,1502.0500489999999,1507.400024,1497.817749,215358,-1.8843297321430974E-2]
["2020-11-27",1520.3000489999999,1609,1515.099976,1588.25,1578.1538089999999,969512,5.3635403942592585E-2]
["2020-12-01",1612,1638.4499510000001,1606.650024,1628.599976,1618.247192,471067,2.5405244261587745E-2]
["2020-12-02",1628,1697,1606,1684.3000489999999,1673.5932620000001,493488,3.4201245813130443E-2]
["2020-12-03",1700,1715,1674.1999510000001,1691.400024,1680.6480710000001,337606,4.2153665171722476E-3]
["2020-12-04",1692,1696.9499510000001,1650,1669.8000489999999,1659.1854249999999,311097,-1.2770458235929039E-2]
["2020-12-07",1679.9499510000001,1721,1672.150024,1698.099976,1687.3054199999999,500920,1.6948072576035367E-2]
["2020-12-08",1702,1725,1680,1686.599976,1675.8785399999999,289588,-6.772265331785654E-3]
["2020-12-09",1695,1700,1650,1657.4499510000001,1646.913818,344622,-1.7283306223373374E-2]
["2020-12-10",1665,1667,1598,1610.400024,1600.1629640000001,314240,-2.838694623181548E-2]
["2020-12-11",1623,1642.8000489999999,1596.0500489999999,1605.849976,1595.641846,253651,-2.8254109748288014E-3]
["2020-12-14",1613.900024,1635,1590,1600.150024,1589.978149,256187,-3.5494788596813764E-3]
["2020-12-15",1600,1644,1586.5,1636.400024,1625.9976810000001,361310,2.2654105040785799E-2]
["2020-12-16",1642,1657.9499510000001,1640.5,1649.1999510000001,1638.7163089999999,197921,7.8220455961399704E-3]
["2020-12-17",1652.1999510000001,1659,1622.599976,1630.650024,1620.284302,154635,-1.1247832769326394E-2]
["2020-12-18",1638,1664,1630,1636.099976,1625.6995850000001,317785,3.3421807477340693E-3]
["2020-12-21",1640,1644,1468,1551.5500489999999,1541.687134,373609,-5.1677721871350557E-2]
["2020-12-22",1549.1999510000001,1660,1505,1651.25,1640.7532960000001,762144,6.4258279008249097E-2]
["2020-12-23",1660.5,1807.5,1660.5,1786.099976,1774.7459719999999,2102831,8.1665340137765607E-2]
["2020-12-24",1790,1800,1737.099976,1759.650024,1748.4642329999999,531128,-1.4808732863544671E-2]
["2020-12-28",1774,1880,1762,1837.75,1826.067749,1200589,4.4383816686286215E-2]
["2020-12-29",1867,1888,1839.5,1855.099976,1843.3073730000001,503379,9.4408457788277556E-3]
["2020-12-30",1855,1860,1821,1851.650024,1839.8793949999999,245023,-1.8596887584847455E-3]
["2020-12-31",1856.400024,1872,1802.75,1835.3000489999999,1823.6333010000001,403744,-8.8299776844883437E-3]
["2021-01-01",1843,1875,1837,1867.9499510000001,1856.0756839999999,254672,1.7789970704203517E-2]
["2021-01-04",1880.9499510000001,1895,1866.75,1881.099976,1869.1420900000001,400879,7.0398023704727475E-3]
["2021-01-05",1885,1970,1881.099976,1957.900024,1945.4539789999999,1115371,4.0827227319031545E-2]
["2021-01-06",1967,2018.349976,1947.150024,1994.599976,1981.920654,770176,1.8744558027913305E-2]
["2021-01-07",2013.5500489999999,2034.9499510000001,1990,1998.9499510000001,1986.2429199999999,349121,2.1808471450541767E-3]
["2021-01-08",2009.6999510000001,2052.8000489999999,2009.5500489999999,2043.3000489999999,2030.3111570000001,381158,2.2186730815382916E-2]
["2021-01-11",2081.8000489999999,2140,2070,2117.5500489999999,2104.0891109999998,998505,3.6338249802564393E-2]
["2021-01-12",2142,2155,2025,2087.6000979999999,2074.3295899999998,851419,-1.414366000205014E-2]
["2021-01-13",2150.25,2424.6999510000001,2140.0500489999999,2371.8500979999999,2356.7727049999999,5367427,0.13616115604849477]
["2021-01-14",2398.9499510000001,2575,2272.1999510000001,2490.1499020000001,2474.3203130000002,7133891,4.9876514502487979E-2]
["2021-01-15",2455,2530,2280.0500489999999,2357.8000489999999,2342.8120119999999,2527962,-5.3149262974991451E-2]
["2021-01-18",2354,2545,2330.6499020000001,2489.8000489999999,2473.9729000000002,3555792,5.5984384290411526E-2]
["2021-01-19",2510,2727.9499510000001,2510,2673.6499020000001,2656.6540530000002,1820336,7.3841210225059406E-2]
["2021-01-20",2705.0500489999999,2825,2692.5,2787.5,2769.7802729999999,2182038,4.2582217233837039E-2]
["2021-01-21",2829,2849,2529.9499510000001,2577.6000979999999,2561.2145999999998,1796081,-7.5300439906050287E-2]
["2021-01-22",2601.9499510000001,2664.9499510000001,2541,2565.8500979999999,2549.539307,1010123,-4.558498534250055E-3]
["2021-01-25",2608,2615.8999020000001,2408,2478.75,2462.9929200000001,803876,-3.3945892405886302E-2]
["2021-01-27",2500,2679,2500,2658.5500489999999,2641.6501459999999,2455892,7.2536638067152825E-2]
["2021-01-28",2600,2625,2533.6000979999999,2590.8000489999999,2574.3308109999998,1044115,-2.5483819309659705E-2]
["2021-01-29",2622,2735,2621.8999020000001,2690.6000979999999,2673.4963379999999,1660864,3.8520895052131632E-2]
["2021-02-01",2711.75,3015,2690,2949.8000489999999,2931.0485840000001,1959862,9.6335365169293974E-2]
["2021-02-02",2980,3050,2835,2861.1999510000001,2843.0117190000001,1460823,-3.0035962378984538E-2]
["2021-02-03",2894.25,2940,2841,2876.3000489999999,2858.0158689999998,782021,5.2775547493266739E-3]
["2021-02-04",2890,2899,2817.6999510000001,2828.1000979999999,2810.1223140000002,547153,-1.6757623888476569E-2]
["2021-02-05",2863.5500489999999,2863.5500489999999,2800,2817.75,2799.838135,501301,-3.6596908784947146E-3]
["2021-02-08",2840,2887.8000489999999,2801,2841.8999020000001,2823.8344729999999,453001,8.5706161724237173E-3]
["2021-02-09",2851,2953.8000489999999,2821.25,2872.0500489999999,2853.7929690000001,880429,1.0609154426878487E-2]
["2021-02-10",2862,2874.8500979999999,2810,2823.3000489999999,2805.3527829999998,436432,-1.6973966411086283E-2]
["2021-02-11",2831.9499510000001,2865.0500489999999,2828,2835,2816.9782709999999,299527,4.1440378088803964E-3]
["2021-02-12",2850,2878,2806,2836.8000489999999,2818.7670899999998,340690,6.350134178936262E-4]
["2021-02-15",2851,2909,2823,2858.75,2840.577393,487626,7.7375328658317866E-3]
["2021-02-16",2875,2919,2861.3500979999999,2886.1499020000001,2867.8032229999999,582775,9.5846112368183078E-3]
["2021-02-17",2890,2891,2790,2814.3000489999999,2796.4099120000001,285375,-2.4894773263179348E-2]
["2021-02-18",2838,2838,2735,2748.0500489999999,2730.5810550000001,383423,-2.3540489081201654E-2]
["2021-02-19",2748.0500489999999,2806.5,2674.1499020000001,2740.6000979999999,2723.1784670000002,363313,-2.7109936862870221E-3]
["2021-02-22",2731.3500979999999,2740.6000979999999,2616.1000979999999,2666.8000489999999,2649.8476559999999,400066,-2.6928389706600941E-2]
["2021-02-23",2679.9499510000001,2754,2679.9499510000001,2716.6499020000001,2699.380615,387311,1.8692757256381753E-2]
["2021-02-24",2732.1499020000001,2734.25,2660.1999510000001,2694.9499510000001,2677.8186040000001,120330,{"$f":"(F452/F451)-1","v":-7.9877624074884412E-3}]
["2021-02-25",2715,2750,2665,2678.4499510000001,2661.4235840000001,286447,-6.1225282308181583E-3]
["2021-02-26",2660,2705,2607,2657.8500979999999,2640.9545899999998,335482,-7.6909944448738665E-3]
["2021-03-01",2681.8000489999999,2708.8500979999999,2601.4499510000001,2622.1499020000001,2605.4814449999999,307428,-1.3431940531775655E-2]
["2021-03-02",2645.75,2646.9499510000001,2570,2586.1000979999999,2569.6606449999999,419330,-1.3748246055922286E-2]
["2021-03-03",2608,2617.5,2551,2562.8999020000001,2546.6079100000002,468002,-8.9711203869877743E-3]
["2021-03-04",2562,2747.6000979999999,2541.1000979999999,2676.9499510000001,2659.9331050000001,1399557,4.450044883430837E-2]
["2021-03-05",2694.9499510000001,2770,2685.5,2717.0500489999999,2699.7783199999999,668550,1.497978085430085E-2]
["2021-03-08",2733,2763.75,2691,2712.4499510000001,2695.2072750000002,277447,-1.6931186409407939E-3]
["2021-03-09",2728.8000489999999,2737.6000979999999,2600.0500489999999,2654.3000489999999,2637.4270019999999,559564,-2.1438155623856536E-2]
["2021-03-10",2680,2735,2662.8500979999999,2696.5500489999999,2679.4084469999998,526950,1.5917576095249242E-2]
["2021-03-12",2697.1000979999999,2769,2685,2727.3999020000001,2710.0622560000002,596476,1.1440513682906994E-2]
["2021-03-15",2741.0500489999999,2767.3999020000001,2692,2716.4499510000001,2699.181885,379824,-4.014804817089157E-3]
["2021-03-16",2730,2822,2718,2771.4499510000001,2753.8322750000002,516196,2.0247020144772643E-2]
["2021-03-17",2785.3000489999999,2837.5,2701.3999020000001,2756.9499510000001,2739.4245609999998,720780,-5.2318778201553284E-3]
["2021-03-18",2785.8000489999999,2802.9499510000001,2646.5500489999999,2674.6999510000001,2657.6972660000001,424345,-2.9833745438190062E-2]
["2021-03-19",2675,2791.6000979999999,2605,2764.6499020000001,2747.0754390000002,504188,3.3629929993689522E-2]
["2021-03-22",2730,2774.8999020000001,2701.3000489999999,2722.6999510000001,2705.3920899999998,256006,-1.5173718350877885E-2]
["2021-03-23",2744.8000489999999,2762.5,2720,2732.8000489999999,2715.4279790000001,161213,3.7095876184070065E-3]
["2021-03-24",2735.9499510000001,2739.6000979999999,2650,2668.1499020000001,2651.1889649999998,184625,-2.3657049458427282E-2]
["2021-03-25",2678,2688,2580.75,2603.4499510000001,2586.9001459999999,279606,-2.4249051972045965E-2]
["2021-03-26",2625.3000489999999,2698.8999020000001,2615.5500489999999,2650.1999510000001,2633.3530270000001,322427,1.7956967172400473E-2]
["2021-03-30",2679.6000979999999,2714.6999510000001,2620,2688.6000979999999,2671.5090329999998,337713,1.4489514170254791E-2]
["2021-03-31",2700,2754,2666.4499510000001,2692.8999020000001,2675.7814939999998,428056,1.5992687830077568E-3]
["2021-04-01",2707,2797,2705,2772,2754.3789059999999,579333,2.9373628667453522E-2]
["2021-04-05",2780,2872,2755,2855.8000489999999,2837.64624,862892,3.0230893004086878E-2]
["2021-04-06",2889,2904,2847.75,2876.75,2858.4628910000001,516047,7.3358865902890535E-3]
["2021-04-07",2882,2974,2840,2946.3999020000001,2927.6701659999999,756763,2.4211360314629893E-2]
["2021-04-08",2952.3500979999999,3000,2910,2964.9499510000001,2946.1022950000001,505478,6.2958352392488148E-3]
["2021-04-09",2930,3119,2930,3101.6000979999999,3081.883789,854663,4.6088519814957651E-2]
["2021-04-12",3107.0500489999999,3115,2896,2916.75,2898.20874,538437,-5.9598304665341773E-2]
["2021-04-13",2920,2947.6499020000001,2802.1000979999999,2827.1499020000001,2809.1782229999999,278729,-3.0719152755022128E-2]
["2021-04-15",2825,2952,2822.5500489999999,2927.8500979999999,2909.2382809999999,311649,3.5618978240954391E-2]
["2021-04-16",2938,3073,2930.1000979999999,2963.8000489999999,2944.9597170000002,293199,1.2278621601157225E-2]
["2021-04-19",2910,3062,2835,3049.6000979999999,3030.2143550000001,373510,2.8949339275461394E-2]
["2021-04-20",3068,3124.8000489999999,2970,2999.8999020000001,2980.830078,233828,-1.6297288315103353E-2]
["2021-04-22",2998,3065,2991,3048.1000979999999,3028.7238769999999,207737,1.6067269098456682E-2]
["2021-04-23",3150,3340,3127.4499510000001,3185.6499020000001,3165.3991700000001,1588841,4.5126362966893874E-2]
["2021-04-26",3264,3269.8500979999999,3165,3202.8500979999999,3182.48999,274316,5.3992621726757228E-3]
["2021-04-27",3195,3208.9499510000001,3155,3175,3154.8171390000002,140044,-8.6953458100271774E-3]
["2021-04-28",3189,3315,3185.1000979999999,3296.5,3275.5446780000002,284177,3.8267681986242641E-2]
["2021-04-29",3320,3394.9499510000001,3270.1000979999999,3384.6999510000001,3363.1840820000002,310112,2.6755673518552348E-2]
["2021-04-30",3380,3519.6000979999999,3320,3480.1000979999999,3457.9777829999998,287367,2.8185701016885112E-2]
["2021-05-03",3475,3554.9499510000001,3450.75,3535.4499510000001,3512.975586,172837,1.5904614329906419E-2]
["2021-05-04",3576.6999510000001,4090,3508.1999510000001,3846.9499510000001,3822.4956050000001,1019657,8.8107648750394674E-2]
["2021-05-05",3895.8999020000001,3945.9499510000001,3803.3999020000001,3844.4499510000001,3820.0114749999998,326692,-6.4987125080040453E-4]
["2021-05-06",3890,3890.3000489999999,3567.8500979999999,3755.6499020000001,3731.7758789999998,398599,-2.3098254174746979E-2]
["2021-05-07",3784,3809.5500489999999,3680.0500489999999,3690.75,3667.2885740000002,165781,-1.7280594304414754E-2]
["2021-05-10",3717.5,3727,3601,3613.1499020000001,3590.1816410000001,179702,-2.1025597370947446E-2]
["2021-05-11",3610,3690,3496.3999020000001,3516.1999510000001,3493.8481449999999,249698,-2.6832485270346318E-2]
["2021-05-12",3550,3585,3510,3522.25,3499.8596189999998,132167,1.720588231232334E-3]
["2021-05-14",3554,3559.9499510000001,3390.1499020000001,3481.8000489999999,3459.6667480000001,228847,-1.1484138044223546E-2]
["2021-05-17",3499.6499020000001,3698,3435,3629.8999020000001,3606.8251949999999,357913,4.253543989029307E-2]
["2021-05-18",3650,3714.9499510000001,3649.9499510000001,3661.75,3638.4729000000002,257433,8.7743939029460982E-3]
["2021-05-19",3665,3732,3618.25,3654.1999510000001,3630.970703,168037,-2.0619081703205921E-3]
["2021-05-20",3670,3685,3600.4499510000001,3618.8999020000001,3595.8952640000002,100979,-9.6600721594970462E-3]
["2021-05-21",3635,3652.5,3550,3566.1499020000001,3543.4804690000001,125621,-1.4576285222972496E-2]
["2021-05-24",3598.5,3640.8000489999999,3570,3582.0500489999999,3559.2795409999999,72167,4.4586310375398508E-3]
["2021-05-25",3600.8999020000001,3617.9499510000001,3555,3565.9499510000001,3543.2817380000001,74758,-4.4946745024430079E-3]
["2021-05-26",3575,3664,3532,3561.4499510000001,3538.8103030000002,144295,-1.2619473501206402E-3]
["2021-05-27",3565,3648.8000489999999,3563,3604.25,3581.3383789999998,137719,1.2017619583606143E-2]
["2021-05-28",3640,3658,3605.1999510000001,3629.75,3606.6762699999999,87667,7.074978211658145E-3]
["2021-05-31",3628,3712,3565,3643.5500489999999,3620.388672,241839,3.8019497657881818E-3]
["2021-06-01",3669,3670,3597,3609.3999020000001,3586.4555660000001,126715,-9.372779851632429E-3]
["2021-06-02",3615,3635.1000979999999,3580,3591.3999020000001,3568.570068,80369,{"$f":"(F516/F515)-1","v":-4.9869565287680162E-3}]
["2021-06-03",3594.1499020000001,3622.3999020000001,3561.3500979999999,3568.75,3546.0639649999998,102755,-6.306756647940448E-3]
["2021-06-04",3571.5,3584.9499510000001,3555,3566.1499020000001,3543.4804690000001,71678,-7.2855312975150799E-4]
["2021-06-07",3581,3629.8999020000001,3572.1000979999999,3613,3590.0327149999998,104539,1.3137435469804393E-2]
["2021-06-08",3632.5,3818,3625.1999510000001,3742.0500489999999,3718.2624510000001,599150,3.5718263921168836E-2]
["2021-06-09",3777,3815,3675.25,3709.5,3685.9194339999999,169247,-8.6984222943439216E-3]
["2021-06-10",3729,3849,3729,3796.8000489999999,3772.664307,229876,2.3534120740632547E-2]
["2021-06-11",3825,3843.8999020000001,3785,3820.0500489999999,3795.7666020000001,133383,6.1236020806660907E-3]
["2021-06-14",3840,3868,3715,3809.6000979999999,3785.383057,109069,-2.735559397811449E-3]
["2021-06-15",3829,3834.3999020000001,3783.3500979999999,3797.6999510000001,3773.5585940000001,82969,-3.12371636422204E-3]
["2021-06-16",3806.5,3818.0500489999999,3742,3775.4499510000001,3751.4499510000001,90629,-5.8588312462282133E-3]
["2021-06-17",3730,3820.1499020000001,3722.1499020000001,3734.3500979999999,3734.3500979999999,102358,-4.5581983561960859E-3]
["2021-06-18",3755,3789.9499510000001,3585,3639.9499510000001,3639.9499510000001,182470,-2.5278869019419892E-2]
["2021-06-21",3590,3634,3555.0500489999999,3624.6000979999999,3624.6000979999999,93475,-4.2170505657044277E-3]
["2021-06-22",3638,3712,3636,3689.6999510000001,3689.6999510000001,123922,1.796056150743941E-2]
["2021-06-23",3708,3747.3000489999999,3605,3660.9499510000001,3660.9499510000001,233982,-7.7919615095553008E-3]
["2021-06-24",3650,3790,3650,3740.1499020000001,3740.1499020000001,150242,2.1633715855188473E-2]
["2021-06-25",3772,3820,3749.3500979999999,3768.6499020000001,3768.6499020000001,167980,7.6200154396912634E-3]
["2021-06-28",3790,3842,3775.3500979999999,3826.1999510000001,3826.1999510000001,149037,1.5270733683555582E-2]
["2021-06-29",3850,4020,3831.3000489999999,4002.9499510000001,4002.9499510000001,573811,4.6194658476697015E-2]
["2021-06-30",4039,4350,4033.1000979999999,4304.2998049999997,4304.2998049999997,1003399,7.5281943988512179E-2]
["2021-07-01",4375.2998049999997,4410,4165,4243.75,4243.75,497942,-1.4067283354580296E-2]
["2021-07-02",4260,4455,4260,4429.5498049999997,4429.5498049999997,434335,4.3781986450662558E-2]
["2021-07-05",4436,4465.4501950000003,4346.2998049999997,4379.0498049999997,4379.0498049999997,230460,-1.1400707119941678E-2]
["2021-07-06",4390.6000979999999,4394.8999020000001,4285,4312.25,4312.25,151510,-1.5254406315207358E-2]
["2021-07-07",4336.2001950000003,4336.2998049999997,4222.25,4246.6000979999999,4246.6000979999999,169673,-1.5224048234680265E-2]
["2021-07-08",4268,4278.7998049999997,4180.1000979999999,4199,4199,118199,-1.1208989992351315E-2]
["2021-07-09",4200,4350.7998049999997,4191.7001950000003,4295.3999020000001,4295.3999020000001,213143,2.2957823767563834E-2]
["2021-07-12",4322,4367.75,4310,4337.4501950000003,4337.4501950000003,136439,9.7896107369237484E-3]
["2021-07-13",4370.6000979999999,4372.9501950000003,4291,4307.6499020000001,4307.6499020000001,161224,-6.870463442866126E-3]
["2021-07-14",4312,4419.2001950000003,4312,4371.7998049999997,4371.7998049999997,207777,1.4892088368234191E-2]
["2021-07-15",4419,4575,4402.75,4487.1000979999999,4487.1000979999999,382778,2.6373644298197663E-2]
["2021-07-16",4390,4470,4290,4302.6499020000001,4302.6499020000001,549805,-4.1106770959313588E-2]
["2021-07-19",4303,4347.3500979999999,4211,4223.3500979999999,4223.3500979999999,245690,-1.8430456998869249E-2]
["2021-07-20",4240,4296.2001950000003,4107.0498049999997,4190.3500979999999,4190.3500979999999,180627,-7.8137022113387022E-3]
["2021-07-22",4238,4289.25,4230,4246.6000979999999,4246.6000979999999,95794,1.3423699377015597E-2]
["2021-07-23",4293,4295.9501950000003,4237.3999020000001,4249.2998049999997,4249.2998049999997,111285,6.3573374881031874E-4]
["2021-07-26",4262.75,4269,4190,4199.1000979999999,4199.1000979999999,121862,-1.1813642083086662E-2]
["2021-07-27",4224,4239.9501950000003,4150.0498049999997,4175.75,4175.75,69128,-5.560738599949433E-3]
["2021-07-28",4188,4220,4152.8500979999999,4177,4177,104560,2.9934742261872316E-4]
["2021-07-29",4216,4288.2998049999997,4190.5498049999997,4276.9501950000003,4276.9501950000003,149624,2.3928703615034852E-2]
["2021-07-30",4290,4295,4205.5,4225.8999020000001,4225.8999020000001,106288,-1.1936143904523577E-2]
["2021-08-02",4264,4264.2001950000003,4210.1000979999999,4222.7998049999997,4222.7998049999997,70906,-7.3359451759213989E-4]
["2021-08-03",4220.0498049999997,4373.2001950000003,4220.0498049999997,4320.8999020000001,4320.8999020000001,184955,2.3231055586354188E-2]
["2021-08-04",4349.5,4350,4220.8999020000001,4251.3500979999999,4251.3500979999999,81134,-1.6096138669587812E-2]
["2021-08-05",4273.2001950000003,4288.9501950000003,4190,4264.5498049999997,4264.5498049999997,96510,3.1048271009741502E-3]
["2021-08-06",4264,4264,4220,4229.4501950000003,4229.4501950000003,59698,-8.2305545966062654E-3]
["2021-08-09",4248.7998049999997,4340.0498049999997,4231.0498049999997,4268.2998049999997,4268.2998049999997,99732,9.1854988730986076E-3]
["2021-08-10",4291,4333.5498049999997,4195,4238.6000979999999,4238.6000979999999,107261,-6.9582054581097674E-3]
["2021-08-11",4259,4259,4110,4195.2998049999997,4195.2998049999997,141010,-1.02157061291136E-2]
["2021-08-12",4208.2001950000003,4329,4203.1000979999999,4293.6000979999999,4293.6000979999999,118095,2.3431053218853304E-2]
["2021-08-13",4303,4386,4260.5498049999997,4329.1000979999999,4329.1000979999999,186542,8.2681198038299097E-3]
["2021-08-16",4347,4435,4291.4501950000003,4403.8500979999999,4403.8500979999999,230004,1.7266868011329484E-2]
["2021-08-17",4440.6000979999999,4780,4428.8500979999999,4715.25,4715.25,1022547,7.0710831447560407E-2]
["2021-08-18",4732,4795,4575,4722.2001950000003,4722.2001950000003,295935,1.4739822915010858E-3]
["2021-08-20",4699,4852.9501950000003,4625,4732.6000979999999,4732.6000979999999,264202,2.2023426730215512E-3]
["2021-08-23",4756.7998049999997,4779.8999020000001,4631.5498049999997,4685.2998049999997,4685.2998049999997,151556,-9.9945678951385286E-3]
["2021-08-24",4689,4774,4601.1000979999999,4745.8999020000001,4745.8999020000001,156979,1.2934091631730871E-2]
["2021-08-25",4765,4949,4756,4810.0498049999997,4810.0498049999997,270608,1.351691024350643E-2]
["2021-08-26",4830,4924,4811.1499020000001,4861.6000979999999,4861.6000979999999,136051,1.0717205661033846E-2]
["2021-08-27",4861.6000979999999,4926.5,4793,4868.6499020000001,4868.6499020000001,124341,1.4500995264707939E-3]
["2021-08-30",4906,4912.4501950000003,4800,4826.75,4826.75,137887,-8.6060618124930155E-3]
["2021-08-31",4840,4860,4750,4770.9501950000003,4770.9501950000003,137157,-1.1560533485264313E-2]
["2021-09-01",4800,4900,4800,4848.5,4848.5,129752,1.6254582804337891E-2]
["2021-09-02",4874,4977,4832,4922.8999020000001,4922.8999020000001,175023,{"$f":"(F580/F579)-1","v":1.534493183458796E-2}]
["2021-09-03",4945,4970,4856.8999020000001,4886,4886,127507,-7.4955621147220208E-3]
["2021-09-06",4899,4910.4501950000003,4827,4876.2998049999997,4876.2998049999997,77586,-1.9853039295948394E-3]
["2021-09-07",4887.7998049999997,5015.8500979999999,4861.3999020000001,4919.5,4919.5,282529,8.8592163582117411E-3]
["2021-09-08",4920,4920,4821.1499020000001,4864.6000979999999,4864.6000979999999,122544,-1.1159650777518015E-2]
["2021-09-09",4876.7998049999997,4955,4851,4928.75,4928.75,143361,1.3187086442393081E-2]
["2021-09-13",4951,5072,4935,5009.2998049999997,5009.2998049999997,205324,1.6342846563530244E-2]
["2021-09-14",5018,5057.8999020000001,4970,4987,4987,147811,-4.4516810468683277E-3]
["2021-09-15",5007.3999020000001,5248.5,5005,5113.3999020000001,5113.3999020000001,485270,2.5345879687186601E-2]
["2021-09-16",5140,5200,5115,5153.6000979999999,5153.6000979999999,140731,7.861735199759412E-3]
["2021-09-17",5184,5600,5184,5490.6499020000001,5490.6499020000001,577393,6.5400845543060582E-2]
["2021-09-20",5470,5955,5352.2998049999997,5831.7001950000003,5831.7001950000003,730123,6.2114740347180231E-2]
["2021-09-21",5889.9501950000003,5949,5461.6499020000001,5619.9501950000003,5619.9501950000003,614214,-3.631016563258016E-2]
["2021-09-22",5668.7998049999997,5699,5553.0498049999997,5580.1499020000001,5580.1499020000001,246188,-7.0819654301225166E-3]
["2021-09-23",5630,5888,5582,5726.7998049999997,5726.7998049999997,375994,2.628063861643537E-2]
["2021-09-24",5764.7001950000003,5971.8999020000001,5733,5866.9501950000003,5866.9501950000003,318392,2.4472723819966014E-2]
["2021-09-27",5923.7998049999997,5951,5691.0498049999997,5720.8999020000001,5720.8999020000001,234408,-2.4893733225223036E-2]
["2021-09-28",5752.5,5832,5555.5498049999997,5665.6499020000001,5665.6499020000001,233310,-9.6575715265853068E-3]
["2021-09-29",5645,5684,5563.75,5597.75,5597.75,132221,-1.1984486012104445E-2]
["2021-09-30",5627.0498049999997,5668,5580,5594.0498049999997,5594.0498049999997,144992,-6.6101469340362762E-4]
["2021-10-01",5594,5824.6000979999999,5594,5782.7998049999997,5782.7998049999997,195617,3.3741208351647956E-2]
["2021-10-04",5818,5938,5801,5889.6000979999999,5889.6000979999999,212879,1.8468613232582864E-2]
["2021-10-05",5895,5926.9501950000003,5790,5840.1499020000001,5840.1499020000001,194416,-8.396189075178806E-3]
["2021-10-06",5868,6277,5850,6163.9501950000003,6163.9501950000003,701813,5.5443832510037483E-2]
["2021-10-07",6223.5,6387,6223,6348.25,6348.25,229047,2.9899625916753436E-2]
["2021-10-08",6396,6397,6200.1499020000001,6231.7001950000003,6231.7001950000003,252479,-1.8359359666049624E-2]
["2021-10-11",6287,6340,6111.1000979999999,6232.7998049999997,6232.7998049999997,184786,1.7645425254597669E-4]
["2021-10-12",6262,6321,6050,6073.6499020000001,6073.6499020000001,215661,-2.5534255547936646E-2]
["2021-10-13",6130,6294.8500979999999,6088.4501950000003,6120.1000979999999,6120.1000979999999,289391,7.6478224378233595E-3]
["2021-10-14",6200,6363,6200,6259.9501950000003,6259.9501950000003,289468,2.2850949291777445E-2]
["2021-10-18",6315,6346.1000979999999,6242.2001950000003,6318.2998049999997,6318.2998049999997,216817,9.321098120973037E-3]
["2021-10-19",6375.2001950000003,6610,6179.75,6289.3500979999999,6289.3500979999999,418233,-4.581882451524466E-3]
["2021-10-20",6318,6387.8999020000001,5975,6178.8500979999999,6178.8500979999999,226705,-1.756938288983767E-2]
["2021-10-21",6199.4501950000003,6259.8999020000001,5843.5498049999997,5911.1000979999999,5911.1000979999999,323837,-4.333330567230731E-2]
["2021-10-22",5940,6135.8999020000001,5700,6032.2998049999997,6032.2998049999997,274624,2.0503748031776237E-2]
["2021-10-25",6079.7998049999997,6117.9501950000003,5721,5809.2001950000003,5809.2001950000003,290234,-3.698417141254795E-2]
["2021-10-26",5825,6000,5824,5876.2001950000003,5876.2001950000003,161740,1.1533429345001345E-2]
["2021-10-27",5903,5940,5800,5867.1499020000001,5867.1499020000001,149191,-1.540160767106058E-3]
["2021-10-28",5889.7001950000003,6067.0498049999997,5875.0498049999997,5897.5,5897.5,170187,5.1728860702286994E-3]
["2021-10-29",5860,5940,5700,5872.2998049999997,5872.2998049999997,131235,-4.2730300974990199E-3]
["2021-11-01",5900,5999.6499020000001,5833.6000979999999,5974.2001950000003,5974.2001950000003,99402,1.7352722678300125E-2]
["2021-11-02",6000,6165,6000,6079.6499020000001,6079.6499020000001,149524,1.7650849244766453E-2]
["2021-11-03",6119,6205,6086,6190.1000979999999,6190.1000979999999,139692,1.8167196759745208E-2]
["2021-11-04",6221.1000979999999,6245,6205.4501950000003,6220.1000979999999,6220.1000979999999,40009,4.8464482843650902E-3]
["2021-11-08",6248.7001950000003,6258.9501950000003,6110.3500979999999,6184.5498049999997,6184.5498049999997,88925,-5.7153892123746886E-3]
["2021-11-09",6184.5498049999997,6285.3999020000001,6184.5498049999997,6270,6270,179117,1.3816720326339071E-2]
["2021-11-10",6270,6455,6270,6410.1499020000001,6410.1499020000001,205740,2.2352456459330261E-2]
["2021-11-11",6433.7001950000003,6638.8999020000001,6403.9501950000003,6591.7998049999997,6591.7998049999997,285766,2.8337855709633875E-2]
["2021-11-12",6651.1499020000001,6689,6462,6552.75,6552.75,164665,-5.9239974142387686E-3]
["2021-11-15",6598,6650,6501,6619.2998049999997,6619.2998049999997,123582,1.0156011598184023E-2]
["2021-11-16",6648.7001950000003,6725.4501950000003,6580.2998049999997,6599.3500979999999,6599.3500979999999,126118,-3.0138696822480382E-3]
["2021-11-17",6625,6730,6550,6595.1000979999999,6595.1000979999999,134439,-6.440028088959826E-4]
["2021-11-18",6623.8500979999999,6660.2998049999997,6336,6390.75,6390.75,173718,-3.0985139719406307E-2]
["2021-11-22",6391.3999020000001,6413.7001950000003,6000,6029.7998049999997,6029.7998049999997,257465,-5.6480099362359759E-2]
["2021-11-23",6017,6145,5750,6038.4501950000003,6038.4501950000003,208513,1.4346065010031328E-3]
["2021-11-24",6053,6244,5990,6012.25,6012.25,157944,-4.3388939469426457E-3]
["2021-11-25",6020,6043.7001950000003,5901,5951.1000979999999,5951.1000979999999,121653,-1.0170884776913858E-2]
["2021-11-26",5920,5920,5775,5838.2001950000003,5838.2001950000003,145873,-1.897126600810195E-2]
["2021-11-29",5600,5755,5263.3999020000001,5679.3500979999999,5679.3500979999999,515607,-2.7208744423674269E-2]
["2021-11-30",5700,5948,5685.7998049999997,5781.6499020000001,5781.6499020000001,248780,1.80125898623551E-2]
["2021-12-01",5781.6499020000001,5900,5750,5883.4501950000003,5883.4501950000003,91400,1.7607481380840007E-2]
["2021-12-02",5913,5999,5850,5979.75,5979.75,110093,1.6367913691500036E-2]
["2021-12-03",5952,5985.7998049999997,5843,5897.25,5897.25,140689,-1.3796563401479944E-2]
["2021-12-06",5843,5870.2998049999997,5691.2998049999997,5701.8500979999999,5701.8500979999999,140411,-3.3134071304421586E-2]
["2021-12-07",5750,5960,5613.9501950000003,5898.1499020000001,5898.1499020000001,260215,{"$f":"(F644/F643)-1","v":3.442738771207865E-2}]
["2021-12-08",5998,6030.6499020000001,5870.7001950000003,5889.8999020000001,5889.8999020000001,124308,-1.3987436971044653E-3]
["2021-12-09",5948,6059,5882.0498049999997,5943.3999020000001,5943.3999020000001,198455,9.0833462181307834E-3]
["2021-12-10",5974,6050,5877,5993.75,5993.75,165738,8.4715985513705849E-3]
["2021-12-13",6045,6057,5821,5873.6499020000001,5873.6499020000001,145139,-2.0037555453597533E-2]
["2021-12-14",5890,6099,5885,6021.9501950000003,6021.9501950000003,251089,2.5248405246200312E-2]
["2021-12-15",6025,6025.1499020000001,5850,5867.4501950000003,5867.4501950000003,185419,-2.5656140452353871E-2]
["2021-12-16",5980,6025,5870,5908.8999020000001,5908.8999020000001,149563,7.0643474801577177E-3]
["2021-12-17",5935,5935,5707.8500979999999,5732.6499020000001,5732.6499020000001,169369,-2.9827887241810291E-2]
["2021-12-20",5710,5715,5340,5433.7998049999997,5433.7998049999997,254500,-5.2131231125022603E-2]
["2021-12-21",5530.1499020000001,5560,5425,5434.5,5434.5,194508,1.2885918236360538E-4]
["2021-12-22",5540,5550,5454,5476.6499020000001,5476.6499020000001,112229,7.7559852792346007E-3]
["2021-12-23",5535,5535,5461.25,5491,5491,96829,2.6202328534383756E-3]
["2021-12-24",5499.2001950000003,5594.8999020000001,5481,5501,5501,112435,1.8211619012931113E-3]
["2021-12-27",5516,5520,5421,5444.1000979999999,5444.1000979999999,85984,-1.0343556080712579E-2]
["2021-12-28",5500,5550,5460.0498049999997,5529.1000979999999,5529.1000979999999,126814,1.5613232392847953E-2]
["2021-12-29",5554.7998049999997,5725,5519.9501950000003,5707.1000979999999,5707.1000979999999,199190,3.2193303945498686E-2]
["2021-12-30",5748,5850,5726,5814.1499020000001,5814.1499020000001,160005,1.8757302686440491E-2]
["2021-12-31",5875,5895,5801,5868,5868,96466,9.2619039597647834E-3]
["2022-01-03",5888,5983.75,5868,5893.6499020000001,5893.6499020000001,120686,4.371148943421943E-3]
["2022-01-04",5950,5989.5,5895.0498049999997,5977.75,5977.75,107717,1.4269612107678853E-2]
["2022-01-05",6000,6027,5884.9501950000003,5963.7998049999997,5963.7998049999997,106351,-2.3336865877630064E-3]
["2022-01-06",5873,5901.75,5805,5873.5498049999997,5873.5498049999997,93465,-1.5132969407245178E-2]
["2022-01-07",5900,5938.8500979999999,5782,5799.5498049999997,5799.5498049999997,112039,-1.2598854603566245E-2]
["2022-01-10",5861.0498049999997,6020,5800,5992.9501950000003,5992.9501950000003,176137,3.3347483253486798E-2]
["2022-01-11",6010,6042.8999020000001,5925,5938.75,5938.75,80493,-9.0439922302741893E-3]
["2022-01-12",5978.0498049999997,6167,5950,6114.1000979999999,6114.1000979999999,208195,2.9526431993264657E-2]
["2022-01-13",6141,6450,6137,6401.75,6401.75,467887,4.7046972962397904E-2]
["2022-01-14",6411,6415,6232,6312,6312,172383,-1.4019604014527287E-2]
["2022-01-17",6350,6505.1499020000001,6345,6398.1000979999999,6398.1000979999999,179777,1.3640699936628531E-2]
["2022-01-18",6480,6523.7998049999997,6301,6376.2998049999997,6376.2998049999997,274448,-3.4073072734224219E-3]
["2022-01-19",6547.9501950000003,7170,6381.3999020000001,6977.25,6977.25,2831099,9.4247481043592485E-2]
["2022-01-20",7059,7525,7037.2998049999997,7430.4501950000003,7430.4501950000003,2156628,6.4953985452721463E-2]
["2022-01-21",7520,7800,7025,7200.7001950000003,7200.7001950000003,2003434,-3.0920064595090113E-2]
["2022-01-24",7275,7495,6834.3999020000001,7040.7001950000003,7040.7001950000003,995137,-2.2220061336687857E-2]
["2022-01-25",7085,7280,6840,7179.2001950000003,7179.2001950000003,805943,1.9671338952673478E-2]
["2022-01-27",7103,7129,6930,6974.1499020000001,6974.1499020000001,358322,-2.8561718217972043E-2]
["2022-01-28",7030.8999020000001,7400,7008.0498049999997,7183.1499020000001,7183.1499020000001,603449,2.9967810118343596E-2]
["2022-01-31",7438.7001950000003,7777,7376.7001950000003,7607.3500979999999,7607.3500979999999,1006940,5.9054899561804985E-2]
["2022-02-01",7779,7964.3999020000001,7400,7464.8500979999999,7464.8500979999999,856691,-1.8731884054798975E-2]
["2022-02-02",7580,7672,7430,7482.5,7482.5,310590,2.3644013969856825E-3]
["2022-02-03",7504,7526.3999020000001,7260.0498049999997,7293.8500979999999,7293.8500979999999,316939,-2.5212148613431351E-2]
["2022-02-04",7300,7493,7205.2998049999997,7424.7998049999997,7424.7998049999997,327785,1.7953440945531085E-2]
["2022-02-07",7490,7700,7425,7640.0498049999997,7640.0498049999997,407494,2.899068064502508E-2]
["2022-02-08",7706,7833,7578.8500979999999,7615.6000979999999,7615.6000979999999,637281,-3.2002025672658307E-3]
["2022-02-09",7660,7725,7651,7667.7001950000003,7667.7001950000003,149046,6.8412333013234683E-3]
["2022-02-10",7700,7707.3999020000001,7560.6499020000001,7603.6000979999999,7603.6000979999999,137948,-8.3597552551414323E-3]
["2022-02-11",7455,7560,7350,7397.6000979999999,7397.6000979999999,197308,-2.7092429552441177E-2]
["2022-02-14",7020,7139.1499020000001,6872.5,6911.3500979999999,6911.3500979999999,379926,-6.5730776678704417E-2]
["2022-02-15",7020,7145.7998049999997,6701,7111.0498049999997,7111.0498049999997,442208,2.8894456823680414E-2]
["2022-02-16",7235,7269,6960,6998.5,6998.5,260130,-1.5827452779315743E-2]
["2022-02-17",7040.2998049999997,7175.8999020000001,6902.1000979999999,6941.25,6941.25,189183,-8.1803243552189819E-3]
["2022-02-18",6900,7039,6860.2998049999997,6985.5,6985.5,124944,6.3749324689357234E-3]
["2022-02-21",6915,6943.6000979999999,6710.3999020000001,6733,6733,235154,-3.6146303056330931E-2]
["2022-02-22",6422.8999020000001,6665,6422.8999020000001,6560.8500979999999,6560.8500979999999,289125,-2.5568082875389919E-2]
["2022-02-23",6650,6760,6565,6603.75,6603.75,182581,6.5387718602316625E-3]
["2022-02-24",6380,6428.75,5990,6074.1000979999999,6074.1000979999999,541664,-8.0204414461480189E-2]
["2022-02-25",6350,6534.8999020000001,6350,6499.75,6499.75,333438,7.0076208019711927E-2]
["2022-02-28",6465,6480,6282.0498049999997,6431.8500979999999,6431.8500979999999,294069,-1.0446540559252315E-2]
["2022-03-02",6374,6629,6340.0498049999997,6564.7998049999997,6564.7998049999997,330743,2.0670523251364425E-2]
["2022-03-03",6744.3999020000001,6789,6617,6659.5498049999997,6659.5498049999997,206261,1.4433037231056822E-2]
["2022-03-04",6635,6800,6518,6673.6000979999999,6673.6000979999999,298568,2.1097962191756192E-3]
["2022-03-07",6571,6637,6465,6554.75,6554.75,171241,-1.7808993085398961E-2]
["2022-03-08",6554.1000979999999,6656.25,6486,6572.7001950000003,6572.7001950000003,189439,2.7385018498036207E-3]
["2022-03-09",6664,7060,6580.0498049999997,6993,6993,419890,{"$f":"(F708/F707)-1","v":6.3946291863385296E-2}]
["2022-03-10",7247,7290,6990,7010.0498049999997,7010.0498049999997,236784,2.4381245531244211E-3]
["2022-03-11",7010.0498049999997,7180,6925.2998049999997,7121.2001950000003,7121.2001950000003,197254,1.5855863095397993E-2]
["2022-03-14",7150,7220,7115,7169.6499020000001,7169.6499020000001,157696,6.8035872708673839E-3]
["2022-03-15",7164,7229.7001950000003,6908,6997.4501950000003,6997.4501950000003,198353,-2.4017868285585942E-2]
["2022-03-16",7140,7249,7075,7213.3999020000001,7213.3999020000001,171345,3.086119957728406E-2]
["2022-03-17",7300,7625,7137.6000979999999,7431.75,7431.75,804233,3.0270066954066976E-2]
["2022-03-21",7520,7527.6000979999999,7340.1000979999999,7403.75,7403.75,278972,-3.7676186631682151E-3]
["2022-03-22",7429.7998049999997,7554.0498049999997,7311,7512.6000979999999,7512.6000979999999,312549,1.4702022353537014E-2]
["2022-03-23",7550.2001950000003,7722.1000979999999,7535,7692,7692,357796,2.387986844232004E-2]
["2022-03-24",7685,7775,7566.6000979999999,7606.8999020000001,7606.8999020000001,286798,-1.1063455278211065E-2]
["2022-03-25",7649,8534,7600.25,8438.2001949999994,8438.2001949999994,1829120,0.10928240199157013]
["2022-03-28",8465,9160,8180,9035.5,9035.5,3109546,7.0785213813003178E-2]
["2022-03-29",8970,9024,8500,8552.8496090000008,8552.8496090000008,1347710,-5.3417120358585479E-2]
["2022-03-30",8564,9192.0996090000008,8460,8996.7998050000006,8996.7998050000006,2450372,5.1906699672684464E-2]
["2022-03-31",9000,9420,8790.5,8840.1503909999992,8840.1503909999992,2086042,-1.741168164183704E-2]
["2022-04-01",8884,9142.5996090000008,8732,8912.7998050000006,8912.7998050000006,1414522,8.218119691036474E-3]
["2022-04-04",8988,9164.4003909999992,8931.5,9009.7001949999994,9009.7001949999994,511585,1.0872048303568915E-2]
["2022-04-05",9090,9090,8850,8878.3496090000008,8878.3496090000008,617070,-1.4578796536747429E-2]
["2022-04-06",8875,8990,8762,8893.6503909999992,8893.6503909999992,372750,1.7233813348020988E-3]
["2022-04-07",8907,8938.25,8703,8747.7998050000006,8747.7998050000006,343816,-1.639940627164671E-2]
["2022-04-08",8791.5498050000006,9088,8621,8685.2001949999994,8685.2001949999994,778818,-7.1560405353836565E-3]
["2022-04-11",8723,8820,8620,8711.1503909999992,8711.1503909999992,420571,2.9878638853872985E-3]
["2022-04-12",8740,8741,8326.4003909999992,8409.25,8409.25,599014,-3.4656776366977948E-2]
["2022-04-13",8470,8635,8350,8383.7998050000006,8383.7998050000006,397311,-3.0264524184676622E-3]
["2022-04-18",8319,8319,7789.7998049999997,7815.9501950000003,7815.9501950000003,685016,-6.7731771178665467E-2]
["2022-04-19",7944,8040,7580,7693.1499020000001,7693.1499020000001,831426,-1.5711498913920652E-2]
["2022-04-20",7777.9501950000003,7975,7733.0498049999997,7807.7001950000003,7807.7001950000003,676897,1.4889907834789495E-2]
["2022-04-21",7940,8190,7825.75,7903.8500979999999,7903.8500979999999,1376486,1.2314753461150296E-2]
["2022-04-22",7876,8480,7795,8358,8358,1546038,5.7459326324384552E-2]
["2022-04-25",8319,8320,7980,8009.3999020000001,8009.3999020000001,642502,-4.1708554438861012E-2]
["2022-04-26",8167,8225,7802,7842.3500979999999,7842.3500979999999,636737,-2.085671911053999E-2]
["2022-04-27",7842.3500979999999,8125.5,7461,7980.8500979999999,7980.8500979999999,1383493,1.7660522454273186E-2]
["2022-04-28",8052.7001950000003,8178.6499020000001,7801,7843.5,7843.5,648047,-1.7209958377043089E-2]
["2022-04-29",7974,7988,7720,7746,7746,468423,-1.2430675081277487E-2]
["2022-05-02",7690,7817.5498049999997,7531,7672.25,7672.25,417790,-9.5210431190291267E-3]
["2022-05-04",7748,7888,7679.5498049999997,7776.5,7776.5,495456,1.3587930528853986E-2]

{"sheet":"COALINDIA","index":9,"n_rows":744,"n_cols":11,"rows_kept":744,"cut":false,"hidden":false,"merged":[]}
["Date","Open","High","Low","Close","Adj Close","Volume"," Daily Returns"]
["2019-05-06",250.10000600000001,253.199997,248.050003,251.35000600000001,187.456345,3270067,null,null,"Statistic","Value"]
["2019-05-07",252,255.25,247.699997,248.800003,185.554565,4320204,{"$f":"(F3/F2)-1","v":-1.0145188737143096E-2},null,"Variance ",{"$f":"_xlfn.VAR.P(H3:H744)","v":5.0236815954798637E-4}]
["2019-05-08",249.60000600000001,252.10000600000001,248.550003,249.10000600000001,185.77829,4215463,{"$f":"(F4/F3)-1","v":1.2057100292843792E-3},null,"Average Daily Return",{"$f":"AVERAGE(H3:H744)","v":2.4929762572699842E-4}]
["2019-05-09",249.10000600000001,250.64999399999999,241.14999399999999,242.300003,180.706863,6993406,-2.7298275810375916E-2]
["2019-05-10",242,244.949997,240,241.25,179.92379800000001,5294698,-4.3333439970124621E-3,null,"Annualised Daily Return",{"$f":"Daily_Annualise(K4)","v":6.4830010823903939E-2}]
["2019-05-13",241.75,242.89999399999999,237.60000600000001,242.10000600000001,180.55770899999999,3539800,3.5232193131005118E-3,null,"Annualised Variance",{"$f":"Daily_Annualise(K3)","v":0.13492320489323051}]
["2019-05-14",241,243,238.800003,241.800003,180.33398399999999,3301180,-1.2390775295005874E-3,null,"3-year CAGR",{"$f":"CAGR_3(F2,F744)","v":-1.8912690330075144E-4}]
["2019-05-15",241.75,242.39999399999999,233.449997,235.10000600000001,175.337143,5134147,-2.7708814995181297E-2]
["2019-05-16",235.14999399999999,236.699997,229.550003,232.14999399999999,173.137024,4788978,-1.2547934581094489E-2]
["2019-05-17",233.10000600000001,238,232.35000600000001,236.14999399999999,176.120193,7517604,1.7230104405629554E-2]
["2019-05-20",241.89999399999999,242.89999399999999,235.800003,237.699997,177.27619899999999,6976701,6.5637334385613144E-3]
["2019-05-21",239.699997,241.449997,234.5,237.199997,176.90330499999999,5817365,-2.1034634209412539E-3]
["2019-05-22",237.64999399999999,242,237.10000600000001,241.25,179.92379800000001,3916767,1.7074259861906027E-2]
["2019-05-23",243,245,239.699997,244.14999399999999,182.086578,4979182,1.2020533270423739E-2]
["2019-05-24",244.75,245.949997,241.39999399999999,244.89999399999999,182.64595,2407824,3.0720111616353574E-3]
["2019-05-27",244.89999399999999,246.449997,243.10000600000001,244.10000600000001,182.049316,1947123,-3.2666150002230721E-3]
["2019-05-28",244.89999399999999,251.800003,244.449997,250.699997,186.97157300000001,13294021,2.7038041713927763E-2]
["2019-05-29",249.89999399999999,251.60000600000001,247.449997,250.699997,186.97157300000001,3325742,0]
["2019-05-30",251.949997,255.25,249.10000600000001,252.949997,188.64961199999999,16592348,8.9748349071223643E-3]
["2019-05-31",261,262.95001200000002,252.199997,253.5,189.05981399999999,22235393,2.1744121053373089E-3]
["2019-06-03",255,261.89999399999999,253.199997,260.89999399999999,194.57870500000001,6895062,2.9191243148054768E-2]
["2019-06-04",258.79998799999998,264.14999399999999,258.10000600000001,263.39999399999999,196.443207,6111033,9.5822510484895318E-3]
["2019-06-06",263.89999399999999,271.45001200000002,263.64999399999999,269.14999399999999,200.731537,11211307,2.182987167380146E-2]
["2019-06-07",269.10000600000001,269.70001200000002,263.60000600000001,265.54998799999998,198.04667699999999,4860923,-1.3375377083871043E-2]
["2019-06-10",267,268,257.70001200000002,259.29998799999998,193.385437,4916941,-2.3536067711956599E-2]
["2019-06-11",260.39999399999999,262.45001200000002,257.54998799999998,258.75,192.97524999999999,4303321,-2.1210852604169883E-3]
["2019-06-12",258.70001200000002,258.89999399999999,255.39999399999999,257,191.67010500000001,3093642,-6.7632766378070697E-3]
["2019-06-13",256,258.70001200000002,253.60000600000001,255.60000600000001,190.625992,3433631,-5.4474483644698646E-3]
["2019-06-14",255.35000600000001,256.89999399999999,253.449997,255.14999399999999,190.29037500000001,2805760,-1.7606046084207572E-3]
["2019-06-17",255,257.64999399999999,250.699997,255.300003,190.402252,5008880,5.8792779193383993E-4]
["2019-06-18",255.449997,260.89999399999999,255.25,260.35000600000001,194.168533,4171426,1.9780653644789759E-2]
["2019-06-19",260.5,262.60000600000001,255.14999399999999,257.04998799999998,191.70739699999999,2982858,-1.267525670598757E-2]
["2019-06-20",256,261,256,260.35000600000001,194.168533,3042607,1.2837981416022215E-2]
["2019-06-21",260,265.35000600000001,251.89999399999999,254.25,189.61917099999999,20185830,-2.342996534871078E-2]
["2019-06-24",255.89999399999999,258.25,253.35000600000001,256.75,191.48365799999999,2633348,9.832797971677687E-3]
["2019-06-25",255,259,254.550003,258.35000600000001,192.676941,2590646,6.2317746196387525E-3]
["2019-06-26",257.89999399999999,263.25,257.14999399999999,260.29998799999998,194.13124099999999,4030718,7.5478673911477667E-3]
["2019-06-27",259.25,261.70001200000002,258,259.39999399999999,193.46000699999999,13174124,-3.4576299854797155E-3]
["2019-06-28",259.45001200000002,260.79998799999998,253,253.800003,189.28355400000001,4626498,-2.1588198329797303E-2]
["2019-07-01",254.25,256.39999399999999,248,249.25,185.890152,4839632,-1.792761139723742E-2]
["2019-07-02",248.300003,253,247.10000600000001,252.699997,188.463165,3955456,1.3841577793749948E-2]
["2019-07-03",252.699997,254.14999399999999,250.300003,250.949997,187.15801999999999,2828456,-6.9251994149626128E-3]
["2019-07-04",251.35000600000001,252.85000600000001,249.449997,251.10000600000001,187.26989699999999,2555817,5.977675976696073E-4]
["2019-07-05",251.5,253.199997,240.85000600000001,241.89999399999999,180.40855400000001,4271783,-3.6638793046380402E-2]
["2019-07-08",241.39999399999999,241.449997,230.449997,232.39999399999999,173.32347100000001,4588708,-3.9272433833708376E-2]
["2019-07-09",232.5,235.199997,228.199997,229.60000600000001,171.23521400000001,9158261,-1.2048322064817207E-2]
["2019-07-10",231.39999399999999,234.5,230.050003,233.35000600000001,174.03196700000001,5900374,1.6332814581000887E-2]
["2019-07-11",235,235.75,232.60000600000001,234.89999399999999,175.187973,4033341,6.6424922956827004E-3]
["2019-07-12",234.89999399999999,236.35000600000001,229.300003,231.25,172.46580499999999,6741721,-1.5538555263722387E-2]
["2019-07-15",231,231.699997,228.25,230.39999399999999,171.831863,3265924,-3.6757547387437084E-3]
["2019-07-16",229.449997,233.64999399999999,229.35000600000001,232.800003,173.62178,3739400,1.0416676911662259E-2]
["2019-07-17",232,234.14999399999999,229,230,171.53353899999999,5404435,-1.2027529034663753E-2]
["2019-07-18",230,230.89999399999999,219.5,220.300003,164.299316,8729774,-4.2173810685500857E-2]
["2019-07-19",222,224.050003,217.39999399999999,221.89999399999999,165.49259900000001,19100281,7.2628604248115014E-3]
["2019-07-22",222.800003,223.14999399999999,216.35000600000001,221.39999399999999,165.119675,5607789,-2.2534179912179209E-3]
["2019-07-23",222,222.89999399999999,217,218.050003,162.62127699999999,4983571,-1.5130831622579222E-2]
["2019-07-24",218.39999399999999,219.449997,215.39999399999999,216.85000600000001,161.72631799999999,4877895,-5.5033327526999853E-3]
["2019-07-25",217.64999399999999,217.64999399999999,208.10000600000001,209.050003,155.909088,19251346,-3.596959401499511E-2]
["2019-07-26",209,212.949997,205.5,210.64999399999999,157.10237100000001,10490177,7.6537103468914403E-3]
["2019-07-29",210.64999399999999,212.60000600000001,204.5,205.39999399999999,153.186905,11715160,-2.4923022963160846E-2]
["2019-07-30",205.60000600000001,206.800003,198,199.550003,148.82401999999999,10527314,-2.8480796057600344E-2]
["2019-07-31",199.199997,206,197.050003,204.449997,152.478409,10992207,2.4555102059466094E-2]
["2019-08-01",205.25,205.25,200.5,202.449997,150.98683199999999,6018424,-9.7822177564825807E-3]
["2019-08-02",200.89999399999999,201.050003,195.35000600000001,197.199997,147.07136499999999,6376599,-2.593250648506884E-2]
["2019-08-05",196,202.89999399999999,193.10000600000001,200.60000600000001,149.607101,8942376,1.7241534407462789E-2]
["2019-08-06",198.550003,207.75,198.550003,205.10000600000001,152.96319600000001,12536563,2.2432725302256928E-2]
["2019-08-07",204.199997,209.10000600000001,201.75,206.10000600000001,153.709,9270695,{"$f":"(F68/F67)-1","v":4.8757087946829092E-3}]
["2019-08-08",206.14999399999999,213.300003,204.85000600000001,211.85000600000001,157.99733000000001,8622272,2.7899016973631952E-2]
["2019-08-09",213.89999399999999,214,207,207.60000600000001,154.82768200000001,7027377,-2.0061402303443998E-2]
["2019-08-13",207.89999399999999,211.449997,202.5,203.75,151.956345,6907370,-1.8545372267473548E-2]
["2019-08-14",208.5,208.5,195.64999399999999,200.5,149.532532,16687905,-1.5950719267431634E-2]
["2019-08-16",200,202.85000600000001,199.699997,201.949997,150.61390700000001,12556891,7.231703934499123E-3]
["2019-08-19",202.699997,203.10000600000001,198.550003,198.949997,148.37652600000001,5848151,-1.485507576667533E-2]
["2019-08-20",199.39999399999999,199.5,194.39999399999999,195.300003,145.65437299999999,7496337,-1.8346251077478559E-2]
["2019-08-21",195,195.449997,188.10000600000001,188.800003,140.80668600000001,10788976,-3.3282124663706281E-2]
["2019-08-22",188,188.449997,177.699997,180.85000600000001,134.877579,13370852,-4.2108135404877123E-2]
["2019-08-23",180.85000600000001,189.39999399999999,180.14999399999999,188,140.210037,11447263,3.953554059566855E-2]
["2019-08-26",191,191.89999399999999,182.550003,188.75,140.76939400000001,8851543,3.9894219555764998E-3]
["2019-08-27",190,194.25,189,191.85000600000001,143.08137500000001,11357212,1.6423889698637284E-2]
["2019-08-28",189,192.60000600000001,184.199997,185.050003,138.00994900000001,10791130,-3.5444347665795073E-2]
["2019-08-29",183.300003,190.300003,182.10000600000001,189,140.955826,31069292,2.134539590330542E-2]
["2019-08-30",189.75,190.449997,182.14999399999999,184.75,137.78619399999999,11880019,-2.2486704451648576E-2]
["2019-09-03",183,185.699997,180.050003,181.050003,135.026749,7054535,-2.0027006479328424E-2]
["2019-09-04",181.050003,183.39999399999999,179.10000600000001,182.14999399999999,135.84712200000001,6030798,6.0756332065732277E-3]
["2019-09-05",183.89999399999999,196.39999399999999,183.800003,194.85000600000001,145.318771,29083353,6.972285360598196E-2]
["2019-09-06",196.14999399999999,199.5,192.800003,198.60000600000001,148.11549400000001,16095238,1.9245435264519273E-2]
["2019-09-09",198.10000600000001,200.10000600000001,196.800003,199.35000600000001,148.67484999999999,5382211,3.7764853959165734E-3]
["2019-09-11",199.800003,203,195.550003,196.699997,146.69847100000001,8755389,-1.3293297420511774E-2]
["2019-09-12",197.60000600000001,199.199997,195.39999399999999,197.699997,147.44429,6446408,5.0840270857355208E-3]
["2019-09-13",198.64999399999999,199.60000600000001,194.5,198.199997,147.817184,6979583,2.529050124626675E-3]
["2019-09-16",197.64999399999999,201.199997,196.60000600000001,200.550003,149.56980899999999,3961273,1.1856706727683353E-2]
["2019-09-17",200.60000600000001,200.60000600000001,196,197.60000600000001,147.36972,5885854,-1.4709445808010591E-2]
["2019-09-18",198.449997,199.199997,191.75,192.35000600000001,143.45425399999999,5488038,-2.6568999384676939E-2]
["2019-09-19",191.300003,194.5,189.5,193.449997,144.274643,7916117,5.7188196036348504E-3]
["2019-09-20",193.699997,202.39999399999999,188.85000600000001,200.050003,149.196899,30567231,3.4117263419601862E-2]
["2019-09-23",205.5,208.39999399999999,200.550003,202.699997,151.17326399999999,9396444,1.3246689530725275E-2]
["2019-09-24",203.60000600000001,205.699997,197.10000600000001,198.14999399999999,147.779877,9662821,-2.244700491483731E-2]
["2019-09-25",193,198.699997,191.14999399999999,192.60000600000001,143.64070100000001,6873148,-2.8009063778013488E-2]
["2019-09-26",190.64999399999999,204.85000600000001,189.550003,203.300003,151.620758,20274950,5.555568125499466E-2]
["2019-09-27",203.300003,204.800003,196.699997,199.35000600000001,148.67484999999999,10240429,-1.9429450418655736E-2]
["2019-09-30",197.5,200.75,196.550003,199.85000600000001,149.04774499999999,7578946,2.5081242725315533E-3]
["2019-10-01",200,200.60000600000001,190.75,194.10000600000001,144.75941499999999,10416295,-2.8771518817678254E-2]
["2019-10-03",193,193,185.25,186.75,139.27780200000001,12270678,-3.7867056868114424E-2]
["2019-10-04",187.699997,189.35000600000001,182.14999399999999,185.800003,138.569275,12238072,-5.0871494942172912E-3]
["2019-10-07",186.949997,188.199997,183,184.39999399999999,137.52516199999999,6160378,-7.5349531849684404E-3]
["2019-10-09",184.800003,186.699997,183,185.35000600000001,138.233688,5808768,5.1519735712073356E-3]
["2019-10-10",185,185.89999399999999,183.699997,184.550003,137.63703899999999,4047661,-4.3162344044529455E-3]
["2019-10-11",185.25,190.25,185.25,189.050003,140.993134,7104915,2.4383661726405048E-2]
["2019-10-14",189.60000600000001,190.800003,187.949997,190.10000600000001,141.77621500000001,6340044,5.5540364114468055E-3]
["2019-10-15",189,192.699997,188.050003,191.14999399999999,142.55931100000001,5459056,5.5234652723661348E-3]
["2019-10-16",192.300003,196.199997,191.35000600000001,194.550003,145.09501599999999,7396404,1.7787017783776893E-2]
["2019-10-17",194,199.949997,192.89999399999999,199.39999399999999,148.71211199999999,6611768,2.4929154010362442E-2]
["2019-10-18",198.800003,206.5,197.75,205.949997,153.597092,12709671,3.2848568514715293E-2]
["2019-10-22",206,209.949997,203.300003,208.800003,155.72264100000001,9795154,1.3838471629397775E-2]
["2019-10-23",209.39999399999999,211.699997,206.550003,208.800003,155.72264100000001,7137614,0]
["2019-10-24",210,210,204.39999399999999,205.199997,153.03774999999999,8470734,-1.7241494125443291E-2]
["2019-10-25",206.60000600000001,206.949997,203,205.85000600000001,153.52255199999999,5368529,3.1678589106283184E-3]
["2019-10-27",206.699997,208.800003,201.550003,202.85000600000001,151.28514100000001,755584,-1.457382626104331E-2]
["2019-10-29",204,210.449997,199.60000600000001,209.75,156.43113700000001,6925785,3.4015211051031002E-2]
["2019-10-30",210.75,210.949997,205.60000600000001,206.25,153.82086200000001,4487164,-1.6686415825258649E-2]
["2019-10-31",207,209,206,207.550003,154.79040499999999,6655719,6.3030657050926475E-3]
["2019-11-01",205,208,201.85000600000001,207.10000600000001,154.45478800000001,7118433,-2.1682028676131004E-3]
["2019-11-04",206,215.60000600000001,205.800003,215,160.346588,8489492,3.8145790598605345E-2]
["2019-11-05",217,217.550003,209.60000600000001,211.14999399999999,157.47524999999999,12681517,-1.7907072646909161E-2]
["2019-11-06",211.39999399999999,214.85000600000001,211.14999399999999,212.39999399999999,158.40751599999999,4344694,5.9200795045570853E-3]
["2019-11-07",213.5,213.75,210.89999399999999,212.5,158.48208600000001,3529240,4.7074786527190327E-4]
["2019-11-08",212.60000600000001,216,208.10000600000001,209.25,156.058258,6324778,-1.5294018782665564E-2]
["2019-11-11",208.949997,210.800003,205.75,209.85000600000001,156.50573700000001,3485203,2.8673843072117844E-3]
["2019-11-13",215.89999399999999,216,206.199997,207.25,154.56665000000001,12228149,-1.2389878078399086E-2]
["2019-11-14",208.5,208.5,201.75,202.35000600000001,150.91224700000001,4889669,-2.3642894505380041E-2]
["2019-11-15",202.949997,204.5,200.5,201.14999399999999,150.01728800000001,4544919,{"$f":"(F132/F131)-1","v":-5.9303271788140322E-3}]
["2019-11-18",202,202,198.25,200.300003,149.38334699999999,5894876,-4.225786297376799E-3]
["2019-11-19",200.949997,201.300003,198.25,199.60000600000001,148.86128199999999,3836452,-3.4948005282007255E-3]
["2019-11-20",199.89999399999999,204,199.449997,203.050003,151.43429599999999,4456738,1.72846422214743E-2]
["2019-11-21",203,203.64999399999999,195.800003,196.60000600000001,146.62390099999999,4650473,-3.176555857597807E-2]
["2019-11-22",196.949997,199.35000600000001,196.300003,199,148.41381799999999,4335573,1.2207539069636342E-2]
["2019-11-25",199.10000600000001,201.64999399999999,198.449997,200.699997,149.68167099999999,3884393,8.5426883903760853E-3]
["2019-11-26",201,202.10000600000001,196.199997,197.75,147.48156700000001,8027053,-1.4698553171550222E-2]
["2019-11-27",197.5,201.699997,196.199997,201,149.90542600000001,4378518,1.6434996246005307E-2]
["2019-11-28",200.550003,206.35000600000001,199.800003,205.85000600000001,153.52255199999999,7855291,2.4129386750816995E-2]
["2019-11-29",206.39999399999999,208.800003,203.85000600000001,205.25,153.07504299999999,5422867,-2.9149398193953902E-3]
["2019-12-02",205.199997,206.39999399999999,202.25,205.85000600000001,153.52255199999999,3284647,2.9234615338307179E-3]
["2019-12-03",206.5,206.699997,204,205.60000600000001,153.33609000000001,2619997,-1.2145577152729015E-3]
["2019-12-04",204.60000600000001,205,201.14999399999999,202.75,151.21054100000001,5343182,-1.3862026871821254E-2]
["2019-12-05",202.5,203.10000600000001,195.64999399999999,196.39999399999999,146.47473099999999,6745934,-3.1319311264153327E-2]
["2019-12-06",196.39999399999999,197,190.89999399999999,192,143.19322199999999,5644775,-2.2403243054940347E-2]
["2019-12-09",191.949997,193.60000600000001,191,191.64999399999999,142.93218999999999,3992473,-1.8229354459249336E-3]
["2019-12-10",192,192.449997,186.550003,187.199997,139.61338799999999,4431410,-2.3219416144117044E-2]
["2019-12-11",188.300003,189.35000600000001,185,187.14999399999999,139.576111,8520046,-2.6700161448689474E-4]
["2019-12-12",188.300003,190.85000600000001,186.25,190.14999399999999,141.813492,8081188,1.6029827625731796E-2]
["2019-12-13",191.699997,196.89999399999999,191.300003,196.25,146.36286899999999,5851149,3.2080001245579526E-2]
["2019-12-16",197,197.300003,192,192.60000600000001,143.64070100000001,3154315,-1.8598760864683372E-2]
["2019-12-17",193.449997,196.5,192.050003,196.199997,146.32557700000001,3652710,1.869161025606525E-2]
["2019-12-18",195.85000600000001,198.5,194.800003,197.75,147.48156700000001,3623918,7.9001226149273407E-3]
["2019-12-19",197.39999399999999,198.10000600000001,195.25,196.89999399999999,146.84764100000001,2015809,-4.2983405512636574E-3]
["2019-12-20",196.85000600000001,202.699997,196.14999399999999,200.800003,149.75625600000001,5806708,1.9807025704961845E-2]
["2019-12-23",200.60000600000001,202.35000600000001,196.300003,197.25,147.10867300000001,6665480,-1.7679281458532148E-2]
["2019-12-24",197.800003,199.699997,197.39999399999999,198.949997,148.37652600000001,3113553,8.6184789390357786E-3]
["2019-12-26",198.39999399999999,201.39999399999999,195.199997,197.300003,147.14596599999999,8630191,-8.2934951583919503E-3]
["2019-12-27",198.5,205.5,197.64999399999999,203.5,151.769913,5046833,3.1424218588500086E-2]
["2019-12-30",203.550003,206.25,201.199997,205.800003,153.48524499999999,4696784,1.1302187410491493E-2]
["2019-12-31",205,212.449997,204.449997,211.35000600000001,157.62441999999999,10534842,2.6967901702863895E-2]
["2020-01-01",211.35000600000001,212.60000600000001,208.39999399999999,211.949997,158.07188400000001,6447592,2.83879870898196E-3]
["2020-01-02",212.5,212.800003,208.300003,211.10000600000001,157.43795800000001,5958343,-4.0103653094942793E-3]
["2020-01-03",210,212.60000600000001,207.699997,211.85000600000001,157.99733000000001,6452638,3.5529678300323386E-3]
["2020-01-06",209.949997,209.949997,203.449997,205.699997,153.41066000000001,6853058,-2.9030047533081693E-2]
["2020-01-07",206.5,208.199997,204.35000600000001,205.699997,153.41066000000001,5243225,0]
["2020-01-08",203,204.550003,198.199997,200.199997,149.308762,7295998,-2.673802459359742E-2]
["2020-01-09",203.25,203.699997,197.35000600000001,198,147.66802999999999,10321169,-1.098885275065109E-2]
["2020-01-10",199.14999399999999,206.550003,198.949997,205.300003,153.11234999999999,13533598,3.6868643808683599E-2]
["2020-01-13",205.300003,212,205,211.550003,157.77359000000001,9863555,3.0443266006955128E-2]
["2020-01-14",211.14999399999999,213.5,209.75,212.949997,158.81770299999999,5417581,6.6177932567801356E-3]
["2020-01-15",212.60000600000001,214.60000600000001,211.300003,212.449997,158.44480899999999,4863227,-2.347937244754128E-3]
["2020-01-16",212.449997,212.699997,207.10000600000001,210.25,156.80406199999999,6937929,-1.0355321896345693E-2]
["2020-01-17",210,210.550003,206.10000600000001,207.89999399999999,155.05140700000001,5985342,-1.117735712739365E-2]
["2020-01-20",208,209.800003,200.5,201.14999399999999,150.01728800000001,8110607,-3.2467419015423715E-2]
["2020-01-21",201.14999399999999,205.25,201.14999399999999,202.14999399999999,150.76306199999999,6347967,4.9712537131052503E-3]
["2020-01-22",199.10000600000001,199.39999399999999,190.949997,191.89999399999999,143.118652,19096395,-5.0704793989923003E-2]
["2020-01-23",192.050003,195.199997,189.85000600000001,190.75,142.260986,16369722,-5.9926919937730583E-3]
["2020-01-24",193,196.300003,192.14999399999999,193.949997,144.64752200000001,10626281,1.677575888585503E-2]
["2020-01-27",193.949997,195,192,193.35000600000001,144.200073,7195361,-3.0933748038906028E-3]
["2020-01-28",193.89999399999999,194.25,188.39999399999999,189.14999399999999,141.06770299999999,10274562,-2.1722388448444208E-2]
["2020-01-29",191,193,188,191.050003,142.48472599999999,10602818,1.0044985279160645E-2]
["2020-01-30",191.39999399999999,192.35000600000001,187.5,187.949997,140.17276000000001,10859103,-1.6226062013131037E-2]
["2020-01-31",188.800003,189.449997,180,181.699997,135.51151999999999,35281395,-3.3253536564451069E-2]
["2020-02-03",174.89999399999999,179.449997,172.14999399999999,178.64999399999999,133.236816,15284598,-1.6786056270345018E-2]
["2020-02-04",180.75,183,179.75,182.5,136.10815400000001,10043759,2.1550635073717128E-2]
["2020-02-05",184,184,178.5,179.25,133.68431100000001,9468632,-1.780821301859703E-2]
["2020-02-06",180.199997,181.60000600000001,178.25,179.949997,134.20635999999999,6917941,3.905088009916069E-3]
["2020-02-07",180.300003,186.050003,178.10000600000001,185.050003,138.00994900000001,13470302,2.8341346863144379E-2]
["2020-02-10",184.89999399999999,185,177.64999399999999,178.85000600000001,133.38600199999999,19665611,-3.3504446842452018E-2]
["2020-02-11",180,181.5,176.25,179.35000600000001,133.75889599999999,16397703,2.7956006957912116E-3]
["2020-02-12",181,183.39999399999999,178.199997,180.300003,134.467377,14669421,5.2967019105780722E-3]
["2020-02-13",180.300003,180.949997,175.85000600000001,177.800003,132.60290499999999,11781999,-1.3865608459068923E-2]
["2020-02-14",178,178.89999399999999,174.199997,174.75,130.328217,15392705,{"$f":"(F196/F195)-1","v":-1.7154133991257536E-2}]
["2020-02-17",174.75,175.199997,166.800003,167.85000600000001,125.182205,15997350,-3.9485018044864373E-2]
["2020-02-18",168.10000600000001,173.949997,165,171.85000600000001,128.16540499999999,27643844,2.3830863180593465E-2]
["2020-02-19",176.35000600000001,178.550003,174.25,177.75,132.56559799999999,21092109,3.4332142905489915E-2]
["2020-02-20",177.75,180.25,175.199997,179.35000600000001,133.75889599999999,16776977,9.0015661529321278E-3]
["2020-02-24",178.75,178.89999399999999,173.300003,174.85000600000001,130.40280200000001,9952676,-2.5090622757532266E-2]
["2020-02-25",176.10000600000001,178.699997,174.199997,175.10000600000001,130.589249,13534936,1.4297775595342177E-3]
["2020-02-26",174.199997,177.75,172.64999399999999,173.800003,129.61970500000001,10925243,-7.4243784034624394E-3]
["2020-02-27",173.75,174.550003,169.60000600000001,174.10000600000001,129.843445,11500515,1.7261264404204724E-3]
["2020-02-28",171.550003,171.800003,166.75,168.39999399999999,125.592384,14694382,-3.2739896881201824E-2]
["2020-03-02",172.64999399999999,175,168.300003,169.35000600000001,126.30089599999999,11962711,5.6413611831749311E-3]
["2020-03-03",171.35000600000001,179.64999399999999,170.89999399999999,178.199997,132.90121500000001,17015816,5.2258687064262954E-2]
["2020-03-04",178.25,179.800003,174.10000600000001,178.10000600000001,132.82662999999999,9858330,-5.612063065038031E-4]
["2020-03-05",180,180.199997,172.199997,177.14999399999999,132.11811800000001,12349902,-5.3341110890187116E-3]
["2020-03-06",166.699997,173,166.5,168.75,125.853432,10629291,-4.7417311833037212E-2]
["2020-03-09",165.800003,166.699997,156.949997,157.949997,117.79879,23967899,-6.4000177603420472E-2]
["2020-03-11",158.10000600000001,169.89999399999999,157.050003,168,125.29407500000001,28399797,6.3627860693645566E-2]
["2020-03-12",161,163,150.10000600000001,154.550003,115.26309999999999,33250878,-8.0059452132912212E-2]
["2020-03-13",146.25,161.550003,123.650002,154.10000600000001,114.927498,43328010,-2.9116169875701425E-3]
["2020-03-16",150.949997,151.35000600000001,143.10000600000001,143.89999399999999,107.32034299999999,23542677,-6.6190904112434445E-2]
["2020-03-17",145.199997,155.39999399999999,142.300003,145.89999399999999,108.81193500000001,18989633,1.3898501982983813E-2]
["2020-03-18",151.60000600000001,151.85000600000001,143,145.050003,108.178017,18737193,-5.825813133458313E-3]
["2020-03-19",128,133.5,122,123.550003,100.453918,28547877,-7.1401743295035569E-2]
["2020-03-20",124.5,135.800003,122.650002,132.800003,107.974754,24022133,7.4868518319016752E-2]
["2020-03-23",122.5,134.85000600000001,120.050003,127.849998,103.95008900000001,17884315,-3.7274129839647507E-2]
["2020-03-24",129.25,135,125.449997,127.849998,103.95008900000001,9991023,0]
["2020-03-25",126,129.25,123.699997,124.5,101.226326,8339454,-2.6202603828458515E-2]
["2020-03-26",126,127,119.199997,123.25,100.209999,28364001,-1.0040145090319696E-2]
["2020-03-27",125.900002,132.949997,125,131.699997,107.080376,18332679,6.8559795115854749E-2]
["2020-03-30",127.550003,134.75,127.199997,133.14999399999999,108.259315,12357349,1.100985114209907E-2]
["2020-03-31",135.10000600000001,142.35000600000001,134.25,140.050003,113.86945299999999,14997503,5.1821295931901989E-2]
["2020-04-01",138.75,141.25,137.050003,139.449997,113.381615,8833033,-4.2841867344352025E-3]
["2020-04-03",138.60000600000001,139.89999399999999,131.800003,137.75,111.999405,10936160,-1.2190777137898401E-2]
["2020-04-07",140.300003,142.39999399999999,137.14999399999999,140.14999399999999,113.95075199999999,8203204,1.7422833630232226E-2]
["2020-04-08",140,143.39999399999999,137,137.35000600000001,111.674194,7070293,-1.9978437702631302E-2]
["2020-04-09",139.199997,141.449997,138,140.800003,114.47925600000001,5078557,2.5118265012953778E-2]
["2020-04-13",140.800003,146.699997,138.35000600000001,145.89999399999999,118.62587000000001,10691543,3.6221531698284348E-2]
["2020-04-15",147.39999399999999,151.60000600000001,146,146.85000600000001,119.398285,10487965,6.5113537207355243E-3]
["2020-04-16",144.60000600000001,150.5,144.39999399999999,147.39999399999999,119.84545900000001,9736774,3.7452296739437507E-3]
["2020-04-17",151.5,152.449997,148.300003,148.75,120.9431,7093925,9.1588034219969305E-3]
["2020-04-20",149.89999399999999,149.89999399999999,143,144.199997,117.243652,7139688,-3.0588334514329518E-2]
["2020-04-21",141,141.60000600000001,137.800003,139,113.01572400000001,6501336,-3.6061039790879157E-2]
["2020-04-22",138.199997,141.300003,135,140.699997,114.397949,5604252,1.2230377783537305E-2]
["2020-04-23",140.800003,144.75,140.10000600000001,140.89999399999999,114.560562,7553183,1.4214677922241847E-3]
["2020-04-24",140.60000600000001,143.800003,135.800003,137,111.38960299999999,11701166,-2.7679324757502566E-2]
["2020-04-27",139,139.699997,137.5,138.10000600000001,112.283981,4238903,8.029277202828311E-3]
["2020-04-28",138.60000600000001,139.550003,134.449997,135.39999399999999,110.088707,7064210,-1.9551088057699006E-2]
["2020-04-29",135.5,140.85000600000001,135.35000600000001,139.85000600000001,113.70684799999999,7399346,3.2865687122658249E-2]
["2020-04-30",141.5,149.449997,141.35000600000001,148.5,120.73983,13145052,6.1851877206199557E-2]
["2020-05-04",144.699997,144.699997,140.35000600000001,142.300003,115.69884500000001,8356099,-4.1750804187814294E-2]
["2020-05-05",143.89999399999999,147.25,137.35000600000001,138,112.202675,11879416,-3.0217847032094403E-2]
["2020-05-06",139.35000600000001,139.35000600000001,133.14999399999999,133.75,108.74715399999999,10427774,-3.0797135629787808E-2]
["2020-05-07",130,133,130,130.800003,106.348625,10860354,-2.205601628894116E-2]
["2020-05-08",132.85000600000001,133.199997,128.550003,129,104.88510100000001,7096898,-1.3761569554848418E-2]
["2020-05-11",130.14999399999999,131.050003,128.050003,128.449997,104.437927,6657844,-4.2634654086857182E-3]
["2020-05-12",128.199997,129.050003,125.300003,126.849998,103.137024,8128169,-1.2456231537418483E-2]
["2020-05-13",132.5,132.5,128.5,130.60000600000001,106.18601200000001,11135898,2.9562497362731754E-2]
["2020-05-14",129.85000600000001,131.449997,128.050003,128.64999399999999,104.600533,5663178,-1.4931147428345004E-2]
["2020-05-15",129.699997,130.85000600000001,127.75,129.60000600000001,105.372955,6296826,7.384493920313151E-3]
["2020-05-18",127,127,121.050003,121.699997,98.949753000000001,24334121,-6.0956836600055464E-2]
["2020-05-19",123.099998,124.150002,121.800003,123.599998,100.494568,9537927,1.5612115777590585E-2]
["2020-05-20",123,125.150002,121.849998,123.25,100.209999,8087994,-2.831685390199401E-3]
["2020-05-21",123.900002,126.25,122.800003,124.5,101.226326,6187181,1.0141971960303087E-2]
["2020-05-22",124,126.050003,121.900002,125.199997,101.795464,7128048,5.6224306708512195E-3]
["2020-05-26",125.849998,128,125,127.25,103.46225,6182999,{"$f":"(F260/F259)-1","v":1.6373873004793316E-2}]
["2020-05-27",127.25,131.35000600000001,126,130.800003,106.348625,6084254,2.7897856464556003E-2]
["2020-05-28",130.85000600000001,134.300003,129.300003,133.89999399999999,108.86911000000001,7882781,2.370021239108655E-2]
["2020-05-29",133.5,142.449997,132.25,141.300003,114.88578,16208002,5.5265171176654082E-2]
["2020-06-01",142.10000600000001,149.75,141.550003,148.550003,120.78048699999999,21204876,5.1309283011352624E-2]
["2020-06-02",149.14999399999999,149.14999399999999,143,143.39999399999999,116.593208,16679738,-3.466850568337243E-2]
["2020-06-03",145,145.10000600000001,141.10000600000001,141.699997,115.21101400000001,11560484,-1.1854841492996759E-2]
["2020-06-04",141,142.60000600000001,139.35000600000001,140.25,114.032066,6295232,-1.0232945263375592E-2]
["2020-06-05",141,145.75,140.5,144.85000600000001,117.77216300000001,11872471,3.2798642795790478E-2]
["2020-06-08",148,148.949997,144.75,146.699997,119.276321,11258686,1.2771761693805228E-2]
["2020-06-09",147.949997,147.949997,143.64999399999999,144.300003,117.324974,6957064,-1.6359885882127445E-2]
["2020-06-10",144,144.75,140.199997,140.699997,114.397949,8914993,-2.4948013199644903E-2]
["2020-06-11",140.85000600000001,142.89999399999999,137.5,137.699997,111.958763,9259185,-2.1321938210622893E-2]
["2020-06-12",133.10000600000001,135.550003,132.699997,134.64999399999999,109.47891199999999,8424817,-2.2149682021763817E-2]
["2020-06-15",134.699997,135,130.5,132.10000600000001,107.405602,8217803,-1.8937985061451723E-2]
["2020-06-16",134.5,135,129.550003,131.14999399999999,106.633194,7130557,-7.1915057093576706E-3]
["2020-06-17",131.14999399999999,133.89999399999999,129.10000600000001,129.449997,105.25097700000001,9071758,-1.2962352042085512E-2]
["2020-06-18",129,139.699997,128.14999399999999,137.60000600000001,111.877464,34586616,6.2958912010859569E-2]
["2020-06-19",140,140,135.199997,137.25,111.59287999999999,17468335,-2.5437115735837956E-3]
["2020-06-22",137.25,143.949997,137.10000600000001,143.64999399999999,116.79647799999999,19716275,4.6630197195376644E-2]
["2020-06-23",144.949997,146.75,143.199997,143.85000600000001,116.95910600000001,10955603,1.3924050004316957E-3]
["2020-06-24",145.699997,146.449997,140.75,141.550003,115.089035,10639459,-1.598910135308329E-2]
["2020-06-25",140.35000600000001,143.64999399999999,138.35000600000001,140.39999399999999,114.154022,33546602,-8.124257884341457E-3]
["2020-06-26",140.89999399999999,143,139.60000600000001,142.10000600000001,115.536247,8095985,1.2108421374763312E-2]
["2020-06-29",140.550003,140.85000600000001,134.14999399999999,134.85000600000001,109.641533,14575190,-5.102047325459691E-2]
["2020-06-30",136.35000600000001,137.14999399999999,132.35000600000001,132.85000600000001,108.015411,9576074,-1.4831259245526973E-2]
["2020-07-01",132.85000600000001,134.64999399999999,131.39999399999999,133.85000600000001,108.828468,8412734,7.5272314614440727E-3]
["2020-07-02",134.050003,135,132.800003,133.60000600000001,108.625198,7744251,-1.8678017226154697E-3]
["2020-07-03",134.39999399999999,135.89999399999999,133.050003,135.25,109.966759,9092987,1.2350366440758931E-2]
["2020-07-06",136.300003,137.5,135.25,135.85000600000001,110.45459,9489759,4.436167842320371E-3]
["2020-07-07",136.5,136.699997,132.60000600000001,132.85000600000001,108.015411,9903888,-2.2083093151674338E-2]
["2020-07-08",132.949997,134.449997,131.60000600000001,132.85000600000001,108.015411,12308795,0]
["2020-07-09",133.5,135.300003,129.10000600000001,130.39999399999999,106.023392,19347175,-1.844198880102399E-2]
["2020-07-10",129.5,132.25,128.199997,131.199997,106.67384300000001,17079028,6.1349763267337654E-3]
["2020-07-13",131.800003,132.449997,130.300003,130.5,106.104698,7748516,-5.3353754209455317E-3]
["2020-07-14",130.39999399999999,130.39999399999999,128,128.25,104.27531399999999,7234601,-1.724131008789076E-2]
["2020-07-15",128.85000600000001,129.449997,127.550003,128,104.07204400000001,7037060,-1.9493587907104537E-3]
["2020-07-16",127.75,128,124.599998,126.150002,102.567879,11776854,-1.445311288399409E-2]
["2020-07-17",126.599998,132.050003,126.599998,130.60000600000001,106.18601200000001,11331564,3.5275497897348629E-2]
["2020-07-20",133.5,134.60000600000001,131.699997,133,108.13736,16601999,1.8376695416341571E-2]
["2020-07-21",133.5,134.5,132,133.10000600000001,108.218666,10375549,7.5187705710577646E-4]
["2020-07-22",133.699997,136.699997,132.75,134.10000600000001,109.03173099999999,14123342,7.5131678300301985E-3]
["2020-07-23",134.89999399999999,135.550003,133.199997,133.449997,108.503235,5534003,-4.8471760940858033E-3]
["2020-07-24",132.89999399999999,132.89999399999999,130,131.60000600000001,106.999084,8426361,-1.3862729530598861E-2]
["2020-07-27",131.60000600000001,131.800003,129.35000600000001,129.949997,105.657516,5361430,-1.253812602732185E-2]
["2020-07-28",130.10000600000001,130.75,128.550003,130.449997,106.064041,5274135,3.8475729450235807E-3]
["2020-07-29",130,132.5,129.699997,131.199997,106.67384300000001,5729989,5.7493755117250522E-3]
["2020-07-30",131.300003,131.699997,128.300003,128.60000600000001,104.55989099999999,5755341,-1.9816966751633913E-2]
["2020-07-31",128.949997,130,127.550003,129.25,105.088379,5309957,5.0544046569445111E-3]
["2020-08-03",129.89999399999999,129.89999399999999,128.10000600000001,128.39999399999999,104.39727000000001,4101202,-6.5764550426645751E-3]
["2020-08-04",129.60000600000001,131.699997,128.5,128.75,104.681847,8225015,2.7259046141723253E-3]
["2020-08-05",129.14999399999999,130.10000600000001,128.199997,128.449997,104.437927,6357451,-2.3301079125973567E-3]
["2020-08-06",129,131.199997,128.300003,128.85000600000001,104.763153,7904721,3.1140602781210003E-3]
["2020-08-07",129.5,130.35000600000001,128.550003,129.75,105.49490400000001,6553466,6.9848126850478032E-3]
["2020-08-10",130.300003,131.14999399999999,129,129.25,105.088379,7123506,-3.8535036725565464E-3]
["2020-08-11",130.14999399999999,131,129.699997,130.10000600000001,105.77948000000001,5667893,6.5763789162645025E-3]
["2020-08-12",130,130.199997,128.5,128.699997,104.64119700000001,10656110,-1.076090561231724E-2]
["2020-08-13",128.75,130.14999399999999,128.300003,128.949997,104.844452,7332156,1.942399416551055E-3]
["2020-08-14",129.35000600000001,134.25,129.10000600000001,131.85000600000001,107.202347,23946105,2.2489458955825326E-2]
["2020-08-17",133.5,137,132.35000600000001,136,110.576553,23263111,3.1475113133483834E-2]
["2020-08-18",136.64999399999999,138.550003,135.64999399999999,136.64999399999999,111.105034,14886444,4.7793224301357906E-3]
["2020-08-19",137.5,138,134.449997,135.10000600000001,109.84478799999999,7439983,-1.1342834384983957E-2]
["2020-08-20",134.10000600000001,139,133.35000600000001,138.5,112.609207,16864753,2.5166592337544591E-2]
["2020-08-21",139.5,141.800003,139,139.5,113.42227200000001,18104009,7.2202355532084983E-3]
["2020-08-24",140.699997,141.39999399999999,138.75,139.800003,113.666191,7621483,{"$f":"(F324/F323)-1","v":2.1505388289171368E-3}]
["2020-08-25",140.85000600000001,141,139.199997,140.449997,114.19467899999999,8785149,4.6494740023441672E-3]
["2020-08-26",140.550003,143.949997,139.949997,141.949997,115.41426800000001,20083642,1.0679910926497893E-2]
["2020-08-27",142.699997,143.25,140,140.550003,114.275986,9356533,-9.862576089812447E-3]
["2020-08-28",141.10000600000001,142.39999399999999,138.64999399999999,139.050003,113.056404,9056278,-1.0672250948681405E-2]
["2020-08-31",139.25,142.14999399999999,133.89999399999999,134.35000600000001,109.235001,18667357,-3.3800853952510312E-2]
["2020-09-01",135.10000600000001,135.39999399999999,130.699997,133.449997,108.503235,10566870,-6.6990066672859561E-3]
["2020-09-02",135.5,137.5,134.75,136.300003,110.820465,16748685,2.1356321772341591E-2]
["2020-09-03",137.5,138.050003,133.85000600000001,135.699997,110.332626,17375778,-4.4020659902481718E-3]
["2020-09-04",134.10000600000001,136.449997,131.35000600000001,132.449997,107.69016999999999,9952446,-2.3949905805740634E-2]
["2020-09-07",133,133.800003,130.75,131.949997,107.283638,8781574,-3.7750149340464167E-3]
["2020-09-08",132.10000600000001,132.64999399999999,129.35000600000001,129.949997,105.657516,7292289,-1.51572227630834E-2]
["2020-09-09",128.949997,129,124.75,126.949997,103.21832999999999,13115790,-2.3085778393654555E-2]
["2020-09-10",128,128.300003,125.5,126.650002,102.974411,12007280,-2.3631364700436031E-3]
["2020-09-11",126.900002,127,124.650002,125.099998,101.71416499999999,12588367,-1.223843853790052E-2]
["2020-09-14",126,126.849998,124.099998,124.949997,101.592201,12397073,-1.1990856927350801E-3]
["2020-09-15",125.650002,125.75,123.800003,124.099998,100.9011,11537811,-6.8026973842214566E-3]
["2020-09-16",124.599998,124.599998,123.099998,123.849998,100.697838,8007948,-2.0144676321665056E-3]
["2020-09-17",123.849998,125.900002,123.550003,124.300003,101.063721,13049746,3.6334742360604189E-3]
["2020-09-18",125.25,125.25,122.900002,123.650002,100.535225,14611915,-5.2293344710709899E-3]
["2020-09-21",123.650002,124.150002,121.099998,121.650002,98.909096000000005,9573596,-1.6174718860976212E-2]
["2020-09-22",122,122,118.849998,119.550003,97.201660000000004,10042777,-1.7262679258538527E-2]
["2020-09-23",119.75,122.5,118.949997,121.050003,98.421256999999997,9281239,1.2547079957276441E-2]
["2020-09-24",121.050003,121.099998,115.199997,115.699997,94.071372999999994,15979042,-4.4196590580020789E-2]
["2020-09-25",116,117.599998,113.900002,117.099998,95.209663000000006,15988801,1.210028049659706E-2]
["2020-09-28",117.900002,121.300003,117.900002,120,97.567535000000007,9441818,2.476504932067658E-2]
["2020-09-29",121.150002,121.550003,117.150002,117.650002,95.656845000000004,12065137,-1.9583255844272451E-2]
["2020-09-30",117,117.099998,114.650002,116,94.315291999999999,14036702,-1.4024641937542492E-2]
["2020-10-01",117.099998,119.699997,116.349998,117.25,95.331612000000007,9963165,1.0775771123096467E-2]
["2020-10-05",117.949997,119.5,117.550003,118.400002,96.266639999999995,8141288,9.8081631096302857E-3]
["2020-10-06",119.349998,119.349998,116.300003,116.800003,94.965736000000007,11221801,-1.3513549449736595E-2]
["2020-10-07",117.099998,117.199997,114.25,114.449997,93.055037999999996,11939558,-2.0119867232956667E-2]
["2020-10-08",114.699997,115,112.650002,113.300003,92.120025999999996,11663333,-1.0047946033829969E-2]
["2020-10-09",113.349998,115.900002,112.300003,114.900002,93.420921000000007,15958362,1.4121739392474852E-2]
["2020-10-12",115.300003,115.5,112.800003,113.199997,92.038712000000004,7949842,-1.4795497466782659E-2]
["2020-10-13",113.300003,114.650002,112.349998,113.849998,92.5672,9702168,5.7420186410257479E-3]
["2020-10-14",113.199997,113.949997,109.599998,110.550003,89.884101999999999,19663164,-2.8985407358113946E-2]
["2020-10-15",110.849998,112.699997,109.550003,110.599998,89.924758999999995,15481671,4.523269309626432E-4]
["2020-10-16",111.300003,112.75,109.599998,111.349998,90.534554,12231039,6.7811691327412937E-3]
["2020-10-19",112.5,115.349998,111.25,114.699997,93.258308,18111350,3.0085242370553988E-2]
["2020-10-20",115.099998,116.150002,113.099998,113.650002,92.404594000000003,16554127,-9.1542943283937639E-3]
["2020-10-21",113.650002,116.900002,113.550003,115.099998,93.583534,20421726,1.2758456576303923E-2]
["2020-10-22",115,116.699997,114.099998,115.800003,94.152671999999995,13653932,6.0816040565425666E-3]
["2020-10-23",116.800003,118.199997,116.199997,117.699997,95.697502,11876035,1.6407712783764739E-2]
["2020-10-26",117.900002,117.900002,114.199997,114.550003,93.136353,11243128,-2.6762966080347672E-2]
["2020-10-27",114.199997,115.150002,112.849998,113.949997,92.648514000000006,10985477,-5.2379010374176138E-3]
["2020-10-28",113.949997,114,112.400002,112.699997,91.632178999999994,9366165,-1.0969792780486598E-2]
["2020-10-29",112,112.449997,110.550003,110.849998,90.128013999999993,11414157,-1.6415248621338585E-2]
["2020-10-30",111.599998,115.199997,111.050003,114.199997,92.851768000000007,17773808,3.0220947728860637E-2]
["2020-11-02",114.599998,116.300003,113.550003,115.699997,94.071372999999994,12785804,1.3134967984669732E-2]
["2020-11-03",115.599998,117.25,115.599998,116.5,94.721824999999995,12319486,6.914452072470656E-3]
["2020-11-04",116.5,116.5,113.699997,114.800003,93.339607000000001,7382741,-1.4592391985690623E-2]
["2020-11-05",116.349998,120.599998,115.25,119.849998,97.445580000000007,14904921,4.3989610969757065E-2]
["2020-11-06",120.25,122.400002,118.300003,121.800003,99.031052000000003,18908916,1.6270332630787365E-2]
["2020-11-09",122.900002,122.900002,120.650002,121.75,98.990402000000003,14950332,-4.1047731170218427E-4]
["2020-11-10",122.25,125.400002,121,124.800003,101.47024500000001,15808417,2.5051347907446564E-2]
["2020-11-11",126,126.199997,123.550003,125.849998,102.323959,16757799,8.4134417927146377E-3]
["2020-11-12",126.050003,126.5,121,122.099998,99.274979000000002,35738360,-2.9797322443319452E-2]
["2020-11-13",122.5,126.349998,121.199997,125.900002,102.364609,23377931,3.1121940604993625E-2]
["2020-11-14",127.349998,127.5,126.550003,127.099998,103.340294,3308333,9.5314680486886516E-3]
["2020-11-17",128.300003,129.300003,127.199997,128.699997,104.64119700000001,20369194,1.2588535890946995E-2]
["2020-11-18",128.75,128.85000600000001,125.849998,128.25,104.27531399999999,18943803,-3.4965483049664847E-3]
["2020-11-19",121.75,124.300003,120.849998,122.050003,105.397942,29186699,1.0765999707274876E-2]
["2020-11-20",123.300003,123.5,120.150002,121.449997,104.879807,17573909,-4.9159878283012715E-3]
["2020-11-23",121.25,123.449997,119.75,122.75,106.002441,17269543,{"$f":"(F388/F387)-1","v":1.0704005204738909E-2}]
["2020-11-24",123.75,124.599998,122.800003,123.25,106.434219,18199200,4.0732835576871018E-3]
["2020-11-25",123.949997,126.75,123.25,123.949997,107.038719,22813211,5.6795643889677727E-3]
["2020-11-26",124.599998,125.349998,123.349998,125.050003,107.98864,13694237,8.8745550103230819E-3]
["2020-11-27",125.449997,127.400002,125,125.550003,108.420418,25297333,3.9983650132087156E-3]
["2020-12-01",126,127,124.699997,126.400002,109.154449,8927107,6.7702284637936039E-3]
["2020-12-02",127,131.14999399999999,126.400002,129.75,112.047386,21081119,2.6503152427621135E-2]
["2020-12-03",131.35000600000001,134,129.25,133.449997,115.242569,25834042,2.8516354678725042E-2]
["2020-12-04",134.199997,134.949997,131.10000600000001,133.300003,115.113045,19371235,-1.1239249621379788E-3]
["2020-12-07",133.300003,137.199997,133,136.800003,118.135498,14127211,2.6256389968660754E-2]
["2020-12-08",137.449997,137.699997,133,134.25,115.933426,21479953,-1.8640222771990178E-2]
["2020-12-09",135.39999399999999,137.5,134.39999399999999,134.699997,116.322029,18755465,3.3519495921736642E-3]
["2020-12-10",135.199997,135.449997,132.800003,134.85000600000001,116.45156900000001,11912807,1.1136325691156745E-3]
["2020-12-11",134.699997,140.699997,134.5,138.25,119.387665,30559578,2.5213022247901007E-2]
["2020-12-14",139.64999399999999,144.199997,139.10000600000001,143.35000600000001,123.791847,35605748,3.6889757413381075E-2]
["2020-12-15",143.64999399999999,144.35000600000001,140.800003,143.10000600000001,123.57596599999999,18775793,-1.7439032152094525E-3]
["2020-12-16",144.35000600000001,146,143.5,145.5,125.648506,16119571,1.6771384170284342E-2]
["2020-12-17",145.25,145.25,142.5,143.449997,123.878212,12374964,-1.4089256262227234E-2]
["2020-12-18",143.449997,143.64999399999999,139.449997,141.699997,122.36696600000001,13628707,-1.219944956906549E-2]
["2020-12-21",141.39999399999999,141.5,129.35000600000001,132.949997,114.810783,20132655,-6.1750186729317202E-2]
["2020-12-22",132.5,136.10000600000001,129.800003,135.5,117.012878,17257059,1.9180210625338256E-2]
["2020-12-23",135.5,136.699997,134.10000600000001,135.050003,116.624275,10091831,-3.3210276222759294E-3]
["2020-12-24",136.35000600000001,139.10000600000001,135.60000600000001,136.25,117.66055299999999,14518171,8.8856115075528486E-3]
["2020-12-28",139.89999399999999,139.89999399999999,137.199997,137.64999399999999,118.86953699999999,15223089,1.0275185431093403E-2]
["2020-12-29",138.89999399999999,139.60000600000001,134.60000600000001,135.10000600000001,116.667458,21146540,-1.8525175209524014E-2]
["2020-12-30",136.75,136.75,134.199997,135.60000600000001,117.099243,14180071,3.7009891824333341E-3]
["2020-12-31",135.60000600000001,136.699997,134.75,135.449997,116.96970399999999,15237166,-1.106232599642043E-3]
["2021-01-01",135.39999399999999,136.25,135.050003,135.35000600000001,116.883354,6995084,-7.3822534423095831E-4]
["2021-01-04",136.85000600000001,137.75,135.800003,137.25,118.524117,11669647,1.4037610522367405E-2]
["2021-01-05",136.75,136.75,134.39999399999999,135.14999399999999,116.71062499999999,12371842,-1.5300615991933664E-2]
["2021-01-06",135.39999399999999,137.300003,133.800003,135.10000600000001,116.667458,14133415,-3.698634978606119E-4]
["2021-01-07",136.5,137.5,135.5,136.5,117.876442,17298525,1.036264971162737E-2]
["2021-01-08",137.10000600000001,140.949997,137.10000600000001,139.699997,120.63983899999999,27964099,2.3443166022944606E-2]
["2021-01-11",140.5,143,140.300003,141.699997,122.36696600000001,24790683,1.4316390127145473E-2]
["2021-01-12",142.5,147.550003,141.699997,146.64999399999999,126.641609,28433070,3.4932981831060417E-2]
["2021-01-13",148.5,148.800003,143.5,145.800003,125.907585,21154236,-5.7960729162878089E-3]
["2021-01-14",146.60000600000001,148.199997,144.85000600000001,146.64999399999999,126.641609,14755992,5.8298632286530871E-3]
["2021-01-15",146.800003,147.60000600000001,142.35000600000001,143.25,123.70549,10647008,-2.3184473280026041E-2]
["2021-01-18",143.300003,143.89999399999999,136.60000600000001,138.699997,119.776276,17085592,-3.1762648529180093E-2]
["2021-01-19",140.85000600000001,141.89999399999999,139.60000600000001,140.10000600000001,120.985275,8951075,1.0093810229999223E-2]
["2021-01-20",140.5,141.949997,138.64999399999999,141.5,122.194267,11820498,9.9928854978426074E-3]
["2021-01-21",142,142.14999399999999,136.550003,137.35000600000001,118.610466,10828875,-2.9328716379140696E-2]
["2021-01-22",137.35000600000001,137.800003,132.5,133.199997,115.02668,14810848,-3.0214753561460639E-2]
["2021-01-25",134.89999399999999,135.5,130.85000600000001,131.85000600000001,113.86087000000001,10157077,-1.013512691142604E-2]
["2021-01-27",132,132.550003,128.699997,129.14999399999999,111.529236,11638766,-2.0477921870788562E-2]
["2021-01-28",128,129.949997,127.800003,128.199997,110.708862,11970139,-7.3556856428210748E-3]
["2021-01-29",129.25,129.64999399999999,125.25,125.900002,108.72266399999999,15268785,-1.7940731790739628E-2]
["2021-02-01",126.400002,129.75,125.849998,129,111.39971199999999,12808349,2.4622722636744809E-2]
["2021-02-02",131,132.85000600000001,129.64999399999999,131.25,113.34272799999999,15485139,1.7441840424147648E-2]
["2021-02-03",131.25,138,131.25,137.25,118.524117,25483402,4.571434878468783E-2]
["2021-02-04",137.89999399999999,144.25,136.800003,143.60000600000001,124.007751,30751754,4.6265976400397868E-2]
["2021-02-05",144.10000600000001,144.300003,139.35000600000001,140.85000600000001,121.63294999999999,19930467,-1.9150423911808545E-2]
["2021-02-08",141.050003,142.39999399999999,140.300003,141.550003,122.23743399999999,11810439,4.9697388742113713E-3]
["2021-02-09",141.5,143.449997,138.699997,139.25,120.25123600000001,8579689,-1.6248688597307992E-2]
["2021-02-10",139.89999399999999,140.550003,136.800003,138.300003,119.43087,8709612,-6.8221003566234506E-3]
["2021-02-11",138.300003,139.5,136,137.14999399999999,118.437752,14150298,-8.3154212976929154E-3]
["2021-02-12",136.5,137,132.75,133.85000600000001,115.587997,16453706,-2.4061204741542275E-2]
["2021-02-15",134.5,134.85000600000001,132,132.25,114.20629099999999,10557047,-1.1953715228753437E-2]
["2021-02-16",132.300003,135.39999399999999,132.300003,133.75,115.501633,11735144,1.1342124752129479E-2]
["2021-02-17",133.300003,135.75,132.89999399999999,135.199997,116.753799,8950258,1.0841110791914188E-2]
["2021-02-18",135,141.199997,134.050003,139.949997,120.85573599999999,22069738,3.5133220804232534E-2]
["2021-02-19",139.949997,143.199997,137.25,139.25,120.25123600000001,22944780,-5.0018312742722282E-3]
["2021-02-22",138.85000600000001,139.39999399999999,135.10000600000001,136.25,117.66055299999999,20401387,-2.1543919931101718E-2]
["2021-02-23",137.60000600000001,138.60000600000001,136.199997,136.89999399999999,118.22187,19178437,4.7706473043689357E-3]
["2021-02-24",139.949997,145,139.5,144.39999399999999,124.69858600000001,38775957,{"$f":"(F452/F451)-1","v":5.4784415100184169E-2}]
["2021-02-25",146.89999399999999,157.699997,145.75,156.10000600000001,134.80230700000001,85580477,8.1025144904209423E-2]
["2021-02-26",156.14999399999999,163,150.5,152.199997,131.434372,94115857,-2.4984253422309921E-2]
["2021-03-01",155.5,157.10000600000001,153.699997,154.35000600000001,133.29104599999999,22306110,1.4126243932599314E-2]
["2021-03-02",154.35000600000001,156.14999399999999,152.5,153.39999399999999,132.47067300000001,17565134,-6.1547495095806148E-3]
["2021-03-03",155,157.300003,153.800003,154.89999399999999,133.76599100000001,17610904,9.7781491606070414E-3]
["2021-03-04",154,154.89999399999999,151.699997,152.050003,131.304855,17162557,-1.8398817080494068E-2]
["2021-03-05",152,152.699997,149.699997,151.10000600000001,130.48448200000001,17323282,-6.2478497082227857E-3]
["2021-03-08",153.89999399999999,156,152.35000600000001,153.14999399999999,132.25477599999999,18727656,1.3567084551862507E-2]
["2021-03-09",154.949997,154.949997,148.5,151.699997,131.00260900000001,14621175,-9.4678395583989161E-3]
["2021-03-10",153.050003,153.25,149.39999399999999,150.949997,130.35493500000001,10788943,-4.9439778714636118E-3]
["2021-03-12",152,153,149,150.5,129.966339,14835735,-2.9810609011465816E-3]
["2021-03-15",146.449997,147.60000600000001,144.75,146.89999399999999,131.216858,15783310,9.6218683208426636E-3]
["2021-03-16",147,148.050003,144.60000600000001,145.699997,130.14497399999999,11857531,-8.1687979451543491E-3]
["2021-03-17",145.050003,145.449997,139.5,139.85000600000001,124.91954,15554810,-4.0150870520747062E-2]
["2021-03-18",141.5,141.75,136.199997,137.050003,122.418465,14401450,-2.0021487431029605E-2]
["2021-03-19",136,140,133.5,136.300003,121.748535,33294812,-5.4724587504016986E-3]
["2021-03-22",137.60000600000001,137.60000600000001,135.300003,135.64999399999999,121.167923,11414253,-4.7689444476682885E-3]
["2021-03-23",135.60000600000001,136.64999399999999,134.10000600000001,135.25,120.81062300000001,8887103,-2.9488002365114507E-3]
["2021-03-24",133.89999399999999,135.14999399999999,132.050003,132.300003,118.17557499999999,10865477,-2.1811393191805806E-2]
["2021-03-25",132,133.10000600000001,127.050003,128.10000600000001,114.423973,18629600,-3.1746001658972234E-2]
["2021-03-26",129.10000600000001,130.39999399999999,128.699997,129.60000600000001,115.76383199999999,9505615,1.1709600399909093E-2]
["2021-03-30",131,134.449997,130.14999399999999,132.949997,118.75618,20582346,2.5848729679231797E-2]
["2021-03-31",133,133,130,130.35000600000001,116.433762,14900610,-1.9556186465411685E-2]
["2021-04-01",131.449997,132.39999399999999,130.60000600000001,132.14999399999999,118.04158,6226087,1.3808864133411758E-2]
["2021-04-05",131.89999399999999,132.10000600000001,128.050003,129.800003,115.942482,9012457,-1.7782699960471549E-2]
["2021-04-06",130.85000600000001,131.85000600000001,129.300003,130.300003,116.389099,6689423,3.8520565740520762E-3]
["2021-04-07",130.300003,131.699997,129.75,131.25,117.237679,5657926,7.2908889860896497E-3]
["2021-04-08",131.300003,133.75,131.199997,131.64999399999999,117.59496300000001,9330363,3.0475185371079405E-3]
["2021-04-09",131.64999399999999,131.949997,128.949997,129.5,115.67450700000001,10149401,-1.6331107651269106E-2]
["2021-04-12",128,128.300003,123.599998,124.699997,111.386955,11334755,-3.7065660457061722E-2]
["2021-04-13",124.800003,128.449997,124.800003,127.949997,114.289986,7809483,2.6062576178691677E-2]
["2021-04-15",127.949997,130.800003,126.949997,128.25,114.55796100000001,8924391,2.3446936112145877E-3]
["2021-04-16",128.85000600000001,129.949997,127.099998,127.849998,114.200661,10358366,-3.1189451774548127E-3]
["2021-04-19",125.599998,126,123.400002,124.599998,111.29763,7131534,-2.5420439554198371E-2]
["2021-04-20",125,126.25,124.050003,124.5,111.208305,7738871,-8.0257773683056755E-4]
["2021-04-22",124.650002,125.5,124,125.050003,111.69959299999999,8514980,4.4177276148575917E-3]
["2021-04-23",124.949997,127.25,124.25,126.150002,112.682152,8992991,8.7964420783521735E-3]
["2021-04-26",127.75,128,126.5,126.949997,113.396736,4967884,6.3415899263266073E-3]
["2021-04-27",127,127.900002,126.599998,127.5,113.888023,3982954,4.3324615622093443E-3]
["2021-04-28",128,129.449997,127.5,128.5,114.781265,6206074,7.8431601187773925E-3]
["2021-04-29",129.75,130.050003,127.650002,128.050003,114.379311,8345584,-3.5019129646288727E-3]
["2021-04-30",127.400002,134.60000600000001,127,133.050003,118.845505,27396950,3.9047218950287288E-2]
["2021-05-03",133,133.449997,131.199997,132.199997,118.086243,10262391,-6.3886471768537234E-3]
["2021-05-04",132.550003,135.800003,132.25,132.800003,118.62220000000001,9926789,4.5386912682114922E-3]
["2021-05-05",133,134.5,132.5,133.14999399999999,118.93483000000001,4877341,2.6355100478663296E-3]
["2021-05-06",134.199997,135.449997,133.75,134.60000600000001,120.230019,7632817,1.0889905000915245E-2]
["2021-05-07",135.39999399999999,138,135,136.85000600000001,122.239822,12644960,1.6716316080761962E-2]
["2021-05-10",137.10000600000001,148.5,137.10000600000001,147.050003,131.35084499999999,45098431,7.4534000875753792E-2]
["2021-05-11",146.449997,156.75,145.14999399999999,155.699997,139.07736199999999,66582000,5.8823504332994547E-2]
["2021-05-12",155.89999399999999,159.699997,151.800003,153.5,137.112244,42959024,-1.4129675539862441E-2]
["2021-05-14",155.949997,155.949997,146.10000600000001,146.800003,131.127533,23140309,-4.3648260909507131E-2]
["2021-05-17",147,149.14999399999999,144,148.14999399999999,132.33341999999999,17076463,9.1962913692580361E-3]
["2021-05-18",149.10000600000001,149.800003,146.10000600000001,146.449997,130.814911,10295029,-1.1474871578169732E-2]
["2021-05-19",146.449997,152.5,145.10000600000001,151.85000600000001,135.63841199999999,23999878,3.6872715527054734E-2]
["2021-05-20",152.39999399999999,152.39999399999999,146.050003,146.64999399999999,130.993561,22983457,-3.4244362872664635E-2]
["2021-05-21",147,149.60000600000001,146.85000600000001,147.199997,131.484848,13009821,3.7504667882111153E-3]
["2021-05-24",148.10000600000001,149.75,145.64999399999999,148.89999399999999,133.003342,14192862,1.1548813594095764E-2]
["2021-05-25",149.800003,150,147.10000600000001,147.449997,131.708145,10434892,-9.7380786115885964E-3]
["2021-05-26",147.800003,148,145.199997,145.699997,130.14497399999999,9948786,-1.186844594918568E-2]
["2021-05-27",145.75,146.300003,144.10000600000001,144.550003,129.11776699999999,24064196,-7.8927903892778151E-3]
["2021-05-28",145.60000600000001,148.800003,144.75,146.89999399999999,131.216858,16465504,1.6257181709160351E-2]
["2021-05-31",147.050003,148.39999399999999,145.050003,147.699997,131.93145799999999,11767444,5.4459465871374846E-3]
["2021-06-01",148.550003,149.39999399999999,146.89999399999999,147.60000600000001,131.84214800000001,9307143,-6.7694241656890419E-4]
["2021-06-02",147.5,149.89999399999999,147,149.10000600000001,133.18199200000001,10714318,{"$f":"(F516/F515)-1","v":1.016248612697046E-2}]
["2021-06-03",150,150.39999399999999,148.60000600000001,149.050003,133.13732899999999,9282774,-3.353531459419079E-4]
["2021-06-04",149,154.39999399999999,148.199997,153.10000600000001,136.75495900000001,29422387,2.7172168971483668E-2]
["2021-06-07",156,158.85000600000001,155.449997,156.25,139.56864899999999,31071589,2.0574683511111136E-2]
["2021-06-08",157.39999399999999,157.5,152.800003,156,139.34535199999999,12874065,-1.5999080137258925E-3]
["2021-06-09",157,161.39999399999999,155.199997,156.39999399999999,139.70263700000001,30443113,2.5640252428371646E-3]
["2021-06-10",157.10000600000001,158.75,155.75,156.5,139.79196200000001,11459484,6.39393800419219E-4]
["2021-06-11",157,165,156.64999399999999,162.64999399999999,145.28540000000001,61728565,3.929723799140894E-2]
["2021-06-14",164,164,155.550003,159.35000600000001,142.33770799999999,30836595,-2.028897604301616E-2]
["2021-06-15",161.10000600000001,161.85000600000001,156.75,157.14999399999999,140.37257399999999,30153988,-1.3806137724235445E-2]
["2021-06-16",157.300003,158.800003,154.85000600000001,155.550003,138.94340500000001,14098443,-1.018125520730262E-2]
["2021-06-17",155,155.39999399999999,151.39999399999999,152.14999399999999,135.906372,15784276,-2.1858057962520827E-2]
["2021-06-18",153,153.800003,145.10000600000001,146.39999399999999,130.77024800000001,24823176,-3.779163496469462E-2]
["2021-06-21",146,148,143.5,147.5,131.75280799999999,15038290,7.5136356704008644E-3]
["2021-06-22",148.89999399999999,149.5,147.800003,148.699997,132.82470699999999,12494441,8.1356823909211062E-3]
["2021-06-23",149.85000600000001,150.60000600000001,148.14999399999999,148.449997,132.601395,7983220,-1.6812534734218509E-3]
["2021-06-24",148.449997,149.10000600000001,146,146.39999399999999,130.77024800000001,12929173,-1.380940977280054E-2]
["2021-06-25",146.75,149.25,146.75,148.75,132.86937,7400514,1.6051984546209486E-2]
["2021-06-28",147.10000600000001,149,147,147.199997,131.484848,8217659,-1.0420174341159272E-2]
["2021-06-29",147.10000600000001,147.89999399999999,143.949997,144.5,129.073105,21576435,-1.8342364437307634E-2]
["2021-06-30",145.60000600000001,147.39999399999999,145.10000600000001,146.64999399999999,130.993561,12919448,1.4878823903709426E-2]
["2021-07-01",146.60000600000001,147.300003,145.5,145.64999399999999,130.10032699999999,5668038,-6.8189153205783226E-3]
["2021-07-02",147,148.64999399999999,146.050003,147.64999399999999,131.88679500000001,20805994,1.3731464333675447E-2]
["2021-07-05",148,150.5,147.60000600000001,149.89999399999999,133.89657600000001,10401054,1.5238682538308845E-2]
["2021-07-06",150.050003,150.699997,146.89999399999999,147.5,131.75280799999999,9579038,-1.6010625992407879E-2]
["2021-07-07",147.5,148.75,146.550003,147.550003,131.79747,6067804,3.3898328755177509E-4]
["2021-07-08",147,148.14999399999999,145.300003,146.25,130.63626099999999,12349670,-8.8105560751660095E-3]
["2021-07-09",146.25,147.5,145.64999399999999,146.699997,131.03822299999999,4963821,3.0769557925420798E-3]
["2021-07-12",146.800003,147.85000600000001,146.10000600000001,146.39999399999999,130.77024800000001,4010172,-2.0450139956490476E-3]
["2021-07-13",147,148.5,146.64999399999999,148.10000600000001,132.288757,5717442,1.1612037319069568E-2]
["2021-07-14",147.949997,149.39999399999999,147.25,148.14999399999999,132.33341999999999,7216739,3.3761750441119176E-4]
["2021-07-15",148,148.39999399999999,145.64999399999999,146.699997,131.03822299999999,7257500,-9.7873764616678294E-3]
["2021-07-16",146.75,148.050003,145.300003,145.550003,130.01100199999999,10819800,-7.8390943991967221E-3]
["2021-07-19",145,146.39999399999999,144,144.449997,129.02844200000001,5158738,-7.5575142479094026E-3]
["2021-07-20",144.5,145.050003,141.699997,142.89999399999999,127.643913,6271740,-1.0730417096720513E-2]
["2021-07-22",144,145.39999399999999,143.25,144.699997,129.25174000000001,4772582,1.2596190152835751E-2]
["2021-07-23",144.699997,145,143.35000600000001,144.10000600000001,128.71579,3419739,-4.1465592648889382E-3]
["2021-07-26",144,145.5,143.25,144,128.62647999999999,4423596,-6.9385426605406142E-4]
["2021-07-27",144.5,145.25,142.10000600000001,142.449997,127.24194300000001,4245486,-1.076401220028711E-2]
["2021-07-28",143.449997,144.300003,141.050003,144.050003,128.671143,8834228,1.1232145362634061E-2]
["2021-07-29",144.050003,144.64999399999999,141.89999399999999,142.14999399999999,126.973984,8237916,-1.3189896043746208E-2]
["2021-07-30",142.300003,144.89999399999999,141.25,143.300003,128.001205,9526451,8.090011572764455E-3]
["2021-08-02",144.300003,144.89999399999999,143.10000600000001,143.89999399999999,128.53713999999999,6164197,4.1869527712647958E-3]
["2021-08-03",143.89999399999999,144.75,143,144.25,128.84979200000001,5648929,2.4323864682225249E-3]
["2021-08-04",144.14999399999999,147.35000600000001,144.14999399999999,144.699997,129.25174000000001,8839351,3.1195083341695184E-3]
["2021-08-05",145,145.89999399999999,142.199997,145.449997,129.921661,6237158,5.1830714232550257E-3]
["2021-08-06",145.60000600000001,148.449997,145.25,146.10000600000001,130.50228899999999,10812438,4.4690623221017578E-3]
["2021-08-09",147.5,147.85000600000001,142.35000600000001,143.25,127.956543,12986298,-1.95072900215566E-2]
["2021-08-10",143.699997,144.25,140.75,142.199997,127.018646,14022502,-7.3298088398652261E-3]
["2021-08-11",142.89999399999999,144.35000600000001,141.14999399999999,143.949997,128.581818,8356558,1.2306634098429914E-2]
["2021-08-12",144.050003,146.699997,143.699997,144.39999399999999,128.98376500000001,7685737,3.1260018426555458E-3]
["2021-08-13",145.050003,146.300003,143.199997,143.75,128.40316799999999,9455100,-4.5013184411232254E-3]
["2021-08-16",143.800003,144.14999399999999,141.75,142,126.839996,5259207,-1.2173936393843454E-2]
["2021-08-17",142.10000600000001,142.550003,137.199997,139.25,124.383591,13714266,-1.9366170588652531E-2]
["2021-08-18",139.25,140.25,138,138.35000600000001,123.579689,7654460,-6.4630872411457485E-3]
["2021-08-20",137.5,138.050003,135,135.60000600000001,121.123276,8877297,-1.9877157968895665E-2]
["2021-08-23",136.300003,136.39999399999999,132.75,133.949997,119.649422,7768805,-1.2168214472666694E-2]
["2021-08-24",134.35000600000001,136.89999399999999,134,136.199997,121.65921,7452062,1.6797306383979027E-2]
["2021-08-25",136.5,139.14999399999999,136.5,138.85000600000001,124.02629899999999,7817617,1.9456718484363034E-2]
["2021-08-26",138.85000600000001,139.39999399999999,136.35000600000001,137.300003,122.641777,6845692,-1.1163132425647815E-2]
["2021-08-27",137.89999399999999,139.300003,137.050003,138.550003,123.758324,4418540,9.1041325991223498E-3]
["2021-08-30",138.60000600000001,143.949997,138.60000600000001,143.60000600000001,128.26918000000001,11333690,3.6448909893123771E-2]
["2021-08-31",143.60000600000001,146.14999399999999,143.25,145.85000600000001,130.278976,14301855,1.5668580714400804E-2]
["2021-09-01",146.60000600000001,146.64999399999999,143.89999399999999,144.199997,128.80512999999999,8415876,-1.1312999574083271E-2]
["2021-09-02",143.800003,143.800003,141.199997,141.60000600000001,129.62904399999999,7787657,{"$f":"(F580/F579)-1","v":6.3965930549505501E-3}]
["2021-09-03",141.89999399999999,147.14999399999999,141.75,146.35000600000001,133.97747799999999,12734022,3.3545213833406029E-2]
["2021-09-06",147.800003,147.85000600000001,144.300003,146.35000600000001,133.97747799999999,9712271,0]
["2021-09-07",147,148.10000600000001,145.550003,147.199997,134.75561500000001,9475870,5.8079687094871879E-3]
["2021-09-08",147.35000600000001,149.85000600000001,146.300003,149.14999399999999,136.540741,7873034,1.3247136306713481E-2]
["2021-09-09",149.14999399999999,150.949997,148,148.64999399999999,136.083023,9519564,-3.352244880522548E-3]
["2021-09-13",149.60000600000001,155.89999399999999,149.300003,154.60000600000001,141.53001399999999,35672746,4.0026969418514469E-2]
["2021-09-14",155.35000600000001,155.5,153.35000600000001,154.699997,141.62155200000001,8804432,6.4677447145600198E-4]
["2021-09-15",155.5,162.25,154.25,161.050003,147.43472299999999,24591822,4.1047219988098904E-2]
["2021-09-16",162.14999399999999,163,157.550003,162.300003,148.57904099999999,18440504,7.7615230436591798E-3]
["2021-09-17",162.699997,163.300003,155.39999399999999,156.699997,143.45246900000001,17317065,-3.4504005177957597E-2]
["2021-09-20",155.89999399999999,157.550003,152.800003,154.199997,141.16381799999999,12541523,-1.5954071867525843E-2]
["2021-09-21",155.699997,158,153.449997,156.39999399999999,143.17782600000001,13645046,1.4267168659323204E-2]
["2021-09-22",157.25,162.5,155,162.10000600000001,148.39596599999999,18861877,3.6445168541670458E-2]
["2021-09-23",163.75,170,163.10000600000001,167.35000600000001,153.20211800000001,31399318,3.2387349397354992E-2]
["2021-09-24",168.10000600000001,169.449997,162.89999399999999,166.10000600000001,152.057785,17259638,-7.4694332881221071E-3]
["2021-09-27",167,169.14999399999999,165.35000600000001,167.050003,152.92749000000001,9099672,5.7195690440974278E-3]
["2021-09-28",168.5,176.300003,168.14999399999999,174.550003,159.79342700000001,41551332,4.4896682735066085E-2]
["2021-09-29",174.5,197,172.800003,185.699997,170.00079299999999,100988643,6.3878509846340359E-2]
["2021-09-30",187.60000600000001,191.5,184.10000600000001,185.10000600000001,169.45152300000001,48957916,-3.2309849284054559E-3]
["2021-10-01",185.39999399999999,189.89999399999999,182.39999399999999,188.699997,172.747162,25492957,1.9448860309151605E-2]
["2021-10-04",192.5,193.35000600000001,188.300003,189.949997,173.89149499999999,23341448,6.6243230091385108E-3]
["2021-10-05",191,198.89999399999999,190.39999399999999,197.949997,181.21516399999999,42359592,4.2116315119379522E-2]
["2021-10-06",200,203.800003,191.699997,192.85000600000001,176.54634100000001,41926821,-2.5763975248782045E-2]
["2021-10-07",194.75,194.949997,189.25,190.699997,174.57809399999999,16517664,-1.1148613949467312E-2]
["2021-10-08",191.10000600000001,191.699997,184.10000600000001,188.449997,172.51831100000001,28978175,-1.1798633796517355E-2]
["2021-10-11",192,199.699997,191.64999399999999,196.85000600000001,180.20815999999999,34952223,4.4574103209252813E-2]
["2021-10-12",199.199997,201,191.25,193.300003,176.95829800000001,25216411,-1.8033933646511735E-2]
["2021-10-13",194,194.550003,189.35000600000001,190.050003,173.983047,17378156,-1.6813288970489615E-2]
["2021-10-14",190,191.800003,182.300003,183.800003,168.26142899999999,29542941,-3.2886066192414742E-2]
["2021-10-18",184.800003,187.75,183.39999399999999,185.300003,169.634613,15468914,8.161014726672855E-3]
["2021-10-19",187.300003,188.949997,183.60000600000001,184.5,168.902252,17403803,-4.3172851757559139E-3]
["2021-10-20",182.699997,183.39999399999999,177.39999399999999,180.5,165.24040199999999,15921230,-2.1680291154436593E-2]
["2021-10-21",182,183,178.89999399999999,182.39999399999999,166.979782,15586097,1.0526360254194955E-2]
["2021-10-22",183.39999399999999,184.300003,175.300003,175.89999399999999,161.02928199999999,13603152,-3.5636050836382105E-2]
["2021-10-25",176.25,177.25,173,174.10000600000001,159.38147000000001,11744666,-1.0232996008763151E-2]
["2021-10-26",173,176,171.75,175.050003,160.25116,11602891,5.4566569125005238E-3]
["2021-10-27",175.699997,176.64999399999999,172.800003,173.60000600000001,158.92375200000001,9535881,-8.2832972940726224E-3]
["2021-10-28",173,173,165.949997,166.550003,152.469742,24509136,-4.0610732623528878E-2]
["2021-10-29",165,169.5,163.300003,164.449997,150.54727199999999,14826816,-1.2608862419403843E-2]
["2021-11-01",165,171.949997,163.800003,170.75,156.314682,13585170,3.8309628088113223E-2]
["2021-11-02",171.449997,173.75,168.35000600000001,169.199997,154.89572100000001,14278962,-9.0775925961964488E-3]
["2021-11-03",168.199997,171.10000600000001,167.35000600000001,169.75,155.399216,8974463,3.2505416983079627E-3]
["2021-11-04",171.199997,171.39999399999999,169.75,170.699997,156.26890599999999,973260,5.5964889809996254E-3]
["2021-11-08",171,174.199997,168.5,171.699997,157.18435700000001,8761953,5.8581775698871574E-3]
["2021-11-09",172.050003,172.39999399999999,169.60000600000001,170.5,156.08580000000001,5723308,-6.9889715552292619E-3]
["2021-11-10",169.89999399999999,170.85000600000001,166.449997,166.699997,152.607056,9212143,-2.2287382965010316E-2]
["2021-11-11",165.89999399999999,167.64999399999999,165.199997,167,152.88171399999999,6453205,1.7997726133973657E-3]
["2021-11-12",168.85000600000001,168.85000600000001,165.699997,166.949997,152.835938,7027513,-2.9942102820734728E-4]
["2021-11-15",164.25,167.60000600000001,159.5,159.75,146.244629,19400018,-4.312669576444772E-2]
["2021-11-16",161,161.64999399999999,158.60000600000001,159.050003,145.60380599999999,8505431,-4.3818566492449529E-3]
["2021-11-17",159.050003,159.25,155.699997,156.10000600000001,142.90321399999999,7477627,-1.854753714336288E-2]
["2021-11-18",156.050003,157.75,153,153.39999399999999,140.431442,12981172,-1.7296825808270411E-2]
["2021-11-22",152.199997,152.89999399999999,149.10000600000001,150.550003,137.82240300000001,11522286,-1.8578738228722247E-2]
["2021-11-23",150,156.75,150,156.199997,142.99473599999999,13305061,3.7528971251502341E-2]
["2021-11-24",158.300003,161.64999399999999,155.60000600000001,159.10000600000001,145.64958200000001,18809310,1.8566040081363644E-2]
["2021-11-25",161.5,162.800003,156,158.550003,145.146072,22402592,-3.4569958463732675E-3]
["2021-11-26",157.75,159.39999399999999,155.35000600000001,155.89999399999999,142.72010800000001,11829847,-1.6713948690254554E-2]
["2021-11-29",155.89999399999999,156.64999399999999,151.89999399999999,154.25,141.20959500000001,18176163,-1.0583743392346689E-2]
["2021-11-30",158.5,158.5,151.35000600000001,152,139.149811,56643275,-1.4586714167688197E-2]
["2021-12-01",153.60000600000001,156.25,152.550003,155.550003,142.39970400000001,16283427,2.3355353317727534E-2]
["2021-12-02",156.89999399999999,159.550003,155.14999399999999,159.300003,145.832672,15647910,2.410797146039001E-2]
["2021-12-03",159,160.699997,158.25,159.75,146.244629,20414051,2.8248608103402795E-3]
["2021-12-06",152,152.449997,148.10000600000001,148.550003,144.11038199999999,24185368,-1.4593677830041951E-2]
["2021-12-07",150.10000600000001,150.949997,149.14999399999999,150.64999399999999,146.14759799999999,7866368,{"$f":"(F644/F643)-1","v":1.4136497119270786E-2}]
["2021-12-08",151.25,151.75,150.050003,150.89999399999999,146.39013700000001,7313306,1.6595483149850487E-3]
["2021-12-09",151.75,153.5,150.64999399999999,152.64999399999999,148.08783,9423435,1.1597044956655589E-2]
["2021-12-10",152.64999399999999,153.75,150.89999399999999,151.300003,146.77818300000001,7419042,-8.8437179476529293E-3]
["2021-12-13",152.800003,152.800003,147.949997,149,144.546921,9888293,-1.5201591642540091E-2]
["2021-12-14",149,149.75,146.75,148.89999399999999,144.449905,8474759,-6.7117306497310736E-4]
["2021-12-15",149.14999399999999,150.60000600000001,147.949997,148.10000600000001,143.67382799999999,5410912,-5.3726376628632222E-3]
["2021-12-16",148.10000600000001,150.10000600000001,147.550003,149.75,145.274506,7539061,1.1141054862128463E-2]
["2021-12-17",149.10000600000001,149.39999399999999,146,146.449997,142.07313500000001,8758284,-2.2036702021206667E-2]
["2021-12-20",145.35000600000001,145.64999399999999,139.14999399999999,140.699997,136.49498,8858645,-3.9262560089210474E-2]
["2021-12-21",141.800003,146,141.39999399999999,144.64999399999999,140.32692,8097050,2.8073852972468227E-2]
["2021-12-22",145.449997,149.39999399999999,144.449997,145.35000600000001,141.006012,6798820,4.8393565539670558E-3]
["2021-12-23",146.25,147.949997,146,147.699997,143.28576699999999,4857807,1.6167785810437652E-2]
["2021-12-24",148,148.14999399999999,145.39999399999999,145.89999399999999,141.53956600000001,4568316,-1.218684197712383E-2]
["2021-12-27",145,146.5,144.10000600000001,146.050003,141.685089,3534825,1.0281436075618711E-3]
["2021-12-28",146.25,149.25,146.25,148.85000600000001,144.40141299999999,4907497,1.9171558695213031E-2]
["2021-12-29",149.25,149.25,146.300003,146.75,142.36416600000001,4216568,-1.4108220672328087E-2]
["2021-12-30",146.75,149,143.89999399999999,146.199997,141.83059700000001,24782255,-3.7479164525151543E-3]
["2021-12-31",145.949997,147.550003,145.35000600000001,146.050003,141.685089,5320232,-1.025928135943821E-3]
["2022-01-03",147.25,155.949997,147,155.300003,150.658646,29486720,6.3334519273231304E-2]
["2022-01-04",156,156.64999399999999,152.35000600000001,153,148.42738299999999,13744440,-1.4810056105243441E-2]
["2022-01-05",153,154.300003,152.10000600000001,153.699997,149.106461,8454060,4.5751530901814164E-3]
["2022-01-06",154.5,155.25,153.050003,154.64999399999999,150.02806100000001,12446900,6.1808186836385115E-3]
["2022-01-07",155,157.449997,154.949997,156.949997,152.25932299999999,11679683,1.4872297789678024E-2]
["2022-01-10",157.800003,161,157.050003,160.699997,155.89724699999999,14655298,2.389294742890713E-2]
["2022-01-11",160.64999399999999,160.64999399999999,158.10000600000001,158.550003,153.811508,7670386,-1.3378934138586707E-2]
["2022-01-12",160.39999399999999,160.75,158.5,159.35000600000001,154.58760100000001,6334581,5.0457407907347207E-3]
["2022-01-13",159.35000600000001,166.449997,159,164.75,159.82621800000001,20271714,3.3887691937207753E-2]
["2022-01-14",164.75,166.14999399999999,163.25,164.75,159.82621800000001,10211720,0]
["2022-01-17",165.60000600000001,166.10000600000001,162.050003,163.699997,158.80758700000001,8384625,-6.3733661019245158E-3]
["2022-01-18",164,165.5,160.300003,160.800003,155.99426299999999,6574122,-1.7715299710460486E-2]
["2022-01-19",161,164.85000600000001,160.800003,163.89999399999999,159.00160199999999,11503199,1.9278523082608467E-2]
["2022-01-20",164.5,168.25,163.85000600000001,165.050003,160.11724899999999,17462235,7.0165771034180757E-3]
["2022-01-21",163.300003,163.300003,157.5,158.75,154.00552400000001,14466758,-3.8170309808407854E-2]
["2022-01-24",158.199997,160.39999399999999,154.800003,156.300003,151.62875399999999,10854431,-1.5433017844217245E-2]
["2022-01-25",155,161.60000600000001,154.300003,161.14999399999999,156.33380099999999,7267866,3.103004460486436E-2]
["2022-01-27",158.89999399999999,161.300003,158,160.550003,155.75174000000001,9269062,-3.7231935530050997E-3]
["2022-01-28",160.60000600000001,165,160.60000600000001,161.64999399999999,156.818848,10310726,6.8513391888911368E-3]
["2022-01-31",163.39999399999999,163.39999399999999,159.14999399999999,159.800003,155.02415500000001,5811200,-1.1444370513421953E-2]
["2022-02-01",162,163.449997,158.60000600000001,163.050003,158.17701700000001,7248713,2.0337875732978405E-2]
["2022-02-02",163,164.60000600000001,162.25,163.85000600000001,158.95311000000001,5369074,4.9064839805392779E-3]
["2022-02-03",163.10000600000001,164.14999399999999,160.60000600000001,161.300003,156.47932399999999,4654885,-1.5562992130194964E-2]
["2022-02-04",161.300003,162.800003,160,160.39999399999999,155.60621599999999,6402287,-5.5797020186513224E-3]
["2022-02-07",160.64999399999999,163,159.64999399999999,160.949997,156.139771,5871041,3.4288797306143426E-3]
["2022-02-08",161.85000600000001,162.5,158.35000600000001,159.949997,155.16966199999999,14158927,-6.2130807147142697E-3]
["2022-02-09",160.5,169.35000600000001,160,168.60000600000001,163.56115700000001,35079516,5.4079482366856002E-2]
["2022-02-10",169,170.300003,165,168.050003,163.02758800000001,17724098,-3.2621987382982498E-3]
["2022-02-11",167.949997,169.300003,165.199997,166.5,161.523911,10097767,-9.2234511866789992E-3]
["2022-02-14",166.10000600000001,166.25,161.14999399999999,161.64999399999999,156.818848,9478670,-2.9129204282330678E-2]
["2022-02-15",162.75,164.85000600000001,159.85000600000001,163.64999399999999,158.75907900000001,16850616,1.2372434976693603E-2]
["2022-02-16",165.25,166,162.800003,163.85000600000001,158.95311000000001,10653203,1.2221726229590946E-3]
["2022-02-17",164.699997,165.5,162.699997,163.050003,158.17701700000001,6906440,-4.88252793543964E-3]
["2022-02-18",163,168.25,162.60000600000001,167.300003,162.300003,23740696,2.606564517524057E-2]
["2022-02-21",163.14999399999999,163.5,159.85000600000001,161.199997,161.199997,14870901,-6.7776092400935184E-3]
["2022-02-22",159.5,160.64999399999999,155.5,159.89999399999999,159.89999399999999,11654816,-8.0645348895385105E-3]
["2022-02-23",160.35000600000001,162.300003,158.199997,158.5,158.5,7627472,-8.7554349751882699E-3]
["2022-02-24",154,156.800003,149,150,150,12115340,-5.362776025236593E-2]
["2022-02-25",152.25,164.89999399999999,152.25,163.449997,163.449997,17079977,8.9666646666666683E-2]
["2022-02-28",162.449997,169.949997,160.550003,169.550003,169.550003,20872239,3.7320318825090126E-2]
["2022-03-02",171,185.64999399999999,171,184.800003,184.800003,72648396,8.9943967739121833E-2]
["2022-03-03",189.60000600000001,197.75,186.85000600000001,188.949997,188.949997,74050073,2.2456677124621072E-2]
["2022-03-04",188.949997,191,180.5,181,181,36095156,-4.2074607706926836E-2]
["2022-03-07",185.949997,192,181.699997,188.699997,188.699997,41642776,4.2541419889502663E-2]
["2022-03-08",189,191.699997,186.60000600000001,189.14999399999999,189.14999399999999,22940456,2.3847218185171215E-3]
["2022-03-09",190,190.60000600000001,185.60000600000001,186.64999399999999,186.64999399999999,13870658,{"$f":"(F708/F707)-1","v":-1.3217023945557238E-2}]
["2022-03-10",184,184,177.050003,178.949997,178.949997,30890343,-4.1253668617851624E-2]
["2022-03-11",181,182.5,179.25,181.75,181.75,14663558,1.5646845749877292E-2]
["2022-03-14",181,182.14999399999999,177.85000600000001,180.35000600000001,180.35000600000001,8306420,-7.7028555708390511E-3]
["2022-03-15",179.89999399999999,180,171.5,172.89999399999999,172.89999399999999,14074860,-4.1308631838914422E-2]
["2022-03-16",173,177.800003,172.89999399999999,176.89999399999999,176.89999399999999,11846738,2.313476077969101E-2]
["2022-03-17",179,180,175.5,176.550003,176.550003,20052773,-1.9784681281560523E-3]
["2022-03-21",177.85000600000001,186.35000600000001,177.5,182.300003,182.300003,20271556,3.2568676875072144E-2]
["2022-03-22",183.64999399999999,185.800003,180.5,183.35000600000001,183.35000600000001,12372751,5.7597530593567203E-3]
["2022-03-23",182.60000600000001,184.25,179.300003,183.050003,183.050003,13731315,-1.6362311981599209E-3]
["2022-03-24",183.699997,188.5,183.300003,187.39999399999999,187.39999399999999,16323203,2.3763949351041536E-2]
["2022-03-25",187.39999399999999,188.89999399999999,184.60000600000001,186.10000600000001,186.10000600000001,10044811,-6.9369692722615062E-3]
["2022-03-28",186.10000600000001,193.699997,185.5,191.25,191.25,19132062,2.7673260795058718E-2]
["2022-03-29",192,192.199997,185.5,186,186,10622472,-2.7450980392156876E-2]
["2022-03-30",187.949997,187.949997,182,182.89999399999999,182.89999399999999,10298319,-1.6666698924731271E-2]
["2022-03-31",184.14999399999999,184.89999399999999,181.64999399999999,183.050003,183.050003,9435203,8.2016951843089103E-4]
["2022-04-01",183.800003,187.25,183.300003,186.14999399999999,186.14999399999999,13505929,1.6935214144738309E-2]
["2022-04-04",185.5,189,184.60000600000001,187.75,187.75,9490374,8.5952514185954065E-3]
["2022-04-05",188,188.949997,186.85000600000001,187.89999399999999,187.89999399999999,7637664,7.9890279627159444E-4]
["2022-04-06",188.699997,197,188.300003,193.85000600000001,193.85000600000001,46157039,3.1665844544944477E-2]
["2022-04-07",195,197.050003,189.89999399999999,190.75,190.75,21712301,-1.5991776652305112E-2]
["2022-04-08",194.699997,198.800003,192.35000600000001,194.550003,194.550003,20151959,1.9921378768021025E-2]
["2022-04-11",194.5,198,193.35000600000001,196.39999399999999,196.39999399999999,12393619,9.5090772113737287E-3]
["2022-04-12",195.75,195.75,184.300003,186,186,18907630,-5.2953127890625007E-2]
["2022-04-13",188,191.300003,185.699997,186.60000600000001,186.60000600000001,14216953,3.2258387096775198E-3]
["2022-04-18",186.60000600000001,190.89999399999999,184.60000600000001,189.449997,189.449997,13052104,1.5273263174493179E-2]
["2022-04-19",191.449997,203.25,190.64999399999999,197.75,197.75,59341710,4.3811048463621827E-2]
["2022-04-20",199.949997,205.550003,197.10000600000001,199.10000600000001,199.10000600000001,38356653,6.8268318584070453E-3]
["2022-04-21",201.199997,207.89999399999999,201,206.89999399999999,206.89999399999999,43683145,3.9176231868119471E-2]
["2022-04-22",206.050003,209,201.25,202.14999399999999,202.14999399999999,24007670,-2.2957951366591178E-2]
["2022-04-25",199.64999399999999,202.199997,186.75,188.449997,188.449997,26465084,-6.7771444010035431E-2]
["2022-04-26",192.199997,192.300003,188.449997,191.39999399999999,191.39999399999999,20819291,1.5654003963714525E-2]
["2022-04-27",190.800003,191.800003,186.60000600000001,187.5,187.5,12214126,-2.0376144839377552E-2]
["2022-04-28",189,192.5,187.14999399999999,190.25,190.25,12706800,1.4666666666666606E-2]
["2022-04-29",192.5,193,181.89999399999999,182.85000600000001,182.85000600000001,21654415,-3.8896157687253519E-2]
["2022-05-02",182.699997,188.89999399999999,178.85000600000001,187.64999399999999,187.64999399999999,21289439,2.6250958941723912E-2]
["2022-05-04",188.75,190.699997,186.5,187.35000600000001,187.35000600000001,18234509,-1.5986571254565929E-3]